{"text_format":"1","workbook":"xlsx","n_sheets":12,"sheets":["Instructions","Adventure Record","The Character","Magic","Power","Armour","Battleboard","Notes","Base","Variables","Tables","STD HQA"],"not_rendered":{"charts":0,"images":0,"macros":1,"external_links":4,"defined_names":721,"comments":4,"pivot_tables":0},"unopened":[],"bounds":{"document_bytes":16777216,"sheet_cells":100000,"rows_first":2000,"rows_last":500,"rows_between":2000,"halvings":0,"cell_chars":16384,"cell_head_chars":4096},"cells_cut":0,"cells_raw":0,"read":"whole","date_system":"1900"}

{"sheet":"Instructions","index":0,"n_rows":137,"n_cols":4,"rows_kept":137,"cut":false,"hidden":false,"merged":[[0,0,0,3],[31,0,31,3],[8,0,8,3],[7,0,7,3],[10,0,10,3],[16,0,16,3],[25,0,25,3],[1,2,1,3],[3,0,3,3],[27,0,27,3],[28,0,28,3],[9,0,9,3],[13,0,13,3],[29,0,29,3],[30,0,30,3],[18,0,18,3],[53,0,53,3],[47,0,47,3],[40,0,40,3],[45,0,45,3],[48,0,48,3],[49,1,49,3],[50,1,50,3],[43,0,43,3],[39,0,39,3],[44,0,44,3],[34,0,34,3],[51,1,51,3],[52,0,52,3],[24,0,24,3],[35,0,35,3],[37,0,37,3],[38,0,38,3],[36,0,36,3]]}
["Heroquest Character Sheet and Battleboard."]
["Version:","v2025.1"]
[]
["IMPORTANT:  In order to use this Battleboard, you must allow the Macros to run.  In the Tools¦Macros¦Security menu of Excel, set the Security level to Medium (recommended) or Low.  If set to High, portions of the Battleboard will not work correctly."]
["mailto:organisers@heroquest-larp.co.uk"]
["mailto:marauder@cix.co.uk",null,"mailto:tarry.higgins@btinternet.com"]
["Setup"]
["First save a copy of this spreadsheet under the name of the character."]
["Second go enter the Character Name on the \"The Character\" tab (cell B1)."]
["Third, on the Adventure Record, add your event date, name, Play / Monster / Ref, points & Deaths"]
["Fourth on \"The Character\" tab, select the table used from the dropdown in B2."]
[]
["Entering Additional Guild / Class Quantities"]
["If you have an issue entering / updating your additional guild / class quantities (they spread sheet doesn't automatically give you the correct drop down option boxes, then you will need to set each of your guild / class selections in the drop down boxes  to \"none\", change all the additonal guild and class quantities to \"0\" (Zero), and then re-enter the quantities of each to the amount you noe require, then re-select the named guild within the drop down boxes."]
[]
["Entering Skills"]
["The skills you enter will be automatically updated onto the battleboards, so that the life, power, magic etc will be maintained automatically for you as you enter them."]
[]
["As you enter skills, they will change colour in various ways:"]
["Grey:","Not purchased"]
["Black:","Purchased with prerequisites met and no limits breached"]
["Red:","Purchased but at least one prerequisite not met or limit breached"]
["Blue:","Status Skill.  Purchased with prerequisites met and no limits breached"]
[]
["To enter skills in the Number of Ranks column on the \"The Character\" tab simply enter the number of times that you have bought the skill or the number of ranks in the skill that you possess.  "]
["If you have items or abilities that award you skills, enter those in the Items or Abilities column just as you would if you were buying the skill with points - and please make a note on the Notes Sheet to explain"]
[]
["Most skills you buy only once, but there are several types of skill that you can buy multiple times, the Max Picks column indicates the number of times you can buy a skill, and an N in that culumn means no maximum"]
["Example:  Single - you can buy this multiple times in different weapons."]
["Example:  Shield Use you only buy once."]
["To buy 30 extra life you put 10 in cell C45 as you have 10 lots of +3 life."]
["In all cases entering a 0 is the same as a blank"]
[]
["Entering Armour Class"]
["The armour worksheet is divided into two sections."]
["The upper section marked \"Permanent and Worn Armour Class\" is for the physical armour you wear and items that grant you any of the various types of armour class. This should also include and bonus AC's from HQA's"]
["The lower section, marked \"Long Duration Magical Skins\" is used to enter the long durational spells that have a TYPE of SKIN that you generally have up for the whole dungeon"]
["The lower section, marked \"Long Duration Spells or Invocations\" is used to enter the long durational effects that you generally have up for the whole dungeon (i.e. 16 hour bless)"]
[]
["Permanent Drains"]
["If you have been  drained of power, life or magic slots permenantly, enter this drain on the \"Unusual Conditions\" section on the Armour sheet"]
[]
["Items that grant skills"]
["If you have an item or a Hero Ability that grants a skill, you can enter the ranks of this onto \"The Character\" sheet in the D column (\"Items or Abilities\").  Note that items do not allow you to qualify for further skills, although the Battleboard accepts them as valid"]
[]
["If you have a talisman then on your Battleboard, enter into the Power In Self cell (W3) the amount of power you wish to have in yourself and it will automatically calculate how much goes in your talisman."]
[]
["\"Save Character File\" Button (and menu entry HeroQuest | Export Character)"]
["Use this to save your character to an XML file, it will be saved in same directory as the sheet, with an extension as hqml (Heroquest markup language).  This provides the following new features"]
[null,"1) forwards compatability as future versions of the Battleboard will import it (no need to retype things)"]
[null,"2) Trivially easy backup capability"]
[null,"3) Much smaller files to Email (to heroquest before/after dungeons)"]
["\"Load Character File\" Button (and menu entry HeroQuest | Import Character)"]
["Use this to load character files saved using the \"Save Character File\" feature, above.  Ideally load a new battleboard then load.  It will save the worksheet in the same directory as the character file"]
["Date","Author","Version","Description"]
["2005-03-16","Mike Short",2,"First release of Battleboard v2"]
["2005-06-26","Mike Short",2.0099999999999998,"Enh Toughened Skin Mastery now gives proper ACs.  Some Hero ability and Magic Item updates."]
["2005-08-08","Mike Short",2.02,"Internal release only."]
["2005-10-05","Mike Short",2.0299999999999998,"Fixed Status cost for Disguise and removed Strength pre-requisite for Strength Attuned Bow.  Trap Handling now non-Status skill.  Added Stun to Monk Battleboard.  Added Warrior Monk Sheet.  Added support for Perm Life/Power/Mana loss - see Conditions section on Armour Sheet.  Added Pre-Status Sheet for low rank characters.  Added further support for Hero abilities."]
[null,"Taz Higgins",2.04,"Internal Release only.  Added Import and Export functions, use the two buttons at the top to activate this.  Added Display Sheet dropdown on F2 to show only one 'display' sheet.  Corrected some links"]
[null,"Taz Higgins",2.0499999999999998,"Added \"Items and Abilities\" column to \"The Character\", use for entering things that don't cost you points.  There is now only 1 battleboard, built dynamically based on your character skills.  Armour sheet now has perm and long durational. Armour values shown on battleboard hide text in rows after the first if it is all the same.  The names of sheets MUST not be changed, as the code uses those names."]
[null,"Taz Higgins",2.06,"Corrected Stun skill requirements for barbarians and monks.  Improved export and import code to use Skill Names and Cell References.  Made text read/written XML safe.  Corrected some minor text and cell reference errors on Instructions sheet"]
[null,"Taz Higgins",2.0699999999999998,"Added in Archer Stun Shots (oops).  Made Power in Self user editable (oops).  Updated Ki display and added Concentrate Ki (oops).  Added Psionic Placeholder variables.  "]
[null,"Taz Higgins",2.08,"Added \"Skill Overrides\" sheet for people who have skills bought from a different table (via HQ abilities typically).  It's imported, exported and handles all calculations correctly"]
["2005-11-24","Taz Higgins",2.09,"Corrected several problems with armour totals displayed.  Made Awareness display the AC it provides.  Christmas 2005 Update: Removed initial 20 point. Removed High Priest from Martial Orders. Removed Single Proficiency, Ambidexterity, Bind Wounds, Discern Nature of Wounds (now free skills). Combined 1-5 & 6-8 spell status spend into one skill and same change for Invocations.  Added Improved Ensorcelling/Empowering as Status Skill.  Trap Handling made Guild skill (no status cost). Jack of All Trades made Primary Guild Skill only."]
[null,"Taz Higgins",2.1,"Added Magic sheet to track status spend on spells.  Added Power sheet to track status spend on Invocations.  Added top level HeroQuest menu item between File and Edit - Import/Export, + magic/power display options.  Added more cheching code.  "]
["2006-05-04","Taz Higgins",2.11,"Removed Dexterity as a pre-requisite for Forearm-Parry.  Removed Bind Wounds as a pre-requisite for Spiritual Warrior.  Removed Bind Wounds as a pre-requisite for Bind Wounds Mastery.  Changewd the example that used Dexterity.  Added 'Sworn to the King' as a skill at the end of 'The Character' sheet - this also shows up at the top of the battleboard as 'kingsman' (sorry ladies).  Added Forearm Parry skill leve to the battleboard"]
["2006-06-10","Taz Higgins",2.12,"Corrected adding up of Spent Status on Magic Page.  Unlocked the Slots and Power out on Battle board page.  Unlocked Unusual Conditons on Armour Page.  Corrected Unarmoured Dex in Magic AC on Battleboard Page"]
["2009-03-14","Rob Buckley",2.13,"Fixed Perm Power and Magic drain tables."]
["2009-06-19","Rob Buckley",2.14,"Added Rank 128 and 256 Status skills to the list. Added Psi, updated OKM to OSM."]
["2011-10-06","Paul Matthews",2.15,"Fixed minor calc issues like mana bought, changed save options"]
["2011-11-16","Paul Matthews",2.16,"Max AC removed, starting Life amended, version number corrected! RB"]
["2013-08-13","Paul Matthews",2.1800000000000002,"Magic AC on BB, Toughened Skin, Improves Emp & Ens fixed"]
["2013-08-14","Paul Matthews",2.19,"Evil & Undead PAC fixed"]
["2014-07-20","Paul Matthews",2.2000000000000002,"Increased Combat Awareness fixed - now adds on BB, and multiple choices alllowed"]
[null,"Paul Matthews",3,"in spell and invocation names, \"-\" changed to \" to \""]
[null,null,3,"removed unnecessary locations on BB"]
[null,null,"v3 ","deleted doubled up named ranges on Variables!"]
[null,null,3,"changed acolyte to 3 types"]
["2015-02-01","PGM - GI Mike Short",3.1,"Too many changes to mention...."]
["2015-04-02","PGM - GI Mike Short",2015.1,"See separate doc to highlight main changes"]
["2015-04-08","PGM",2015.3,"Proof Reading changes made"]
["2015-05-28","PGM","v2015.4","More Proof reading Changes"]
["2015-08-10","PGM","v2015.5","Changes for Guid / Class Upgrade and some minor sort outs"]
["2015-10-02","PGM","v2015.6","Druid made standard, not Primary Only"]
["2015-10-13","PGM","v2015.7","Added boxes for Additional Dex on Armour Tab"]
["2016-04-16","PGM","v2016.1","Resist Disarm skills for Paladins made to match Rules"]
["2016-05-21","PGM","v2016.2","Changes from Rules review"]
["2016-07-31","Rob Buckley","v2016.3","Fix guild problems and tidy up code, Warrior Skills display amended."]
["2017-01-03","PGM","v2017.1","Updated to match rules, notes added about adding additional classes, status spend in primary guild warning removed. Static Field & Mass Static Field updated."]
["2017-02-07","PGM",null,"Status Skill below rank 20 col. Corrected."]
["2017-02-16","Rob Buckley","v2017.2","Updated to refresh warrior skills on the BB if they change."]
["2017-08-13","PGM","V2017.3","Hosp allowed secondary guilds"]
["2017-10-08","PGM","v2017.4","BB Phys AC calc changed to stop it potentially adding Armour skills to temp Phys AC (as shwon on the Armour tab"]
[null,null,null,"Evil AC calc changed to pure evil only - only 1 number will be shown"]
[null,null,null,"Undead AC calc changed to show undead AC with & without Dex"]
[null,null,null,"Skins box added to armour Tab, BB sheet amended to allow for Arm Dex / UnArm Dex with Skins"]
[null,null,null,"Priest in Second & Third Sphere access rank amended for Primary's to 20 and Secondaries to never"]
["2018-03-03","PGM","v2018.1","Arcane Magic requirements altered and expanded to include all colours"]
["2018-03-11","PGM","v2018.2","Above expanded as I forgot JoaT :("]
["2018-03-23","Mike Short","v2018.3","Fixed JoAT.  Corrected some spellings.  Fixed display of columns."]
["2018-03-25","PGM","v2018.4","Fixed Status spend calcs for Forearm Parry"]
["2018-04-02","PGM","v2018.5","Status Spend on Adrenal Use formula corrected"]
[null,null,"v2018.6","Psi action, 3rd sphere pre-req's underway"]
["2018-06-19","PGM","v2018.7","Sunder Added"]
[null,null,null,"Meditate Skills Split"]
[null,null,null,"512's added"]
[null,null,null,"Magic &Power Guild requirements changed to display spells / invocations - must be guild member"]
[null,null,null,"Magic & Power spell / invocation selection now automatic"]
[null,null,null,"New Spells, Invocations, Dedicated, Specialist, Purple, Generalist added"]
[null,null,null,"Std HQA's amended - Dodge, Class Upgrade"]
[null,null,null,"Skill availability per Guild matched to Rulebook v2018.6pgm"]
["2018-07-04","PGM",null,"Guild Compatibility & error messages fixed"]
[null,null,null,"Psi skills visibility issue resolved"]
[null,null,null,"JOAT visibility resolved"]
[null,null,null,"Is a priest logic sorted"]
["2018-07-11","PGM","v2018.7a","Warrior skill code references corrected. PSI cast ranks calc amended"]
[null,null,null,"Found Decicated allowed for Priests - changed"]
[null,null,null,"Spiritual Barrier added to DP Invocs"]
[null,null,null,"Spiritual Barrier correct to 3x NP Invocs"]
[null,null,null,"Dedicated limited to Mage Class only"]
["2018-12-01","PGM / MS","v2019.1","Scout skills updated, potion skills updated. "]
["2019-02-01","PGM / MS","v2019.2","Psi updating fixed. Guild drop downs fixed. Invocation display prim/sec fixed."]
["2019-03-01","PGM","v2019.3","Logic for displaying spells /invocations for Specialist Archers fixed."]
["2019-03-01","PGM","v2019.4","corrected Fear Pact availability, Mnemonic error - nothing gets past first contact!!!"]
["2019-09-01","PGM","v2019.5","Pre-Req Logic for Strengths corrected"]
[null,null,null,"Magic Tab Status Count corrected "]
[null,null,null,"Adrenal Rank Status Calc corrected"]
[null,null,null,"Warrior Skills logic corrected"]
[null,null,null,"Magic Spells Out added to Magic Tab"]
[null,null,null,"Ststus cost for Primary Specialists level 5's amended"]
[null,null,null,"Archer Warrior skills display on BB"]
[null,null,null,"Phys AC logic amended to incude Dex"]
[null,null,null,"Halt 9 removed from Power"]
["2020-01-01","PGM","v2020.1","Status Costs for Dispel / Wizards Dispel & Sorcerers Dispel corrected to zero"]
["2021-06-01","Rob Buckley","v2021.1","Included updated HQAs"]
["2025-06-01","Rob Buckley","v2025.1","Update email address"]

{"sheet":"Adventure Record","index":1,"n_rows":200,"n_cols":8,"rows_kept":200,"cut":false,"hidden":false,"merged":[]}
["Date","Adventure Title","Length","Played/ Monstered/ Reffed","Points","Deaths on Event",{"$f":"SUM(E2:E200)","v":0},"Notes"]
["N/A","Starting Character","N/A","N/A",0,null,{"$f":"E2","v":0}]
[null,null,null,null,null,null,{"$f":"G2+E3","v":0}]
[null,null,null,null,null,null,{"$f":"G3+E4","v":0}]
[null,null,null,null,null,null,0]
[null,null,null,null,null,null,0]
[null,null,null,null,null,null,0]
[null,null,null,null,null,null,0]
[null,null,null,null,null,null,0]
[null,null,null,null,null,null,0]
[null,null,null,null,null,null,0]
[null,null,null,null,null,null,0]
[null,null,null,null,null,null,0]
[null,null,null,null,null,null,0]
[null,null,null,null,null,null,0]
[null,null,null,null,null,null,0]
[null,null,null,null,null,null,0]
[null,null,null,null,null,null,0]
[null,null,null,null,null,null,0]
[null,null,null,null,null,null,0]
[null,null,null,null,null,null,0]
[null,null,null,null,null,null,0]
[null,null,null,null,null,null,0]
[null,null,null,null,null,null,0]
[null,null,null,null,null,null,0]
[null,null,null,null,null,null,0]
[null,null,null,null,null,null,0]
[null,null,null,null,null,null,0]
[null,null,null,null,null,null,0]
[null,null,null,null,null,null,0]
[null,null,null,null,null,null,0]
[null,null,null,null,null,null,0]
[null,null,null,null,null,null,0]
[null,null,null,null,null,null,0]
[null,null,null,null,null,null,0]
[null,null,null,null,null,null,0]
[null,null,null,null,null,null,0]
[null,null,null,null,null,null,0]
[null,null,null,null,null,null,0]
[null,null,null,null,null,null,0]
[null,null,null,null,null,null,0]
[null,null,null,null,null,null,0]
[null,null,null,null,null,null,0]
[null,null,null,null,null,null,0]
[null,null,null,null,null,null,0]
[null,null,null,null,null,null,0]
[null,null,null,null,null,null,0]
[null,null,null,null,null,null,0]
[null,null,null,null,null,null,0]
[null,null,null,null,null,null,0]
[null,null,null,null,null,null,0]
[null,null,null,null,null,null,0]
[null,null,null,null,null,null,0]
[null,null,null,null,null,null,0]
[null,null,null,null,null,null,0]
[null,null,null,null,null,null,0]
[null,null,null,null,null,null,0]
[null,null,null,null,null,null,0]
[null,null,null,null,null,null,0]
[null,null,null,null,null,null,0]
[null,null,null,null,null,null,0]
[null,null,null,null,null,null,0]
[null,null,null,null,null,null,0]
[null,null,null,null,null,null,0]
[null,null,null,null,null,null,0]
[null,null,null,null,null,null,0]
[null,null,null,null,null,null,0]
[null,null,null,null,null,null,{"$f":"G67+E68","v":0}]
[null,null,null,null,null,null,0]
[null,null,null,null,null,null,0]
[null,null,null,null,null,null,0]
[null,null,null,null,null,null,0]
[null,null,null,null,null,null,0]
[null,null,null,null,null,null,0]
[null,null,null,null,null,null,0]
[null,null,null,null,null,null,0]
[null,null,null,null,null,null,0]
[null,null,null,null,null,null,0]
[null,null,null,null,null,null,0]
[null,null,null,null,null,null,0]
[null,null,null,null,null,null,0]
[null,null,null,null,null,null,0]
[null,null,null,null,null,null,0]
[null,null,null,null,null,null,0]
[null,null,null,null,null,null,0]
[null,null,null,null,null,null,0]
[null,null,null,null,null,null,0]
[null,null,null,null,null,null,0]
[null,null,null,null,null,null,0]
[null,null,null,null,null,null,0]
[null,null,null,null,null,null,0]
[null,null,null,null,null,null,0]
[null,null,null,null,null,null,0]
[null,null,null,null,null,null,0]
[null,null,null,null,null,null,0]
[null,null,null,null,null,null,0]
[null,null,null,null,null,null,0]
[null,null,null,null,null,null,0]
[null,null,null,null,null,null,0]
[null,null,null,null,null,null,0]
[null,null,null,null,null,null,0]
[null,null,null,null,null,null,0]
[null,null,null,null,null,null,0]
[null,null,null,null,null,null,0]
[null,null,null,null,null,null,0]
[null,null,null,null,null,null,0]
[null,null,null,null,null,null,0]
[null,null,null,null,null,null,0]
[null,null,null,null,null,null,0]
[null,null,null,null,null,null,0]
[null,null,null,null,null,null,0]
[null,null,null,null,null,null,0]
[null,null,null,null,null,null,0]
[null,null,null,null,null,null,0]
[null,null,null,null,null,null,0]
[null,null,null,null,null,null,0]
[null,null,null,null,null,null,0]
[null,null,null,null,null,null,0]
[null,null,null,null,null,null,0]
[null,null,null,null,null,null,0]
[null,null,null,null,null,null,0]
[null,null,null,null,null,null,0]
[null,null,null,null,null,null,0]
[null,null,null,null,null,null,0]
[null,null,null,null,null,null,0]
[null,null,null,null,null,null,0]
[null,null,null,null,null,null,0]
[null,null,null,null,null,null,0]
[null,null,null,null,null,null,0]
[null,null,null,null,null,null,0]
[null,null,null,null,null,null,0]
[null,null,null,null,null,null,{"$f":"G131+E132","v":0}]
[null,null,null,null,null,null,0]
[null,null,null,null,null,null,0]
[null,null,null,null,null,null,0]
[null,null,null,null,null,null,0]
[null,null,null,null,null,null,0]
[null,null,null,null,null,null,0]
[null,null,null,null,null,null,0]
[null,null,null,null,null,null,0]
[null,null,null,null,null,null,0]
[null,null,null,null,null,null,0]
[null,null,null,null,null,null,0]
[null,null,null,null,null,null,0]
[null,null,null,null,null,null,0]
[null,null,null,null,null,null,0]
[null,null,null,null,null,null,0]
[null,null,null,null,null,null,0]
[null,null,null,null,null,null,0]
[null,null,null,null,null,null,0]
[null,null,null,null,null,null,0]
[null,null,null,null,null,null,0]
[null,null,null,null,null,null,0]
[null,null,null,null,null,null,0]
[null,null,null,null,null,null,0]
[null,null,null,null,null,null,0]
[null,null,null,null,null,null,0]
[null,null,null,null,null,null,0]
[null,null,null,null,null,null,0]
[null,null,null,null,null,null,0]
[null,null,null,null,null,null,0]
[null,null,null,null,null,null,0]
[null,null,null,null,null,null,0]
[null,null,null,null,null,null,0]
[null,null,null,null,null,null,0]
[null,null,null,null,null,null,0]
[null,null,null,null,null,null,0]
[null,null,null,null,null,null,0]
[null,null,null,null,null,null,0]
[null,null,null,null,null,null,0]
[null,null,null,null,null,null,0]
[null,null,null,null,null,null,0]
[null,null,null,null,null,null,0]
[null,null,null,null,null,null,0]
[null,null,null,null,null,null,0]
[null,null,null,null,null,null,0]
[null,null,null,null,null,null,0]
[null,null,null,null,null,null,0]
[null,null,null,null,null,null,0]
[null,null,null,null,null,null,0]
[null,null,null,null,null,null,0]
[null,null,null,null,null,null,0]
[null,null,null,null,null,null,0]
[null,null,null,null,null,null,0]
[null,null,null,null,null,null,0]
[null,null,null,null,null,null,0]
[null,null,null,null,null,null,0]
[null,null,null,null,null,null,0]
[null,null,null,null,null,null,0]
[null,null,null,null,null,null,0]
[null,null,null,null,null,null,0]
[null,null,null,null,null,null,0]
[null,null,null,null,null,null,0]
[null,null,null,null,null,null,0]
[null,null,null,null,null,null,0]
[null,null,null,null,null,null,{"$f":"G195+E196","v":0}]
[null,null,null,null,null,null,{"$f":"G196+E197","v":0}]
[null,null,null,null,null,null,{"$f":"G197+E198","v":0}]
[null,null,null,null,null,null,{"$f":"G198+E199","v":0}]
[null,null,null,null,null,null,{"$f":"G199+E200","v":0}]

{"sheet":"The Character","index":2,"n_rows":408,"n_cols":42,"rows_kept":408,"cut":false,"hidden":false,"merged":[[10,3,10,5],[11,3,11,5],[8,3,8,5],[9,3,9,5],[0,1,0,5],[2,3,2,5],[3,3,3,5],[4,3,4,5],[5,3,5,5],[6,3,6,5],[7,3,7,5]]}
["Character Name",null,null,null,null,null,null,"Total Character Points",{"$f":"'Adventure Record'!G1","v":0},"Character Rank",{"$f":"CharacterRank","v":0},"Status Earnt",{"$f":"CharacterStatus+UpgradeStatus","v":0}]
["Race & Class",6,null,null,null,null,null,"Effective Character Points",{"$f":"IF(TotalPoints>INDEX(Rule640, B2), (TotalPoints+INDEX(Rule640,B2))/2, TotalPoints)","v":0},"Points Spent",{"$f":"SUM(E14:E2325)","v":0},"Status Spent",{"$f":"SUM(G14:G387)","v":0}]
["Primary Class Primary Guild",29,null,{"$f":"PrimaryGuildErrorMessage","v":"Must Choose a Guild"},null,null,null,null,null,"Points to Spend",{"$f":"I2-K2","v":0},"Total Mana Bought",{"$f":"SUM(_Lvl01*1,_Lvl02*2,_Lvl03*3,_Lvl04*4,_Lvl05*5,_Lvl06*6,_Lvl07*7,_Lvl08*8,_Lvl09*9,_Lvl10*10)","v":0},null,"Add lines to this sheet if adding into Base!"]
["Primary Class Secondary Guild ",29,null,{"$f":"SecondaryGuildErrorMessage","v":0}]
["Primary Class Secondary Guild 2",29,null,{"$f":"Secondary2GuildErrorMessage","v":0}]
["Primary Class Secondary Guild 3",29,null,{"$f":"Secondary3GuildErrorMessage","v":0}]
["Primary Class Secondary Guild 4",29,null,{"$f":"Secondary4GuildErrorMessage","v":0}]
["Primary Class Secondary Guild 5",29,null,{"$f":"Secondary5GuildErrorMessage","v":0}]
["Primary Class Secondary Guild 6",29,null,{"$f":"Secondary6GuildErrorMessage","v":0}]
["Primary Class Secondary Guild 7",29,null,{"$f":"Secondary7GuildErrorMessage","v":0}]
["Additional Class Secondary Guild",29,null,{"$f":"Secondary8GuildErrorMessage","v":0}]
["Additional Class 2 Secondary Guild",29,null,{"$f":"TertiaryGuildErrorMessage","v":0}]
["Skill","Cost per Rank","Number of Ranks","Items or Abilities","Total Cost","Max Picks","Status Skill?","Pre-requisites and conditions",null,null,null,null,null,"Skill Visible?","Picked?","Too Many Picks","Status Skill below Rk20","Status Skill Above Rk20","Pre-Requisites Not Met","Skill Available?","Low Level Skill","Primary Guild Skill","Primary Rank Available","Avaiable via Guild Memebrship","Secondary Guild Skill","Secondary Rank Available","Secondary Guild 2 Skill","Secondary 2 Rank Available","Secondary Guild 3 Skill","Secondary 3 Rank Available","Secondary 4 Guild Skill","Secondary 4 Rank Available","Secondary 5 Guild Skill","Secondary 5 Rank Available","Secondary 6 Guild Skill","Secondary 6 Rank Available","Secondary 7 Guild Skill","Secondary 7 Rank Available","Add. Class 2ndry Guild Skill","Add. Class 2ndry Rank Available","Additional Guild Skill","Additional Guild Rank Available"]
[{"$f":"Base!B3","v":"Adrenal Dexterity rank 1"},{"$f":"INDEX(points, ROW()-13,  CharacterTable)","v":0},null,null,{"$f":"C14*B14","v":0},{"$f":"Base!U3","v":1},{"$f":"IF(AND(C14<>0,ISNUMBER(C14)),Base!V3*C14,IF(Base!V3=0,\"N\",\"Y\"))","v":"N"},{"$f":"Base!W3","v":"Use Adrenals to same Rank or higher"},null,null,null,null,null,{"$f":"IF(OR(T14=1,NOT(C14=0),NOT(D14=0)),1,0)","v":0},{"$f":"NOT(OR(ISBLANK(C14),C14=0))","v":false},{"$f":"AND(F14<>\"N\",C14>F14)","v":false},{"$f":"AND(CharacterStatus = 0,Base!V3>0)","v":false},{"$f":"AND(CharacterStatus > 0,G14>0,G14<>\"N\")","v":false},{"$f":"Base!X3","v":true},{"$f":"IF(OR(U14,AND(V14,CharacterRank>=W14), AND(Y14,CharacterRank>=Z14),AND(AA14,CharacterRank>=AB14),AND(AC14,CharacterRank>=AD14),AND(AE14,CharacterRank>=AF14),AND(AG14,CharacterRank>=AH14),AND(AI14,CharacterRank>=AJ14),AND(AK14,CharacterRank>=AL14),AND(AM14,CharacterRank>=AN14),AND(AO14,CharacterRank>=AP14)),1,0)","v":0},{"$f":"Base!Y3","v":false},{"$f":"Base!Z3","v":false},{"$f":"Base!AA3","v":false},null,{"$f":"Base!AB3","v":false},{"$f":"Base!AC3","v":false},{"$f":"Base!AD3","v":false},{"$f":"Base!AE3","v":false},{"$f":"Base!AF3","v":false},{"$f":"Base!AG3","v":false},{"$f":"Base!AH3","v":false},{"$f":"Base!AI3","v":false},{"$f":"Base!AJ3","v":false},{"$f":"Base!AK3","v":false},{"$f":"Base!AL3","v":false},{"$f":"Base!AM3","v":false},{"$f":"Base!AN3","v":false},{"$f":"Base!AO3","v":false},{"$f":"Base!AP3","v":false},{"$f":"Base!AQ3","v":false},{"$f":"Base!AR3","v":false},{"$f":"Base!AS3","v":false}]
[{"$f":"Base!B4","v":"Adrenal Dexterity rank 2"},0,null,null,{"$f":"C15*B15","v":0},{"$f":"Base!U4","v":1},{"$f":"IF(AND(C15<>0,ISNUMBER(C15)),Base!V4*C15,IF(Base!V4=0,\"N\",\"Y\"))","v":"N"},{"$f":"Base!W4","v":"Use Adrenals to same Rank or higher"},null,null,null,null,null,{"$f":"IF(OR(T15=1,NOT(C15=0),NOT(D15=0)),1,0)","v":0},{"$f":"NOT(OR(ISBLANK(C15),C15=0))","v":false},{"$f":"AND(F15<>\"N\",C15>F15)","v":false},{"$f":"AND(CharacterStatus = 0,Base!V4>0)","v":false},{"$f":"AND(CharacterStatus > 0,G15>0,G15<>\"N\")","v":false},{"$f":"Base!X4","v":true},{"$f":"IF(OR(U15,AND(V15,CharacterRank>=W15),AND(Y15,CharacterRank>=Z15),AND(AA15,CharacterRank>=AB15),AND(AC15,CharacterRank>=AD15),AND(AE15,CharacterRank>=AF15),AND(AG15,CharacterRank>=AH15),AND(AI15,CharacterRank>=AJ15),AND(AK15,CharacterRank>=AL15),AND(AM15,CharacterRank>=AN15),AND(AO15,CharacterRank>=AP15)),1,0)","v":0},{"$f":"Base!Y4","v":false},{"$f":"Base!Z4","v":false},{"$f":"Base!AA4","v":false},null,{"$f":"Base!AB4","v":false},{"$f":"Base!AC4","v":false},{"$f":"Base!AD4","v":false},{"$f":"Base!AE4","v":false},{"$f":"Base!AF4","v":false},{"$f":"Base!AG4","v":false},{"$f":"Base!AH4","v":false},{"$f":"Base!AI4","v":false},{"$f":"Base!AJ4","v":false},{"$f":"Base!AK4","v":false},{"$f":"Base!AL4","v":false},{"$f":"Base!AM4","v":false},{"$f":"Base!AN4","v":false},{"$f":"Base!AO4","v":false},{"$f":"Base!AP4","v":false},{"$f":"Base!AQ4","v":false},{"$f":"Base!AR4","v":false},{"$f":"Base!AS4","v":false}]
[{"$f":"Base!B5","v":"Adrenal Dexterity rank 3"},0,null,null,0,{"$f":"Base!U5","v":1},{"$f":"IF(AND(C16<>0,ISNUMBER(C16)),Base!V5*C16,IF(Base!V5=0,\"N\",\"Y\"))","v":"N"},{"$f":"Base!W5","v":"Use Adrenals to same Rank or higher"},null,null,null,null,null,0,false,false,{"$f":"AND(CharacterStatus = 0,Base!V5>0)","v":false},false,{"$f":"Base!X5","v":true},0,{"$f":"Base!Y5","v":false},{"$f":"Base!Z5","v":false},{"$f":"Base!AA5","v":false},null,{"$f":"Base!AB5","v":false},{"$f":"Base!AC5","v":false},{"$f":"Base!AD5","v":false},{"$f":"Base!AE5","v":false},{"$f":"Base!AF5","v":false},{"$f":"Base!AG5","v":false},{"$f":"Base!AH5","v":false},{"$f":"Base!AI5","v":false},{"$f":"Base!AJ5","v":false},{"$f":"Base!AK5","v":false},{"$f":"Base!AL5","v":false},{"$f":"Base!AM5","v":false},{"$f":"Base!AN5","v":false},{"$f":"Base!AO5","v":false},{"$f":"Base!AP5","v":false},{"$f":"Base!AQ5","v":false},{"$f":"Base!AR5","v":false},{"$f":"Base!AS5","v":false}]
[{"$f":"Base!B6","v":"Adrenal Dexterity rank 4"},0,null,null,0,{"$f":"Base!U6","v":1},{"$f":"IF(AND(C17<>0,ISNUMBER(C17)),Base!V6*C17,IF(Base!V6=0,\"N\",\"Y\"))","v":"N"},{"$f":"Base!W6","v":"Use Adrenals to same Rank or higher"},null,null,null,null,null,0,false,false,{"$f":"AND(CharacterStatus = 0,Base!V6>0)","v":false},false,{"$f":"Base!X6","v":true},0,{"$f":"Base!Y6","v":false},{"$f":"Base!Z6","v":false},{"$f":"Base!AA6","v":false},null,{"$f":"Base!AB6","v":false},{"$f":"Base!AC6","v":false},{"$f":"Base!AD6","v":false},{"$f":"Base!AE6","v":false},{"$f":"Base!AF6","v":false},{"$f":"Base!AG6","v":false},{"$f":"Base!AH6","v":false},{"$f":"Base!AI6","v":false},{"$f":"Base!AJ6","v":false},{"$f":"Base!AK6","v":false},{"$f":"Base!AL6","v":false},{"$f":"Base!AM6","v":false},{"$f":"Base!AN6","v":false},{"$f":"Base!AO6","v":false},{"$f":"Base!AP6","v":false},{"$f":"Base!AQ6","v":false},{"$f":"Base!AR6","v":false},{"$f":"Base!AS6","v":false}]
[{"$f":"Base!B7","v":"Adrenal Dexterity rank 5"},0,null,null,0,{"$f":"Base!U7","v":1},{"$f":"IF(AND(C18<>0,ISNUMBER(C18)),Base!V7*C18,IF(Base!V7=0,\"N\",\"Y\"))","v":"N"},{"$f":"Base!W7","v":"Use Adrenals to same Rank or higher"},null,null,null,null,null,0,false,false,{"$f":"AND(CharacterStatus = 0,Base!V7>0)","v":false},false,{"$f":"Base!X7","v":true},0,{"$f":"Base!Y7","v":false},{"$f":"Base!Z7","v":false},{"$f":"Base!AA7","v":false},null,{"$f":"Base!AB7","v":false},{"$f":"Base!AC7","v":false},{"$f":"Base!AD7","v":false},{"$f":"Base!AE7","v":false},{"$f":"Base!AF7","v":false},{"$f":"Base!AG7","v":false},{"$f":"Base!AH7","v":false},{"$f":"Base!AI7","v":false},{"$f":"Base!AJ7","v":false},{"$f":"Base!AK7","v":false},{"$f":"Base!AL7","v":false},{"$f":"Base!AM7","v":false},{"$f":"Base!AN7","v":false},{"$f":"Base!AO7","v":false},{"$f":"Base!AP7","v":false},{"$f":"Base!AQ7","v":false},{"$f":"Base!AR7","v":false},{"$f":"Base!AS7","v":false}]
[{"$f":"Base!B8","v":"Adrenal Dexterity rank 6"},0,null,null,0,{"$f":"Base!U8","v":1},{"$f":"IF(AND(C19<>0,ISNUMBER(C19)),Base!V8*C19,IF(Base!V8=0,\"N\",\"Y\"))","v":"N"},{"$f":"Base!W8","v":"Use Adrenals to same Rank or higher"},null,null,null,null,null,0,false,false,{"$f":"AND(CharacterStatus = 0,Base!V8>0)","v":false},false,{"$f":"Base!X8","v":true},0,{"$f":"Base!Y8","v":false},{"$f":"Base!Z8","v":false},{"$f":"Base!AA8","v":false},null,{"$f":"Base!AB8","v":false},{"$f":"Base!AC8","v":false},{"$f":"Base!AD8","v":false},{"$f":"Base!AE8","v":false},{"$f":"Base!AF8","v":false},{"$f":"Base!AG8","v":false},{"$f":"Base!AH8","v":false},{"$f":"Base!AI8","v":false},{"$f":"Base!AJ8","v":false},{"$f":"Base!AK8","v":false},{"$f":"Base!AL8","v":false},{"$f":"Base!AM8","v":false},{"$f":"Base!AN8","v":false},{"$f":"Base!AO8","v":false},{"$f":"Base!AP8","v":false},{"$f":"Base!AQ8","v":false},{"$f":"Base!AR8","v":false},{"$f":"Base!AS8","v":false}]
[{"$f":"Base!B9","v":"Adrenal Dexterity rank 7"},0,null,null,0,{"$f":"Base!U9","v":1},{"$f":"IF(AND(C20<>0,ISNUMBER(C20)),Base!V9*C20,IF(Base!V9=0,\"N\",\"Y\"))","v":"N"},{"$f":"Base!W9","v":"Use Adrenals to same Rank or higher"},null,null,null,null,null,0,false,false,{"$f":"AND(CharacterStatus = 0,Base!V9>0)","v":false},false,{"$f":"Base!X9","v":true},0,{"$f":"Base!Y9","v":false},{"$f":"Base!Z9","v":false},{"$f":"Base!AA9","v":false},null,{"$f":"Base!AB9","v":false},{"$f":"Base!AC9","v":false},{"$f":"Base!AD9","v":false},{"$f":"Base!AE9","v":false},{"$f":"Base!AF9","v":false},{"$f":"Base!AG9","v":false},{"$f":"Base!AH9","v":false},{"$f":"Base!AI9","v":false},{"$f":"Base!AJ9","v":false},{"$f":"Base!AK9","v":false},{"$f":"Base!AL9","v":false},{"$f":"Base!AM9","v":false},{"$f":"Base!AN9","v":false},{"$f":"Base!AO9","v":false},{"$f":"Base!AP9","v":false},{"$f":"Base!AQ9","v":false},{"$f":"Base!AR9","v":false},{"$f":"Base!AS9","v":false}]
[{"$f":"Base!B10","v":"Adrenal Dexterity rank 8"},0,null,null,0,{"$f":"Base!U10","v":1},{"$f":"IF(AND(C21<>0,ISNUMBER(C21)),Base!V10*C21,IF(Base!V10=0,\"N\",\"Y\"))","v":"N"},{"$f":"Base!W10","v":"Use Adrenals to same Rank or higher"},null,null,null,null,null,0,false,false,{"$f":"AND(CharacterStatus = 0,Base!V10>0)","v":false},false,{"$f":"Base!X10","v":true},0,{"$f":"Base!Y10","v":false},{"$f":"Base!Z10","v":false},{"$f":"Base!AA10","v":false},null,{"$f":"Base!AB10","v":false},{"$f":"Base!AC10","v":false},{"$f":"Base!AD10","v":false},{"$f":"Base!AE10","v":false},{"$f":"Base!AF10","v":false},{"$f":"Base!AG10","v":false},{"$f":"Base!AH10","v":false},{"$f":"Base!AI10","v":false},{"$f":"Base!AJ10","v":false},{"$f":"Base!AK10","v":false},{"$f":"Base!AL10","v":false},{"$f":"Base!AM10","v":false},{"$f":"Base!AN10","v":false},{"$f":"Base!AO10","v":false},{"$f":"Base!AP10","v":false},{"$f":"Base!AQ10","v":false},{"$f":"Base!AR10","v":false},{"$f":"Base!AS10","v":false}]
[{"$f":"Base!B11","v":"Adrenal Resist Fear rank 2"},0,null,null,0,{"$f":"Base!U11","v":1},{"$f":"IF(AND(C22<>0,ISNUMBER(C22)),Base!V11*C22,IF(Base!V11=0,\"N\",\"Y\"))","v":"N"},{"$f":"Base!W11","v":"Use Adrenals to  Rank 2"},null,null,null,null,null,0,false,false,{"$f":"AND(CharacterStatus = 0,Base!V11>0)","v":false},false,{"$f":"Base!X11","v":true},0,{"$f":"Base!Y11","v":false},{"$f":"Base!Z11","v":false},{"$f":"Base!AA11","v":false},null,{"$f":"Base!AB11","v":false},{"$f":"Base!AC11","v":false},{"$f":"Base!AD11","v":false},{"$f":"Base!AE11","v":false},{"$f":"Base!AF11","v":false},{"$f":"Base!AG11","v":false},{"$f":"Base!AH11","v":false},{"$f":"Base!AI11","v":false},{"$f":"Base!AJ11","v":false},{"$f":"Base!AK11","v":false},{"$f":"Base!AL11","v":false},{"$f":"Base!AM11","v":false},{"$f":"Base!AN11","v":false},{"$f":"Base!AO11","v":false},{"$f":"Base!AP11","v":false},{"$f":"Base!AQ11","v":false},{"$f":"Base!AR11","v":false},{"$f":"Base!AS11","v":false}]
[{"$f":"Base!B12","v":"Adrenal Resist Immobility rank 3"},0,null,null,0,{"$f":"Base!U12","v":1},{"$f":"IF(AND(C23<>0,ISNUMBER(C23)),Base!V12*C23,IF(Base!V12=0,\"N\",\"Y\"))","v":"N"},{"$f":"Base!W12","v":"Use Adrenals to  Rank 3"},null,null,null,null,null,0,false,false,{"$f":"AND(CharacterStatus = 0,Base!V12>0)","v":false},false,{"$f":"Base!X12","v":true},0,{"$f":"Base!Y12","v":false},{"$f":"Base!Z12","v":false},{"$f":"Base!AA12","v":false},null,{"$f":"Base!AB12","v":false},{"$f":"Base!AC12","v":false},{"$f":"Base!AD12","v":false},{"$f":"Base!AE12","v":false},{"$f":"Base!AF12","v":false},{"$f":"Base!AG12","v":false},{"$f":"Base!AH12","v":false},{"$f":"Base!AI12","v":false},{"$f":"Base!AJ12","v":false},{"$f":"Base!AK12","v":false},{"$f":"Base!AL12","v":false},{"$f":"Base!AM12","v":false},{"$f":"Base!AN12","v":false},{"$f":"Base!AO12","v":false},{"$f":"Base!AP12","v":false},{"$f":"Base!AQ12","v":false},{"$f":"Base!AR12","v":false},{"$f":"Base!AS12","v":false}]
[{"$f":"Base!B13","v":"Adrenal Resist Pain rank 4"},0,null,null,0,{"$f":"Base!U13","v":1},{"$f":"IF(AND(C24<>0,ISNUMBER(C24)),Base!V13*C24,IF(Base!V13=0,\"N\",\"Y\"))","v":"N"},{"$f":"Base!W13","v":"Use Adrenals to  Rank 4"},null,null,null,null,null,0,false,false,{"$f":"AND(CharacterStatus = 0,Base!V13>0)","v":false},false,{"$f":"Base!X13","v":true},0,{"$f":"Base!Y13","v":false},{"$f":"Base!Z13","v":false},{"$f":"Base!AA13","v":false},null,{"$f":"Base!AB13","v":false},{"$f":"Base!AC13","v":false},{"$f":"Base!AD13","v":false},{"$f":"Base!AE13","v":false},{"$f":"Base!AF13","v":false},{"$f":"Base!AG13","v":false},{"$f":"Base!AH13","v":false},{"$f":"Base!AI13","v":false},{"$f":"Base!AJ13","v":false},{"$f":"Base!AK13","v":false},{"$f":"Base!AL13","v":false},{"$f":"Base!AM13","v":false},{"$f":"Base!AN13","v":false},{"$f":"Base!AO13","v":false},{"$f":"Base!AP13","v":false},{"$f":"Base!AQ13","v":false},{"$f":"Base!AR13","v":false},{"$f":"Base!AS13","v":false}]
[{"$f":"Base!B14","v":"Adrenal Strength rank 1"},0,null,null,0,{"$f":"Base!U14","v":1},{"$f":"IF(AND(C25<>0,ISNUMBER(C25)),Base!V14*C25,IF(Base!V14=0,\"N\",\"Y\"))","v":"N"},{"$f":"Base!W14","v":"Use Adrenals to same Rank or higher"},null,null,null,null,null,0,false,false,{"$f":"AND(CharacterStatus = 0,Base!V14>0)","v":false},false,{"$f":"Base!X14","v":true},0,{"$f":"Base!Y14","v":false},{"$f":"Base!Z14","v":false},{"$f":"Base!AA14","v":false},null,{"$f":"Base!AB14","v":false},{"$f":"Base!AC14","v":false},{"$f":"Base!AD14","v":false},{"$f":"Base!AE14","v":false},{"$f":"Base!AF14","v":false},{"$f":"Base!AG14","v":false},{"$f":"Base!AH14","v":false},{"$f":"Base!AI14","v":false},{"$f":"Base!AJ14","v":false},{"$f":"Base!AK14","v":false},{"$f":"Base!AL14","v":false},{"$f":"Base!AM14","v":false},{"$f":"Base!AN14","v":false},{"$f":"Base!AO14","v":false},{"$f":"Base!AP14","v":false},{"$f":"Base!AQ14","v":false},{"$f":"Base!AR14","v":false},{"$f":"Base!AS14","v":false}]
[{"$f":"Base!B15","v":"Adrenal Strength rank 3"},0,null,null,0,{"$f":"Base!U15","v":1},{"$f":"IF(AND(C26<>0,ISNUMBER(C26)),Base!V15*C26,IF(Base!V15=0,\"N\",\"Y\"))","v":"N"},{"$f":"Base!W15","v":"Use Adrenals to same Rank or higher"},null,null,null,null,null,0,false,false,{"$f":"AND(CharacterStatus = 0,Base!V15>0)","v":false},false,{"$f":"Base!X15","v":true},0,{"$f":"Base!Y15","v":false},{"$f":"Base!Z15","v":false},{"$f":"Base!AA15","v":false},null,{"$f":"Base!AB15","v":false},{"$f":"Base!AC15","v":false},{"$f":"Base!AD15","v":false},{"$f":"Base!AE15","v":false},{"$f":"Base!AF15","v":false},{"$f":"Base!AG15","v":false},{"$f":"Base!AH15","v":false},{"$f":"Base!AI15","v":false},{"$f":"Base!AJ15","v":false},{"$f":"Base!AK15","v":false},{"$f":"Base!AL15","v":false},{"$f":"Base!AM15","v":false},{"$f":"Base!AN15","v":false},{"$f":"Base!AO15","v":false},{"$f":"Base!AP15","v":false},{"$f":"Base!AQ15","v":false},{"$f":"Base!AR15","v":false},{"$f":"Base!AS15","v":false}]
[{"$f":"Base!B16","v":"Adrenal Strength rank 5"},0,null,null,0,{"$f":"Base!U16","v":1},{"$f":"IF(AND(C27<>0,ISNUMBER(C27)),Base!V16*C27,IF(Base!V16=0,\"N\",\"Y\"))","v":"N"},{"$f":"Base!W16","v":"Use Adrenals to same Rank or higher"},null,null,null,null,null,0,false,false,{"$f":"AND(CharacterStatus = 0,Base!V16>0)","v":false},false,{"$f":"Base!X16","v":true},0,{"$f":"Base!Y16","v":false},{"$f":"Base!Z16","v":false},{"$f":"Base!AA16","v":false},null,{"$f":"Base!AB16","v":false},{"$f":"Base!AC16","v":false},{"$f":"Base!AD16","v":false},{"$f":"Base!AE16","v":false},{"$f":"Base!AF16","v":false},{"$f":"Base!AG16","v":false},{"$f":"Base!AH16","v":false},{"$f":"Base!AI16","v":false},{"$f":"Base!AJ16","v":false},{"$f":"Base!AK16","v":false},{"$f":"Base!AL16","v":false},{"$f":"Base!AM16","v":false},{"$f":"Base!AN16","v":false},{"$f":"Base!AO16","v":false},{"$f":"Base!AP16","v":false},{"$f":"Base!AQ16","v":false},{"$f":"Base!AR16","v":false},{"$f":"Base!AS16","v":false}]
[{"$f":"Base!B17","v":"Buy Adrenals"},0,null,null,0,{"$f":"Base!U17","v":200},{"$f":"IF(AND(C28<>0,ISNUMBER(C28)),Base!V17*C28,IF(Base!V17=0,\"N\",\"Y\"))","v":"N"},{"$f":"Base!W17","v":"None"},null,null,null,null,null,0,false,false,{"$f":"AND(CharacterStatus = 0,Base!V17>0)","v":false},false,{"$f":"Base!X17","v":false},0,{"$f":"Base!Y17","v":false},{"$f":"Base!Z17","v":false},{"$f":"Base!AA17","v":false},null,{"$f":"Base!AB17","v":false},{"$f":"Base!AC17","v":false},{"$f":"Base!AD17","v":false},{"$f":"Base!AE17","v":false},{"$f":"Base!AF17","v":false},{"$f":"Base!AG17","v":false},{"$f":"Base!AH17","v":false},{"$f":"Base!AI17","v":false},{"$f":"Base!AJ17","v":false},{"$f":"Base!AK17","v":false},{"$f":"Base!AL17","v":false},{"$f":"Base!AM17","v":false},{"$f":"Base!AN17","v":false},{"$f":"Base!AO17","v":false},{"$f":"Base!AP17","v":false},{"$f":"Base!AQ17","v":false},{"$f":"Base!AR17","v":false},{"$f":"Base!AS17","v":false}]
[{"$f":"Base!B18","v":"Limit Raise Adrenals"},0,null,null,0,{"$f":"Base!U18","v":1},{"$f":"IF(AND(C29<>0,ISNUMBER(C29)),Base!V18*C29,IF(Base!V18=0,\"N\",\"Y\"))","v":"Y"},{"$f":"Base!W18","v":"Buy Adrenals"},null,null,null,null,null,0,false,false,{"$f":"AND(CharacterStatus = 0,Base!V18>0)","v":true},false,{"$f":"Base!X18","v":true},0,{"$f":"Base!Y18","v":false},{"$f":"Base!Z18","v":false},{"$f":"Base!AA18","v":false},null,{"$f":"Base!AB18","v":false},{"$f":"Base!AC18","v":false},{"$f":"Base!AD18","v":false},{"$f":"Base!AE18","v":false},{"$f":"Base!AF18","v":false},{"$f":"Base!AG18","v":false},{"$f":"Base!AH18","v":false},{"$f":"Base!AI18","v":false},{"$f":"Base!AJ18","v":false},{"$f":"Base!AK18","v":false},{"$f":"Base!AL18","v":false},{"$f":"Base!AM18","v":false},{"$f":"Base!AN18","v":false},{"$f":"Base!AO18","v":false},{"$f":"Base!AP18","v":false},{"$f":"Base!AQ18","v":false},{"$f":"Base!AR18","v":false},{"$f":"Base!AS18","v":false}]
[{"$f":"Base!B19","v":"Limit Raise Mastery Adrenals"},0,null,null,0,{"$f":"Base!U19","v":1},{"$f":"IF(AND(C30<>0,ISNUMBER(C30)),Base!V19*C30,IF(Base!V19=0,\"N\",\"Y\"))","v":"Y"},{"$f":"Base!W19","v":"Limit Raise Adrenals"},null,null,null,null,null,0,false,false,{"$f":"AND(CharacterStatus = 0,Base!V19>0)","v":true},false,{"$f":"Base!X19","v":true},0,{"$f":"Base!Y19","v":false},{"$f":"Base!Z19","v":false},{"$f":"Base!AA19","v":false},null,{"$f":"Base!AB19","v":false},{"$f":"Base!AC19","v":false},{"$f":"Base!AD19","v":false},{"$f":"Base!AE19","v":false},{"$f":"Base!AF19","v":false},{"$f":"Base!AG19","v":false},{"$f":"Base!AH19","v":false},{"$f":"Base!AI19","v":false},{"$f":"Base!AJ19","v":false},{"$f":"Base!AK19","v":false},{"$f":"Base!AL19","v":false},{"$f":"Base!AM19","v":false},{"$f":"Base!AN19","v":false},{"$f":"Base!AO19","v":false},{"$f":"Base!AP19","v":false},{"$f":"Base!AQ19","v":false},{"$f":"Base!AR19","v":false},{"$f":"Base!AS19","v":false}]
[{"$f":"Base!B20","v":"Limit Raise Enhanced Mastery Adrenals"},0,null,null,0,{"$f":"Base!U20","v":1},{"$f":"IF(AND(C31<>0,ISNUMBER(C31)),Base!V20*C31,IF(Base!V20=0,\"N\",\"Y\"))","v":"Y"},{"$f":"Base!W20","v":"Limit Raise Mastery Adrenals"},null,null,null,null,null,0,false,false,{"$f":"AND(CharacterStatus = 0,Base!V20>0)","v":true},false,{"$f":"Base!X20","v":true},0,{"$f":"Base!Y20","v":false},{"$f":"Base!Z20","v":false},{"$f":"Base!AA20","v":false},null,{"$f":"Base!AB20","v":false},{"$f":"Base!AC20","v":false},{"$f":"Base!AD20","v":false},{"$f":"Base!AE20","v":false},{"$f":"Base!AF20","v":false},{"$f":"Base!AG20","v":false},{"$f":"Base!AH20","v":false},{"$f":"Base!AI20","v":false},{"$f":"Base!AJ20","v":false},{"$f":"Base!AK20","v":false},{"$f":"Base!AL20","v":false},{"$f":"Base!AM20","v":false},{"$f":"Base!AN20","v":false},{"$f":"Base!AO20","v":false},{"$f":"Base!AP20","v":false},{"$f":"Base!AQ20","v":false},{"$f":"Base!AR20","v":false},{"$f":"Base!AS20","v":false}]
[{"$f":"Base!B21","v":"Limit Raise Superior Mastery Adrenals"},0,null,null,{"$f":"C32*B32","v":0},{"$f":"Base!U21","v":1},{"$f":"IF(AND(C32<>0,ISNUMBER(C32)),Base!V21*C32,IF(Base!V21=0,\"N\",\"Y\"))","v":"Y"},{"$f":"Base!W21","v":"Limit Raise Enhanced Mastery Adrenals"},null,null,null,null,null,0,false,false,{"$f":"AND(CharacterStatus = 0,Base!V21>0)","v":true},false,{"$f":"Base!X21","v":true},{"$f":"IF(OR(U32,AND(V32,CharacterRank>=W32),AND(Y32,CharacterRank>=Z32),AND(AA32,CharacterRank>=AB32),AND(AC32,CharacterRank>=AD32),AND(AE32,CharacterRank>=AF32),AND(AG32,CharacterRank>=AH32),AND(AI32,CharacterRank>=AJ32),AND(AK32,CharacterRank>=AL32),AND(AM32,CharacterRank>=AN32),AND(AO32,CharacterRank>=AP32)),1,0)","v":0},{"$f":"Base!Y21","v":false},{"$f":"Base!Z21","v":false},{"$f":"Base!AA21","v":false},null,{"$f":"Base!AB21","v":false},{"$f":"Base!AC21","v":false},{"$f":"Base!AD21","v":false},{"$f":"Base!AE21","v":false},{"$f":"Base!AF21","v":false},{"$f":"Base!AG21","v":false},{"$f":"Base!AH21","v":false},{"$f":"Base!AI21","v":false},{"$f":"Base!AJ21","v":false},{"$f":"Base!AK21","v":false},{"$f":"Base!AL21","v":false},{"$f":"Base!AM21","v":false},{"$f":"Base!AN21","v":false},{"$f":"Base!AO21","v":false},{"$f":"Base!AP21","v":false},{"$f":"Base!AQ21","v":false},{"$f":"Base!AR21","v":false},{"$f":"Base!AS21","v":false}]
[{"$f":"Base!B22","v":"Magic Tolerance"},0,null,null,0,{"$f":"Base!U22","v":1},{"$f":"IF(AND(C33<>0,ISNUMBER(C33)),Base!V22*C33,IF(Base!V22=0,\"N\",\"Y\"))","v":"Y"},{"$f":"Base!W22","v":"None"},null,null,null,null,null,0,false,false,{"$f":"AND(CharacterStatus = 0,Base!V22>0)","v":true},false,{"$f":"Base!X22","v":false},0,{"$f":"Base!Y22","v":false},{"$f":"Base!Z22","v":false},{"$f":"Base!AA22","v":false},null,{"$f":"Base!AB22","v":false},{"$f":"Base!AC22","v":false},{"$f":"Base!AD22","v":false},{"$f":"Base!AE22","v":false},{"$f":"Base!AF22","v":false},{"$f":"Base!AG22","v":false},{"$f":"Base!AH22","v":false},{"$f":"Base!AI22","v":false},{"$f":"Base!AJ22","v":false},{"$f":"Base!AK22","v":false},{"$f":"Base!AL22","v":false},{"$f":"Base!AM22","v":false},{"$f":"Base!AN22","v":false},{"$f":"Base!AO22","v":false},{"$f":"Base!AP22","v":false},{"$f":"Base!AQ22","v":false},{"$f":"Base!AR22","v":false},{"$f":"Base!AS22","v":false}]
[{"$f":"Base!B23","v":"Use Adrenals Rank 1 - 8"},0,null,null,{"$f":"IF(B34<>\"NO\",IF(ISNUMBER(C34),(C34*(C34+1)/2)+RIGHT(B34,LEN(B34)-FIND(\"+\",B34))*(C34),0),0)","v":0},{"$f":"Base!U23","v":8},{"$f":"IF(AND(C34<>0,ISNUMBER(C34)),Base!V23,IF(Base!V23=0,\"N\",\"Y\"))","v":"Y"},{"$f":"Base!W23","v":"Buy Adrenals"},null,null,null,null,null,0,false,false,{"$f":"AND(CharacterStatus = 0,Base!V23>0)","v":true},false,{"$f":"Base!X23","v":true},0,{"$f":"Base!Y23","v":false},{"$f":"Base!Z23","v":false},{"$f":"Base!AA23","v":false},null,{"$f":"Base!AB23","v":false},{"$f":"Base!AC23","v":false},{"$f":"Base!AD23","v":false},{"$f":"Base!AE23","v":false},{"$f":"Base!AF23","v":false},{"$f":"Base!AG23","v":false},{"$f":"Base!AH23","v":false},{"$f":"Base!AI23","v":false},{"$f":"Base!AJ23","v":false},{"$f":"Base!AK23","v":false},{"$f":"Base!AL23","v":false},{"$f":"Base!AM23","v":false},{"$f":"Base!AN23","v":false},{"$f":"Base!AO23","v":false},{"$f":"Base!AP23","v":false},{"$f":"Base!AQ23","v":false},{"$f":"Base!AR23","v":false},{"$f":"Base!AS23","v":false}]
[{"$f":"Base!B24","v":"Meditate Adrenals"},0,null,null,0,{"$f":"Base!U24","v":1},{"$f":"IF(AND(C35<>0,ISNUMBER(C35)),Base!V24*C35,IF(Base!V24=0,\"N\",\"Y\"))","v":"N"},{"$f":"Base!W24","v":"Buy Adrenals"},null,null,null,null,null,0,false,false,{"$f":"AND(CharacterStatus = 0,Base!V24>0)","v":false},false,{"$f":"Base!X24","v":true},0,{"$f":"Base!Y24","v":false},{"$f":"Base!Z24","v":false},{"$f":"Base!AA24","v":false},null,{"$f":"Base!AB24","v":false},{"$f":"Base!AC24","v":false},{"$f":"Base!AD24","v":false},{"$f":"Base!AE24","v":false},{"$f":"Base!AF24","v":false},{"$f":"Base!AG24","v":false},{"$f":"Base!AH24","v":false},{"$f":"Base!AI24","v":false},{"$f":"Base!AJ24","v":false},{"$f":"Base!AK24","v":false},{"$f":"Base!AL24","v":false},{"$f":"Base!AM24","v":false},{"$f":"Base!AN24","v":false},{"$f":"Base!AO24","v":false},{"$f":"Base!AP24","v":false},{"$f":"Base!AQ24","v":false},{"$f":"Base!AR24","v":false},{"$f":"Base!AS24","v":false}]
[{"$f":"Base!B25","v":"Meditate Adrenals Mastery"},0,null,null,{"$f":"C36*B36","v":0},{"$f":"Base!U25","v":1},{"$f":"IF(AND(C36<>0,ISNUMBER(C36)),Base!V25*C36,IF(Base!V25=0,\"N\",\"Y\"))","v":"N"},{"$f":"Base!W25","v":"Meditate Adrenals"},null,null,null,null,null,0,false,false,{"$f":"AND(CharacterStatus = 0,Base!V25>0)","v":false},false,{"$f":"Base!X25","v":true},{"$f":"IF(OR(U36,AND(V36,CharacterRank>=W36),AND(Y36,CharacterRank>=Z36),AND(AA36,CharacterRank>=AB36),AND(AC36,CharacterRank>=AD36),AND(AE36,CharacterRank>=AF36),AND(AG36,CharacterRank>=AH36),AND(AI36,CharacterRank>=AJ36),AND(AK36,CharacterRank>=AL36),AND(AM36,CharacterRank>=AN36),AND(AO36,CharacterRank>=AP36)),1,0)","v":0},{"$f":"Base!Y25","v":false},{"$f":"Base!Z25","v":false},{"$f":"Base!AA25","v":false},null,{"$f":"Base!AB25","v":false},{"$f":"Base!AC25","v":false},{"$f":"Base!AD25","v":false},{"$f":"Base!AE25","v":false},{"$f":"Base!AF25","v":false},{"$f":"Base!AG25","v":false},{"$f":"Base!AH25","v":false},{"$f":"Base!AI25","v":false},{"$f":"Base!AJ25","v":false},{"$f":"Base!AK25","v":false},{"$f":"Base!AL25","v":false},{"$f":"Base!AM25","v":false},{"$f":"Base!AN25","v":false},{"$f":"Base!AO25","v":false},{"$f":"Base!AP25","v":false},{"$f":"Base!AQ25","v":false},{"$f":"Base!AR25","v":false},{"$f":"Base!AS25","v":false}]
[{"$f":"Base!B26","v":"Meditate Adrenals Enhanced Mastery"},0,null,null,0,{"$f":"Base!U26","v":1},{"$f":"IF(AND(C37<>0,ISNUMBER(C37)),Base!V26*C37,IF(Base!V26=0,\"N\",\"Y\"))","v":"N"},{"$f":"Base!W26","v":"Meditate Adrenals Mastery"},null,null,null,null,null,0,false,false,{"$f":"AND(CharacterStatus = 0,Base!V26>0)","v":false},false,{"$f":"Base!X26","v":true},0,{"$f":"Base!Y26","v":false},{"$f":"Base!Z26","v":false},{"$f":"Base!AA26","v":false},null,{"$f":"Base!AB26","v":false},{"$f":"Base!AC26","v":false},{"$f":"Base!AD26","v":false},{"$f":"Base!AE26","v":false},{"$f":"Base!AF26","v":false},{"$f":"Base!AG26","v":false},{"$f":"Base!AH26","v":false},{"$f":"Base!AI26","v":false},{"$f":"Base!AJ26","v":false},{"$f":"Base!AK26","v":false},{"$f":"Base!AL26","v":false},{"$f":"Base!AM26","v":false},{"$f":"Base!AN26","v":false},{"$f":"Base!AO26","v":false},{"$f":"Base!AP26","v":false},{"$f":"Base!AQ26","v":false},{"$f":"Base!AR26","v":false},{"$f":"Base!AS26","v":false}]
[{"$f":"Base!B27","v":"Meditate Adrenals Superior Mastery"},0,null,null,0,{"$f":"Base!U27","v":1},{"$f":"IF(AND(C38<>0,ISNUMBER(C38)),Base!V27*C38,IF(Base!V27=0,\"N\",\"Y\"))","v":"Y"},{"$f":"Base!W27","v":"Meditate Adrenals Enhamced Mastery"},null,null,null,null,null,0,false,false,{"$f":"AND(CharacterStatus = 0,Base!V27>0)","v":true},false,{"$f":"Base!X27","v":true},0,{"$f":"Base!Y27","v":false},{"$f":"Base!Z27","v":false},{"$f":"Base!AA27","v":false},null,{"$f":"Base!AB27","v":false},{"$f":"Base!AC27","v":false},{"$f":"Base!AD27","v":false},{"$f":"Base!AE27","v":false},{"$f":"Base!AF27","v":false},{"$f":"Base!AG27","v":false},{"$f":"Base!AH27","v":false},{"$f":"Base!AI27","v":false},{"$f":"Base!AJ27","v":false},{"$f":"Base!AK27","v":false},{"$f":"Base!AL27","v":false},{"$f":"Base!AM27","v":false},{"$f":"Base!AN27","v":false},{"$f":"Base!AO27","v":false},{"$f":"Base!AP27","v":false},{"$f":"Base!AQ27","v":false},{"$f":"Base!AR27","v":false},{"$f":"Base!AS27","v":false}]
[{"$f":"Base!B28","v":"Archer Acolyte"},40,null,null,{"$f":"C39*B39","v":0},{"$f":"Base!U28","v":1},{"$f":"IF(AND(C39<>0,ISNUMBER(C39)),Base!V28*C39,IF(Base!V28=0,\"N\",\"Y\"))","v":"N"},{"$f":"Base!W28","v":"Missile Attunement, Empowered Weapon, Cast Power Rank 1"},null,null,null,null,null,0,false,false,{"$f":"AND(CharacterStatus = 0,Base!V28>0)","v":false},false,{"$f":"Base!X28","v":true},0,{"$f":"Base!Y28","v":false},{"$f":"Base!Z28","v":false},{"$f":"Base!AA28","v":false},null,{"$f":"Base!AB28","v":false},{"$f":"Base!AC28","v":false},{"$f":"Base!AD28","v":false},{"$f":"Base!AE28","v":false},{"$f":"Base!AF28","v":false},{"$f":"Base!AG28","v":false},{"$f":"Base!AH28","v":false},{"$f":"Base!AI28","v":false},{"$f":"Base!AJ28","v":false},{"$f":"Base!AK28","v":false},{"$f":"Base!AL28","v":false},{"$f":"Base!AM28","v":false},{"$f":"Base!AN28","v":false},{"$f":"Base!AO28","v":false},{"$f":"Base!AP28","v":false},{"$f":"Base!AQ28","v":false},{"$f":"Base!AR28","v":false},{"$f":"Base!AS28","v":false}]
[{"$f":"Base!B29","v":"Archer Priest"},60,null,null,{"$f":"C40*B40","v":0},{"$f":"Base!U29","v":1},{"$f":"IF(AND(C40<>0,ISNUMBER(C40)),Base!V29*C40,IF(Base!V29=0,\"N\",\"Y\"))","v":"Y"},{"$f":"Base!W29","v":"Archer Acolyte, Cast Power Rank 6"},null,null,null,null,null,0,false,false,{"$f":"AND(CharacterStatus = 0,Base!V29>0)","v":true},false,{"$f":"Base!X29","v":true},{"$f":"IF(OR(U40,AND(V40,CharacterRank>=W40),AND(Y40,CharacterRank>=Z40),AND(AA40,CharacterRank>=AB40),AND(AC40,CharacterRank>=AD40),AND(AE40,CharacterRank>=AF40),AND(AG40,CharacterRank>=AH40),AND(AI40,CharacterRank>=AJ40),AND(AK40,CharacterRank>=AL40),AND(AM40,CharacterRank>=AN40),AND(AO40,CharacterRank>=AP40)),1,0)","v":0},{"$f":"Base!Y29","v":false},{"$f":"Base!Z29","v":false},{"$f":"Base!AA29","v":false},null,{"$f":"Base!AB29","v":false},{"$f":"Base!AC29","v":false},{"$f":"Base!AD29","v":false},{"$f":"Base!AE29","v":false},{"$f":"Base!AF29","v":false},{"$f":"Base!AG29","v":false},{"$f":"Base!AH29","v":false},{"$f":"Base!AI29","v":false},{"$f":"Base!AJ29","v":false},{"$f":"Base!AK29","v":false},{"$f":"Base!AL29","v":false},{"$f":"Base!AM29","v":false},{"$f":"Base!AN29","v":false},{"$f":"Base!AO29","v":false},{"$f":"Base!AP29","v":false},{"$f":"Base!AQ29","v":false},{"$f":"Base!AR29","v":false},{"$f":"Base!AS29","v":false}]
[{"$f":"Base!B30","v":"Archer Specialist Acolyte - 1st Sect"},0,null,null,0,{"$f":"Base!U30","v":1},{"$f":"IF(AND(C41<>0,ISNUMBER(C41)),Base!V30*C41,IF(Base!V30=0,\"N\",\"Y\"))","v":"Y"},{"$f":"Base!W30","v":"Primary Class Archer, Archer Acolyte, Guild member of Sect"},null,null,null,null,null,0,false,false,{"$f":"AND(CharacterStatus = 0,Base!V30>0)","v":true},false,{"$f":"Base!X30","v":true},{"$f":"IF(AND(X41=TRUE, OR(U41,AND(V41,CharacterRank>=W41),AND(Y41,CharacterRank>=Z41),AND(AA41,CharacterRank>=AB41),AND(AC41,CharacterRank>=AD41),AND(AE41,CharacterRank>=AF41),AND(AG41,CharacterRank>=AH41),AND(AI41,CharacterRank>=AJ41),AND(AK41,CharacterRank>=AL41),AND(AM41,CharacterRank>=AN41),AND(AO41,CharacterRank>=AP41))),1,0)","v":0},{"$f":"Base!Y30","v":false},{"$f":"Base!Z30","v":false},{"$f":"Base!AA30","v":false},{"$f":"IF(OR(PrimaryGuildNumber=8, SecondaryGuildNumber=8,Secondary2GuildNumber=8,Secondary3GuildNumber=8,Secondary4GuildNumber=8,Secondary5GuildNumber=8,Secondary6GuildNumber=8,Secondary7GuildNumber=8, AdditionalClassSecondaryGuildNumber=8, JoATGuildNumber=8),TRUE,FALSE)","v":false},{"$f":"Base!AB30","v":false},{"$f":"Base!AC30","v":false},{"$f":"Base!AD30","v":false},{"$f":"Base!AE30","v":false},{"$f":"Base!AF30","v":false},{"$f":"Base!AG30","v":false},{"$f":"Base!AH30","v":false},{"$f":"Base!AI30","v":false},{"$f":"Base!AJ30","v":false},{"$f":"Base!AK30","v":false},{"$f":"Base!AL30","v":false},{"$f":"Base!AM30","v":false},{"$f":"Base!AN30","v":false},{"$f":"Base!AO30","v":false},{"$f":"Base!AP30","v":false},{"$f":"Base!AQ30","v":false},{"$f":"Base!AR30","v":false},{"$f":"Base!AS30","v":false}]
[{"$f":"Base!B31","v":"Archer Specialist Priest - 1st Sect"},0,null,null,0,{"$f":"Base!U31","v":1},{"$f":"IF(AND(C42<>0,ISNUMBER(C42)),Base!V31*C42,IF(Base!V31=0,\"N\",\"Y\"))","v":"Y"},{"$f":"Base!W31","v":"Archer Specialist Acolyte - 1st Sect, Archer Priest"},null,null,null,null,null,0,false,false,{"$f":"AND(CharacterStatus = 0,Base!V31>0)","v":true},false,{"$f":"Base!X31","v":true},0,{"$f":"Base!Y31","v":false},{"$f":"Base!Z31","v":false},{"$f":"Base!AA31","v":false},{"$f":"IF(OR(PrimaryGuildNumber=8, SecondaryGuildNumber=8,Secondary2GuildNumber=8,Secondary3GuildNumber=8,Secondary4GuildNumber=8,Secondary5GuildNumber=8,Secondary6GuildNumber=8,Secondary7GuildNumber=8, AdditionalClassSecondaryGuildNumber=8, JoATGuildNumber=8),TRUE,FALSE)","v":false},{"$f":"Base!AB31","v":false},{"$f":"Base!AC31","v":false},{"$f":"Base!AD31","v":false},{"$f":"Base!AE31","v":false},{"$f":"Base!AF31","v":false},{"$f":"Base!AG31","v":false},{"$f":"Base!AH31","v":false},{"$f":"Base!AI31","v":false},{"$f":"Base!AJ31","v":false},{"$f":"Base!AK31","v":false},{"$f":"Base!AL31","v":false},{"$f":"Base!AM31","v":false},{"$f":"Base!AN31","v":false},{"$f":"Base!AO31","v":false},{"$f":"Base!AP31","v":false},{"$f":"Base!AQ31","v":false},{"$f":"Base!AR31","v":false},{"$f":"Base!AS31","v":false}]
[{"$f":"Base!B32","v":"Archer Specialist High Priest - 1st Sect"},0,null,null,0,{"$f":"Base!U32","v":1},{"$f":"IF(AND(C43<>0,ISNUMBER(C43)),Base!V32*C43,IF(Base!V32=0,\"N\",\"Y\"))","v":"Y"},{"$f":"Base!W32","v":"Archer Specialist Priest - 1st Sect"},null,null,null,null,null,0,false,false,{"$f":"AND(CharacterStatus = 0,Base!V32>0)","v":true},false,{"$f":"Base!X32","v":true},0,{"$f":"Base!Y32","v":false},{"$f":"Base!Z32","v":false},{"$f":"Base!AA32","v":false},{"$f":"IF(OR(PrimaryGuildNumber=8, SecondaryGuildNumber=8,Secondary2GuildNumber=8,Secondary3GuildNumber=8,Secondary4GuildNumber=8,Secondary5GuildNumber=8,Secondary6GuildNumber=8,Secondary7GuildNumber=8, AdditionalClassSecondaryGuildNumber=8, JoATGuildNumber=8),TRUE,FALSE)","v":false},{"$f":"Base!AB32","v":false},{"$f":"Base!AC32","v":false},{"$f":"Base!AD32","v":false},{"$f":"Base!AE32","v":false},{"$f":"Base!AF32","v":false},{"$f":"Base!AG32","v":false},{"$f":"Base!AH32","v":false},{"$f":"Base!AI32","v":false},{"$f":"Base!AJ32","v":false},{"$f":"Base!AK32","v":false},{"$f":"Base!AL32","v":false},{"$f":"Base!AM32","v":false},{"$f":"Base!AN32","v":false},{"$f":"Base!AO32","v":false},{"$f":"Base!AP32","v":false},{"$f":"Base!AQ32","v":false},{"$f":"Base!AR32","v":false},{"$f":"Base!AS32","v":false}]
[{"$f":"Base!B33","v":"Archer Specialist Acolyte - 2nd Sect"},0,null,null,0,{"$f":"Base!U33","v":1},{"$f":"IF(AND(C44<>0,ISNUMBER(C44)),Base!V33*C44,IF(Base!V33=0,\"N\",\"Y\"))","v":"Y"},{"$f":"Base!W33","v":"Archer Specialist Acolyte - 1st Sect, Guild Member 2nd Sect"},null,null,null,null,null,0,false,false,{"$f":"AND(CharacterStatus = 0,Base!V33>0)","v":true},false,{"$f":"Base!X33","v":true},0,{"$f":"Base!Y33","v":false},{"$f":"Base!Z33","v":false},{"$f":"Base!AA33","v":false},{"$f":"IF(OR(PrimaryGuildNumber=8, SecondaryGuildNumber=8,Secondary2GuildNumber=8,Secondary3GuildNumber=8,Secondary4GuildNumber=8,Secondary5GuildNumber=8,Secondary6GuildNumber=8,Secondary7GuildNumber=8, AdditionalClassSecondaryGuildNumber=8, JoATGuildNumber=8),TRUE,FALSE)","v":false},{"$f":"Base!AB33","v":false},{"$f":"Base!AC33","v":false},{"$f":"Base!AD33","v":false},{"$f":"Base!AE33","v":false},{"$f":"Base!AF33","v":false},{"$f":"Base!AG33","v":false},{"$f":"Base!AH33","v":false},{"$f":"Base!AI33","v":false},{"$f":"Base!AJ33","v":false},{"$f":"Base!AK33","v":false},{"$f":"Base!AL33","v":false},{"$f":"Base!AM33","v":false},{"$f":"Base!AN33","v":false},{"$f":"Base!AO33","v":false},{"$f":"Base!AP33","v":false},{"$f":"Base!AQ33","v":false},{"$f":"Base!AR33","v":false},{"$f":"Base!AS33","v":false}]
[{"$f":"Base!B34","v":"Archer Specialist Priest - 2nd Sect"},0,null,null,0,{"$f":"Base!U34","v":1},{"$f":"IF(AND(C45<>0,ISNUMBER(C45)),Base!V34*C45,IF(Base!V34=0,\"N\",\"Y\"))","v":"Y"},{"$f":"Base!W34","v":"Archer Specialist Acolyte - 2nd Sect"},null,null,null,null,null,0,false,false,{"$f":"AND(CharacterStatus = 0,Base!V34>0)","v":true},false,{"$f":"Base!X34","v":true},0,{"$f":"Base!Y34","v":false},{"$f":"Base!Z34","v":false},{"$f":"Base!AA34","v":false},{"$f":"IF(OR(PrimaryGuildNumber=8, SecondaryGuildNumber=8,Secondary2GuildNumber=8,Secondary3GuildNumber=8,Secondary4GuildNumber=8,Secondary5GuildNumber=8,Secondary6GuildNumber=8,Secondary7GuildNumber=8, AdditionalClassSecondaryGuildNumber=8, JoATGuildNumber=8),TRUE,FALSE)","v":false},{"$f":"Base!AB34","v":false},{"$f":"Base!AC34","v":false},{"$f":"Base!AD34","v":false},{"$f":"Base!AE34","v":false},{"$f":"Base!AF34","v":false},{"$f":"Base!AG34","v":false},{"$f":"Base!AH34","v":false},{"$f":"Base!AI34","v":false},{"$f":"Base!AJ34","v":false},{"$f":"Base!AK34","v":false},{"$f":"Base!AL34","v":false},{"$f":"Base!AM34","v":false},{"$f":"Base!AN34","v":false},{"$f":"Base!AO34","v":false},{"$f":"Base!AP34","v":false},{"$f":"Base!AQ34","v":false},{"$f":"Base!AR34","v":false},{"$f":"Base!AS34","v":false}]
[{"$f":"Base!B35","v":"Archer Mage"},40,null,null,{"$f":"C46*B46","v":0},{"$f":"Base!U35","v":1},{"$f":"IF(AND(C46<>0,ISNUMBER(C46)),Base!V35*C46,IF(Base!V35=0,\"N\",\"Y\"))","v":"N"},{"$f":"Base!W35","v":"Missile Attunement, Ensorcelled Weapon, Level 1 Spell Slot"},null,null,null,null,null,0,false,false,{"$f":"AND(CharacterStatus = 0,Base!V35>0)","v":false},false,{"$f":"Base!X35","v":true},0,{"$f":"Base!Y35","v":false},{"$f":"Base!Z35","v":false},{"$f":"Base!AA35","v":false},null,{"$f":"Base!AB35","v":false},{"$f":"Base!AC35","v":false},{"$f":"Base!AD35","v":false},{"$f":"Base!AE35","v":false},{"$f":"Base!AF35","v":false},{"$f":"Base!AG35","v":false},{"$f":"Base!AH35","v":false},{"$f":"Base!AI35","v":false},{"$f":"Base!AJ35","v":false},{"$f":"Base!AK35","v":false},{"$f":"Base!AL35","v":false},{"$f":"Base!AM35","v":false},{"$f":"Base!AN35","v":false},{"$f":"Base!AO35","v":false},{"$f":"Base!AP35","v":false},{"$f":"Base!AQ35","v":false},{"$f":"Base!AR35","v":false},{"$f":"Base!AS35","v":false}]
[{"$f":"Base!B36","v":"Archer Wizard"},60,null,null,0,{"$f":"Base!U36","v":1},{"$f":"IF(AND(C47<>0,ISNUMBER(C47)),Base!V36*C47,IF(Base!V36=0,\"N\",\"Y\"))","v":"Y"},{"$f":"Base!W36","v":"Archer Mage, Level 6 Spell Slot"},null,null,null,null,null,0,false,false,{"$f":"AND(CharacterStatus = 0,Base!V36>0)","v":true},false,{"$f":"Base!X36","v":true},{"$f":"IF(OR(U47,AND(V47,CharacterRank>=W47),AND(Y47,CharacterRank>=Z47),AND(AA47,CharacterRank>=AB47),AND(AC47,CharacterRank>=AD47),AND(AE47,CharacterRank>=AF47),AND(AG47,CharacterRank>=AH47),AND(AI47,CharacterRank>=AJ47),AND(AK47,CharacterRank>=AL47),AND(AM47,CharacterRank>=AN47),AND(AO47,CharacterRank>=AP47)),1,0)","v":0},{"$f":"Base!Y36","v":false},{"$f":"Base!Z36","v":false},{"$f":"Base!AA36","v":false},null,{"$f":"Base!AB36","v":false},{"$f":"Base!AC36","v":false},{"$f":"Base!AD36","v":false},{"$f":"Base!AE36","v":false},{"$f":"Base!AF36","v":false},{"$f":"Base!AG36","v":false},{"$f":"Base!AH36","v":false},{"$f":"Base!AI36","v":false},{"$f":"Base!AJ36","v":false},{"$f":"Base!AK36","v":false},{"$f":"Base!AL36","v":false},{"$f":"Base!AM36","v":false},{"$f":"Base!AN36","v":false},{"$f":"Base!AO36","v":false},{"$f":"Base!AP36","v":false},{"$f":"Base!AQ36","v":false},{"$f":"Base!AR36","v":false},{"$f":"Base!AS36","v":false}]
[{"$f":"Base!B37","v":"Archer Specialist Mage - 1st School"},0,null,null,0,{"$f":"Base!U37","v":1},{"$f":"IF(AND(C48<>0,ISNUMBER(C48)),Base!V37*C48,IF(Base!V37=0,\"N\",\"Y\"))","v":"Y"},{"$f":"Base!W37","v":"Primary Class Archer, Archer Mage, Guild member of School"},null,null,null,null,null,0,false,false,{"$f":"AND(CharacterStatus = 0,Base!V37>0)","v":true},false,{"$f":"Base!X37","v":true},{"$f":"IF(AND(X48=TRUE, OR(U48,AND(V48,CharacterRank>=W48),AND(Y48,CharacterRank>=Z48),AND(AA48,CharacterRank>=AB48),AND(AC48,CharacterRank>=AD48),AND(AE48,CharacterRank>=AF48),AND(AG48,CharacterRank>=AH48),AND(AI48,CharacterRank>=AJ48),AND(AK48,CharacterRank>=AL48),AND(AM48,CharacterRank>=AN48),AND(AO48,CharacterRank>=AP48))),1,0)","v":0},{"$f":"Base!Y37","v":false},{"$f":"Base!Z37","v":false},{"$f":"Base!AA37","v":false},{"$f":"IF(OR(PrimaryGuildNumber=8, SecondaryGuildNumber=8,Secondary2GuildNumber=8,Secondary3GuildNumber=8,Secondary4GuildNumber=8,Secondary5GuildNumber=8,Secondary6GuildNumber=8,Secondary7GuildNumber=8, AdditionalClassSecondaryGuildNumber=8, JoATGuildNumber=8),TRUE,FALSE)","v":false},{"$f":"Base!AB37","v":false},{"$f":"Base!AC37","v":false},{"$f":"Base!AD37","v":false},{"$f":"Base!AE37","v":false},{"$f":"Base!AF37","v":false},{"$f":"Base!AG37","v":false},{"$f":"Base!AH37","v":false},{"$f":"Base!AI37","v":false},{"$f":"Base!AJ37","v":false},{"$f":"Base!AK37","v":false},{"$f":"Base!AL37","v":false},{"$f":"Base!AM37","v":false},{"$f":"Base!AN37","v":false},{"$f":"Base!AO37","v":false},{"$f":"Base!AP37","v":false},{"$f":"Base!AQ37","v":false},{"$f":"Base!AR37","v":false},{"$f":"Base!AS37","v":false}]
[{"$f":"Base!B38","v":"Archer Specialist Wizard - 1st School"},0,null,null,0,{"$f":"Base!U38","v":1},{"$f":"IF(AND(C49<>0,ISNUMBER(C49)),Base!V38*C49,IF(Base!V38=0,\"N\",\"Y\"))","v":"Y"},{"$f":"Base!W38","v":"Archer Specialist Mage - 1st School, Archer Wizard"},null,null,null,null,null,0,false,false,{"$f":"AND(CharacterStatus = 0,Base!V38>0)","v":true},false,{"$f":"Base!X38","v":true},0,{"$f":"Base!Y38","v":false},{"$f":"Base!Z38","v":false},{"$f":"Base!AA38","v":false},false,{"$f":"Base!AB38","v":false},{"$f":"Base!AC38","v":false},{"$f":"Base!AD38","v":false},{"$f":"Base!AE38","v":false},{"$f":"Base!AF38","v":false},{"$f":"Base!AG38","v":false},{"$f":"Base!AH38","v":false},{"$f":"Base!AI38","v":false},{"$f":"Base!AJ38","v":false},{"$f":"Base!AK38","v":false},{"$f":"Base!AL38","v":false},{"$f":"Base!AM38","v":false},{"$f":"Base!AN38","v":false},{"$f":"Base!AO38","v":false},{"$f":"Base!AP38","v":false},{"$f":"Base!AQ38","v":false},{"$f":"Base!AR38","v":false},{"$f":"Base!AS38","v":false}]
[{"$f":"Base!B39","v":"Archer Specialist Sorceror - 1st School"},0,null,null,0,{"$f":"Base!U39","v":1},{"$f":"IF(AND(C50<>0,ISNUMBER(C50)),Base!V39*C50,IF(Base!V39=0,\"N\",\"Y\"))","v":"Y"},{"$f":"Base!W39","v":"Archer Specialist Wizard - 1st School"},null,null,null,null,null,0,false,false,{"$f":"AND(CharacterStatus = 0,Base!V39>0)","v":true},false,{"$f":"Base!X39","v":true},0,{"$f":"Base!Y39","v":false},{"$f":"Base!Z39","v":false},{"$f":"Base!AA39","v":false},false,{"$f":"Base!AB39","v":false},{"$f":"Base!AC39","v":false},{"$f":"Base!AD39","v":false},{"$f":"Base!AE39","v":false},{"$f":"Base!AF39","v":false},{"$f":"Base!AG39","v":false},{"$f":"Base!AH39","v":false},{"$f":"Base!AI39","v":false},{"$f":"Base!AJ39","v":false},{"$f":"Base!AK39","v":false},{"$f":"Base!AL39","v":false},{"$f":"Base!AM39","v":false},{"$f":"Base!AN39","v":false},{"$f":"Base!AO39","v":false},{"$f":"Base!AP39","v":false},{"$f":"Base!AQ39","v":false},{"$f":"Base!AR39","v":false},{"$f":"Base!AS39","v":false}]
[{"$f":"Base!B40","v":"Archer Specialist Mage - 2nd School"},0,null,null,0,{"$f":"Base!U40","v":1},{"$f":"IF(AND(C51<>0,ISNUMBER(C51)),Base!V40*C51,IF(Base!V40=0,\"N\",\"Y\"))","v":"Y"},{"$f":"Base!W40","v":"Archer Specialist Mage - 1st School, Guild Member 2nd School"},null,null,null,null,null,0,false,false,{"$f":"AND(CharacterStatus = 0,Base!V40>0)","v":true},false,{"$f":"Base!X40","v":true},0,{"$f":"Base!Y40","v":false},{"$f":"Base!Z40","v":false},{"$f":"Base!AA40","v":false},false,{"$f":"Base!AB40","v":false},{"$f":"Base!AC40","v":false},{"$f":"Base!AD40","v":false},{"$f":"Base!AE40","v":false},{"$f":"Base!AF40","v":false},{"$f":"Base!AG40","v":false},{"$f":"Base!AH40","v":false},{"$f":"Base!AI40","v":false},{"$f":"Base!AJ40","v":false},{"$f":"Base!AK40","v":false},{"$f":"Base!AL40","v":false},{"$f":"Base!AM40","v":false},{"$f":"Base!AN40","v":false},{"$f":"Base!AO40","v":false},{"$f":"Base!AP40","v":false},{"$f":"Base!AQ40","v":false},{"$f":"Base!AR40","v":false},{"$f":"Base!AS40","v":false}]
[{"$f":"Base!B41","v":"Archer Specialist Wizard - 2nd School"},0,null,null,0,{"$f":"Base!U41","v":1},{"$f":"IF(AND(C52<>0,ISNUMBER(C52)),Base!V41*C52,IF(Base!V41=0,\"N\",\"Y\"))","v":"Y"},{"$f":"Base!W41","v":"Archer Specialist Mage - 2nd School"},null,null,null,null,null,0,false,false,{"$f":"AND(CharacterStatus = 0,Base!V41>0)","v":true},false,{"$f":"Base!X41","v":true},0,{"$f":"Base!Y41","v":false},{"$f":"Base!Z41","v":false},{"$f":"Base!AA41","v":false},false,{"$f":"Base!AB41","v":false},{"$f":"Base!AC41","v":false},{"$f":"Base!AD41","v":false},{"$f":"Base!AE41","v":false},{"$f":"Base!AF41","v":false},{"$f":"Base!AG41","v":false},{"$f":"Base!AH41","v":false},{"$f":"Base!AI41","v":false},{"$f":"Base!AJ41","v":false},{"$f":"Base!AK41","v":false},{"$f":"Base!AL41","v":false},{"$f":"Base!AM41","v":false},{"$f":"Base!AN41","v":false},{"$f":"Base!AO41","v":false},{"$f":"Base!AP41","v":false},{"$f":"Base!AQ41","v":false},{"$f":"Base!AR41","v":false},{"$f":"Base!AS41","v":false}]
[{"$f":"Base!B42","v":"Knockback Shot"},30,null,null,0,{"$f":"Base!U42","v":1},{"$f":"IF(AND(C53<>0,ISNUMBER(C53)),Base!V42*C53,IF(Base!V42=0,\"N\",\"Y\"))","v":"Y"},{"$f":"Base!W42","v":"Missile Attunement"},null,null,null,null,null,0,false,false,{"$f":"AND(CharacterStatus = 0,Base!V42>0)","v":true},false,{"$f":"Base!X42","v":true},0,{"$f":"Base!Y42","v":false},{"$f":"Base!Z42","v":false},{"$f":"Base!AA42","v":false},false,{"$f":"Base!AB42","v":false},{"$f":"Base!AC42","v":false},{"$f":"Base!AD42","v":false},{"$f":"Base!AE42","v":false},{"$f":"Base!AF42","v":false},{"$f":"Base!AG42","v":false},{"$f":"Base!AH42","v":false},{"$f":"Base!AI42","v":false},{"$f":"Base!AJ42","v":false},{"$f":"Base!AK42","v":false},{"$f":"Base!AL42","v":false},{"$f":"Base!AM42","v":false},{"$f":"Base!AN42","v":false},{"$f":"Base!AO42","v":false},{"$f":"Base!AP42","v":false},{"$f":"Base!AQ42","v":false},{"$f":"Base!AR42","v":false},{"$f":"Base!AS42","v":false}]
[{"$f":"Base!B43","v":"Marksman"},40,null,null,0,{"$f":"Base!U43","v":1},{"$f":"IF(AND(C54<>0,ISNUMBER(C54)),Base!V43*C54,IF(Base!V43=0,\"N\",\"Y\"))","v":"Y"},{"$f":"Base!W43","v":"Missile Attunement"},null,null,null,null,null,0,false,false,{"$f":"AND(CharacterStatus = 0,Base!V43>0)","v":true},false,{"$f":"Base!X43","v":true},0,{"$f":"Base!Y43","v":false},{"$f":"Base!Z43","v":false},{"$f":"Base!AA43","v":false},null,{"$f":"Base!AB43","v":false},{"$f":"Base!AC43","v":false},{"$f":"Base!AD43","v":false},{"$f":"Base!AE43","v":false},{"$f":"Base!AF43","v":false},{"$f":"Base!AG43","v":false},{"$f":"Base!AH43","v":false},{"$f":"Base!AI43","v":false},{"$f":"Base!AJ43","v":false},{"$f":"Base!AK43","v":false},{"$f":"Base!AL43","v":false},{"$f":"Base!AM43","v":false},{"$f":"Base!AN43","v":false},{"$f":"Base!AO43","v":false},{"$f":"Base!AP43","v":false},{"$f":"Base!AQ43","v":false},{"$f":"Base!AR43","v":false},{"$f":"Base!AS43","v":false}]
[{"$f":"Base!B44","v":"Missile Attunement"},25,null,null,0,{"$f":"Base!U44","v":1},{"$f":"IF(AND(C55<>0,ISNUMBER(C55)),Base!V44*C55,IF(Base!V44=0,\"N\",\"Y\"))","v":"Y"},{"$f":"Base!W44","v":"Enhanced Missile Mastery"},null,null,null,null,null,0,false,false,{"$f":"AND(CharacterStatus = 0,Base!V44>0)","v":true},false,{"$f":"Base!X44","v":true},0,{"$f":"Base!Y44","v":false},{"$f":"Base!Z44","v":false},{"$f":"Base!AA44","v":false},null,{"$f":"Base!AB44","v":false},{"$f":"Base!AC44","v":false},{"$f":"Base!AD44","v":false},{"$f":"Base!AE44","v":false},{"$f":"Base!AF44","v":false},{"$f":"Base!AG44","v":false},{"$f":"Base!AH44","v":false},{"$f":"Base!AI44","v":false},{"$f":"Base!AJ44","v":false},{"$f":"Base!AK44","v":false},{"$f":"Base!AL44","v":false},{"$f":"Base!AM44","v":false},{"$f":"Base!AN44","v":false},{"$f":"Base!AO44","v":false},{"$f":"Base!AP44","v":false},{"$f":"Base!AQ44","v":false},{"$f":"Base!AR44","v":false},{"$f":"Base!AS44","v":false}]
[{"$f":"Base!B45","v":"Missile Proficiency"},3,null,null,0,{"$f":"Base!U45","v":"N"},{"$f":"IF(AND(C56<>0,ISNUMBER(C56)),Base!V45*C56,IF(Base!V45=0,\"N\",\"Y\"))","v":"N"},{"$f":"Base!W45","v":"None"},null,null,null,null,null,0,false,false,{"$f":"AND(CharacterStatus = 0,Base!V45>0)","v":false},false,{"$f":"Base!X45","v":false},0,{"$f":"Base!Y45","v":false},{"$f":"Base!Z45","v":false},{"$f":"Base!AA45","v":false},null,{"$f":"Base!AB45","v":false},{"$f":"Base!AC45","v":false},{"$f":"Base!AD45","v":false},{"$f":"Base!AE45","v":false},{"$f":"Base!AF45","v":false},{"$f":"Base!AG45","v":false},{"$f":"Base!AH45","v":false},{"$f":"Base!AI45","v":false},{"$f":"Base!AJ45","v":false},{"$f":"Base!AK45","v":false},{"$f":"Base!AL45","v":false},{"$f":"Base!AM45","v":false},{"$f":"Base!AN45","v":false},{"$f":"Base!AO45","v":false},{"$f":"Base!AP45","v":false},{"$f":"Base!AQ45","v":false},{"$f":"Base!AR45","v":false},{"$f":"Base!AS45","v":false}]
[{"$f":"Base!B46","v":"Missile Mastery"},18,null,null,0,{"$f":"Base!U46","v":"N"},{"$f":"IF(AND(C57<>0,ISNUMBER(C57)),Base!V46*C57,IF(Base!V46=0,\"N\",\"Y\"))","v":"N"},{"$f":"Base!W46","v":"Missile Proficiency"},null,null,null,null,null,0,false,false,{"$f":"AND(CharacterStatus = 0,Base!V46>0)","v":false},false,{"$f":"Base!X46","v":true},0,{"$f":"Base!Y46","v":false},{"$f":"Base!Z46","v":false},{"$f":"Base!AA46","v":false},null,{"$f":"Base!AB46","v":false},{"$f":"Base!AC46","v":false},{"$f":"Base!AD46","v":false},{"$f":"Base!AE46","v":false},{"$f":"Base!AF46","v":false},{"$f":"Base!AG46","v":false},{"$f":"Base!AH46","v":false},{"$f":"Base!AI46","v":false},{"$f":"Base!AJ46","v":false},{"$f":"Base!AK46","v":false},{"$f":"Base!AL46","v":false},{"$f":"Base!AM46","v":false},{"$f":"Base!AN46","v":false},{"$f":"Base!AO46","v":false},{"$f":"Base!AP46","v":false},{"$f":"Base!AQ46","v":false},{"$f":"Base!AR46","v":false},{"$f":"Base!AS46","v":false}]
[{"$f":"Base!B47","v":"Missile Enhanced Mastery"},36,null,null,0,{"$f":"Base!U47","v":"N"},{"$f":"IF(AND(C58<>0,ISNUMBER(C58)),Base!V47*C58,IF(Base!V47=0,\"N\",\"Y\"))","v":"N"},{"$f":"Base!W47","v":"Missile Mastery"},null,null,null,null,null,0,false,false,{"$f":"AND(CharacterStatus = 0,Base!V47>0)","v":false},false,{"$f":"Base!X47","v":true},0,{"$f":"Base!Y47","v":false},{"$f":"Base!Z47","v":false},{"$f":"Base!AA47","v":false},null,{"$f":"Base!AB47","v":false},{"$f":"Base!AC47","v":false},{"$f":"Base!AD47","v":false},{"$f":"Base!AE47","v":false},{"$f":"Base!AF47","v":false},{"$f":"Base!AG47","v":false},{"$f":"Base!AH47","v":false},{"$f":"Base!AI47","v":false},{"$f":"Base!AJ47","v":false},{"$f":"Base!AK47","v":false},{"$f":"Base!AL47","v":false},{"$f":"Base!AM47","v":false},{"$f":"Base!AN47","v":false},{"$f":"Base!AO47","v":false},{"$f":"Base!AP47","v":false},{"$f":"Base!AQ47","v":false},{"$f":"Base!AR47","v":false},{"$f":"Base!AS47","v":false}]
[{"$f":"Base!B48","v":"Speed Dart"},10,null,null,0,{"$f":"Base!U48","v":1},{"$f":"IF(AND(C59<>0,ISNUMBER(C59)),Base!V48*C59,IF(Base!V48=0,\"N\",\"Y\"))","v":"N"},{"$f":"Base!W48","v":"Level 1 Spell Slot"},null,null,null,null,null,0,false,false,{"$f":"AND(CharacterStatus = 0,Base!V48>0)","v":false},false,{"$f":"Base!X48","v":true},0,{"$f":"Base!Y48","v":false},{"$f":"Base!Z48","v":false},{"$f":"Base!AA48","v":false},null,{"$f":"Base!AB48","v":false},{"$f":"Base!AC48","v":false},{"$f":"Base!AD48","v":false},{"$f":"Base!AE48","v":false},{"$f":"Base!AF48","v":false},{"$f":"Base!AG48","v":false},{"$f":"Base!AH48","v":false},{"$f":"Base!AI48","v":false},{"$f":"Base!AJ48","v":false},{"$f":"Base!AK48","v":false},{"$f":"Base!AL48","v":false},{"$f":"Base!AM48","v":false},{"$f":"Base!AN48","v":false},{"$f":"Base!AO48","v":false},{"$f":"Base!AP48","v":false},{"$f":"Base!AQ48","v":false},{"$f":"Base!AR48","v":false},{"$f":"Base!AS48","v":false}]
[{"$f":"Base!B49","v":"Strength Attuned Bow"},0,null,null,0,{"$f":"Base!U49","v":1},{"$f":"IF(AND(C60<>0,ISNUMBER(C60)),Base!V49*C60,IF(Base!V49=0,\"N\",\"Y\"))","v":"Y"},{"$f":"Base!W49","v":"None"},null,null,null,null,null,0,false,false,{"$f":"AND(CharacterStatus = 0,Base!V49>0)","v":true},false,{"$f":"Base!X49","v":false},0,{"$f":"Base!Y49","v":false},{"$f":"Base!Z49","v":false},{"$f":"Base!AA49","v":false},null,{"$f":"Base!AB49","v":false},{"$f":"Base!AC49","v":false},{"$f":"Base!AD49","v":false},{"$f":"Base!AE49","v":false},{"$f":"Base!AF49","v":false},{"$f":"Base!AG49","v":false},{"$f":"Base!AH49","v":false},{"$f":"Base!AI49","v":false},{"$f":"Base!AJ49","v":false},{"$f":"Base!AK49","v":false},{"$f":"Base!AL49","v":false},{"$f":"Base!AM49","v":false},{"$f":"Base!AN49","v":false},{"$f":"Base!AO49","v":false},{"$f":"Base!AP49","v":false},{"$f":"Base!AQ49","v":false},{"$f":"Base!AR49","v":false},{"$f":"Base!AS49","v":false}]
[{"$f":"Base!B50","v":"Nerve Strike Shot"},20,null,null,0,{"$f":"Base!U50","v":1},{"$f":"IF(AND(C61<>0,ISNUMBER(C61)),Base!V50*C61,IF(Base!V50=0,\"N\",\"Y\"))","v":"Y"},{"$f":"Base!W50","v":"Marksman"},null,null,null,null,null,0,false,false,{"$f":"AND(CharacterStatus = 0,Base!V50>0)","v":true},false,{"$f":"Base!X50","v":true},0,{"$f":"Base!Y50","v":false},{"$f":"Base!Z50","v":false},{"$f":"Base!AA50","v":false},null,{"$f":"Base!AB50","v":false},{"$f":"Base!AC50","v":false},{"$f":"Base!AD50","v":false},{"$f":"Base!AE50","v":false},{"$f":"Base!AF50","v":false},{"$f":"Base!AG50","v":false},{"$f":"Base!AH50","v":false},{"$f":"Base!AI50","v":false},{"$f":"Base!AJ50","v":false},{"$f":"Base!AK50","v":false},{"$f":"Base!AL50","v":false},{"$f":"Base!AM50","v":false},{"$f":"Base!AN50","v":false},{"$f":"Base!AO50","v":false},{"$f":"Base!AP50","v":false},{"$f":"Base!AQ50","v":false},{"$f":"Base!AR50","v":false},{"$f":"Base!AS50","v":false}]
[{"$f":"Base!B51","v":"Nerve Strike Shot Mastery"},40,null,null,0,{"$f":"Base!U51","v":1},{"$f":"IF(AND(C62<>0,ISNUMBER(C62)),Base!V51*C62,IF(Base!V51=0,\"N\",\"Y\"))","v":"N"},{"$f":"Base!W51","v":"Nerve Strike Shot"},null,null,null,null,null,0,false,false,{"$f":"AND(CharacterStatus = 0,Base!V51>0)","v":false},false,{"$f":"Base!X51","v":true},0,{"$f":"Base!Y51","v":false},{"$f":"Base!Z51","v":false},{"$f":"Base!AA51","v":false},null,{"$f":"Base!AB51","v":false},{"$f":"Base!AC51","v":false},{"$f":"Base!AD51","v":false},{"$f":"Base!AE51","v":false},{"$f":"Base!AF51","v":false},{"$f":"Base!AG51","v":false},{"$f":"Base!AH51","v":false},{"$f":"Base!AI51","v":false},{"$f":"Base!AJ51","v":false},{"$f":"Base!AK51","v":false},{"$f":"Base!AL51","v":false},{"$f":"Base!AM51","v":false},{"$f":"Base!AN51","v":false},{"$f":"Base!AO51","v":false},{"$f":"Base!AP51","v":false},{"$f":"Base!AQ51","v":false},{"$f":"Base!AR51","v":false},{"$f":"Base!AS51","v":false}]
[{"$f":"Base!B52","v":"Nerve Strike Shot Enhanced Mastery"},60,null,null,0,{"$f":"Base!U52","v":1},{"$f":"IF(AND(C63<>0,ISNUMBER(C63)),Base!V52*C63,IF(Base!V52=0,\"N\",\"Y\"))","v":"N"},{"$f":"Base!W52","v":"Nerve Strike Shot Mastery, Missile Attunement"},null,null,null,null,null,0,false,false,{"$f":"AND(CharacterStatus = 0,Base!V52>0)","v":false},false,{"$f":"Base!X52","v":true},0,{"$f":"Base!Y52","v":false},{"$f":"Base!Z52","v":false},{"$f":"Base!AA52","v":false},null,{"$f":"Base!AB52","v":false},{"$f":"Base!AC52","v":false},{"$f":"Base!AD52","v":false},{"$f":"Base!AE52","v":false},{"$f":"Base!AF52","v":false},{"$f":"Base!AG52","v":false},{"$f":"Base!AH52","v":false},{"$f":"Base!AI52","v":false},{"$f":"Base!AJ52","v":false},{"$f":"Base!AK52","v":false},{"$f":"Base!AL52","v":false},{"$f":"Base!AM52","v":false},{"$f":"Base!AN52","v":false},{"$f":"Base!AO52","v":false},{"$f":"Base!AP52","v":false},{"$f":"Base!AQ52","v":false},{"$f":"Base!AR52","v":false},{"$f":"Base!AS52","v":false}]
[{"$f":"Base!B53","v":"Armoured Dexterity"},"R*30",null,null,{"$f":"C64*(C64+1)/2*RIGHT(B64,2)","v":0},{"$f":"Base!U53","v":8},{"$f":"IF(AND(C64<>0,ISNUMBER(C64)),Base!V53*C64,IF(Base!V53=0,\"N\",\"Y\"))","v":"N"},{"$f":"Base!W53","v":"None"},null,null,null,null,null,1,false,false,{"$f":"AND(CharacterStatus = 0,Base!V53>0)","v":false},false,{"$f":"Base!X53","v":false},1,{"$f":"Base!Y53","v":true},{"$f":"Base!Z53","v":false},{"$f":"Base!AA53","v":false},null,{"$f":"Base!AB53","v":false},{"$f":"Base!AC53","v":false},{"$f":"Base!AD53","v":false},{"$f":"Base!AE53","v":false},{"$f":"Base!AF53","v":false},{"$f":"Base!AG53","v":false},{"$f":"Base!AH53","v":false},{"$f":"Base!AI53","v":false},{"$f":"Base!AJ53","v":false},{"$f":"Base!AK53","v":false},{"$f":"Base!AL53","v":false},{"$f":"Base!AM53","v":false},{"$f":"Base!AN53","v":false},{"$f":"Base!AO53","v":false},{"$f":"Base!AP53","v":false},{"$f":"Base!AQ53","v":false},{"$f":"Base!AR53","v":false},{"$f":"Base!AS53","v":false}]
[{"$f":"Base!B54","v":"Unarmoured Dexterity"},"1+R*4",null,null,{"$f":"C65*(C65+1)/2*RIGHT(B65,1)+LEFT(B65,1)*C65","v":0},{"$f":"Base!U54","v":16},{"$f":"IF(AND(C65<>0,ISNUMBER(C65)),Base!V54*C65,IF(Base!V54=0,\"N\",\"Y\"))","v":"N"},{"$f":"Base!W54","v":"None"},null,null,null,null,null,1,false,false,{"$f":"AND(CharacterStatus = 0,Base!V54>0)","v":false},false,{"$f":"Base!X54","v":false},1,{"$f":"Base!Y54","v":true},{"$f":"Base!Z54","v":false},{"$f":"Base!AA54","v":false},null,{"$f":"Base!AB54","v":false},{"$f":"Base!AC54","v":false},{"$f":"Base!AD54","v":false},{"$f":"Base!AE54","v":false},{"$f":"Base!AF54","v":false},{"$f":"Base!AG54","v":false},{"$f":"Base!AH54","v":false},{"$f":"Base!AI54","v":false},{"$f":"Base!AJ54","v":false},{"$f":"Base!AK54","v":false},{"$f":"Base!AL54","v":false},{"$f":"Base!AM54","v":false},{"$f":"Base!AN54","v":false},{"$f":"Base!AO54","v":false},{"$f":"Base!AP54","v":false},{"$f":"Base!AQ54","v":false},{"$f":"Base!AR54","v":false},{"$f":"Base!AS54","v":false}]
[{"$f":"Base!B55","v":"Armour Proficiency"},18,null,null,{"$f":"C66*B66","v":0},{"$f":"Base!U55","v":1},{"$f":"IF(AND(C66<>0,ISNUMBER(C66)),Base!V55*C66,IF(Base!V55=0,\"N\",\"Y\"))","v":"N"},{"$f":"Base!W55","v":"None"},null,null,null,null,null,1,false,false,{"$f":"AND(CharacterStatus = 0,Base!V55>0)","v":false},false,{"$f":"Base!X55","v":false},1,{"$f":"Base!Y55","v":true},{"$f":"Base!Z55","v":false},{"$f":"Base!AA55","v":false},null,{"$f":"Base!AB55","v":false},{"$f":"Base!AC55","v":false},{"$f":"Base!AD55","v":false},{"$f":"Base!AE55","v":false},{"$f":"Base!AF55","v":false},{"$f":"Base!AG55","v":false},{"$f":"Base!AH55","v":false},{"$f":"Base!AI55","v":false},{"$f":"Base!AJ55","v":false},{"$f":"Base!AK55","v":false},{"$f":"Base!AL55","v":false},{"$f":"Base!AM55","v":false},{"$f":"Base!AN55","v":false},{"$f":"Base!AO55","v":false},{"$f":"Base!AP55","v":false},{"$f":"Base!AQ55","v":false},{"$f":"Base!AR55","v":false},{"$f":"Base!AS55","v":false}]
[{"$f":"Base!B56","v":"Armour Mastery"},36,null,null,{"$f":"C67*B67","v":0},{"$f":"Base!U56","v":1},{"$f":"IF(AND(C67<>0,ISNUMBER(C67)),Base!V56*C67,IF(Base!V56=0,\"N\",\"Y\"))","v":"N"},{"$f":"Base!W56","v":"Armour Proficiency"},null,null,null,null,null,0,false,false,{"$f":"AND(CharacterStatus = 0,Base!V56>0)","v":false},false,{"$f":"Base!X56","v":true},0,{"$f":"Base!Y56","v":false},{"$f":"Base!Z56","v":false},{"$f":"Base!AA56","v":false},null,{"$f":"Base!AB56","v":false},{"$f":"Base!AC56","v":false},{"$f":"Base!AD56","v":false},{"$f":"Base!AE56","v":false},{"$f":"Base!AF56","v":false},{"$f":"Base!AG56","v":false},{"$f":"Base!AH56","v":false},{"$f":"Base!AI56","v":false},{"$f":"Base!AJ56","v":false},{"$f":"Base!AK56","v":false},{"$f":"Base!AL56","v":false},{"$f":"Base!AM56","v":false},{"$f":"Base!AN56","v":false},{"$f":"Base!AO56","v":false},{"$f":"Base!AP56","v":false},{"$f":"Base!AQ56","v":false},{"$f":"Base!AR56","v":false},{"$f":"Base!AS56","v":false}]
[{"$f":"Base!B57","v":"Armour Enhanced Mastery"},54,null,null,0,{"$f":"Base!U57","v":1},{"$f":"IF(AND(C68<>0,ISNUMBER(C68)),Base!V57*C68,IF(Base!V57=0,\"N\",\"Y\"))","v":"N"},{"$f":"Base!W57","v":"Armour Mastery"},null,null,null,null,null,0,false,false,{"$f":"AND(CharacterStatus = 0,Base!V57>0)","v":false},false,{"$f":"Base!X57","v":true},0,{"$f":"Base!Y57","v":false},{"$f":"Base!Z57","v":false},{"$f":"Base!AA57","v":false},null,{"$f":"Base!AB57","v":false},{"$f":"Base!AC57","v":false},{"$f":"Base!AD57","v":false},{"$f":"Base!AE57","v":false},{"$f":"Base!AF57","v":false},{"$f":"Base!AG57","v":false},{"$f":"Base!AH57","v":false},{"$f":"Base!AI57","v":false},{"$f":"Base!AJ57","v":false},{"$f":"Base!AK57","v":false},{"$f":"Base!AL57","v":false},{"$f":"Base!AM57","v":false},{"$f":"Base!AN57","v":false},{"$f":"Base!AO57","v":false},{"$f":"Base!AP57","v":false},{"$f":"Base!AQ57","v":false},{"$f":"Base!AR57","v":false},{"$f":"Base!AS57","v":false}]
[{"$f":"Base!B58","v":"Armour Superior Mastery"},54,null,null,0,{"$f":"Base!U58","v":1},{"$f":"IF(AND(C69<>0,ISNUMBER(C69)),Base!V58*C69,IF(Base!V58=0,\"N\",\"Y\"))","v":"N"},{"$f":"Base!W58","v":"Armour Enhanced Mastery"},null,null,null,null,null,0,false,false,{"$f":"AND(CharacterStatus = 0,Base!V58>0)","v":false},false,{"$f":"Base!X58","v":true},0,{"$f":"Base!Y58","v":false},{"$f":"Base!Z58","v":false},{"$f":"Base!AA58","v":false},null,{"$f":"Base!AB58","v":false},{"$f":"Base!AC58","v":false},{"$f":"Base!AD58","v":false},{"$f":"Base!AE58","v":false},{"$f":"Base!AF58","v":false},{"$f":"Base!AG58","v":false},{"$f":"Base!AH58","v":false},{"$f":"Base!AI58","v":false},{"$f":"Base!AJ58","v":false},{"$f":"Base!AK58","v":false},{"$f":"Base!AL58","v":false},{"$f":"Base!AM58","v":false},{"$f":"Base!AN58","v":false},{"$f":"Base!AO58","v":false},{"$f":"Base!AP58","v":false},{"$f":"Base!AQ58","v":false},{"$f":"Base!AR58","v":false},{"$f":"Base!AS58","v":false}]
[{"$f":"Base!B59","v":"Armour Exceptional Mastery"},54,null,null,0,{"$f":"Base!U59","v":1},{"$f":"IF(AND(C70<>0,ISNUMBER(C70)),Base!V59*C70,IF(Base!V59=0,\"N\",\"Y\"))","v":"N"},{"$f":"Base!W59","v":"Armour Superior Mastery"},null,null,null,null,null,0,false,false,{"$f":"AND(CharacterStatus = 0,Base!V59>0)","v":false},false,{"$f":"Base!X59","v":true},0,{"$f":"Base!Y59","v":false},{"$f":"Base!Z59","v":false},{"$f":"Base!AA59","v":false},null,{"$f":"Base!AB59","v":false},{"$f":"Base!AC59","v":false},{"$f":"Base!AD59","v":false},{"$f":"Base!AE59","v":false},{"$f":"Base!AF59","v":false},{"$f":"Base!AG59","v":false},{"$f":"Base!AH59","v":false},{"$f":"Base!AI59","v":false},{"$f":"Base!AJ59","v":false},{"$f":"Base!AK59","v":false},{"$f":"Base!AL59","v":false},{"$f":"Base!AM59","v":false},{"$f":"Base!AN59","v":false},{"$f":"Base!AO59","v":false},{"$f":"Base!AP59","v":false},{"$f":"Base!AQ59","v":false},{"$f":"Base!AR59","v":false},{"$f":"Base!AS59","v":false}]
[{"$f":"Base!B60","v":"Armour Perfection"},54,null,null,0,{"$f":"Base!U60","v":1},{"$f":"IF(AND(C71<>0,ISNUMBER(C71)),Base!V60*C71,IF(Base!V60=0,\"N\",\"Y\"))","v":"Y"},{"$f":"Base!W60","v":"Armour Exceptional Mastery"},null,null,null,null,null,0,false,false,{"$f":"AND(CharacterStatus = 0,Base!V60>0)","v":true},false,{"$f":"Base!X60","v":true},0,{"$f":"Base!Y60","v":false},{"$f":"Base!Z60","v":false},{"$f":"Base!AA60","v":false},null,{"$f":"Base!AB60","v":false},{"$f":"Base!AC60","v":false},{"$f":"Base!AD60","v":false},{"$f":"Base!AE60","v":false},{"$f":"Base!AF60","v":false},{"$f":"Base!AG60","v":false},{"$f":"Base!AH60","v":false},{"$f":"Base!AI60","v":false},{"$f":"Base!AJ60","v":false},{"$f":"Base!AK60","v":false},{"$f":"Base!AL60","v":false},{"$f":"Base!AM60","v":false},{"$f":"Base!AN60","v":false},{"$f":"Base!AO60","v":false},{"$f":"Base!AP60","v":false},{"$f":"Base!AQ60","v":false},{"$f":"Base!AR60","v":false},{"$f":"Base!AS60","v":false}]
[{"$f":"Base!B61","v":"Shield Proficiency"},27,null,null,0,{"$f":"Base!U61","v":1},{"$f":"IF(AND(C72<>0,ISNUMBER(C72)),Base!V61*C72,IF(Base!V61=0,\"N\",\"Y\"))","v":"N"},{"$f":"Base!W61","v":"None"},null,null,null,null,null,0,false,false,{"$f":"AND(CharacterStatus = 0,Base!V61>0)","v":false},false,{"$f":"Base!X61","v":false},{"$f":"IF(OR(U72,AND(V72,CharacterRank>=W72),AND(Y72,CharacterRank>=Z72),AND(AA72,CharacterRank>=AB72),AND(AC72,CharacterRank>=AD72),AND(AE72,CharacterRank>=AF72),AND(AG72,CharacterRank>=AH72),AND(AI72,CharacterRank>=AJ72),AND(AK72,CharacterRank>=AL72),AND(AM72,CharacterRank>=AN72),AND(AO72,CharacterRank>=AP72)),1,0)","v":0},{"$f":"Base!Y61","v":false},{"$f":"Base!Z61","v":false},{"$f":"Base!AA61","v":false},null,{"$f":"Base!AB61","v":false},{"$f":"Base!AC61","v":false},{"$f":"Base!AD61","v":false},{"$f":"Base!AE61","v":false},{"$f":"Base!AF61","v":false},{"$f":"Base!AG61","v":false},{"$f":"Base!AH61","v":false},{"$f":"Base!AI61","v":false},{"$f":"Base!AJ61","v":false},{"$f":"Base!AK61","v":false},{"$f":"Base!AL61","v":false},{"$f":"Base!AM61","v":false},{"$f":"Base!AN61","v":false},{"$f":"Base!AO61","v":false},{"$f":"Base!AP61","v":false},{"$f":"Base!AQ61","v":false},{"$f":"Base!AR61","v":false},{"$f":"Base!AS61","v":false}]
[{"$f":"Base!B62","v":"Limit Raise Dexterity"},0,null,null,0,{"$f":"Base!U62","v":1},{"$f":"IF(AND(C73<>0,ISNUMBER(C73)),Base!V62*C73,IF(Base!V62=0,\"N\",\"Y\"))","v":"Y"},{"$f":"Base!W62","v":"16 points Unarmoured Dex or 8 Points Armoured Dex"},null,null,null,null,null,0,false,false,{"$f":"AND(CharacterStatus = 0,Base!V62>0)","v":true},false,{"$f":"Base!X62","v":true},0,{"$f":"Base!Y62","v":false},{"$f":"Base!Z62","v":false},{"$f":"Base!AA62","v":false},null,{"$f":"Base!AB62","v":false},{"$f":"Base!AC62","v":false},{"$f":"Base!AD62","v":false},{"$f":"Base!AE62","v":false},{"$f":"Base!AF62","v":false},{"$f":"Base!AG62","v":false},{"$f":"Base!AH62","v":false},{"$f":"Base!AI62","v":false},{"$f":"Base!AJ62","v":false},{"$f":"Base!AK62","v":false},{"$f":"Base!AL62","v":false},{"$f":"Base!AM62","v":false},{"$f":"Base!AN62","v":false},{"$f":"Base!AO62","v":false},{"$f":"Base!AP62","v":false},{"$f":"Base!AQ62","v":false},{"$f":"Base!AR62","v":false},{"$f":"Base!AS62","v":false}]
[{"$f":"Base!B63","v":"Limit Raise Mastery Dexterity"},0,null,null,0,{"$f":"Base!U63","v":1},{"$f":"IF(AND(C74<>0,ISNUMBER(C74)),Base!V63*C74,IF(Base!V63=0,\"N\",\"Y\"))","v":"Y"},{"$f":"Base!W63","v":"20 points Unarmoured Dex or 12 Points Armoured Dex"},null,null,null,null,null,0,false,false,{"$f":"AND(CharacterStatus = 0,Base!V63>0)","v":true},false,{"$f":"Base!X63","v":true},0,{"$f":"Base!Y63","v":false},{"$f":"Base!Z63","v":false},{"$f":"Base!AA63","v":false},null,{"$f":"Base!AB63","v":false},{"$f":"Base!AC63","v":false},{"$f":"Base!AD63","v":false},{"$f":"Base!AE63","v":false},{"$f":"Base!AF63","v":false},{"$f":"Base!AG63","v":false},{"$f":"Base!AH63","v":false},{"$f":"Base!AI63","v":false},{"$f":"Base!AJ63","v":false},{"$f":"Base!AK63","v":false},{"$f":"Base!AL63","v":false},{"$f":"Base!AM63","v":false},{"$f":"Base!AN63","v":false},{"$f":"Base!AO63","v":false},{"$f":"Base!AP63","v":false},{"$f":"Base!AQ63","v":false},{"$f":"Base!AR63","v":false},{"$f":"Base!AS63","v":false}]
[{"$f":"Base!B64","v":"Limit Raise Enhanced Mastery Dexterity"},0,null,null,0,{"$f":"Base!U64","v":1},{"$f":"IF(AND(C75<>0,ISNUMBER(C75)),Base!V64*C75,IF(Base!V64=0,\"N\",\"Y\"))","v":"Y"},{"$f":"Base!W64","v":"24 points Unarmoured Dex or 16 Points Armoured Dex"},null,null,null,null,null,0,false,false,{"$f":"AND(CharacterStatus = 0,Base!V64>0)","v":true},false,{"$f":"Base!X64","v":true},0,{"$f":"Base!Y64","v":false},{"$f":"Base!Z64","v":false},{"$f":"Base!AA64","v":false},null,{"$f":"Base!AB64","v":false},{"$f":"Base!AC64","v":false},{"$f":"Base!AD64","v":false},{"$f":"Base!AE64","v":false},{"$f":"Base!AF64","v":false},{"$f":"Base!AG64","v":false},{"$f":"Base!AH64","v":false},{"$f":"Base!AI64","v":false},{"$f":"Base!AJ64","v":false},{"$f":"Base!AK64","v":false},{"$f":"Base!AL64","v":false},{"$f":"Base!AM64","v":false},{"$f":"Base!AN64","v":false},{"$f":"Base!AO64","v":false},{"$f":"Base!AP64","v":false},{"$f":"Base!AQ64","v":false},{"$f":"Base!AR64","v":false},{"$f":"Base!AS64","v":false}]
[{"$f":"Base!B65","v":"Limit Raise Superior Mastery Dexterity"},0,null,null,0,{"$f":"Base!U65","v":1},{"$f":"IF(AND(C76<>0,ISNUMBER(C76)),Base!V65*C76,IF(Base!V65=0,\"N\",\"Y\"))","v":"Y"},{"$f":"Base!W65","v":"28 points Unarmoured Dex or 20 Points Armoured Dex"},null,null,null,null,null,0,false,false,{"$f":"AND(CharacterStatus = 0,Base!V65>0)","v":true},false,{"$f":"Base!X65","v":true},0,{"$f":"Base!Y65","v":false},{"$f":"Base!Z65","v":false},{"$f":"Base!AA65","v":false},null,{"$f":"Base!AB65","v":false},{"$f":"Base!AC65","v":false},{"$f":"Base!AD65","v":false},{"$f":"Base!AE65","v":false},{"$f":"Base!AF65","v":false},{"$f":"Base!AG65","v":false},{"$f":"Base!AH65","v":false},{"$f":"Base!AI65","v":false},{"$f":"Base!AJ65","v":false},{"$f":"Base!AK65","v":false},{"$f":"Base!AL65","v":false},{"$f":"Base!AM65","v":false},{"$f":"Base!AN65","v":false},{"$f":"Base!AO65","v":false},{"$f":"Base!AP65","v":false},{"$f":"Base!AQ65","v":false},{"$f":"Base!AR65","v":false},{"$f":"Base!AS65","v":false}]
[{"$f":"Base!B66","v":"Combat Awareness"},36,null,null,0,{"$f":"Base!U66","v":1},{"$f":"IF(AND(C77<>0,ISNUMBER(C77)),Base!V66*C77,IF(Base!V66=0,\"N\",\"Y\"))","v":"Y"},{"$f":"Base!W66","v":"4 points Dexterity (Armoured or Unarmoured)"},null,null,null,null,null,0,false,false,{"$f":"AND(CharacterStatus = 0,Base!V66>0)","v":true},false,{"$f":"Base!X66","v":true},0,{"$f":"Base!Y66","v":false},{"$f":"Base!Z66","v":false},{"$f":"Base!AA66","v":false},null,{"$f":"Base!AB66","v":false},{"$f":"Base!AC66","v":false},{"$f":"Base!AD66","v":false},{"$f":"Base!AE66","v":false},{"$f":"Base!AF66","v":false},{"$f":"Base!AG66","v":false},{"$f":"Base!AH66","v":false},{"$f":"Base!AI66","v":false},{"$f":"Base!AJ66","v":false},{"$f":"Base!AK66","v":false},{"$f":"Base!AL66","v":false},{"$f":"Base!AM66","v":false},{"$f":"Base!AN66","v":false},{"$f":"Base!AO66","v":false},{"$f":"Base!AP66","v":false},{"$f":"Base!AQ66","v":false},{"$f":"Base!AR66","v":false},{"$f":"Base!AS66","v":false}]
[{"$f":"Base!B67","v":"Combat Awareness Mastery"},72,null,null,0,{"$f":"Base!U67","v":1},{"$f":"IF(AND(C78<>0,ISNUMBER(C78)),Base!V67*C78,IF(Base!V67=0,\"N\",\"Y\"))","v":"Y"},{"$f":"Base!W67","v":"Combat Awareness and 8 points Dexterity (Armoured or Unarmoured)"},null,null,null,null,null,0,false,false,{"$f":"AND(CharacterStatus = 0,Base!V67>0)","v":true},false,{"$f":"Base!X67","v":true},0,{"$f":"Base!Y67","v":false},{"$f":"Base!Z67","v":false},{"$f":"Base!AA67","v":false},null,{"$f":"Base!AB67","v":false},{"$f":"Base!AC67","v":false},{"$f":"Base!AD67","v":false},{"$f":"Base!AE67","v":false},{"$f":"Base!AF67","v":false},{"$f":"Base!AG67","v":false},{"$f":"Base!AH67","v":false},{"$f":"Base!AI67","v":false},{"$f":"Base!AJ67","v":false},{"$f":"Base!AK67","v":false},{"$f":"Base!AL67","v":false},{"$f":"Base!AM67","v":false},{"$f":"Base!AN67","v":false},{"$f":"Base!AO67","v":false},{"$f":"Base!AP67","v":false},{"$f":"Base!AQ67","v":false},{"$f":"Base!AR67","v":false},{"$f":"Base!AS67","v":false}]
[{"$f":"Base!B68","v":"Combat Awareness Enhanced Mastery"},108,null,null,0,{"$f":"Base!U68","v":1},{"$f":"IF(AND(C79<>0,ISNUMBER(C79)),Base!V68*C79,IF(Base!V68=0,\"N\",\"Y\"))","v":"Y"},{"$f":"Base!W68","v":"Combat Awareness Mastery and 12 points Dexterity (Armoured or Unarmoured)"},null,null,null,null,null,{"$f":"IF(OR(T79=1,NOT(C79=0),NOT(D79=0)),1,0)","v":0},{"$f":"NOT(OR(ISBLANK(C79),C79=0))","v":false},{"$f":"AND(F79<>\"N\",C79>F79)","v":false},{"$f":"AND(CharacterStatus = 0,Base!V68>0)","v":true},{"$f":"AND(CharacterStatus > 0,G79>0,G79<>\"N\")","v":false},{"$f":"Base!X68","v":true},0,{"$f":"Base!Y68","v":false},{"$f":"Base!Z68","v":false},{"$f":"Base!AA68","v":false},null,{"$f":"Base!AB68","v":false},{"$f":"Base!AC68","v":false},{"$f":"Base!AD68","v":false},{"$f":"Base!AE68","v":false},{"$f":"Base!AF68","v":false},{"$f":"Base!AG68","v":false},{"$f":"Base!AH68","v":false},{"$f":"Base!AI68","v":false},{"$f":"Base!AJ68","v":false},{"$f":"Base!AK68","v":false},{"$f":"Base!AL68","v":false},{"$f":"Base!AM68","v":false},{"$f":"Base!AN68","v":false},{"$f":"Base!AO68","v":false},{"$f":"Base!AP68","v":false},{"$f":"Base!AQ68","v":false},{"$f":"Base!AR68","v":false},{"$f":"Base!AS68","v":false}]
[{"$f":"Base!B69","v":"Combat Awareness Superior Mastery"},144,null,null,0,{"$f":"Base!U69","v":1},{"$f":"IF(AND(C80<>0,ISNUMBER(C80)),Base!V69*C80,IF(Base!V69=0,\"N\",\"Y\"))","v":"Y"},{"$f":"Base!W69","v":"Combat Awareness Enhanced Mastery and 16 points Dexterity (Armoured or Unarmoured)"},null,null,null,null,null,0,false,false,{"$f":"AND(CharacterStatus = 0,Base!V69>0)","v":true},false,{"$f":"Base!X69","v":true},0,{"$f":"Base!Y69","v":false},{"$f":"Base!Z69","v":false},{"$f":"Base!AA69","v":false},null,{"$f":"Base!AB69","v":false},{"$f":"Base!AC69","v":false},{"$f":"Base!AD69","v":false},{"$f":"Base!AE69","v":false},{"$f":"Base!AF69","v":false},{"$f":"Base!AG69","v":false},{"$f":"Base!AH69","v":false},{"$f":"Base!AI69","v":false},{"$f":"Base!AJ69","v":false},{"$f":"Base!AK69","v":false},{"$f":"Base!AL69","v":false},{"$f":"Base!AM69","v":false},{"$f":"Base!AN69","v":false},{"$f":"Base!AO69","v":false},{"$f":"Base!AP69","v":false},{"$f":"Base!AQ69","v":false},{"$f":"Base!AR69","v":false},{"$f":"Base!AS69","v":false}]
[{"$f":"Base!B70","v":"Combat Awareness Exceptional Mastery"},180,null,null,0,{"$f":"Base!U70","v":1},{"$f":"IF(AND(C81<>0,ISNUMBER(C81)),Base!V70*C81,IF(Base!V70=0,\"N\",\"Y\"))","v":"Y"},{"$f":"Base!W70","v":"Combat Awareness Superior Mastery and 20 points Dexterity (Armoured or Unarmoured)"},null,null,null,null,null,0,false,false,{"$f":"AND(CharacterStatus = 0,Base!V70>0)","v":true},false,{"$f":"Base!X70","v":true},0,{"$f":"Base!Y70","v":false},{"$f":"Base!Z70","v":false},{"$f":"Base!AA70","v":false},null,{"$f":"Base!AB70","v":false},{"$f":"Base!AC70","v":false},{"$f":"Base!AD70","v":false},{"$f":"Base!AE70","v":false},{"$f":"Base!AF70","v":false},{"$f":"Base!AG70","v":false},{"$f":"Base!AH70","v":false},{"$f":"Base!AI70","v":false},{"$f":"Base!AJ70","v":false},{"$f":"Base!AK70","v":false},{"$f":"Base!AL70","v":false},{"$f":"Base!AM70","v":false},{"$f":"Base!AN70","v":false},{"$f":"Base!AO70","v":false},{"$f":"Base!AP70","v":false},{"$f":"Base!AQ70","v":false},{"$f":"Base!AR70","v":false},{"$f":"Base!AS70","v":false}]
[{"$f":"Base!B71","v":"Additional Guild"},0,null,null,0,{"$f":"Base!U71","v":0},{"$f":"IF(AND(C82<>0,ISNUMBER(C82)),Base!V71*C82,IF(Base!V71=0,\"N\",\"Y\"))","v":"Y"},{"$f":"Base!W71","v":"None"},null,null,null,null,null,0,false,false,{"$f":"AND(CharacterStatus = 0,Base!V71>0)","v":true},false,{"$f":"Base!X71","v":false},0,{"$f":"Base!Y71","v":false},{"$f":"Base!Z71","v":true},{"$f":"Base!AA71","v":1},null,{"$f":"Base!AB71","v":false},{"$f":"Base!AC71","v":false},{"$f":"Base!AD71","v":false},{"$f":"Base!AE71","v":false},{"$f":"Base!AF71","v":false},{"$f":"Base!AG71","v":false},{"$f":"Base!AH71","v":false},{"$f":"Base!AI71","v":false},{"$f":"Base!AJ71","v":false},{"$f":"Base!AK71","v":false},{"$f":"Base!AL71","v":false},{"$f":"Base!AM71","v":false},{"$f":"Base!AN71","v":false},{"$f":"Base!AO71","v":false},{"$f":"Base!AP71","v":false},{"$f":"Base!AQ71","v":false},{"$f":"Base!AR71","v":false},{"$f":"Base!AS71","v":false}]
[{"$f":"Base!B72","v":"Additional Class"},0,null,null,0,{"$f":"Base!U72","v":1},{"$f":"IF(AND(C83<>0,ISNUMBER(C83)),Base!V72*C83,IF(Base!V72=0,\"N\",\"Y\"))","v":"Y"},{"$f":"Base!W72","v":"None"},null,null,null,null,null,0,false,false,{"$f":"AND(CharacterStatus = 0,Base!V72>0)","v":true},false,{"$f":"Base!X72","v":true},0,{"$f":"Base!Y72","v":false},{"$f":"Base!Z72","v":false},{"$f":"Base!AA72","v":false},null,{"$f":"Base!AB72","v":false},{"$f":"Base!AC72","v":false},{"$f":"Base!AD72","v":false},{"$f":"Base!AE72","v":false},{"$f":"Base!AF72","v":false},{"$f":"Base!AG72","v":false},{"$f":"Base!AH72","v":false},{"$f":"Base!AI72","v":false},{"$f":"Base!AJ72","v":false},{"$f":"Base!AK72","v":false},{"$f":"Base!AL72","v":false},{"$f":"Base!AM72","v":false},{"$f":"Base!AN72","v":false},{"$f":"Base!AO72","v":false},{"$f":"Base!AP72","v":false},{"$f":"Base!AQ72","v":false},{"$f":"Base!AR72","v":false},{"$f":"Base!AS72","v":false}]
[{"$f":"Base!B73","v":"Improved Empowering"},30,null,null,0,{"$f":"Base!U73","v":"N/A"},{"$f":"IF(AND(C84<>0,ISNUMBER(C84)),Base!V73*C84,IF(Base!V73=0,\"N\",\"Y\"))","v":"N"},{"$f":"Base!W73","v":"None"},null,null,null,null,null,0,false,false,{"$f":"AND(CharacterStatus = 0,Base!V73>0)","v":false},false,{"$f":"Base!X73","v":false},0,{"$f":"Base!Y73","v":false},{"$f":"Base!Z73","v":false},{"$f":"Base!AA73","v":false},null,{"$f":"Base!AB73","v":false},{"$f":"Base!AC73","v":false},{"$f":"Base!AD73","v":false},{"$f":"Base!AE73","v":false},{"$f":"Base!AF73","v":false},{"$f":"Base!AG73","v":false},{"$f":"Base!AH73","v":false},{"$f":"Base!AI73","v":false},{"$f":"Base!AJ73","v":false},{"$f":"Base!AK73","v":false},{"$f":"Base!AL73","v":false},{"$f":"Base!AM73","v":false},{"$f":"Base!AN73","v":false},{"$f":"Base!AO73","v":false},{"$f":"Base!AP73","v":false},{"$f":"Base!AQ73","v":false},{"$f":"Base!AR73","v":false},{"$f":"Base!AS73","v":false}]
[{"$f":"Base!B74","v":"Improved Ensorcelling"},30,null,null,0,{"$f":"Base!U74","v":"N/A"},{"$f":"IF(AND(C85<>0,ISNUMBER(C85)),Base!V74*C85,IF(Base!V74=0,\"N\",\"Y\"))","v":"N"},{"$f":"Base!W74","v":"None"},null,null,null,null,null,0,false,false,{"$f":"AND(CharacterStatus = 0,Base!V74>0)","v":false},false,{"$f":"Base!X74","v":false},0,{"$f":"Base!Y74","v":false},{"$f":"Base!Z74","v":false},{"$f":"Base!AA74","v":false},null,{"$f":"Base!AB74","v":false},{"$f":"Base!AC74","v":false},{"$f":"Base!AD74","v":false},{"$f":"Base!AE74","v":false},{"$f":"Base!AF74","v":false},{"$f":"Base!AG74","v":false},{"$f":"Base!AH74","v":false},{"$f":"Base!AI74","v":false},{"$f":"Base!AJ74","v":false},{"$f":"Base!AK74","v":false},{"$f":"Base!AL74","v":false},{"$f":"Base!AM74","v":false},{"$f":"Base!AN74","v":false},{"$f":"Base!AO74","v":false},{"$f":"Base!AP74","v":false},{"$f":"Base!AQ74","v":false},{"$f":"Base!AR74","v":false},{"$f":"Base!AS74","v":false}]
[{"$f":"Base!B75","v":"Increased Spirit Strength"},0,null,null,0,{"$f":"Base!U75","v":0},{"$f":"IF(AND(C86<>0,ISNUMBER(C86)),Base!V75*C86,IF(Base!V75=0,\"N\",\"Y\"))","v":"N"},{"$f":"Base!W75","v":"Every multiple of 1000 points"},null,null,null,null,null,0,false,false,{"$f":"AND(CharacterStatus = 0,Base!V75>0)","v":false},false,{"$f":"Base!X75","v":true},0,{"$f":"Base!Y75","v":false},{"$f":"Base!Z75","v":false},{"$f":"Base!AA75","v":false},null,{"$f":"Base!AB75","v":false},{"$f":"Base!AC75","v":false},{"$f":"Base!AD75","v":false},{"$f":"Base!AE75","v":false},{"$f":"Base!AF75","v":false},{"$f":"Base!AG75","v":false},{"$f":"Base!AH75","v":false},{"$f":"Base!AI75","v":false},{"$f":"Base!AJ75","v":false},{"$f":"Base!AK75","v":false},{"$f":"Base!AL75","v":false},{"$f":"Base!AM75","v":false},{"$f":"Base!AN75","v":false},{"$f":"Base!AO75","v":false},{"$f":"Base!AP75","v":false},{"$f":"Base!AQ75","v":false},{"$f":"Base!AR75","v":false},{"$f":"Base!AS75","v":false}]
[{"$f":"Base!B76","v":"Read / Write runes"},2,null,null,0,{"$f":"Base!U76","v":"N/A"},{"$f":"IF(AND(C87<>0,ISNUMBER(C87)),Base!V76*C87,IF(Base!V76=0,\"N\",\"Y\"))","v":"N"},{"$f":"Base!W76","v":"None"},null,null,null,null,null,1,false,false,{"$f":"AND(CharacterStatus = 0,Base!V76>0)","v":false},false,{"$f":"Base!X76","v":false},1,{"$f":"Base!Y76","v":true},{"$f":"Base!Z76","v":false},{"$f":"Base!AA76","v":false},null,{"$f":"Base!AB76","v":false},{"$f":"Base!AC76","v":false},{"$f":"Base!AD76","v":false},{"$f":"Base!AE76","v":false},{"$f":"Base!AF76","v":false},{"$f":"Base!AG76","v":false},{"$f":"Base!AH76","v":false},{"$f":"Base!AI76","v":false},{"$f":"Base!AJ76","v":false},{"$f":"Base!AK76","v":false},{"$f":"Base!AL76","v":false},{"$f":"Base!AM76","v":false},{"$f":"Base!AN76","v":false},{"$f":"Base!AO76","v":false},{"$f":"Base!AP76","v":false},{"$f":"Base!AQ76","v":false},{"$f":"Base!AR76","v":false},{"$f":"Base!AS76","v":false}]
[{"$f":"Base!B77","v":"Sworn to the King"},0,null,null,0,{"$f":"Base!U77","v":1},{"$f":"IF(AND(C88<>0,ISNUMBER(C88)),Base!V77*C88,IF(Base!V77=0,\"N\",\"Y\"))","v":"N"},{"$f":"Base!W77","v":"Must be performed in character"},null,null,null,null,null,1,false,false,{"$f":"AND(CharacterStatus = 0,Base!V77>0)","v":false},false,{"$f":"Base!X77","v":false},1,{"$f":"Base!Y77","v":true},{"$f":"Base!Z77","v":false},{"$f":"Base!AA77","v":false},null,{"$f":"Base!AB77","v":false},{"$f":"Base!AC77","v":false},{"$f":"Base!AD77","v":false},{"$f":"Base!AE77","v":false},{"$f":"Base!AF77","v":false},{"$f":"Base!AG77","v":false},{"$f":"Base!AH77","v":false},{"$f":"Base!AI77","v":false},{"$f":"Base!AJ77","v":false},{"$f":"Base!AK77","v":false},{"$f":"Base!AL77","v":false},{"$f":"Base!AM77","v":false},{"$f":"Base!AN77","v":false},{"$f":"Base!AO77","v":false},{"$f":"Base!AP77","v":false},{"$f":"Base!AQ77","v":false},{"$f":"Base!AR77","v":false},{"$f":"Base!AS77","v":false}]
[{"$f":"Base!B78","v":"Buy Ki"},3,null,null,0,{"$f":"Base!U78","v":200},{"$f":"IF(AND(C89<>0,ISNUMBER(C89)),Base!V78*C89,IF(Base!V78=0,\"N\",\"Y\"))","v":"N"},{"$f":"Base!W78","v":"None"},null,null,null,null,null,0,false,false,{"$f":"AND(CharacterStatus = 0,Base!V78>0)","v":false},false,{"$f":"Base!X78","v":false},0,{"$f":"Base!Y78","v":false},{"$f":"Base!Z78","v":false},{"$f":"Base!AA78","v":false},null,{"$f":"Base!AB78","v":false},{"$f":"Base!AC78","v":false},{"$f":"Base!AD78","v":false},{"$f":"Base!AE78","v":false},{"$f":"Base!AF78","v":false},{"$f":"Base!AG78","v":false},{"$f":"Base!AH78","v":false},{"$f":"Base!AI78","v":false},{"$f":"Base!AJ78","v":false},{"$f":"Base!AK78","v":false},{"$f":"Base!AL78","v":false},{"$f":"Base!AM78","v":false},{"$f":"Base!AN78","v":false},{"$f":"Base!AO78","v":false},{"$f":"Base!AP78","v":false},{"$f":"Base!AQ78","v":false},{"$f":"Base!AR78","v":false},{"$f":"Base!AS78","v":false}]
[{"$f":"Base!B79","v":"Focus Ki vs Magic"},20,null,null,0,{"$f":"Base!U79","v":1},{"$f":"IF(AND(C90<>0,ISNUMBER(C90)),Base!V79*C90,IF(Base!V79=0,\"N\",\"Y\"))","v":"Y"},{"$f":"Base!W79","v":"Buy Ki, Make Focus"},null,null,null,null,null,0,false,false,{"$f":"AND(CharacterStatus = 0,Base!V79>0)","v":true},false,{"$f":"Base!X79","v":true},0,{"$f":"Base!Y79","v":false},{"$f":"Base!Z79","v":false},{"$f":"Base!AA79","v":false},null,{"$f":"Base!AB79","v":false},{"$f":"Base!AC79","v":false},{"$f":"Base!AD79","v":false},{"$f":"Base!AE79","v":false},{"$f":"Base!AF79","v":false},{"$f":"Base!AG79","v":false},{"$f":"Base!AH79","v":false},{"$f":"Base!AI79","v":false},{"$f":"Base!AJ79","v":false},{"$f":"Base!AK79","v":false},{"$f":"Base!AL79","v":false},{"$f":"Base!AM79","v":false},{"$f":"Base!AN79","v":false},{"$f":"Base!AO79","v":false},{"$f":"Base!AP79","v":false},{"$f":"Base!AQ79","v":false},{"$f":"Base!AR79","v":false},{"$f":"Base!AS79","v":false}]
[{"$f":"Base!B80","v":"Focus Ki vs Power"},20,null,null,0,{"$f":"Base!U80","v":1},{"$f":"IF(AND(C91<>0,ISNUMBER(C91)),Base!V80*C91,IF(Base!V80=0,\"N\",\"Y\"))","v":"Y"},{"$f":"Base!W80","v":"Buy Ki, Make Talisman"},null,null,null,null,null,0,false,false,{"$f":"AND(CharacterStatus = 0,Base!V80>0)","v":true},false,{"$f":"Base!X80","v":true},0,{"$f":"Base!Y80","v":false},{"$f":"Base!Z80","v":false},{"$f":"Base!AA80","v":false},null,{"$f":"Base!AB80","v":false},{"$f":"Base!AC80","v":false},{"$f":"Base!AD80","v":false},{"$f":"Base!AE80","v":false},{"$f":"Base!AF80","v":false},{"$f":"Base!AG80","v":false},{"$f":"Base!AH80","v":false},{"$f":"Base!AI80","v":false},{"$f":"Base!AJ80","v":false},{"$f":"Base!AK80","v":false},{"$f":"Base!AL80","v":false},{"$f":"Base!AM80","v":false},{"$f":"Base!AN80","v":false},{"$f":"Base!AO80","v":false},{"$f":"Base!AP80","v":false},{"$f":"Base!AQ80","v":false},{"$f":"Base!AR80","v":false},{"$f":"Base!AS80","v":false}]
[{"$f":"Base!B81","v":"Forearm Parry"},"R*4",null,null,{"$f":"C92*(C92+1)/2*RIGHT(B92,1)","v":0},{"$f":"Base!U81","v":4},{"$f":"IF(AND(C92<>0,ISNUMBER(C92)),Base!V81*C92,IF(Base!V81=0,\"N\",\"Y\"))","v":"Y"},{"$f":"Base!W81","v":"Class Monk"},null,null,null,null,null,0,false,false,{"$f":"AND(CharacterStatus = 0,Base!V81>0)","v":true},false,{"$f":"Base!X81","v":true},0,{"$f":"Base!Y81","v":false},{"$f":"Base!Z81","v":false},{"$f":"Base!AA81","v":false},null,{"$f":"Base!AB81","v":false},{"$f":"Base!AC81","v":false},{"$f":"Base!AD81","v":false},{"$f":"Base!AE81","v":false},{"$f":"Base!AF81","v":false},{"$f":"Base!AG81","v":false},{"$f":"Base!AH81","v":false},{"$f":"Base!AI81","v":false},{"$f":"Base!AJ81","v":false},{"$f":"Base!AK81","v":false},{"$f":"Base!AL81","v":false},{"$f":"Base!AM81","v":false},{"$f":"Base!AN81","v":false},{"$f":"Base!AO81","v":false},{"$f":"Base!AP81","v":false},{"$f":"Base!AQ81","v":false},{"$f":"Base!AR81","v":false},{"$f":"Base!AS81","v":false}]
[{"$f":"Base!B82","v":"Forearm Parry Mastery"},0,null,null,{"$f":"C93*B93","v":0},{"$f":"Base!U82","v":1},{"$f":"IF(AND(C93<>0,ISNUMBER(C93)),Base!V82*C93,IF(Base!V82=0,\"N\",\"Y\"))","v":"N"},{"$f":"Base!W82","v":"Forearm Parry, Buy Ki"},null,null,null,null,null,0,false,false,{"$f":"AND(CharacterStatus = 0,Base!V82>0)","v":false},false,{"$f":"Base!X82","v":true},0,{"$f":"Base!Y82","v":false},{"$f":"Base!Z82","v":false},{"$f":"Base!AA82","v":false},null,{"$f":"Base!AB82","v":false},{"$f":"Base!AC82","v":false},{"$f":"Base!AD82","v":false},{"$f":"Base!AE82","v":false},{"$f":"Base!AF82","v":false},{"$f":"Base!AG82","v":false},{"$f":"Base!AH82","v":false},{"$f":"Base!AI82","v":false},{"$f":"Base!AJ82","v":false},{"$f":"Base!AK82","v":false},{"$f":"Base!AL82","v":false},{"$f":"Base!AM82","v":false},{"$f":"Base!AN82","v":false},{"$f":"Base!AO82","v":false},{"$f":"Base!AP82","v":false},{"$f":"Base!AQ82","v":false},{"$f":"Base!AR82","v":false},{"$f":"Base!AS82","v":false}]
[{"$f":"Base!B83","v":"Forearm Parry Enhanced Mastery"},{"$f":"INDEX(points, ROW()-13,  CharacterTable)","v":0},null,null,{"$f":"C94*B94","v":0},{"$f":"Base!U83","v":1},{"$f":"IF(AND(C94<>0,ISNUMBER(C94)),Base!V83*C94,IF(Base!V83=0,\"N\",\"Y\"))","v":"N"},{"$f":"Base!W83","v":"Forearm Parry Mastery, Strength"},null,null,null,null,null,0,false,false,{"$f":"AND(CharacterStatus = 0,Base!V83>0)","v":false},false,{"$f":"Base!X83","v":true},{"$f":"IF(OR(U94,AND(V94,CharacterRank>=W94),AND(Y94,CharacterRank>=Z94),AND(AA94,CharacterRank>=AB94),AND(AC94,CharacterRank>=AD94),AND(AE94,CharacterRank>=AF94),AND(AG94,CharacterRank>=AH94),AND(AI94,CharacterRank>=AJ94),AND(AK94,CharacterRank>=AL94),AND(AM94,CharacterRank>=AN94),AND(AO94,CharacterRank>=AP94)),1,0)","v":0},{"$f":"Base!Y83","v":false},{"$f":"Base!Z83","v":false},{"$f":"Base!AA83","v":false},null,{"$f":"Base!AB83","v":false},{"$f":"Base!AC83","v":false},{"$f":"Base!AD83","v":false},{"$f":"Base!AE83","v":false},{"$f":"Base!AF83","v":false},{"$f":"Base!AG83","v":false},{"$f":"Base!AH83","v":false},{"$f":"Base!AI83","v":false},{"$f":"Base!AJ83","v":false},{"$f":"Base!AK83","v":false},{"$f":"Base!AL83","v":false},{"$f":"Base!AM83","v":false},{"$f":"Base!AN83","v":false},{"$f":"Base!AO83","v":false},{"$f":"Base!AP83","v":false},{"$f":"Base!AQ83","v":false},{"$f":"Base!AR83","v":false},{"$f":"Base!AS83","v":false}]
[{"$f":"Base!B84","v":"Use Ki"},0,null,null,0,{"$f":"Base!U84","v":1},{"$f":"IF(AND(C95<>0,ISNUMBER(C95)),Base!V84*C95,IF(Base!V84=0,\"N\",\"Y\"))","v":"Y"},{"$f":"Base!W84","v":"Buy Ki"},null,null,null,null,null,0,false,false,{"$f":"AND(CharacterStatus = 0,Base!V84>0)","v":true},false,{"$f":"Base!X84","v":true},0,{"$f":"Base!Y84","v":false},{"$f":"Base!Z84","v":false},{"$f":"Base!AA84","v":false},null,{"$f":"Base!AB84","v":false},{"$f":"Base!AC84","v":false},{"$f":"Base!AD84","v":false},{"$f":"Base!AE84","v":false},{"$f":"Base!AF84","v":false},{"$f":"Base!AG84","v":false},{"$f":"Base!AH84","v":false},{"$f":"Base!AI84","v":false},{"$f":"Base!AJ84","v":false},{"$f":"Base!AK84","v":false},{"$f":"Base!AL84","v":false},{"$f":"Base!AM84","v":false},{"$f":"Base!AN84","v":false},{"$f":"Base!AO84","v":false},{"$f":"Base!AP84","v":false},{"$f":"Base!AQ84","v":false},{"$f":"Base!AR84","v":false},{"$f":"Base!AS84","v":false}]
[{"$f":"Base!B85","v":"Limit Raise - Ki"},0,null,null,0,{"$f":"Base!U85","v":1},{"$f":"IF(AND(C96<>0,ISNUMBER(C96)),Base!V85*C96,IF(Base!V85=0,\"N\",\"Y\"))","v":"Y"},{"$f":"Base!W85","v":"Buy Ki"},null,null,null,null,null,0,false,false,{"$f":"AND(CharacterStatus = 0,Base!V85>0)","v":true},false,{"$f":"Base!X85","v":true},0,{"$f":"Base!Y85","v":false},{"$f":"Base!Z85","v":false},{"$f":"Base!AA85","v":false},null,{"$f":"Base!AB85","v":false},{"$f":"Base!AC85","v":false},{"$f":"Base!AD85","v":false},{"$f":"Base!AE85","v":false},{"$f":"Base!AF85","v":false},{"$f":"Base!AG85","v":false},{"$f":"Base!AH85","v":false},{"$f":"Base!AI85","v":false},{"$f":"Base!AJ85","v":false},{"$f":"Base!AK85","v":false},{"$f":"Base!AL85","v":false},{"$f":"Base!AM85","v":false},{"$f":"Base!AN85","v":false},{"$f":"Base!AO85","v":false},{"$f":"Base!AP85","v":false},{"$f":"Base!AQ85","v":false},{"$f":"Base!AR85","v":false},{"$f":"Base!AS85","v":false}]
[{"$f":"Base!B86","v":"Limit Raise Mastery - Ki"},0,null,null,0,{"$f":"Base!U86","v":1},{"$f":"IF(AND(C97<>0,ISNUMBER(C97)),Base!V86*C97,IF(Base!V86=0,\"N\",\"Y\"))","v":"Y"},{"$f":"Base!W86","v":"Limit Raise - Ki"},null,null,null,null,null,0,false,false,{"$f":"AND(CharacterStatus = 0,Base!V86>0)","v":true},false,{"$f":"Base!X86","v":true},0,{"$f":"Base!Y86","v":false},{"$f":"Base!Z86","v":false},{"$f":"Base!AA86","v":false},null,{"$f":"Base!AB86","v":false},{"$f":"Base!AC86","v":false},{"$f":"Base!AD86","v":false},{"$f":"Base!AE86","v":false},{"$f":"Base!AF86","v":false},{"$f":"Base!AG86","v":false},{"$f":"Base!AH86","v":false},{"$f":"Base!AI86","v":false},{"$f":"Base!AJ86","v":false},{"$f":"Base!AK86","v":false},{"$f":"Base!AL86","v":false},{"$f":"Base!AM86","v":false},{"$f":"Base!AN86","v":false},{"$f":"Base!AO86","v":false},{"$f":"Base!AP86","v":false},{"$f":"Base!AQ86","v":false},{"$f":"Base!AR86","v":false},{"$f":"Base!AS86","v":false}]
[{"$f":"Base!B87","v":"Limit Raise Enhanced Mastery - Ki"},0,null,null,0,{"$f":"Base!U87","v":1},{"$f":"IF(AND(C98<>0,ISNUMBER(C98)),Base!V87*C98,IF(Base!V87=0,\"N\",\"Y\"))","v":"Y"},{"$f":"Base!W87","v":"Limit Raise Mastery - Ki"},null,null,null,null,null,0,false,false,{"$f":"AND(CharacterStatus = 0,Base!V87>0)","v":true},false,{"$f":"Base!X87","v":true},0,{"$f":"Base!Y87","v":false},{"$f":"Base!Z87","v":false},{"$f":"Base!AA87","v":false},null,{"$f":"Base!AB87","v":false},{"$f":"Base!AC87","v":false},{"$f":"Base!AD87","v":false},{"$f":"Base!AE87","v":false},{"$f":"Base!AF87","v":false},{"$f":"Base!AG87","v":false},{"$f":"Base!AH87","v":false},{"$f":"Base!AI87","v":false},{"$f":"Base!AJ87","v":false},{"$f":"Base!AK87","v":false},{"$f":"Base!AL87","v":false},{"$f":"Base!AM87","v":false},{"$f":"Base!AN87","v":false},{"$f":"Base!AO87","v":false},{"$f":"Base!AP87","v":false},{"$f":"Base!AQ87","v":false},{"$f":"Base!AR87","v":false},{"$f":"Base!AS87","v":false}]
[{"$f":"Base!B88","v":"Limit Raise Superior Mastery - Ki"},0,null,null,{"$f":"C99*B99","v":0},{"$f":"Base!U88","v":1},{"$f":"IF(AND(C99<>0,ISNUMBER(C99)),Base!V88*C99,IF(Base!V88=0,\"N\",\"Y\"))","v":"Y"},{"$f":"Base!W88","v":"Limit Raise Enhanced Mastery - Ki"},null,null,null,null,null,{"$f":"IF(OR(T99=1,NOT(C99=0),NOT(D99=0)),1,0)","v":0},{"$f":"NOT(OR(ISBLANK(C99),C99=0))","v":false},{"$f":"AND(F99<>\"N\",C99>F99)","v":false},{"$f":"AND(CharacterStatus = 0,Base!V88>0)","v":true},{"$f":"AND(CharacterStatus > 0,G99>0,G99<>\"N\")","v":false},{"$f":"Base!X88","v":true},{"$f":"IF(OR(U99,AND(V99,CharacterRank>=W99),AND(Y99,CharacterRank>=Z99),AND(AA99,CharacterRank>=AB99),AND(AC99,CharacterRank>=AD99),AND(AE99,CharacterRank>=AF99),AND(AG99,CharacterRank>=AH99),AND(AI99,CharacterRank>=AJ99),AND(AK99,CharacterRank>=AL99),AND(AM99,CharacterRank>=AN99),AND(AO99,CharacterRank>=AP99)),1,0)","v":0},{"$f":"Base!Y88","v":false},{"$f":"Base!Z88","v":false},{"$f":"Base!AA88","v":false},null,{"$f":"Base!AB88","v":false},{"$f":"Base!AC88","v":false},{"$f":"Base!AD88","v":false},{"$f":"Base!AE88","v":false},{"$f":"Base!AF88","v":false},{"$f":"Base!AG88","v":false},{"$f":"Base!AH88","v":false},{"$f":"Base!AI88","v":false},{"$f":"Base!AJ88","v":false},{"$f":"Base!AK88","v":false},{"$f":"Base!AL88","v":false},{"$f":"Base!AM88","v":false},{"$f":"Base!AN88","v":false},{"$f":"Base!AO88","v":false},{"$f":"Base!AP88","v":false},{"$f":"Base!AQ88","v":false},{"$f":"Base!AR88","v":false},{"$f":"Base!AS88","v":false}]
[{"$f":"Base!B89","v":"Meditate Ki"},20,null,null,0,{"$f":"Base!U89","v":1},{"$f":"IF(AND(C100<>0,ISNUMBER(C100)),Base!V89*C100,IF(Base!V89=0,\"N\",\"Y\"))","v":"N"},{"$f":"Base!W89","v":"Buy Ki"},null,null,null,null,null,0,false,false,{"$f":"AND(CharacterStatus = 0,Base!V89>0)","v":false},false,{"$f":"Base!X89","v":true},0,{"$f":"Base!Y89","v":false},{"$f":"Base!Z89","v":false},{"$f":"Base!AA89","v":false},null,{"$f":"Base!AB89","v":false},{"$f":"Base!AC89","v":false},{"$f":"Base!AD89","v":false},{"$f":"Base!AE89","v":false},{"$f":"Base!AF89","v":false},{"$f":"Base!AG89","v":false},{"$f":"Base!AH89","v":false},{"$f":"Base!AI89","v":false},{"$f":"Base!AJ89","v":false},{"$f":"Base!AK89","v":false},{"$f":"Base!AL89","v":false},{"$f":"Base!AM89","v":false},{"$f":"Base!AN89","v":false},{"$f":"Base!AO89","v":false},{"$f":"Base!AP89","v":false},{"$f":"Base!AQ89","v":false},{"$f":"Base!AR89","v":false},{"$f":"Base!AS89","v":false}]
[{"$f":"Base!B90","v":"Meditate Ki Mastery"},20,null,null,0,{"$f":"Base!U90","v":1},{"$f":"IF(AND(C101<>0,ISNUMBER(C101)),Base!V90*C101,IF(Base!V90=0,\"N\",\"Y\"))","v":"N"},{"$f":"Base!W90","v":"Meditate Ki"},null,null,null,null,null,0,false,false,{"$f":"AND(CharacterStatus = 0,Base!V90>0)","v":false},false,{"$f":"Base!X90","v":true},0,{"$f":"Base!Y90","v":false},{"$f":"Base!Z90","v":false},{"$f":"Base!AA90","v":false},null,{"$f":"Base!AB90","v":false},{"$f":"Base!AC90","v":false},{"$f":"Base!AD90","v":false},{"$f":"Base!AE90","v":false},{"$f":"Base!AF90","v":false},{"$f":"Base!AG90","v":false},{"$f":"Base!AH90","v":false},{"$f":"Base!AI90","v":false},{"$f":"Base!AJ90","v":false},{"$f":"Base!AK90","v":false},{"$f":"Base!AL90","v":false},{"$f":"Base!AM90","v":false},{"$f":"Base!AN90","v":false},{"$f":"Base!AO90","v":false},{"$f":"Base!AP90","v":false},{"$f":"Base!AQ90","v":false},{"$f":"Base!AR90","v":false},{"$f":"Base!AS90","v":false}]
[{"$f":"Base!B91","v":"Meditate Ki Enhanced Mastery"},20,null,null,0,{"$f":"Base!U91","v":1},{"$f":"IF(AND(C102<>0,ISNUMBER(C102)),Base!V91*C102,IF(Base!V91=0,\"N\",\"Y\"))","v":"N"},{"$f":"Base!W91","v":"Meditate Ki Mastery"},null,null,null,null,null,0,false,false,{"$f":"AND(CharacterStatus = 0,Base!V91>0)","v":false},false,{"$f":"Base!X91","v":true},{"$f":"IF(OR(U102,AND(V102,CharacterRank>=W102),AND(Y102,CharacterRank>=Z102),AND(AA102,CharacterRank>=AB102),AND(AC102,CharacterRank>=AD102),AND(AE102,CharacterRank>=AF102),AND(AG102,CharacterRank>=AH102),AND(AI102,CharacterRank>=AJ102),AND(AK102,CharacterRank>=AL102),AND(AM102,CharacterRank>=AN102),AND(AO102,CharacterRank>=AP102)),1,0)","v":0},{"$f":"Base!Y91","v":false},{"$f":"Base!Z91","v":false},{"$f":"Base!AA91","v":false},null,{"$f":"Base!AB91","v":false},{"$f":"Base!AC91","v":false},{"$f":"Base!AD91","v":false},{"$f":"Base!AE91","v":false},{"$f":"Base!AF91","v":false},{"$f":"Base!AG91","v":false},{"$f":"Base!AH91","v":false},{"$f":"Base!AI91","v":false},{"$f":"Base!AJ91","v":false},{"$f":"Base!AK91","v":false},{"$f":"Base!AL91","v":false},{"$f":"Base!AM91","v":false},{"$f":"Base!AN91","v":false},{"$f":"Base!AO91","v":false},{"$f":"Base!AP91","v":false},{"$f":"Base!AQ91","v":false},{"$f":"Base!AR91","v":false},{"$f":"Base!AS91","v":false}]
[{"$f":"Base!B92","v":"Meditate Ki Superior Mastery"},20,null,null,0,{"$f":"Base!U92","v":1},{"$f":"IF(AND(C103<>0,ISNUMBER(C103)),Base!V92*C103,IF(Base!V92=0,\"N\",\"Y\"))","v":"Y"},{"$f":"Base!W92","v":"Meditate Ki Enhanced Mastery"},null,null,null,null,null,0,false,false,{"$f":"AND(CharacterStatus = 0,Base!V92>0)","v":true},false,{"$f":"Base!X92","v":true},0,{"$f":"Base!Y92","v":false},{"$f":"Base!Z92","v":false},{"$f":"Base!AA92","v":false},null,{"$f":"Base!AB92","v":false},{"$f":"Base!AC92","v":false},{"$f":"Base!AD92","v":false},{"$f":"Base!AE92","v":false},{"$f":"Base!AF92","v":false},{"$f":"Base!AG92","v":false},{"$f":"Base!AH92","v":false},{"$f":"Base!AI92","v":false},{"$f":"Base!AJ92","v":false},{"$f":"Base!AK92","v":false},{"$f":"Base!AL92","v":false},{"$f":"Base!AM92","v":false},{"$f":"Base!AN92","v":false},{"$f":"Base!AO92","v":false},{"$f":"Base!AP92","v":false},{"$f":"Base!AQ92","v":false},{"$f":"Base!AR92","v":false},{"$f":"Base!AS92","v":false}]
[{"$f":"Base!B93","v":"Ki Protection"},20,null,null,0,{"$f":"Base!U93","v":1},{"$f":"IF(AND(C104<>0,ISNUMBER(C104)),Base!V93*C104,IF(Base!V93=0,\"N\",\"Y\"))","v":"Y"},{"$f":"Base!W93","v":"Focus Ki vs Magic or Power"},null,null,null,null,null,0,false,false,{"$f":"AND(CharacterStatus = 0,Base!V93>0)","v":true},false,{"$f":"Base!X93","v":false},0,{"$f":"Base!Y93","v":false},{"$f":"Base!Z93","v":false},{"$f":"Base!AA93","v":false},null,{"$f":"Base!AB93","v":false},{"$f":"Base!AC93","v":false},{"$f":"Base!AD93","v":false},{"$f":"Base!AE93","v":false},{"$f":"Base!AF93","v":false},{"$f":"Base!AG93","v":false},{"$f":"Base!AH93","v":false},{"$f":"Base!AI93","v":false},{"$f":"Base!AJ93","v":false},{"$f":"Base!AK93","v":false},{"$f":"Base!AL93","v":false},{"$f":"Base!AM93","v":false},{"$f":"Base!AN93","v":false},{"$f":"Base!AO93","v":false},{"$f":"Base!AP93","v":false},{"$f":"Base!AQ93","v":false},{"$f":"Base!AR93","v":false},{"$f":"Base!AS93","v":false}]
[{"$f":"Base!B94","v":"Ki Protection Mastery"},20,null,null,0,{"$f":"Base!U94","v":1},{"$f":"IF(AND(C105<>0,ISNUMBER(C105)),Base!V94*C105,IF(Base!V94=0,\"N\",\"Y\"))","v":"Y"},{"$f":"Base!W94","v":"Ki Protection"},null,null,null,null,null,0,false,false,{"$f":"AND(CharacterStatus = 0,Base!V94>0)","v":true},false,{"$f":"Base!X94","v":true},0,{"$f":"Base!Y94","v":false},{"$f":"Base!Z94","v":false},{"$f":"Base!AA94","v":false},null,{"$f":"Base!AB94","v":false},{"$f":"Base!AC94","v":false},{"$f":"Base!AD94","v":false},{"$f":"Base!AE94","v":false},{"$f":"Base!AF94","v":false},{"$f":"Base!AG94","v":false},{"$f":"Base!AH94","v":false},{"$f":"Base!AI94","v":false},{"$f":"Base!AJ94","v":false},{"$f":"Base!AK94","v":false},{"$f":"Base!AL94","v":false},{"$f":"Base!AM94","v":false},{"$f":"Base!AN94","v":false},{"$f":"Base!AO94","v":false},{"$f":"Base!AP94","v":false},{"$f":"Base!AQ94","v":false},{"$f":"Base!AR94","v":false},{"$f":"Base!AS94","v":false}]
[{"$f":"Base!B95","v":"Ki Protection Enhanced Mastery"},20,null,null,{"$f":"C106*B106","v":0},{"$f":"Base!U95","v":1},{"$f":"IF(AND(C106<>0,ISNUMBER(C106)),Base!V95*C106,IF(Base!V95=0,\"N\",\"Y\"))","v":"Y"},{"$f":"Base!W95","v":"Ki Protection Mastery"},null,null,null,null,null,{"$f":"IF(OR(T106=1,NOT(C106=0),NOT(D106=0)),1,0)","v":0},{"$f":"NOT(OR(ISBLANK(C106),C106=0))","v":false},{"$f":"AND(F106<>\"N\",C106>F106)","v":false},{"$f":"AND(CharacterStatus = 0,Base!V95>0)","v":true},{"$f":"AND(CharacterStatus > 0,G106>0,G106<>\"N\")","v":false},{"$f":"Base!X95","v":true},{"$f":"IF(OR(U106,AND(V106,CharacterRank>=W106),AND(Y106,CharacterRank>=Z106),AND(AA106,CharacterRank>=AB106),AND(AC106,CharacterRank>=AD106),AND(AE106,CharacterRank>=AF106),AND(AG106,CharacterRank>=AH106),AND(AI106,CharacterRank>=AJ106),AND(AK106,CharacterRank>=AL106),AND(AM106,CharacterRank>=AN106),AND(AO106,CharacterRank>=AP106)),1,0)","v":0},{"$f":"Base!Y95","v":false},{"$f":"Base!Z95","v":false},{"$f":"Base!AA95","v":false},null,{"$f":"Base!AB95","v":false},{"$f":"Base!AC95","v":false},{"$f":"Base!AD95","v":false},{"$f":"Base!AE95","v":false},{"$f":"Base!AF95","v":false},{"$f":"Base!AG95","v":false},{"$f":"Base!AH95","v":false},{"$f":"Base!AI95","v":false},{"$f":"Base!AJ95","v":false},{"$f":"Base!AK95","v":false},{"$f":"Base!AL95","v":false},{"$f":"Base!AM95","v":false},{"$f":"Base!AN95","v":false},{"$f":"Base!AO95","v":false},{"$f":"Base!AP95","v":false},{"$f":"Base!AQ95","v":false},{"$f":"Base!AR95","v":false},{"$f":"Base!AS95","v":false}]
[{"$f":"Base!B96","v":"Ki Protection Superior Mastery"},20,null,null,0,{"$f":"Base!U96","v":1},{"$f":"IF(AND(C107<>0,ISNUMBER(C107)),Base!V96*C107,IF(Base!V96=0,\"N\",\"Y\"))","v":"Y"},{"$f":"Base!W96","v":"Ki Protection Enhanced Mastery"},null,null,null,null,null,0,false,false,{"$f":"AND(CharacterStatus = 0,Base!V96>0)","v":true},false,{"$f":"Base!X96","v":true},0,{"$f":"Base!Y96","v":false},{"$f":"Base!Z96","v":false},{"$f":"Base!AA96","v":false},null,{"$f":"Base!AB96","v":false},{"$f":"Base!AC96","v":false},{"$f":"Base!AD96","v":false},{"$f":"Base!AE96","v":false},{"$f":"Base!AF96","v":false},{"$f":"Base!AG96","v":false},{"$f":"Base!AH96","v":false},{"$f":"Base!AI96","v":false},{"$f":"Base!AJ96","v":false},{"$f":"Base!AK96","v":false},{"$f":"Base!AL96","v":false},{"$f":"Base!AM96","v":false},{"$f":"Base!AN96","v":false},{"$f":"Base!AO96","v":false},{"$f":"Base!AP96","v":false},{"$f":"Base!AQ96","v":false},{"$f":"Base!AR96","v":false},{"$f":"Base!AS96","v":false}]
[{"$f":"Base!B97","v":"Recognise Magic"},2,null,null,0,{"$f":"Base!U97","v":1},{"$f":"IF(AND(C108<>0,ISNUMBER(C108)),Base!V97*C108,IF(Base!V97=0,\"N\",\"Y\"))","v":"N"},{"$f":"Base!W97","v":"None"},null,null,null,null,null,1,false,false,{"$f":"AND(CharacterStatus = 0,Base!V97>0)","v":false},false,{"$f":"Base!X97","v":false},1,{"$f":"Base!Y97","v":true},{"$f":"Base!Z97","v":false},{"$f":"Base!AA97","v":false},null,{"$f":"Base!AB97","v":false},{"$f":"Base!AC97","v":false},{"$f":"Base!AD97","v":false},{"$f":"Base!AE97","v":false},{"$f":"Base!AF97","v":false},{"$f":"Base!AG97","v":false},{"$f":"Base!AH97","v":false},{"$f":"Base!AI97","v":false},{"$f":"Base!AJ97","v":false},{"$f":"Base!AK97","v":false},{"$f":"Base!AL97","v":false},{"$f":"Base!AM97","v":false},{"$f":"Base!AN97","v":false},{"$f":"Base!AO97","v":false},{"$f":"Base!AP97","v":false},{"$f":"Base!AQ97","v":false},{"$f":"Base!AR97","v":false},{"$f":"Base!AS97","v":false}]
[{"$f":"Base!B98","v":"Buy Spell Slot level 1 (max 500 total mana)"},1,null,null,0,{"$f":"Base!U98","v":"N/A"},{"$f":"IF(AND(C109<>0,ISNUMBER(C109)),Base!V98*C109,IF(Base!V98=0,\"N\",\"Y\"))","v":"N"},{"$f":"Base!W98","v":"(includes free Elf Slots) - Total Mana cannot exceed 500"},null,null,null,null,null,1,false,false,{"$f":"AND(CharacterStatus = 0,Base!V98>0)","v":false},false,{"$f":"Base!X98","v":false},1,{"$f":"Base!Y98","v":true},{"$f":"Base!Z98","v":false},{"$f":"Base!AA98","v":false},null,{"$f":"Base!AB98","v":false},{"$f":"Base!AC98","v":false},{"$f":"Base!AD98","v":false},{"$f":"Base!AE98","v":false},{"$f":"Base!AF98","v":false},{"$f":"Base!AG98","v":false},{"$f":"Base!AH98","v":false},{"$f":"Base!AI98","v":false},{"$f":"Base!AJ98","v":false},{"$f":"Base!AK98","v":false},{"$f":"Base!AL98","v":false},{"$f":"Base!AM98","v":false},{"$f":"Base!AN98","v":false},{"$f":"Base!AO98","v":false},{"$f":"Base!AP98","v":false},{"$f":"Base!AQ98","v":false},{"$f":"Base!AR98","v":false},{"$f":"Base!AS98","v":false}]
[{"$f":"Base!B99","v":"Buy Spell Slot level 2 (max 500 total mana)"},2,null,null,0,{"$f":"Base!U99","v":"N/A"},{"$f":"IF(AND(C110<>0,ISNUMBER(C110)),Base!V99*C110,IF(Base!V99=0,\"N\",\"Y\"))","v":"N"},{"$f":"Base!W99","v":"Level 1 slot - Total Mana cannot exceed 500"},null,null,null,null,null,1,false,false,{"$f":"AND(CharacterStatus = 0,Base!V99>0)","v":false},false,{"$f":"Base!X99","v":true},1,{"$f":"Base!Y99","v":true},{"$f":"Base!Z99","v":false},{"$f":"Base!AA99","v":false},null,{"$f":"Base!AB99","v":false},{"$f":"Base!AC99","v":false},{"$f":"Base!AD99","v":false},{"$f":"Base!AE99","v":false},{"$f":"Base!AF99","v":false},{"$f":"Base!AG99","v":false},{"$f":"Base!AH99","v":false},{"$f":"Base!AI99","v":false},{"$f":"Base!AJ99","v":false},{"$f":"Base!AK99","v":false},{"$f":"Base!AL99","v":false},{"$f":"Base!AM99","v":false},{"$f":"Base!AN99","v":false},{"$f":"Base!AO99","v":false},{"$f":"Base!AP99","v":false},{"$f":"Base!AQ99","v":false},{"$f":"Base!AR99","v":false},{"$f":"Base!AS99","v":false}]
[{"$f":"Base!B100","v":"Buy Spell Slot level 3 (max 500 total mana)"},3,null,null,0,{"$f":"Base!U100","v":"N/A"},{"$f":"IF(AND(C111<>0,ISNUMBER(C111)),Base!V100*C111,IF(Base!V100=0,\"N\",\"Y\"))","v":"N"},{"$f":"Base!W100","v":"Level 2 slot - Total Mana cannot exceed 500"},null,null,null,null,null,1,false,false,{"$f":"AND(CharacterStatus = 0,Base!V100>0)","v":false},false,{"$f":"Base!X100","v":true},1,{"$f":"Base!Y100","v":true},{"$f":"Base!Z100","v":false},{"$f":"Base!AA100","v":false},null,{"$f":"Base!AB100","v":false},{"$f":"Base!AC100","v":false},{"$f":"Base!AD100","v":false},{"$f":"Base!AE100","v":false},{"$f":"Base!AF100","v":false},{"$f":"Base!AG100","v":false},{"$f":"Base!AH100","v":false},{"$f":"Base!AI100","v":false},{"$f":"Base!AJ100","v":false},{"$f":"Base!AK100","v":false},{"$f":"Base!AL100","v":false},{"$f":"Base!AM100","v":false},{"$f":"Base!AN100","v":false},{"$f":"Base!AO100","v":false},{"$f":"Base!AP100","v":false},{"$f":"Base!AQ100","v":false},{"$f":"Base!AR100","v":false},{"$f":"Base!AS100","v":false}]
[{"$f":"Base!B101","v":"Buy Spell Slot level 4 (max 500 total mana)"},4,null,null,0,{"$f":"Base!U101","v":"N/A"},{"$f":"IF(AND(C112<>0,ISNUMBER(C112)),Base!V101*C112,IF(Base!V101=0,\"N\",\"Y\"))","v":"N"},{"$f":"Base!W101","v":"Level 3 slot - Total Mana cannot exceed 500"},null,null,null,null,null,1,false,false,{"$f":"AND(CharacterStatus = 0,Base!V101>0)","v":false},false,{"$f":"Base!X101","v":true},1,{"$f":"Base!Y101","v":true},{"$f":"Base!Z101","v":false},{"$f":"Base!AA101","v":false},null,{"$f":"Base!AB101","v":false},{"$f":"Base!AC101","v":false},{"$f":"Base!AD101","v":false},{"$f":"Base!AE101","v":false},{"$f":"Base!AF101","v":false},{"$f":"Base!AG101","v":false},{"$f":"Base!AH101","v":false},{"$f":"Base!AI101","v":false},{"$f":"Base!AJ101","v":false},{"$f":"Base!AK101","v":false},{"$f":"Base!AL101","v":false},{"$f":"Base!AM101","v":false},{"$f":"Base!AN101","v":false},{"$f":"Base!AO101","v":false},{"$f":"Base!AP101","v":false},{"$f":"Base!AQ101","v":false},{"$f":"Base!AR101","v":false},{"$f":"Base!AS101","v":false}]
[{"$f":"Base!B102","v":"Buy Spell Slot level 5 (max 500 total mana)"},5,null,null,0,{"$f":"Base!U102","v":"N/A"},{"$f":"IF(AND(C113<>0,ISNUMBER(C113)),Base!V102*C113,IF(Base!V102=0,\"N\",\"Y\"))","v":"N"},{"$f":"Base!W102","v":"Level 4 slot - Total Mana cannot exceed 500"},null,null,null,null,null,1,false,false,{"$f":"AND(CharacterStatus = 0,Base!V102>0)","v":false},false,{"$f":"Base!X102","v":true},1,{"$f":"Base!Y102","v":true},{"$f":"Base!Z102","v":false},{"$f":"Base!AA102","v":false},null,{"$f":"Base!AB102","v":false},{"$f":"Base!AC102","v":false},{"$f":"Base!AD102","v":false},{"$f":"Base!AE102","v":false},{"$f":"Base!AF102","v":false},{"$f":"Base!AG102","v":false},{"$f":"Base!AH102","v":false},{"$f":"Base!AI102","v":false},{"$f":"Base!AJ102","v":false},{"$f":"Base!AK102","v":false},{"$f":"Base!AL102","v":false},{"$f":"Base!AM102","v":false},{"$f":"Base!AN102","v":false},{"$f":"Base!AO102","v":false},{"$f":"Base!AP102","v":false},{"$f":"Base!AQ102","v":false},{"$f":"Base!AR102","v":false},{"$f":"Base!AS102","v":false}]
[{"$f":"Base!B103","v":"Buy Spell Slot level 6 (max 500 total mana)"},6,null,null,0,{"$f":"Base!U103","v":"N"},{"$f":"IF(AND(C114<>0,ISNUMBER(C114)),Base!V103*C114,IF(Base!V103=0,\"N\",\"Y\"))","v":"N"},{"$f":"Base!W103","v":"Make Focus, Wizard in 1st Colour and Level 5 slot"},null,null,null,null,null,0,false,false,{"$f":"AND(CharacterStatus = 0,Base!V103>0)","v":false},false,{"$f":"Base!X103","v":true},0,{"$f":"Base!Y103","v":false},{"$f":"Base!Z103","v":false},{"$f":"Base!AA103","v":false},null,{"$f":"Base!AB103","v":false},{"$f":"Base!AC103","v":false},{"$f":"Base!AD103","v":false},{"$f":"Base!AE103","v":false},{"$f":"Base!AF103","v":false},{"$f":"Base!AG103","v":false},{"$f":"Base!AH103","v":false},{"$f":"Base!AI103","v":false},{"$f":"Base!AJ103","v":false},{"$f":"Base!AK103","v":false},{"$f":"Base!AL103","v":false},{"$f":"Base!AM103","v":false},{"$f":"Base!AN103","v":false},{"$f":"Base!AO103","v":false},{"$f":"Base!AP103","v":false},{"$f":"Base!AQ103","v":false},{"$f":"Base!AR103","v":false},{"$f":"Base!AS103","v":false}]
[{"$f":"Base!B104","v":"Buy Spell Slot level 7 (max 500 total mana)"},7,null,null,0,{"$f":"Base!U104","v":"N"},{"$f":"IF(AND(C115<>0,ISNUMBER(C115)),Base!V104*C115,IF(Base!V104=0,\"N\",\"Y\"))","v":"N"},{"$f":"Base!W104","v":"Make Focus, Wizard in 1st Colour and Level 6 slot"},null,null,null,null,null,0,false,false,{"$f":"AND(CharacterStatus = 0,Base!V104>0)","v":false},false,{"$f":"Base!X104","v":true},0,{"$f":"Base!Y104","v":false},{"$f":"Base!Z104","v":false},{"$f":"Base!AA104","v":false},null,{"$f":"Base!AB104","v":false},{"$f":"Base!AC104","v":false},{"$f":"Base!AD104","v":false},{"$f":"Base!AE104","v":false},{"$f":"Base!AF104","v":false},{"$f":"Base!AG104","v":false},{"$f":"Base!AH104","v":false},{"$f":"Base!AI104","v":false},{"$f":"Base!AJ104","v":false},{"$f":"Base!AK104","v":false},{"$f":"Base!AL104","v":false},{"$f":"Base!AM104","v":false},{"$f":"Base!AN104","v":false},{"$f":"Base!AO104","v":false},{"$f":"Base!AP104","v":false},{"$f":"Base!AQ104","v":false},{"$f":"Base!AR104","v":false},{"$f":"Base!AS104","v":false}]
[{"$f":"Base!B105","v":"Buy Spell Slot level 8 (max 500 total mana)"},8,null,null,0,{"$f":"Base!U105","v":"N"},{"$f":"IF(AND(C116<>0,ISNUMBER(C116)),Base!V105*C116,IF(Base!V105=0,\"N\",\"Y\"))","v":"N"},{"$f":"Base!W105","v":"Make Focus, Wizard in 1st Colour and Level 7 slot"},null,null,null,null,null,0,false,false,{"$f":"AND(CharacterStatus = 0,Base!V105>0)","v":false},false,{"$f":"Base!X105","v":true},0,{"$f":"Base!Y105","v":false},{"$f":"Base!Z105","v":false},{"$f":"Base!AA105","v":false},null,{"$f":"Base!AB105","v":false},{"$f":"Base!AC105","v":false},{"$f":"Base!AD105","v":false},{"$f":"Base!AE105","v":false},{"$f":"Base!AF105","v":false},{"$f":"Base!AG105","v":false},{"$f":"Base!AH105","v":false},{"$f":"Base!AI105","v":false},{"$f":"Base!AJ105","v":false},{"$f":"Base!AK105","v":false},{"$f":"Base!AL105","v":false},{"$f":"Base!AM105","v":false},{"$f":"Base!AN105","v":false},{"$f":"Base!AO105","v":false},{"$f":"Base!AP105","v":false},{"$f":"Base!AQ105","v":false},{"$f":"Base!AR105","v":false},{"$f":"Base!AS105","v":false}]
[{"$f":"Base!B106","v":"Buy Spell Slot level 9 (max 500 total mana)"},9,null,null,0,{"$f":"Base!U106","v":"N"},{"$f":"IF(AND(C117<>0,ISNUMBER(C117)),Base!V106*C117,IF(Base!V106=0,\"N\",\"Y\"))","v":"N"},{"$f":"Base!W106","v":"Cast Arcane in one Colour, Make Focus and Level 8 slot"},null,null,null,null,null,0,false,false,{"$f":"AND(CharacterStatus = 0,Base!V106>0)","v":false},false,{"$f":"Base!X106","v":true},0,{"$f":"Base!Y106","v":false},{"$f":"Base!Z106","v":false},{"$f":"Base!AA106","v":false},null,{"$f":"Base!AB106","v":false},{"$f":"Base!AC106","v":false},{"$f":"Base!AD106","v":false},{"$f":"Base!AE106","v":false},{"$f":"Base!AF106","v":false},{"$f":"Base!AG106","v":false},{"$f":"Base!AH106","v":false},{"$f":"Base!AI106","v":false},{"$f":"Base!AJ106","v":false},{"$f":"Base!AK106","v":false},{"$f":"Base!AL106","v":false},{"$f":"Base!AM106","v":false},{"$f":"Base!AN106","v":false},{"$f":"Base!AO106","v":false},{"$f":"Base!AP106","v":false},{"$f":"Base!AQ106","v":false},{"$f":"Base!AR106","v":false},{"$f":"Base!AS106","v":false}]
[{"$f":"Base!B107","v":"Buy Spell Slot level 10 (max 500 total mana)"},10,null,null,0,{"$f":"Base!U107","v":"N"},{"$f":"IF(AND(C118<>0,ISNUMBER(C118)),Base!V107*C118,IF(Base!V107=0,\"N\",\"Y\"))","v":"N"},{"$f":"Base!W107","v":"Cast Arcane in one Colour, Make Focus and Level 9 slot"},null,null,null,null,null,0,false,false,{"$f":"AND(CharacterStatus = 0,Base!V107>0)","v":false},false,{"$f":"Base!X107","v":true},0,{"$f":"Base!Y107","v":false},{"$f":"Base!Z107","v":false},{"$f":"Base!AA107","v":false},null,{"$f":"Base!AB107","v":false},{"$f":"Base!AC107","v":false},{"$f":"Base!AD107","v":false},{"$f":"Base!AE107","v":false},{"$f":"Base!AF107","v":false},{"$f":"Base!AG107","v":false},{"$f":"Base!AH107","v":false},{"$f":"Base!AI107","v":false},{"$f":"Base!AJ107","v":false},{"$f":"Base!AK107","v":false},{"$f":"Base!AL107","v":false},{"$f":"Base!AM107","v":false},{"$f":"Base!AN107","v":false},{"$f":"Base!AO107","v":false},{"$f":"Base!AP107","v":false},{"$f":"Base!AQ107","v":false},{"$f":"Base!AR107","v":false},{"$f":"Base!AS107","v":false}]
[{"$f":"Base!B108","v":"Cast two colours of Magic levels 1 - 5"},0,null,null,0,{"$f":"Base!U108","v":1},{"$f":"IF(AND(C119<>0,ISNUMBER(C119)),Base!V108*C119,IF(Base!V108=0,\"N\",\"Y\"))","v":"N"},{"$f":"Base!W108","v":"Level 1 slot"},null,null,null,null,null,1,false,false,{"$f":"AND(CharacterStatus = 0,Base!V108>0)","v":false},false,{"$f":"Base!X108","v":true},1,{"$f":"Base!Y108","v":true},{"$f":"Base!Z108","v":false},{"$f":"Base!AA108","v":false},null,{"$f":"Base!AB108","v":false},{"$f":"Base!AC108","v":false},{"$f":"Base!AD108","v":false},{"$f":"Base!AE108","v":false},{"$f":"Base!AF108","v":false},{"$f":"Base!AG108","v":false},{"$f":"Base!AH108","v":false},{"$f":"Base!AI108","v":false},{"$f":"Base!AJ108","v":false},{"$f":"Base!AK108","v":false},{"$f":"Base!AL108","v":false},{"$f":"Base!AM108","v":false},{"$f":"Base!AN108","v":false},{"$f":"Base!AO108","v":false},{"$f":"Base!AP108","v":false},{"$f":"Base!AQ108","v":false},{"$f":"Base!AR108","v":false},{"$f":"Base!AS108","v":false}]
[{"$f":"Base!B109","v":"Cast additional colour of Magic 3 &4 - levels 1 - 5"},10,null,null,0,{"$f":"Base!U109","v":2},{"$f":"IF(AND(C120<>0,ISNUMBER(C120)),Base!V109*C120,IF(Base!V109=0,\"N\",\"Y\"))","v":"N"},{"$f":"Base!W109","v":"Cast two colours of Magic levels 1 - 5"},null,null,null,null,null,0,false,false,{"$f":"AND(CharacterStatus = 0,Base!V109>0)","v":false},false,{"$f":"Base!X109","v":true},0,{"$f":"Base!Y109","v":false},{"$f":"Base!Z109","v":false},{"$f":"Base!AA109","v":false},null,{"$f":"Base!AB109","v":false},{"$f":"Base!AC109","v":false},{"$f":"Base!AD109","v":false},{"$f":"Base!AE109","v":false},{"$f":"Base!AF109","v":false},{"$f":"Base!AG109","v":false},{"$f":"Base!AH109","v":false},{"$f":"Base!AI109","v":false},{"$f":"Base!AJ109","v":false},{"$f":"Base!AK109","v":false},{"$f":"Base!AL109","v":false},{"$f":"Base!AM109","v":false},{"$f":"Base!AN109","v":false},{"$f":"Base!AO109","v":false},{"$f":"Base!AP109","v":false},{"$f":"Base!AQ109","v":false},{"$f":"Base!AR109","v":false},{"$f":"Base!AS109","v":false}]
[{"$f":"Base!B110","v":"Cast additional colour of Magic 5 & 6 -  levels 1 - 5"},40,null,null,0,{"$f":"Base!U110","v":2},{"$f":"IF(AND(C121<>0,ISNUMBER(C121)),Base!V110*C121,IF(Base!V110=0,\"N\",\"Y\"))","v":"N"},{"$f":"Base!W110","v":"Cast additional colour of Magic 3 &4 - levels 1 - 5  x2"},null,null,null,null,null,0,false,false,{"$f":"AND(CharacterStatus = 0,Base!V110>0)","v":false},false,{"$f":"Base!X110","v":true},0,{"$f":"Base!Y110","v":false},{"$f":"Base!Z110","v":false},{"$f":"Base!AA110","v":false},null,{"$f":"Base!AB110","v":false},{"$f":"Base!AC110","v":false},{"$f":"Base!AD110","v":false},{"$f":"Base!AE110","v":false},{"$f":"Base!AF110","v":false},{"$f":"Base!AG110","v":false},{"$f":"Base!AH110","v":false},{"$f":"Base!AI110","v":false},{"$f":"Base!AJ110","v":false},{"$f":"Base!AK110","v":false},{"$f":"Base!AL110","v":false},{"$f":"Base!AM110","v":false},{"$f":"Base!AN110","v":false},{"$f":"Base!AO110","v":false},{"$f":"Base!AP110","v":false},{"$f":"Base!AQ110","v":false},{"$f":"Base!AR110","v":false},{"$f":"Base!AS110","v":false}]
[{"$f":"Base!B111","v":"Cast 7th colour of Magic levels 1 - 5"},80,null,null,0,{"$f":"Base!U111","v":1},{"$f":"IF(AND(C122<>0,ISNUMBER(C122)),Base!V111*C122,IF(Base!V111=0,\"N\",\"Y\"))","v":"N"},{"$f":"Base!W111","v":"Cast additional colour of Magic 5 & 6 -  levels 1 - 5  x2"},null,null,null,null,null,0,false,false,{"$f":"AND(CharacterStatus = 0,Base!V111>0)","v":false},false,{"$f":"Base!X111","v":true},0,{"$f":"Base!Y111","v":false},{"$f":"Base!Z111","v":false},{"$f":"Base!AA111","v":false},null,{"$f":"Base!AB111","v":false},{"$f":"Base!AC111","v":false},{"$f":"Base!AD111","v":false},{"$f":"Base!AE111","v":false},{"$f":"Base!AF111","v":false},{"$f":"Base!AG111","v":false},{"$f":"Base!AH111","v":false},{"$f":"Base!AI111","v":false},{"$f":"Base!AJ111","v":false},{"$f":"Base!AK111","v":false},{"$f":"Base!AL111","v":false},{"$f":"Base!AM111","v":false},{"$f":"Base!AN111","v":false},{"$f":"Base!AO111","v":false},{"$f":"Base!AP111","v":false},{"$f":"Base!AQ111","v":false},{"$f":"Base!AR111","v":false},{"$f":"Base!AS111","v":false}]
[{"$f":"Base!B112","v":"Cast 8th colour of Magic levels 1 - 5"},80,null,null,0,{"$f":"Base!U112","v":1},{"$f":"IF(AND(C123<>0,ISNUMBER(C123)),Base!V112*C123,IF(Base!V112=0,\"N\",\"Y\"))","v":"N"},{"$f":"Base!W112","v":"Cast 7th colour of Magic levels 1 - 5"},null,null,null,null,null,0,false,false,{"$f":"AND(CharacterStatus = 0,Base!V112>0)","v":false},false,{"$f":"Base!X112","v":true},0,{"$f":"Base!Y112","v":false},{"$f":"Base!Z112","v":false},{"$f":"Base!AA112","v":false},null,{"$f":"Base!AB112","v":false},{"$f":"Base!AC112","v":false},{"$f":"Base!AD112","v":false},{"$f":"Base!AE112","v":false},{"$f":"Base!AF112","v":false},{"$f":"Base!AG112","v":false},{"$f":"Base!AH112","v":false},{"$f":"Base!AI112","v":false},{"$f":"Base!AJ112","v":false},{"$f":"Base!AK112","v":false},{"$f":"Base!AL112","v":false},{"$f":"Base!AM112","v":false},{"$f":"Base!AN112","v":false},{"$f":"Base!AO112","v":false},{"$f":"Base!AP112","v":false},{"$f":"Base!AQ112","v":false},{"$f":"Base!AR112","v":false},{"$f":"Base!AS112","v":false}]
[{"$f":"Base!B113","v":"Make Focus"},12,null,null,0,{"$f":"Base!U113","v":1},{"$f":"IF(AND(C124<>0,ISNUMBER(C124)),Base!V113*C124,IF(Base!V113=0,\"N\",\"Y\"))","v":"Y"},{"$f":"Base!W113","v":"None"},null,null,null,null,null,0,false,false,{"$f":"AND(CharacterStatus = 0,Base!V113>0)","v":true},false,{"$f":"Base!X113","v":false},0,{"$f":"Base!Y113","v":false},{"$f":"Base!Z113","v":false},{"$f":"Base!AA113","v":false},null,{"$f":"Base!AB113","v":false},{"$f":"Base!AC113","v":false},{"$f":"Base!AD113","v":false},{"$f":"Base!AE113","v":false},{"$f":"Base!AF113","v":false},{"$f":"Base!AG113","v":false},{"$f":"Base!AH113","v":false},{"$f":"Base!AI113","v":false},{"$f":"Base!AJ113","v":false},{"$f":"Base!AK113","v":false},{"$f":"Base!AL113","v":false},{"$f":"Base!AM113","v":false},{"$f":"Base!AN113","v":false},{"$f":"Base!AO113","v":false},{"$f":"Base!AP113","v":false},{"$f":"Base!AQ113","v":false},{"$f":"Base!AR113","v":false},{"$f":"Base!AS113","v":false}]
[{"$f":"Base!B114","v":"Cast Wizardry (6-8) in Black"},0,null,null,0,{"$f":"Base!U114","v":1},{"$f":"IF(AND(C125<>0,ISNUMBER(C125)),Base!V114*C125,IF(Base!V114=0,\"N\",\"Y\"))","v":"N"},{"$f":"Base!W114","v":"Make Focus"},null,null,null,null,null,0,false,false,{"$f":"AND(CharacterStatus = 0,Base!V114>0)","v":false},false,{"$f":"Base!X114","v":true},{"$f":"IF(AND(X125=TRUE, OR(U125,AND(V125,CharacterRank>=W125),AND(Y125,CharacterRank>=Z125),AND(AA125,CharacterRank>=AB125),AND(AC125,CharacterRank>=AD125),AND(AE125,CharacterRank>=AF125),AND(AG125,CharacterRank>=AH125),AND(AI125,CharacterRank>=AJ125),AND(AK125,CharacterRank>=AL125),AND(AM125,CharacterRank>=AN125),AND(AO125,CharacterRank>=AP125))),1,0)","v":0},{"$f":"Base!Y114","v":false},{"$f":"Base!Z114","v":false},{"$f":"Base!AA114","v":false},{"$f":"IF(OR(PrimaryGuildNumber=9, SecondaryGuildNumber=9,Secondary2GuildNumber=9,Secondary3GuildNumber=9,Secondary4GuildNumber=9,Secondary5GuildNumber=9,Secondary6GuildNumber=9,Secondary7GuildNumber=9, AdditionalClassSecondaryGuildNumber=9, JoATGuildNumber=9),TRUE,FALSE)","v":false},{"$f":"Base!AB114","v":false},{"$f":"Base!AC114","v":false},{"$f":"Base!AD114","v":false},{"$f":"Base!AE114","v":false},{"$f":"Base!AF114","v":false},{"$f":"Base!AG114","v":false},{"$f":"Base!AH114","v":false},{"$f":"Base!AI114","v":false},{"$f":"Base!AJ114","v":false},{"$f":"Base!AK114","v":false},{"$f":"Base!AL114","v":false},{"$f":"Base!AM114","v":false},{"$f":"Base!AN114","v":false},{"$f":"Base!AO114","v":false},{"$f":"Base!AP114","v":false},{"$f":"Base!AQ114","v":false},{"$f":"Base!AR114","v":false},{"$f":"Base!AS114","v":false}]
[{"$f":"Base!B115","v":"Cast Wizardry (6-8) in Blue"},0,null,null,0,{"$f":"Base!U115","v":1},{"$f":"IF(AND(C126<>0,ISNUMBER(C126)),Base!V115*C126,IF(Base!V115=0,\"N\",\"Y\"))","v":"N"},{"$f":"Base!W115","v":"Make Focus"},null,null,null,null,null,0,false,false,{"$f":"AND(CharacterStatus = 0,Base!V115>0)","v":false},false,{"$f":"Base!X115","v":true},{"$f":"IF(AND(X126=TRUE, OR(U126,AND(V126,CharacterRank>=W126),AND(Y126,CharacterRank>=Z126),AND(AA126,CharacterRank>=AB126),AND(AC126,CharacterRank>=AD126),AND(AE126,CharacterRank>=AF126),AND(AG126,CharacterRank>=AH126),AND(AI126,CharacterRank>=AJ126),AND(AK126,CharacterRank>=AL126),AND(AM126,CharacterRank>=AN126),AND(AO126,CharacterRank>=AP126))),1,0)","v":0},{"$f":"Base!Y115","v":false},{"$f":"Base!Z115","v":false},{"$f":"Base!AA115","v":false},{"$f":"IF(OR(PrimaryGuildNumber=10, SecondaryGuildNumber=10,Secondary2GuildNumber=10,Secondary3GuildNumber=10,Secondary4GuildNumber=10,Secondary5GuildNumber=10,Secondary6GuildNumber=10,Secondary7GuildNumber=10, AdditionalClassSecondaryGuildNumber=10, JoATGuildNumber=10),TRUE,FALSE)","v":false},{"$f":"Base!AB115","v":false},{"$f":"Base!AC115","v":false},{"$f":"Base!AD115","v":false},{"$f":"Base!AE115","v":false},{"$f":"Base!AF115","v":false},{"$f":"Base!AG115","v":false},{"$f":"Base!AH115","v":false},{"$f":"Base!AI115","v":false},{"$f":"Base!AJ115","v":false},{"$f":"Base!AK115","v":false},{"$f":"Base!AL115","v":false},{"$f":"Base!AM115","v":false},{"$f":"Base!AN115","v":false},{"$f":"Base!AO115","v":false},{"$f":"Base!AP115","v":false},{"$f":"Base!AQ115","v":false},{"$f":"Base!AR115","v":false},{"$f":"Base!AS115","v":false}]
[{"$f":"Base!B116","v":"Cast Wizardry (6-8) in Brown"},0,null,null,0,{"$f":"Base!U116","v":1},{"$f":"IF(AND(C127<>0,ISNUMBER(C127)),Base!V116*C127,IF(Base!V116=0,\"N\",\"Y\"))","v":"N"},{"$f":"Base!W116","v":"Make Focus"},null,null,null,null,null,0,false,false,{"$f":"AND(CharacterStatus = 0,Base!V116>0)","v":false},false,{"$f":"Base!X116","v":true},0,{"$f":"Base!Y116","v":false},{"$f":"Base!Z116","v":false},{"$f":"Base!AA116","v":false},{"$f":"IF(OR(PrimaryGuildNumber=11, SecondaryGuildNumber=11,Secondary2GuildNumber=11,Secondary3GuildNumber=11,Secondary4GuildNumber=11,Secondary5GuildNumber=11,Secondary6GuildNumber=11,Secondary7GuildNumber=11, AdditionalClassSecondaryGuildNumber=11, JoATGuildNumber=11),TRUE,FALSE)","v":false},{"$f":"Base!AB116","v":false},{"$f":"Base!AC116","v":false},{"$f":"Base!AD116","v":false},{"$f":"Base!AE116","v":false},{"$f":"Base!AF116","v":false},{"$f":"Base!AG116","v":false},{"$f":"Base!AH116","v":false},{"$f":"Base!AI116","v":false},{"$f":"Base!AJ116","v":false},{"$f":"Base!AK116","v":false},{"$f":"Base!AL116","v":false},{"$f":"Base!AM116","v":false},{"$f":"Base!AN116","v":false},{"$f":"Base!AO116","v":false},{"$f":"Base!AP116","v":false},{"$f":"Base!AQ116","v":false},{"$f":"Base!AR116","v":false},{"$f":"Base!AS116","v":false}]
[{"$f":"Base!B117","v":"Cast Wizardry (6-8) in Green"},0,null,null,0,{"$f":"Base!U117","v":1},{"$f":"IF(AND(C128<>0,ISNUMBER(C128)),Base!V117*C128,IF(Base!V117=0,\"N\",\"Y\"))","v":"N"},{"$f":"Base!W117","v":"Make Focus"},null,null,null,null,null,0,false,false,{"$f":"AND(CharacterStatus = 0,Base!V117>0)","v":false},false,{"$f":"Base!X117","v":true},0,{"$f":"Base!Y117","v":false},{"$f":"Base!Z117","v":false},{"$f":"Base!AA117","v":false},{"$f":"IF(OR(PrimaryGuildNumber=12, SecondaryGuildNumber=12,Secondary2GuildNumber=12,Secondary3GuildNumber=12,Secondary4GuildNumber=12,Secondary5GuildNumber=12,Secondary6GuildNumber=12,Secondary7GuildNumber=12, AdditionalClassSecondaryGuildNumber=12, JoATGuildNumber=12),TRUE,FALSE)","v":false},{"$f":"Base!AB117","v":false},{"$f":"Base!AC117","v":false},{"$f":"Base!AD117","v":false},{"$f":"Base!AE117","v":false},{"$f":"Base!AF117","v":false},{"$f":"Base!AG117","v":false},{"$f":"Base!AH117","v":false},{"$f":"Base!AI117","v":false},{"$f":"Base!AJ117","v":false},{"$f":"Base!AK117","v":false},{"$f":"Base!AL117","v":false},{"$f":"Base!AM117","v":false},{"$f":"Base!AN117","v":false},{"$f":"Base!AO117","v":false},{"$f":"Base!AP117","v":false},{"$f":"Base!AQ117","v":false},{"$f":"Base!AR117","v":false},{"$f":"Base!AS117","v":false}]
[{"$f":"Base!B118","v":"Cast Wizardry (6-8) in Grey"},0,null,null,0,{"$f":"Base!U118","v":1},{"$f":"IF(AND(C129<>0,ISNUMBER(C129)),Base!V118*C129,IF(Base!V118=0,\"N\",\"Y\"))","v":"N"},{"$f":"Base!W118","v":"Make Focus"},null,null,null,null,null,0,false,false,{"$f":"AND(CharacterStatus = 0,Base!V118>0)","v":false},false,{"$f":"Base!X118","v":true},0,{"$f":"Base!Y118","v":false},{"$f":"Base!Z118","v":false},{"$f":"Base!AA118","v":false},{"$f":"IF(OR(PrimaryGuildNumber=13, SecondaryGuildNumber=13,Secondary2GuildNumber=13,Secondary3GuildNumber=13,Secondary4GuildNumber=13,Secondary5GuildNumber=13,Secondary6GuildNumber=13,Secondary7GuildNumber=13,  AdditionalClassSecondaryGuildNumber=13, JoATGuildNumber=13),TRUE,FALSE)","v":false},{"$f":"Base!AB118","v":false},{"$f":"Base!AC118","v":false},{"$f":"Base!AD118","v":false},{"$f":"Base!AE118","v":false},{"$f":"Base!AF118","v":false},{"$f":"Base!AG118","v":false},{"$f":"Base!AH118","v":false},{"$f":"Base!AI118","v":false},{"$f":"Base!AJ118","v":false},{"$f":"Base!AK118","v":false},{"$f":"Base!AL118","v":false},{"$f":"Base!AM118","v":false},{"$f":"Base!AN118","v":false},{"$f":"Base!AO118","v":false},{"$f":"Base!AP118","v":false},{"$f":"Base!AQ118","v":false},{"$f":"Base!AR118","v":false},{"$f":"Base!AS118","v":false}]
[{"$f":"Base!B119","v":"Cast Wizardry (6-8) in Red"},0,null,null,0,{"$f":"Base!U119","v":1},{"$f":"IF(AND(C130<>0,ISNUMBER(C130)),Base!V119*C130,IF(Base!V119=0,\"N\",\"Y\"))","v":"N"},{"$f":"Base!W119","v":"Make Focus"},null,null,null,null,null,0,false,false,{"$f":"AND(CharacterStatus = 0,Base!V119>0)","v":false},false,{"$f":"Base!X119","v":true},0,{"$f":"Base!Y119","v":false},{"$f":"Base!Z119","v":false},{"$f":"Base!AA119","v":false},{"$f":"IF(OR(PrimaryGuildNumber=14, SecondaryGuildNumber=14,Secondary2GuildNumber=14,Secondary3GuildNumber=14,Secondary4GuildNumber=14,Secondary5GuildNumber=14,Secondary6GuildNumber=14,Secondary7GuildNumber=14, AdditionalClassSecondaryGuildNumber=14, JoATGuildNumber=14),TRUE,FALSE)","v":false},{"$f":"Base!AB119","v":false},{"$f":"Base!AC119","v":false},{"$f":"Base!AD119","v":false},{"$f":"Base!AE119","v":false},{"$f":"Base!AF119","v":false},{"$f":"Base!AG119","v":false},{"$f":"Base!AH119","v":false},{"$f":"Base!AI119","v":false},{"$f":"Base!AJ119","v":false},{"$f":"Base!AK119","v":false},{"$f":"Base!AL119","v":false},{"$f":"Base!AM119","v":false},{"$f":"Base!AN119","v":false},{"$f":"Base!AO119","v":false},{"$f":"Base!AP119","v":false},{"$f":"Base!AQ119","v":false},{"$f":"Base!AR119","v":false},{"$f":"Base!AS119","v":false}]
[{"$f":"Base!B120","v":"Cast Wizardry (6-8) in White"},0,null,null,0,{"$f":"Base!U120","v":1},{"$f":"IF(AND(C131<>0,ISNUMBER(C131)),Base!V120*C131,IF(Base!V120=0,\"N\",\"Y\"))","v":"N"},{"$f":"Base!W120","v":"Make Focus"},null,null,null,null,null,0,false,false,{"$f":"AND(CharacterStatus = 0,Base!V120>0)","v":false},false,{"$f":"Base!X120","v":true},0,{"$f":"Base!Y120","v":false},{"$f":"Base!Z120","v":false},{"$f":"Base!AA120","v":false},{"$f":"IF(OR(PrimaryGuildNumber=15, SecondaryGuildNumber=15,Secondary2GuildNumber=15,Secondary3GuildNumber=15,Secondary4GuildNumber=15,Secondary5GuildNumber=15,Secondary6GuildNumber=15,Secondary7GuildNumber=15,  AdditionalClassSecondaryGuildNumber=15, JoATGuildNumber=15),TRUE,FALSE)","v":false},{"$f":"Base!AB120","v":false},{"$f":"Base!AC120","v":false},{"$f":"Base!AD120","v":false},{"$f":"Base!AE120","v":false},{"$f":"Base!AF120","v":false},{"$f":"Base!AG120","v":false},{"$f":"Base!AH120","v":false},{"$f":"Base!AI120","v":false},{"$f":"Base!AJ120","v":false},{"$f":"Base!AK120","v":false},{"$f":"Base!AL120","v":false},{"$f":"Base!AM120","v":false},{"$f":"Base!AN120","v":false},{"$f":"Base!AO120","v":false},{"$f":"Base!AP120","v":false},{"$f":"Base!AQ120","v":false},{"$f":"Base!AR120","v":false},{"$f":"Base!AS120","v":false}]
[{"$f":"Base!B121","v":"Cast Wizardry (6-8) in Yellow"},0,null,null,0,{"$f":"Base!U121","v":1},{"$f":"IF(AND(C132<>0,ISNUMBER(C132)),Base!V121*C132,IF(Base!V121=0,\"N\",\"Y\"))","v":"N"},{"$f":"Base!W121","v":"Make Focus"},null,null,null,null,null,0,false,false,{"$f":"AND(CharacterStatus = 0,Base!V121>0)","v":false},false,{"$f":"Base!X121","v":true},0,{"$f":"Base!Y121","v":false},{"$f":"Base!Z121","v":false},{"$f":"Base!AA121","v":false},{"$f":"IF(OR(PrimaryGuildNumber=16, SecondaryGuildNumber=16,Secondary2GuildNumber=16,Secondary3GuildNumber=16,Secondary4GuildNumber=16,Secondary5GuildNumber=16,Secondary6GuildNumber=16,Secondary7GuildNumber=16,  AdditionalClassSecondaryGuildNumber=16, JoATGuildNumber=16),TRUE,FALSE)","v":false},{"$f":"Base!AB121","v":false},{"$f":"Base!AC121","v":false},{"$f":"Base!AD121","v":false},{"$f":"Base!AE121","v":false},{"$f":"Base!AF121","v":false},{"$f":"Base!AG121","v":false},{"$f":"Base!AH121","v":false},{"$f":"Base!AI121","v":false},{"$f":"Base!AJ121","v":false},{"$f":"Base!AK121","v":false},{"$f":"Base!AL121","v":false},{"$f":"Base!AM121","v":false},{"$f":"Base!AN121","v":false},{"$f":"Base!AO121","v":false},{"$f":"Base!AP121","v":false},{"$f":"Base!AQ121","v":false},{"$f":"Base!AR121","v":false},{"$f":"Base!AS121","v":false}]
[{"$f":"Base!B122","v":"Make Arcane Focus"},0,null,null,0,{"$f":"Base!U122","v":1},{"$f":"IF(AND(C133<>0,ISNUMBER(C133)),Base!V122*C133,IF(Base!V122=0,\"N\",\"Y\"))","v":"Y"},{"$f":"Base!W122","v":"Make Focus"},null,null,null,null,null,0,false,false,{"$f":"AND(CharacterStatus = 0,Base!V122>0)","v":true},false,{"$f":"Base!X122","v":true},{"$f":"IF(OR(U133,AND(V133,CharacterRank>=W133),AND(Y133,CharacterRank>=Z133),AND(AA133,CharacterRank>=AB133),AND(AC133,CharacterRank>=AD133),AND(AE133,CharacterRank>=AF133),AND(AG133,CharacterRank>=AH133),AND(AI133,CharacterRank>=AJ133),AND(AK133,CharacterRank>=AL133),AND(AM133,CharacterRank>=AN133),AND(AO133,CharacterRank>=AP133)),1,0)","v":0},{"$f":"Base!Y122","v":false},{"$f":"Base!Z122","v":false},{"$f":"Base!AA122","v":false},null,{"$f":"Base!AB122","v":false},{"$f":"Base!AC122","v":false},{"$f":"Base!AD122","v":false},{"$f":"Base!AE122","v":false},{"$f":"Base!AF122","v":false},{"$f":"Base!AG122","v":false},{"$f":"Base!AH122","v":false},{"$f":"Base!AI122","v":false},{"$f":"Base!AJ122","v":false},{"$f":"Base!AK122","v":false},{"$f":"Base!AL122","v":false},{"$f":"Base!AM122","v":false},{"$f":"Base!AN122","v":false},{"$f":"Base!AO122","v":false},{"$f":"Base!AP122","v":false},{"$f":"Base!AQ122","v":false},{"$f":"Base!AR122","v":false},{"$f":"Base!AS122","v":false}]
[{"$f":"Base!B123","v":"Cast Arcane (9-10) in Black"},0,null,null,0,{"$f":"Base!U123","v":1},{"$f":"IF(AND(C134<>0,ISNUMBER(C134)),Base!V123*C134,IF(Base!V123=0,\"N\",\"Y\"))","v":"N"},{"$f":"Base!W123","v":"Make Arcane Focus, Cast Wizardry (6-8) in one Colour"},null,null,null,null,null,0,false,false,{"$f":"AND(CharacterStatus = 0,Base!V123>0)","v":false},false,{"$f":"Base!X123","v":true},{"$f":"IF(AND(X134=TRUE, OR(U134,AND(V134,CharacterRank>=W134),AND(Y134,CharacterRank>=Z134),AND(AA134,CharacterRank>=AB134),AND(AC134,CharacterRank>=AD134),AND(AE134,CharacterRank>=AF134),AND(AG134,CharacterRank>=AH134),AND(AI134,CharacterRank>=AJ134),AND(AK134,CharacterRank>=AL134),AND(AM134,CharacterRank>=AN134),AND(AO134,CharacterRank>=AP134))),1,0)","v":0},{"$f":"Base!Y123","v":false},{"$f":"Base!Z123","v":false},{"$f":"Base!AA123","v":false},{"$f":"IF(OR(PrimaryGuildNumber=9, SecondaryGuildNumber=9,Secondary2GuildNumber=9,Secondary3GuildNumber=9,Secondary4GuildNumber=9,Secondary5GuildNumber=9,Secondary6GuildNumber=9,Secondary7GuildNumber=9, AdditionalClassSecondaryGuildNumber=9, JoATGuildNumber=9),TRUE,FALSE)","v":false},{"$f":"Base!AB123","v":false},{"$f":"Base!AC123","v":false},{"$f":"Base!AD123","v":false},{"$f":"Base!AE123","v":false},{"$f":"Base!AF123","v":false},{"$f":"Base!AG123","v":false},{"$f":"Base!AH123","v":false},{"$f":"Base!AI123","v":false},{"$f":"Base!AJ123","v":false},{"$f":"Base!AK123","v":false},{"$f":"Base!AL123","v":false},{"$f":"Base!AM123","v":false},{"$f":"Base!AN123","v":false},{"$f":"Base!AO123","v":false},{"$f":"Base!AP123","v":false},{"$f":"Base!AQ123","v":false},{"$f":"Base!AR123","v":false},{"$f":"Base!AS123","v":false}]
[{"$f":"Base!B124","v":"Cast Arcane (9-10) in Blue"},0,null,null,0,{"$f":"Base!U124","v":1},{"$f":"IF(AND(C135<>0,ISNUMBER(C135)),Base!V124*C135,IF(Base!V124=0,\"N\",\"Y\"))","v":"N"},{"$f":"Base!W124","v":"Make Arcane Focus, Cast Wizardry (6-8) in one Colour"},null,null,null,null,null,0,false,false,{"$f":"AND(CharacterStatus = 0,Base!V124>0)","v":false},false,{"$f":"Base!X124","v":true},0,{"$f":"Base!Y124","v":false},{"$f":"Base!Z124","v":false},{"$f":"Base!AA124","v":false},{"$f":"IF(OR(PrimaryGuildNumber=10, SecondaryGuildNumber=10,Secondary2GuildNumber=10,Secondary3GuildNumber=10,Secondary4GuildNumber=10,Secondary5GuildNumber=10,Secondary6GuildNumber=10,Secondary7GuildNumber=10, AdditionalClassSecondaryGuildNumber=10, JoATGuildNumber=10),TRUE,FALSE)","v":false},{"$f":"Base!AB124","v":false},{"$f":"Base!AC124","v":false},{"$f":"Base!AD124","v":false},{"$f":"Base!AE124","v":false},{"$f":"Base!AF124","v":false},{"$f":"Base!AG124","v":false},{"$f":"Base!AH124","v":false},{"$f":"Base!AI124","v":false},{"$f":"Base!AJ124","v":false},{"$f":"Base!AK124","v":false},{"$f":"Base!AL124","v":false},{"$f":"Base!AM124","v":false},{"$f":"Base!AN124","v":false},{"$f":"Base!AO124","v":false},{"$f":"Base!AP124","v":false},{"$f":"Base!AQ124","v":false},{"$f":"Base!AR124","v":false},{"$f":"Base!AS124","v":false}]
[{"$f":"Base!B125","v":"Cast Arcane (9-10) in Brown"},0,null,null,0,{"$f":"Base!U125","v":1},{"$f":"IF(AND(C136<>0,ISNUMBER(C136)),Base!V125*C136,IF(Base!V125=0,\"N\",\"Y\"))","v":"N"},{"$f":"Base!W125","v":"Make Arcane Focus, Cast Wizardry (6-8) in one Colour"},null,null,null,null,null,0,false,false,{"$f":"AND(CharacterStatus = 0,Base!V125>0)","v":false},false,{"$f":"Base!X125","v":true},0,{"$f":"Base!Y125","v":false},{"$f":"Base!Z125","v":false},{"$f":"Base!AA125","v":false},{"$f":"IF(OR(PrimaryGuildNumber=11, SecondaryGuildNumber=11,Secondary2GuildNumber=11,Secondary3GuildNumber=11,Secondary4GuildNumber=11,Secondary5GuildNumber=11,Secondary6GuildNumber=11,Secondary7GuildNumber=11, AdditionalClassSecondaryGuildNumber=11, JoATGuildNumber=11),TRUE,FALSE)","v":false},{"$f":"Base!AB125","v":false},{"$f":"Base!AC125","v":false},{"$f":"Base!AD125","v":false},{"$f":"Base!AE125","v":false},{"$f":"Base!AF125","v":false},{"$f":"Base!AG125","v":false},{"$f":"Base!AH125","v":false},{"$f":"Base!AI125","v":false},{"$f":"Base!AJ125","v":false},{"$f":"Base!AK125","v":false},{"$f":"Base!AL125","v":false},{"$f":"Base!AM125","v":false},{"$f":"Base!AN125","v":false},{"$f":"Base!AO125","v":false},{"$f":"Base!AP125","v":false},{"$f":"Base!AQ125","v":false},{"$f":"Base!AR125","v":false},{"$f":"Base!AS125","v":false}]
[{"$f":"Base!B126","v":"Cast Arcane (9-10) in Green"},0,null,null,0,{"$f":"Base!U126","v":1},{"$f":"IF(AND(C137<>0,ISNUMBER(C137)),Base!V126*C137,IF(Base!V126=0,\"N\",\"Y\"))","v":"N"},{"$f":"Base!W126","v":"Make Arcane Focus, Cast Wizardry (6-8) in one Colour"},null,null,null,null,null,0,false,false,{"$f":"AND(CharacterStatus = 0,Base!V126>0)","v":false},false,{"$f":"Base!X126","v":true},{"$f":"IF(AND(X137=TRUE, OR(U137,AND(V137,CharacterRank>=W137),AND(Y137,CharacterRank>=Z137),AND(AA137,CharacterRank>=AB137),AND(AC137,CharacterRank>=AD137),AND(AE137,CharacterRank>=AF137),AND(AG137,CharacterRank>=AH137),AND(AI137,CharacterRank>=AJ137),AND(AK137,CharacterRank>=AL137),AND(AM137,CharacterRank>=AN137),AND(AO137,CharacterRank>=AP137))),1,0)","v":0},{"$f":"Base!Y126","v":false},{"$f":"Base!Z126","v":false},{"$f":"Base!AA126","v":false},{"$f":"IF(OR(PrimaryGuildNumber=12, SecondaryGuildNumber=12,Secondary2GuildNumber=12,Secondary3GuildNumber=12,Secondary4GuildNumber=12,Secondary5GuildNumber=12,Secondary6GuildNumber=12,Secondary7GuildNumber=12, AdditionalClassSecondaryGuildNumber=12, JoATGuildNumber=12),TRUE,FALSE)","v":false},{"$f":"Base!AB126","v":false},{"$f":"Base!AC126","v":false},{"$f":"Base!AD126","v":false},{"$f":"Base!AE126","v":false},{"$f":"Base!AF126","v":false},{"$f":"Base!AG126","v":false},{"$f":"Base!AH126","v":false},{"$f":"Base!AI126","v":false},{"$f":"Base!AJ126","v":false},{"$f":"Base!AK126","v":false},{"$f":"Base!AL126","v":false},{"$f":"Base!AM126","v":false},{"$f":"Base!AN126","v":false},{"$f":"Base!AO126","v":false},{"$f":"Base!AP126","v":false},{"$f":"Base!AQ126","v":false},{"$f":"Base!AR126","v":false},{"$f":"Base!AS126","v":false}]
[{"$f":"Base!B127","v":"Cast Arcane (9-10) in Grey"},0,null,null,0,{"$f":"Base!U127","v":1},{"$f":"IF(AND(C138<>0,ISNUMBER(C138)),Base!V127*C138,IF(Base!V127=0,\"N\",\"Y\"))","v":"N"},{"$f":"Base!W127","v":"Make Arcane Focus, Cast Wizardry (6-8) in one Colour"},null,null,null,null,null,0,false,false,{"$f":"AND(CharacterStatus = 0,Base!V127>0)","v":false},false,{"$f":"Base!X127","v":true},0,{"$f":"Base!Y127","v":false},{"$f":"Base!Z127","v":false},{"$f":"Base!AA127","v":false},{"$f":"IF(OR(PrimaryGuildNumber=13, SecondaryGuildNumber=13,Secondary2GuildNumber=13,Secondary3GuildNumber=13,Secondary4GuildNumber=13,Secondary5GuildNumber=13,Secondary6GuildNumber=13,Secondary7GuildNumber=13,  AdditionalClassSecondaryGuildNumber=13, JoATGuildNumber=13),TRUE,FALSE)","v":false},{"$f":"Base!AB127","v":false},{"$f":"Base!AC127","v":false},{"$f":"Base!AD127","v":false},{"$f":"Base!AE127","v":false},{"$f":"Base!AF127","v":false},{"$f":"Base!AG127","v":false},{"$f":"Base!AH127","v":false},{"$f":"Base!AI127","v":false},{"$f":"Base!AJ127","v":false},{"$f":"Base!AK127","v":false},{"$f":"Base!AL127","v":false},{"$f":"Base!AM127","v":false},{"$f":"Base!AN127","v":false},{"$f":"Base!AO127","v":false},{"$f":"Base!AP127","v":false},{"$f":"Base!AQ127","v":false},{"$f":"Base!AR127","v":false},{"$f":"Base!AS127","v":false}]
[{"$f":"Base!B128","v":"Cast Arcane (9-10) in Red"},0,null,null,0,{"$f":"Base!U128","v":1},{"$f":"IF(AND(C139<>0,ISNUMBER(C139)),Base!V128*C139,IF(Base!V128=0,\"N\",\"Y\"))","v":"N"},{"$f":"Base!W128","v":"Make Arcane Focus, Cast Wizardry (6-8) in one Colour"},null,null,null,null,null,0,false,false,{"$f":"AND(CharacterStatus = 0,Base!V128>0)","v":false},false,{"$f":"Base!X128","v":true},0,{"$f":"Base!Y128","v":false},{"$f":"Base!Z128","v":false},{"$f":"Base!AA128","v":false},{"$f":"IF(OR(PrimaryGuildNumber=14, SecondaryGuildNumber=14,Secondary2GuildNumber=14,Secondary3GuildNumber=14,Secondary4GuildNumber=14,Secondary5GuildNumber=14,Secondary6GuildNumber=14,Secondary7GuildNumber=14, AdditionalClassSecondaryGuildNumber=14, JoATGuildNumber=14),TRUE,FALSE)","v":false},{"$f":"Base!AB128","v":false},{"$f":"Base!AC128","v":false},{"$f":"Base!AD128","v":false},{"$f":"Base!AE128","v":false},{"$f":"Base!AF128","v":false},{"$f":"Base!AG128","v":false},{"$f":"Base!AH128","v":false},{"$f":"Base!AI128","v":false},{"$f":"Base!AJ128","v":false},{"$f":"Base!AK128","v":false},{"$f":"Base!AL128","v":false},{"$f":"Base!AM128","v":false},{"$f":"Base!AN128","v":false},{"$f":"Base!AO128","v":false},{"$f":"Base!AP128","v":false},{"$f":"Base!AQ128","v":false},{"$f":"Base!AR128","v":false},{"$f":"Base!AS128","v":false}]
[{"$f":"Base!B129","v":"Cast Arcane (9-10) in White"},0,null,null,0,{"$f":"Base!U129","v":1},{"$f":"IF(AND(C140<>0,ISNUMBER(C140)),Base!V129*C140,IF(Base!V129=0,\"N\",\"Y\"))","v":"N"},{"$f":"Base!W129","v":"Make Arcane Focus, Cast Wizardry (6-8) in one Colour"},null,null,null,null,null,0,false,false,{"$f":"AND(CharacterStatus = 0,Base!V129>0)","v":false},false,{"$f":"Base!X129","v":true},0,{"$f":"Base!Y129","v":false},{"$f":"Base!Z129","v":false},{"$f":"Base!AA129","v":false},{"$f":"IF(OR(PrimaryGuildNumber=15, SecondaryGuildNumber=15,Secondary2GuildNumber=15,Secondary3GuildNumber=15,Secondary4GuildNumber=15,Secondary5GuildNumber=15,Secondary6GuildNumber=15,Secondary7GuildNumber=15,  AdditionalClassSecondaryGuildNumber=15, JoATGuildNumber=15),TRUE,FALSE)","v":false},{"$f":"Base!AB129","v":false},{"$f":"Base!AC129","v":false},{"$f":"Base!AD129","v":false},{"$f":"Base!AE129","v":false},{"$f":"Base!AF129","v":false},{"$f":"Base!AG129","v":false},{"$f":"Base!AH129","v":false},{"$f":"Base!AI129","v":false},{"$f":"Base!AJ129","v":false},{"$f":"Base!AK129","v":false},{"$f":"Base!AL129","v":false},{"$f":"Base!AM129","v":false},{"$f":"Base!AN129","v":false},{"$f":"Base!AO129","v":false},{"$f":"Base!AP129","v":false},{"$f":"Base!AQ129","v":false},{"$f":"Base!AR129","v":false},{"$f":"Base!AS129","v":false}]
[{"$f":"Base!B130","v":"Cast Arcane (9-10) in Yellow"},0,null,null,0,{"$f":"Base!U130","v":1},{"$f":"IF(AND(C141<>0,ISNUMBER(C141)),Base!V130*C141,IF(Base!V130=0,\"N\",\"Y\"))","v":"N"},{"$f":"Base!W130","v":"Make Arcane Focus, Cast Wizardry (6-8) in one Colour"},null,null,null,null,null,0,false,false,{"$f":"AND(CharacterStatus = 0,Base!V130>0)","v":false},false,{"$f":"Base!X130","v":true},0,{"$f":"Base!Y130","v":false},{"$f":"Base!Z130","v":false},{"$f":"Base!AA130","v":false},{"$f":"IF(OR(PrimaryGuildNumber=16, SecondaryGuildNumber=16,Secondary2GuildNumber=16,Secondary3GuildNumber=16,Secondary4GuildNumber=16,Secondary5GuildNumber=16,Secondary6GuildNumber=16,Secondary7GuildNumber=16,  AdditionalClassSecondaryGuildNumber=16, JoATGuildNumber=16),TRUE,FALSE)","v":false},{"$f":"Base!AB130","v":false},{"$f":"Base!AC130","v":false},{"$f":"Base!AD130","v":false},{"$f":"Base!AE130","v":false},{"$f":"Base!AF130","v":false},{"$f":"Base!AG130","v":false},{"$f":"Base!AH130","v":false},{"$f":"Base!AI130","v":false},{"$f":"Base!AJ130","v":false},{"$f":"Base!AK130","v":false},{"$f":"Base!AL130","v":false},{"$f":"Base!AM130","v":false},{"$f":"Base!AN130","v":false},{"$f":"Base!AO130","v":false},{"$f":"Base!AP130","v":false},{"$f":"Base!AQ130","v":false},{"$f":"Base!AR130","v":false},{"$f":"Base!AS130","v":false}]
[{"$f":"Base!B131","v":"Learn additional Spells level 1 - 8"},0,null,null,0,{"$f":"Base!U131","v":"N"},{"$f":"IF(AND(C142<>0,ISNUMBER(C142)),Base!V131*C142,IF(Base!V131=0,\"N\",\"Y\"))","v":"Y"},{"$f":"Base!W131","v":"None"},null,null,null,null,null,0,false,false,{"$f":"AND(CharacterStatus = 0,Base!V131>0)","v":true},false,{"$f":"Base!X131","v":false},{"$f":"IF(OR(U142,AND(V142,CharacterRank>=W142),AND(Y142,CharacterRank>=Z142),AND(AA142,CharacterRank>=AB142),AND(AC142,CharacterRank>=AD142),AND(AE142,CharacterRank>=AF142),AND(AG142,CharacterRank>=AH142),AND(AI142,CharacterRank>=AJ142),AND(AK142,CharacterRank>=AL142),AND(AM142,CharacterRank>=AN142),AND(AO142,CharacterRank>=AP142)),1,0)","v":0},{"$f":"Base!Y131","v":false},{"$f":"Base!Z131","v":false},{"$f":"Base!AA131","v":false},null,{"$f":"Base!AB131","v":false},{"$f":"Base!AC131","v":false},{"$f":"Base!AD131","v":false},{"$f":"Base!AE131","v":false},{"$f":"Base!AF131","v":false},{"$f":"Base!AG131","v":false},{"$f":"Base!AH131","v":false},{"$f":"Base!AI131","v":false},{"$f":"Base!AJ131","v":false},{"$f":"Base!AK131","v":false},{"$f":"Base!AL131","v":false},{"$f":"Base!AM131","v":false},{"$f":"Base!AN131","v":false},{"$f":"Base!AO131","v":false},{"$f":"Base!AP131","v":false},{"$f":"Base!AQ131","v":false},{"$f":"Base!AR131","v":false},{"$f":"Base!AS131","v":false}]
[{"$f":"Base!B132","v":"Learn level 9 spells"},0,null,null,0,{"$f":"Base!U132","v":"N"},{"$f":"IF(AND(C143<>0,ISNUMBER(C143)),Base!V132*C143,IF(Base!V132=0,\"N\",\"Y\"))","v":"Y"},{"$f":"Base!W132","v":"Cast Arcane (9-10) in one Colour , Level 8 Spell, Level 9 Slot"},null,null,null,null,null,0,false,false,{"$f":"AND(CharacterStatus = 0,Base!V132>0)","v":true},false,{"$f":"Base!X132","v":true},0,{"$f":"Base!Y132","v":false},{"$f":"Base!Z132","v":false},{"$f":"Base!AA132","v":false},null,{"$f":"Base!AB132","v":false},{"$f":"Base!AC132","v":false},{"$f":"Base!AD132","v":false},{"$f":"Base!AE132","v":false},{"$f":"Base!AF132","v":false},{"$f":"Base!AG132","v":false},{"$f":"Base!AH132","v":false},{"$f":"Base!AI132","v":false},{"$f":"Base!AJ132","v":false},{"$f":"Base!AK132","v":false},{"$f":"Base!AL132","v":false},{"$f":"Base!AM132","v":false},{"$f":"Base!AN132","v":false},{"$f":"Base!AO132","v":false},{"$f":"Base!AP132","v":false},{"$f":"Base!AQ132","v":false},{"$f":"Base!AR132","v":false},{"$f":"Base!AS132","v":false}]
[{"$f":"Base!B133","v":"Learn Level 10 spells"},0,null,null,0,{"$f":"Base!U133","v":"N"},{"$f":"IF(AND(C144<>0,ISNUMBER(C144)),Base!V133*C144,IF(Base!V133=0,\"N\",\"Y\"))","v":"Y"},{"$f":"Base!W133","v":"Cast Arcane (9-10) in one Colour Level 9 Spell, Level 10 Slot"},null,null,null,null,null,0,false,false,{"$f":"AND(CharacterStatus = 0,Base!V133>0)","v":true},false,{"$f":"Base!X133","v":true},0,{"$f":"Base!Y133","v":false},{"$f":"Base!Z133","v":false},{"$f":"Base!AA133","v":false},null,{"$f":"Base!AB133","v":false},{"$f":"Base!AC133","v":false},{"$f":"Base!AD133","v":false},{"$f":"Base!AE133","v":false},{"$f":"Base!AF133","v":false},{"$f":"Base!AG133","v":false},{"$f":"Base!AH133","v":false},{"$f":"Base!AI133","v":false},{"$f":"Base!AJ133","v":false},{"$f":"Base!AK133","v":false},{"$f":"Base!AL133","v":false},{"$f":"Base!AM133","v":false},{"$f":"Base!AN133","v":false},{"$f":"Base!AO133","v":false},{"$f":"Base!AP133","v":false},{"$f":"Base!AQ133","v":false},{"$f":"Base!AR133","v":false},{"$f":"Base!AS133","v":false}]
[{"$f":"Base!B134","v":"Limit Raise - Mana"},0,null,null,0,{"$f":"Base!U134","v":1},{"$f":"IF(AND(C145<>0,ISNUMBER(C145)),Base!V134*C145,IF(Base!V134=0,\"N\",\"Y\"))","v":"Y"},{"$f":"Base!W134","v":"None"},null,null,null,null,null,{"$f":"IF(OR(T145=1,NOT(C145=0),NOT(D145=0)),1,0)","v":0},{"$f":"NOT(OR(ISBLANK(C145),C145=0))","v":false},{"$f":"AND(F145<>\"N\",C145>F145)","v":false},{"$f":"AND(CharacterStatus = 0,Base!V134>0)","v":true},{"$f":"AND(CharacterStatus > 0,G145>0,G145<>\"N\")","v":false},{"$f":"Base!X134","v":false},0,{"$f":"Base!Y134","v":false},{"$f":"Base!Z134","v":false},{"$f":"Base!AA134","v":false},null,{"$f":"Base!AB134","v":false},{"$f":"Base!AC134","v":false},{"$f":"Base!AD134","v":false},{"$f":"Base!AE134","v":false},{"$f":"Base!AF134","v":false},{"$f":"Base!AG134","v":false},{"$f":"Base!AH134","v":false},{"$f":"Base!AI134","v":false},{"$f":"Base!AJ134","v":false},{"$f":"Base!AK134","v":false},{"$f":"Base!AL134","v":false},{"$f":"Base!AM134","v":false},{"$f":"Base!AN134","v":false},{"$f":"Base!AO134","v":false},{"$f":"Base!AP134","v":false},{"$f":"Base!AQ134","v":false},{"$f":"Base!AR134","v":false},{"$f":"Base!AS134","v":false}]
[{"$f":"Base!B135","v":"Limit Raise Mastery - Mana"},0,null,null,0,{"$f":"Base!U135","v":1},{"$f":"IF(AND(C146<>0,ISNUMBER(C146)),Base!V135*C146,IF(Base!V135=0,\"N\",\"Y\"))","v":"Y"},{"$f":"Base!W135","v":"None"},null,null,null,null,null,0,false,false,{"$f":"AND(CharacterStatus = 0,Base!V135>0)","v":true},false,{"$f":"Base!X135","v":false},0,{"$f":"Base!Y135","v":false},{"$f":"Base!Z135","v":false},{"$f":"Base!AA135","v":false},null,{"$f":"Base!AB135","v":false},{"$f":"Base!AC135","v":false},{"$f":"Base!AD135","v":false},{"$f":"Base!AE135","v":false},{"$f":"Base!AF135","v":false},{"$f":"Base!AG135","v":false},{"$f":"Base!AH135","v":false},{"$f":"Base!AI135","v":false},{"$f":"Base!AJ135","v":false},{"$f":"Base!AK135","v":false},{"$f":"Base!AL135","v":false},{"$f":"Base!AM135","v":false},{"$f":"Base!AN135","v":false},{"$f":"Base!AO135","v":false},{"$f":"Base!AP135","v":false},{"$f":"Base!AQ135","v":false},{"$f":"Base!AR135","v":false},{"$f":"Base!AS135","v":false}]
[{"$f":"Base!B136","v":"Limit Raise Enhanced Mastery - Mana"},0,null,null,0,{"$f":"Base!U136","v":1},{"$f":"IF(AND(C147<>0,ISNUMBER(C147)),Base!V136*C147,IF(Base!V136=0,\"N\",\"Y\"))","v":"Y"},{"$f":"Base!W136","v":"Limit Raise Mastery - Mana"},null,null,null,null,null,0,false,false,{"$f":"AND(CharacterStatus = 0,Base!V136>0)","v":true},false,{"$f":"Base!X136","v":true},0,{"$f":"Base!Y136","v":false},{"$f":"Base!Z136","v":false},{"$f":"Base!AA136","v":false},null,{"$f":"Base!AB136","v":false},{"$f":"Base!AC136","v":false},{"$f":"Base!AD136","v":false},{"$f":"Base!AE136","v":false},{"$f":"Base!AF136","v":false},{"$f":"Base!AG136","v":false},{"$f":"Base!AH136","v":false},{"$f":"Base!AI136","v":false},{"$f":"Base!AJ136","v":false},{"$f":"Base!AK136","v":false},{"$f":"Base!AL136","v":false},{"$f":"Base!AM136","v":false},{"$f":"Base!AN136","v":false},{"$f":"Base!AO136","v":false},{"$f":"Base!AP136","v":false},{"$f":"Base!AQ136","v":false},{"$f":"Base!AR136","v":false},{"$f":"Base!AS136","v":false}]
[{"$f":"Base!B137","v":"Limit Raise Superior Mastery - Mana"},0,null,null,0,{"$f":"Base!U137","v":1},{"$f":"IF(AND(C148<>0,ISNUMBER(C148)),Base!V137*C148,IF(Base!V137=0,\"N\",\"Y\"))","v":"Y"},{"$f":"Base!W137","v":"Limit Raise Enhanced Mastery - Mana"},null,null,null,null,null,0,false,false,{"$f":"AND(CharacterStatus = 0,Base!V137>0)","v":true},false,{"$f":"Base!X137","v":true},{"$f":"IF(OR(U148,AND(V148,CharacterRank>=W148),AND(Y148,CharacterRank>=Z148),AND(AA148,CharacterRank>=AB148),AND(AC148,CharacterRank>=AD148),AND(AE148,CharacterRank>=AF148),AND(AG148,CharacterRank>=AH148),AND(AI148,CharacterRank>=AJ148),AND(AK148,CharacterRank>=AL148),AND(AM148,CharacterRank>=AN148),AND(AO148,CharacterRank>=AP148)),1,0)","v":0},{"$f":"Base!Y137","v":false},{"$f":"Base!Z137","v":false},{"$f":"Base!AA137","v":false},null,{"$f":"Base!AB137","v":false},{"$f":"Base!AC137","v":false},{"$f":"Base!AD137","v":false},{"$f":"Base!AE137","v":false},{"$f":"Base!AF137","v":false},{"$f":"Base!AG137","v":false},{"$f":"Base!AH137","v":false},{"$f":"Base!AI137","v":false},{"$f":"Base!AJ137","v":false},{"$f":"Base!AK137","v":false},{"$f":"Base!AL137","v":false},{"$f":"Base!AM137","v":false},{"$f":"Base!AN137","v":false},{"$f":"Base!AO137","v":false},{"$f":"Base!AP137","v":false},{"$f":"Base!AQ137","v":false},{"$f":"Base!AR137","v":false},{"$f":"Base!AS137","v":false}]
[{"$f":"Base!B138","v":"Limit Raise - Spell"},0,null,null,0,{"$f":"Base!U138","v":1},{"$f":"IF(AND(C149<>0,ISNUMBER(C149)),Base!V138*C149,IF(Base!V138=0,\"N\",\"Y\"))","v":"Y"},{"$f":"Base!W138","v":"None"},null,null,null,null,null,0,false,false,{"$f":"AND(CharacterStatus = 0,Base!V138>0)","v":true},false,{"$f":"Base!X138","v":false},0,{"$f":"Base!Y138","v":false},{"$f":"Base!Z138","v":false},{"$f":"Base!AA138","v":false},null,{"$f":"Base!AB138","v":false},{"$f":"Base!AC138","v":false},{"$f":"Base!AD138","v":false},{"$f":"Base!AE138","v":false},{"$f":"Base!AF138","v":false},{"$f":"Base!AG138","v":false},{"$f":"Base!AH138","v":false},{"$f":"Base!AI138","v":false},{"$f":"Base!AJ138","v":false},{"$f":"Base!AK138","v":false},{"$f":"Base!AL138","v":false},{"$f":"Base!AM138","v":false},{"$f":"Base!AN138","v":false},{"$f":"Base!AO138","v":false},{"$f":"Base!AP138","v":false},{"$f":"Base!AQ138","v":false},{"$f":"Base!AR138","v":false},{"$f":"Base!AS138","v":false}]
[{"$f":"Base!B139","v":"Mnemonic"},6,null,null,0,{"$f":"Base!U139","v":1},{"$f":"IF(AND(C150<>0,ISNUMBER(C150)),Base!V139*C150,IF(Base!V139=0,\"N\",\"Y\"))","v":"N"},{"$f":"Base!W139","v":"Level 1 Spell Slot"},null,null,null,null,null,1,false,false,{"$f":"AND(CharacterStatus = 0,Base!V139>0)","v":false},false,{"$f":"Base!X139","v":true},1,{"$f":"Base!Y139","v":true},{"$f":"Base!Z139","v":false},{"$f":"Base!AA139","v":false},null,{"$f":"Base!AB139","v":false},{"$f":"Base!AC139","v":false},{"$f":"Base!AD139","v":false},{"$f":"Base!AE139","v":false},{"$f":"Base!AF139","v":false},{"$f":"Base!AG139","v":false},{"$f":"Base!AH139","v":false},{"$f":"Base!AI139","v":false},{"$f":"Base!AJ139","v":false},{"$f":"Base!AK139","v":false},{"$f":"Base!AL139","v":false},{"$f":"Base!AM139","v":false},{"$f":"Base!AN139","v":false},{"$f":"Base!AO139","v":false},{"$f":"Base!AP139","v":false},{"$f":"Base!AQ139","v":false},{"$f":"Base!AR139","v":false},{"$f":"Base!AS139","v":false}]
[{"$f":"Base!B140","v":"Mnemonic Mastery"},6,null,null,0,{"$f":"Base!U140","v":1},{"$f":"IF(AND(C151<>0,ISNUMBER(C151)),Base!V140*C151,IF(Base!V140=0,\"N\",\"Y\"))","v":"N"},{"$f":"Base!W140","v":"Mnemonic"},null,null,null,null,null,0,false,false,{"$f":"AND(CharacterStatus = 0,Base!V140>0)","v":false},false,{"$f":"Base!X140","v":true},0,{"$f":"Base!Y140","v":false},{"$f":"Base!Z140","v":false},{"$f":"Base!AA140","v":false},null,{"$f":"Base!AB140","v":false},{"$f":"Base!AC140","v":false},{"$f":"Base!AD140","v":false},{"$f":"Base!AE140","v":false},{"$f":"Base!AF140","v":false},{"$f":"Base!AG140","v":false},{"$f":"Base!AH140","v":false},{"$f":"Base!AI140","v":false},{"$f":"Base!AJ140","v":false},{"$f":"Base!AK140","v":false},{"$f":"Base!AL140","v":false},{"$f":"Base!AM140","v":false},{"$f":"Base!AN140","v":false},{"$f":"Base!AO140","v":false},{"$f":"Base!AP140","v":false},{"$f":"Base!AQ140","v":false},{"$f":"Base!AR140","v":false},{"$f":"Base!AS140","v":false}]
[{"$f":"Base!B141","v":"Mnemonic Enhanced Mastery"},6,null,null,0,{"$f":"Base!U141","v":1},{"$f":"IF(AND(C152<>0,ISNUMBER(C152)),Base!V141*C152,IF(Base!V141=0,\"N\",\"Y\"))","v":"N"},{"$f":"Base!W141","v":"Mnemonic Mastery"},null,null,null,null,null,0,false,false,{"$f":"AND(CharacterStatus = 0,Base!V141>0)","v":false},false,{"$f":"Base!X141","v":true},0,{"$f":"Base!Y141","v":false},{"$f":"Base!Z141","v":false},{"$f":"Base!AA141","v":false},null,{"$f":"Base!AB141","v":false},{"$f":"Base!AC141","v":false},{"$f":"Base!AD141","v":false},{"$f":"Base!AE141","v":false},{"$f":"Base!AF141","v":false},{"$f":"Base!AG141","v":false},{"$f":"Base!AH141","v":false},{"$f":"Base!AI141","v":false},{"$f":"Base!AJ141","v":false},{"$f":"Base!AK141","v":false},{"$f":"Base!AL141","v":false},{"$f":"Base!AM141","v":false},{"$f":"Base!AN141","v":false},{"$f":"Base!AO141","v":false},{"$f":"Base!AP141","v":false},{"$f":"Base!AQ141","v":false},{"$f":"Base!AR141","v":false},{"$f":"Base!AS141","v":false}]
[{"$f":"Base!B142","v":"Mnemonic Superior Mastery"},6,null,null,0,{"$f":"Base!U142","v":1},{"$f":"IF(AND(C153<>0,ISNUMBER(C153)),Base!V142*C153,IF(Base!V142=0,\"N\",\"Y\"))","v":"Y"},{"$f":"Base!W142","v":"Mnemonic Enhanced Mastery"},null,null,null,null,null,0,false,false,{"$f":"AND(CharacterStatus = 0,Base!V142>0)","v":true},false,{"$f":"Base!X142","v":true},0,{"$f":"Base!Y142","v":false},{"$f":"Base!Z142","v":false},{"$f":"Base!AA142","v":false},null,{"$f":"Base!AB142","v":false},{"$f":"Base!AC142","v":false},{"$f":"Base!AD142","v":false},{"$f":"Base!AE142","v":false},{"$f":"Base!AF142","v":false},{"$f":"Base!AG142","v":false},{"$f":"Base!AH142","v":false},{"$f":"Base!AI142","v":false},{"$f":"Base!AJ142","v":false},{"$f":"Base!AK142","v":false},{"$f":"Base!AL142","v":false},{"$f":"Base!AM142","v":false},{"$f":"Base!AN142","v":false},{"$f":"Base!AO142","v":false},{"$f":"Base!AP142","v":false},{"$f":"Base!AQ142","v":false},{"$f":"Base!AR142","v":false},{"$f":"Base!AS142","v":false}]
[{"$f":"Base!B143","v":"Mnemonic Attunement"},0,null,null,0,{"$f":"Base!U143","v":1},{"$f":"IF(AND(C154<>0,ISNUMBER(C154)),Base!V143*C154,IF(Base!V143=0,\"N\",\"Y\"))","v":"N"},{"$f":"Base!W143","v":"Specialist "},null,null,null,null,null,0,false,false,{"$f":"AND(CharacterStatus = 0,Base!V143>0)","v":false},false,{"$f":"Base!X143","v":true},{"$f":"IF(OR(U154,AND(V154,CharacterRank>=W154),AND(Y154,CharacterRank>=Z154),AND(AA154,CharacterRank>=AB154),AND(AC154,CharacterRank>=AD154),AND(AE154,CharacterRank>=AF154),AND(AG154,CharacterRank>=AH154),AND(AI154,CharacterRank>=AJ154),AND(AK154,CharacterRank>=AL154),AND(AM154,CharacterRank>=AN154),AND(AO154,CharacterRank>=AP154)),1,0)","v":0},{"$f":"Base!Y143","v":false},{"$f":"Base!Z143","v":false},{"$f":"Base!AA143","v":false},null,{"$f":"Base!AB143","v":false},{"$f":"Base!AC143","v":false},{"$f":"Base!AD143","v":false},{"$f":"Base!AE143","v":false},{"$f":"Base!AF143","v":false},{"$f":"Base!AG143","v":false},{"$f":"Base!AH143","v":false},{"$f":"Base!AI143","v":false},{"$f":"Base!AJ143","v":false},{"$f":"Base!AK143","v":false},{"$f":"Base!AL143","v":false},{"$f":"Base!AM143","v":false},{"$f":"Base!AN143","v":false},{"$f":"Base!AO143","v":false},{"$f":"Base!AP143","v":false},{"$f":"Base!AQ143","v":false},{"$f":"Base!AR143","v":false},{"$f":"Base!AS143","v":false}]
[{"$f":"Base!B144","v":"Recharge Active Spell"},0,null,null,0,{"$f":"Base!U144","v":1},{"$f":"IF(AND(C155<>0,ISNUMBER(C155)),Base!V144*C155,IF(Base!V144=0,\"N\",\"Y\"))","v":"Y"},{"$f":"Base!W144","v":"Class Mage"},null,null,null,null,null,0,false,false,{"$f":"AND(CharacterStatus = 0,Base!V144>0)","v":true},false,{"$f":"Base!X144","v":false},{"$f":"IF(OR(U155,AND(V155,CharacterRank>=W155),AND(Y155,CharacterRank>=Z155),AND(AA155,CharacterRank>=AB155),AND(AC155,CharacterRank>=AD155),AND(AE155,CharacterRank>=AF155),AND(AG155,CharacterRank>=AH155),AND(AI155,CharacterRank>=AJ155),AND(AK155,CharacterRank>=AL155),AND(AM155,CharacterRank>=AN155),AND(AO155,CharacterRank>=AP155)),1,0)","v":0},{"$f":"Base!Y144","v":false},{"$f":"Base!Z144","v":false},{"$f":"Base!AA144","v":false},null,{"$f":"Base!AB144","v":false},{"$f":"Base!AC144","v":false},{"$f":"Base!AD144","v":false},{"$f":"Base!AE144","v":false},{"$f":"Base!AF144","v":false},{"$f":"Base!AG144","v":false},{"$f":"Base!AH144","v":false},{"$f":"Base!AI144","v":false},{"$f":"Base!AJ144","v":false},{"$f":"Base!AK144","v":false},{"$f":"Base!AL144","v":false},{"$f":"Base!AM144","v":false},{"$f":"Base!AN144","v":false},{"$f":"Base!AO144","v":false},{"$f":"Base!AP144","v":false},{"$f":"Base!AQ144","v":false},{"$f":"Base!AR144","v":false},{"$f":"Base!AS144","v":false}]
[{"$f":"Base!B145","v":"Spell Store"},0,null,null,0,{"$f":"Base!U145","v":2},{"$f":"IF(AND(C156<>0,ISNUMBER(C156)),Base!V145*C156,IF(Base!V145=0,\"N\",\"Y\"))","v":"Y"},{"$f":"Base!W145","v":"Cast Wizardry (6-8) in one Colour"},null,null,null,null,null,0,false,false,{"$f":"AND(CharacterStatus = 0,Base!V145>0)","v":true},false,{"$f":"Base!X145","v":true},0,{"$f":"Base!Y145","v":false},{"$f":"Base!Z145","v":false},{"$f":"Base!AA145","v":false},null,{"$f":"Base!AB145","v":false},{"$f":"Base!AC145","v":false},{"$f":"Base!AD145","v":false},{"$f":"Base!AE145","v":false},{"$f":"Base!AF145","v":false},{"$f":"Base!AG145","v":false},{"$f":"Base!AH145","v":false},{"$f":"Base!AI145","v":false},{"$f":"Base!AJ145","v":false},{"$f":"Base!AK145","v":false},{"$f":"Base!AL145","v":false},{"$f":"Base!AM145","v":false},{"$f":"Base!AN145","v":false},{"$f":"Base!AO145","v":false},{"$f":"Base!AP145","v":false},{"$f":"Base!AQ145","v":false},{"$f":"Base!AR145","v":false},{"$f":"Base!AS145","v":false}]
[{"$f":"Base!B146","v":"Recast Spell Store"},0,null,null,0,{"$f":"Base!U146","v":"N/A"},{"$f":"IF(AND(C157<>0,ISNUMBER(C157)),Base!V146*C157,IF(Base!V146=0,\"N\",\"Y\"))","v":"Y"},{"$f":"Base!W146","v":"Class Mage"},null,null,null,null,null,0,false,false,{"$f":"AND(CharacterStatus = 0,Base!V146>0)","v":true},false,{"$f":"Base!X146","v":false},0,{"$f":"Base!Y146","v":false},{"$f":"Base!Z146","v":false},{"$f":"Base!AA146","v":false},null,{"$f":"Base!AB146","v":false},{"$f":"Base!AC146","v":false},{"$f":"Base!AD146","v":false},{"$f":"Base!AE146","v":false},{"$f":"Base!AF146","v":false},{"$f":"Base!AG146","v":false},{"$f":"Base!AH146","v":false},{"$f":"Base!AI146","v":false},{"$f":"Base!AJ146","v":false},{"$f":"Base!AK146","v":false},{"$f":"Base!AL146","v":false},{"$f":"Base!AM146","v":false},{"$f":"Base!AN146","v":false},{"$f":"Base!AO146","v":false},{"$f":"Base!AP146","v":false},{"$f":"Base!AQ146","v":false},{"$f":"Base!AR146","v":false},{"$f":"Base!AS146","v":false}]
[{"$f":"Base!B147","v":"Elemental Proficiency"},10,null,null,0,{"$f":"Base!U147","v":1},{"$f":"IF(AND(C158<>0,ISNUMBER(C158)),Base!V147*C158,IF(Base!V147=0,\"N\",\"Y\"))","v":"Y"},{"$f":"Base!W147","v":"Class Mage"},null,null,null,null,null,0,false,false,{"$f":"AND(CharacterStatus = 0,Base!V147>0)","v":true},false,{"$f":"Base!X147","v":false},0,{"$f":"Base!Y147","v":false},{"$f":"Base!Z147","v":false},{"$f":"Base!AA147","v":false},null,{"$f":"Base!AB147","v":false},{"$f":"Base!AC147","v":false},{"$f":"Base!AD147","v":false},{"$f":"Base!AE147","v":false},{"$f":"Base!AF147","v":false},{"$f":"Base!AG147","v":false},{"$f":"Base!AH147","v":false},{"$f":"Base!AI147","v":false},{"$f":"Base!AJ147","v":false},{"$f":"Base!AK147","v":false},{"$f":"Base!AL147","v":false},{"$f":"Base!AM147","v":false},{"$f":"Base!AN147","v":false},{"$f":"Base!AO147","v":false},{"$f":"Base!AP147","v":false},{"$f":"Base!AQ147","v":false},{"$f":"Base!AR147","v":false},{"$f":"Base!AS147","v":false}]
[{"$f":"Base!B148","v":"Elemental Mastery"},50,null,null,0,{"$f":"Base!U148","v":1},{"$f":"IF(AND(C159<>0,ISNUMBER(C159)),Base!V148*C159,IF(Base!V148=0,\"N\",\"Y\"))","v":"N"},{"$f":"Base!W148","v":"Elemental Proficiency"},null,null,null,null,null,0,false,false,{"$f":"AND(CharacterStatus = 0,Base!V148>0)","v":false},false,{"$f":"Base!X148","v":true},0,{"$f":"Base!Y148","v":false},{"$f":"Base!Z148","v":false},{"$f":"Base!AA148","v":false},null,{"$f":"Base!AB148","v":false},{"$f":"Base!AC148","v":false},{"$f":"Base!AD148","v":false},{"$f":"Base!AE148","v":false},{"$f":"Base!AF148","v":false},{"$f":"Base!AG148","v":false},{"$f":"Base!AH148","v":false},{"$f":"Base!AI148","v":false},{"$f":"Base!AJ148","v":false},{"$f":"Base!AK148","v":false},{"$f":"Base!AL148","v":false},{"$f":"Base!AM148","v":false},{"$f":"Base!AN148","v":false},{"$f":"Base!AO148","v":false},{"$f":"Base!AP148","v":false},{"$f":"Base!AQ148","v":false},{"$f":"Base!AR148","v":false},{"$f":"Base!AS148","v":false}]
[{"$f":"Base!B149","v":"Elemental Enhanced Mastery"},{"$f":"INDEX(points, ROW()-13,  CharacterTable)","v":50},null,null,{"$f":"C160*B160","v":0},{"$f":"Base!U149","v":1},{"$f":"IF(AND(C160<>0,ISNUMBER(C160)),Base!V149*C160,IF(Base!V149=0,\"N\",\"Y\"))","v":"N"},{"$f":"Base!W149","v":"Elemental Mastery"},null,null,null,null,null,0,false,false,{"$f":"AND(CharacterStatus = 0,Base!V149>0)","v":false},false,{"$f":"Base!X149","v":true},0,{"$f":"Base!Y149","v":false},{"$f":"Base!Z149","v":false},{"$f":"Base!AA149","v":false},null,{"$f":"Base!AB149","v":false},{"$f":"Base!AC149","v":false},{"$f":"Base!AD149","v":false},{"$f":"Base!AE149","v":false},{"$f":"Base!AF149","v":false},{"$f":"Base!AG149","v":false},{"$f":"Base!AH149","v":false},{"$f":"Base!AI149","v":false},{"$f":"Base!AJ149","v":false},{"$f":"Base!AK149","v":false},{"$f":"Base!AL149","v":false},{"$f":"Base!AM149","v":false},{"$f":"Base!AN149","v":false},{"$f":"Base!AO149","v":false},{"$f":"Base!AP149","v":false},{"$f":"Base!AQ149","v":false},{"$f":"Base!AR149","v":false},{"$f":"Base!AS149","v":false}]
[{"$f":"Base!B150","v":"Elemental Superior Mastery"},50,null,null,0,{"$f":"Base!U150","v":1},{"$f":"IF(AND(C161<>0,ISNUMBER(C161)),Base!V150*C161,IF(Base!V150=0,\"N\",\"Y\"))","v":"Y"},{"$f":"Base!W150","v":"Elemental Enhanced Mastery"},null,null,null,null,null,0,false,false,{"$f":"AND(CharacterStatus = 0,Base!V150>0)","v":true},false,{"$f":"Base!X150","v":true},{"$f":"IF(OR(U161,AND(V161,CharacterRank>=W161),AND(Y161,CharacterRank>=Z161),AND(AA161,CharacterRank>=AB161),AND(AC161,CharacterRank>=AD161),AND(AE161,CharacterRank>=AF161),AND(AG161,CharacterRank>=AH161),AND(AI161,CharacterRank>=AJ161),AND(AK161,CharacterRank>=AL161),AND(AM161,CharacterRank>=AN161),AND(AO161,CharacterRank>=AP161)),1,0)","v":0},{"$f":"Base!Y150","v":false},{"$f":"Base!Z150","v":false},{"$f":"Base!AA150","v":false},null,{"$f":"Base!AB150","v":false},{"$f":"Base!AC150","v":false},{"$f":"Base!AD150","v":false},{"$f":"Base!AE150","v":false},{"$f":"Base!AF150","v":false},{"$f":"Base!AG150","v":false},{"$f":"Base!AH150","v":false},{"$f":"Base!AI150","v":false},{"$f":"Base!AJ150","v":false},{"$f":"Base!AK150","v":false},{"$f":"Base!AL150","v":false},{"$f":"Base!AM150","v":false},{"$f":"Base!AN150","v":false},{"$f":"Base!AO150","v":false},{"$f":"Base!AP150","v":false},{"$f":"Base!AQ150","v":false},{"$f":"Base!AR150","v":false},{"$f":"Base!AS150","v":false}]
[{"$f":"Base!B151","v":"Extra Arcane Store Preparation"},0,null,null,0,{"$f":"Base!U151","v":1},{"$f":"IF(AND(C162<>0,ISNUMBER(C162)),Base!V151*C162,IF(Base!V151=0,\"N\",\"Y\"))","v":"Y"},{"$f":"Base!W151","v":"Cast Arcane (9-10) in 1st Colour"},null,null,null,null,null,0,false,false,{"$f":"AND(CharacterStatus = 0,Base!V151>0)","v":true},false,{"$f":"Base!X151","v":true},{"$f":"IF(OR(U162,AND(V162,CharacterRank>=W162),AND(Y162,CharacterRank>=Z162),AND(AA162,CharacterRank>=AB162),AND(AC162,CharacterRank>=AD162),AND(AE162,CharacterRank>=AF162),AND(AG162,CharacterRank>=AH162),AND(AI162,CharacterRank>=AJ162),AND(AK162,CharacterRank>=AL162),AND(AM162,CharacterRank>=AN162),AND(AO162,CharacterRank>=AP162)),1,0)","v":0},{"$f":"Base!Y151","v":false},{"$f":"Base!Z151","v":false},{"$f":"Base!AA151","v":false},null,{"$f":"Base!AB151","v":false},{"$f":"Base!AC151","v":false},{"$f":"Base!AD151","v":false},{"$f":"Base!AE151","v":false},{"$f":"Base!AF151","v":false},{"$f":"Base!AG151","v":false},{"$f":"Base!AH151","v":false},{"$f":"Base!AI151","v":false},{"$f":"Base!AJ151","v":false},{"$f":"Base!AK151","v":false},{"$f":"Base!AL151","v":false},{"$f":"Base!AM151","v":false},{"$f":"Base!AN151","v":false},{"$f":"Base!AO151","v":false},{"$f":"Base!AP151","v":false},{"$f":"Base!AQ151","v":false},{"$f":"Base!AR151","v":false},{"$f":"Base!AS151","v":false}]
[{"$f":"Base!B152","v":"Exceptional Arcane Store Preparation"},0,null,null,0,{"$f":"Base!U152","v":1},{"$f":"IF(AND(C163<>0,ISNUMBER(C163)),Base!V152*C163,IF(Base!V152=0,\"N\",\"Y\"))","v":"Y"},{"$f":"Base!W152","v":"Extra Arcane Store Preparation"},null,null,null,null,null,0,false,false,{"$f":"AND(CharacterStatus = 0,Base!V152>0)","v":true},false,{"$f":"Base!X152","v":true},{"$f":"IF(OR(U163,AND(V163,CharacterRank>=W163),AND(Y163,CharacterRank>=Z163),AND(AA163,CharacterRank>=AB163),AND(AC163,CharacterRank>=AD163),AND(AE163,CharacterRank>=AF163),AND(AG163,CharacterRank>=AH163),AND(AI163,CharacterRank>=AJ163),AND(AK163,CharacterRank>=AL163),AND(AM163,CharacterRank>=AN163),AND(AO163,CharacterRank>=AP163)),1,0)","v":0},{"$f":"Base!Y152","v":false},{"$f":"Base!Z152","v":false},{"$f":"Base!AA152","v":false},null,{"$f":"Base!AB152","v":false},{"$f":"Base!AC152","v":false},{"$f":"Base!AD152","v":false},{"$f":"Base!AE152","v":false},{"$f":"Base!AF152","v":false},{"$f":"Base!AG152","v":false},{"$f":"Base!AH152","v":false},{"$f":"Base!AI152","v":false},{"$f":"Base!AJ152","v":false},{"$f":"Base!AK152","v":false},{"$f":"Base!AL152","v":false},{"$f":"Base!AM152","v":false},{"$f":"Base!AN152","v":false},{"$f":"Base!AO152","v":false},{"$f":"Base!AP152","v":false},{"$f":"Base!AQ152","v":false},{"$f":"Base!AR152","v":false},{"$f":"Base!AS152","v":false}]
[{"$f":"Base!B153","v":"Spell Extension"},0,null,null,0,{"$f":"Base!U153","v":"N/A"},{"$f":"IF(AND(C164<>0,ISNUMBER(C164)),Base!V153*C164,IF(Base!V153=0,\"N\",\"Y\"))","v":"Y"},{"$f":"Base!W153","v":"Sorceror"},null,null,null,null,null,0,false,false,{"$f":"AND(CharacterStatus = 0,Base!V153>0)","v":true},false,{"$f":"Base!X153","v":true},0,{"$f":"Base!Y153","v":false},{"$f":"Base!Z153","v":false},{"$f":"Base!AA153","v":false},null,{"$f":"Base!AB153","v":false},{"$f":"Base!AC153","v":false},{"$f":"Base!AD153","v":false},{"$f":"Base!AE153","v":false},{"$f":"Base!AF153","v":false},{"$f":"Base!AG153","v":false},{"$f":"Base!AH153","v":false},{"$f":"Base!AI153","v":false},{"$f":"Base!AJ153","v":false},{"$f":"Base!AK153","v":false},{"$f":"Base!AL153","v":false},{"$f":"Base!AM153","v":false},{"$f":"Base!AN153","v":false},{"$f":"Base!AO153","v":false},{"$f":"Base!AP153","v":false},{"$f":"Base!AQ153","v":false},{"$f":"Base!AR153","v":false},{"$f":"Base!AS153","v":false}]
[{"$f":"Base!B154","v":"Write Battle Magic Scrolls"},12,null,null,0,{"$f":"Base!U154","v":1},{"$f":"IF(AND(C165<>0,ISNUMBER(C165)),Base!V154*C165,IF(Base!V154=0,\"N\",\"Y\"))","v":"Y"},{"$f":"Base!W154","v":"Level 1 Spell Slot"},null,null,null,null,null,0,false,false,{"$f":"AND(CharacterStatus = 0,Base!V154>0)","v":true},false,{"$f":"Base!X154","v":true},{"$f":"IF(OR(U165,AND(V165,CharacterRank>=W165),AND(Y165,CharacterRank>=Z165),AND(AA165,CharacterRank>=AB165),AND(AC165,CharacterRank>=AD165),AND(AE165,CharacterRank>=AF165),AND(AG165,CharacterRank>=AH165),AND(AI165,CharacterRank>=AJ165),AND(AK165,CharacterRank>=AL165),AND(AM165,CharacterRank>=AN165),AND(AO165,CharacterRank>=AP165)),1,0)","v":0},{"$f":"Base!Y154","v":false},{"$f":"Base!Z154","v":false},{"$f":"Base!AA154","v":false},null,{"$f":"Base!AB154","v":false},{"$f":"Base!AC154","v":false},{"$f":"Base!AD154","v":false},{"$f":"Base!AE154","v":false},{"$f":"Base!AF154","v":false},{"$f":"Base!AG154","v":false},{"$f":"Base!AH154","v":false},{"$f":"Base!AI154","v":false},{"$f":"Base!AJ154","v":false},{"$f":"Base!AK154","v":false},{"$f":"Base!AL154","v":false},{"$f":"Base!AM154","v":false},{"$f":"Base!AN154","v":false},{"$f":"Base!AO154","v":false},{"$f":"Base!AP154","v":false},{"$f":"Base!AQ154","v":false},{"$f":"Base!AR154","v":false},{"$f":"Base!AS154","v":false}]
[{"$f":"Base!B155","v":"Write High Magic Scrolls"},24,null,null,0,{"$f":"Base!U155","v":1},{"$f":"IF(AND(C166<>0,ISNUMBER(C166)),Base!V155*C166,IF(Base!V155=0,\"N\",\"Y\"))","v":"Y"},{"$f":"Base!W155","v":"Level 6 Spell Slot, Write Battle Magic Scrolls"},null,null,null,null,null,0,false,false,{"$f":"AND(CharacterStatus = 0,Base!V155>0)","v":true},false,{"$f":"Base!X155","v":true},{"$f":"IF(OR(U166,AND(V166,CharacterRank>=W166),AND(Y166,CharacterRank>=Z166),AND(AA166,CharacterRank>=AB166),AND(AC166,CharacterRank>=AD166),AND(AE166,CharacterRank>=AF166),AND(AG166,CharacterRank>=AH166),AND(AI166,CharacterRank>=AJ166),AND(AK166,CharacterRank>=AL166),AND(AM166,CharacterRank>=AN166),AND(AO166,CharacterRank>=AP166)),1,0)","v":0},{"$f":"Base!Y155","v":false},{"$f":"Base!Z155","v":false},{"$f":"Base!AA155","v":false},null,{"$f":"Base!AB155","v":false},{"$f":"Base!AC155","v":false},{"$f":"Base!AD155","v":false},{"$f":"Base!AE155","v":false},{"$f":"Base!AF155","v":false},{"$f":"Base!AG155","v":false},{"$f":"Base!AH155","v":false},{"$f":"Base!AI155","v":false},{"$f":"Base!AJ155","v":false},{"$f":"Base!AK155","v":false},{"$f":"Base!AL155","v":false},{"$f":"Base!AM155","v":false},{"$f":"Base!AN155","v":false},{"$f":"Base!AO155","v":false},{"$f":"Base!AP155","v":false},{"$f":"Base!AQ155","v":false},{"$f":"Base!AR155","v":false},{"$f":"Base!AS155","v":false}]
[{"$f":"Base!B156","v":"Write Arcane Magic Scrolls"},24,null,null,0,{"$f":"Base!U156","v":1},{"$f":"IF(AND(C167<>0,ISNUMBER(C167)),Base!V156*C167,IF(Base!V156=0,\"N\",\"Y\"))","v":"Y"},{"$f":"Base!W156","v":"Level 9 Spell Slot, Write High Magic Scrolls"},null,null,null,null,null,0,false,false,{"$f":"AND(CharacterStatus = 0,Base!V156>0)","v":true},false,{"$f":"Base!X156","v":true},{"$f":"IF(OR(U167,AND(V167,CharacterRank>=W167),AND(Y167,CharacterRank>=Z167),AND(AA167,CharacterRank>=AB167),AND(AC167,CharacterRank>=AD167),AND(AE167,CharacterRank>=AF167),AND(AG167,CharacterRank>=AH167),AND(AI167,CharacterRank>=AJ167),AND(AK167,CharacterRank>=AL167),AND(AM167,CharacterRank>=AN167),AND(AO167,CharacterRank>=AP167)),1,0)","v":0},{"$f":"Base!Y156","v":false},{"$f":"Base!Z156","v":false},{"$f":"Base!AA156","v":false},null,{"$f":"Base!AB156","v":false},{"$f":"Base!AC156","v":false},{"$f":"Base!AD156","v":false},{"$f":"Base!AE156","v":false},{"$f":"Base!AF156","v":false},{"$f":"Base!AG156","v":false},{"$f":"Base!AH156","v":false},{"$f":"Base!AI156","v":false},{"$f":"Base!AJ156","v":false},{"$f":"Base!AK156","v":false},{"$f":"Base!AL156","v":false},{"$f":"Base!AM156","v":false},{"$f":"Base!AN156","v":false},{"$f":"Base!AO156","v":false},{"$f":"Base!AP156","v":false},{"$f":"Base!AQ156","v":false},{"$f":"Base!AR156","v":false},{"$f":"Base!AS156","v":false}]
[{"$f":"Base!B157","v":"Discern Wounds"},0,null,null,0,{"$f":"Base!U157","v":1},{"$f":"IF(AND(C168<>0,ISNUMBER(C168)),Base!V157*C168,IF(Base!V157=0,\"N\",\"Y\"))","v":"N"},{"$f":"Base!W157","v":"None"},null,null,null,null,null,1,false,false,{"$f":"AND(CharacterStatus = 0,Base!V157>0)","v":false},false,{"$f":"Base!X157","v":false},{"$f":"IF(OR(U168,AND(V168,CharacterRank>=W168),AND(Y168,CharacterRank>=Z168),AND(AA168,CharacterRank>=AB168),AND(AC168,CharacterRank>=AD168),AND(AE168,CharacterRank>=AF168),AND(AG168,CharacterRank>=AH168),AND(AI168,CharacterRank>=AJ168),AND(AK168,CharacterRank>=AL168),AND(AM168,CharacterRank>=AN168),AND(AO168,CharacterRank>=AP168)),1,0)","v":1},{"$f":"Base!Y157","v":true},{"$f":"Base!Z157","v":false},{"$f":"Base!AA157","v":false},null,{"$f":"Base!AB157","v":false},{"$f":"Base!AC157","v":false},{"$f":"Base!AD157","v":false},{"$f":"Base!AE157","v":false},{"$f":"Base!AF157","v":false},{"$f":"Base!AG157","v":false},{"$f":"Base!AH157","v":false},{"$f":"Base!AI157","v":false},{"$f":"Base!AJ157","v":false},{"$f":"Base!AK157","v":false},{"$f":"Base!AL157","v":false},{"$f":"Base!AM157","v":false},{"$f":"Base!AN157","v":false},{"$f":"Base!AO157","v":false},{"$f":"Base!AP157","v":false},{"$f":"Base!AQ157","v":false},{"$f":"Base!AR157","v":false},{"$f":"Base!AS157","v":false}]
[{"$f":"Base!B158","v":"Field Medicine"},24,null,null,0,{"$f":"Base!U158","v":1},{"$f":"IF(AND(C169<>0,ISNUMBER(C169)),Base!V158*C169,IF(Base!V158=0,\"N\",\"Y\"))","v":"Y"},{"$f":"Base!W158","v":"Set Broken Bone"},null,null,null,null,null,0,false,false,{"$f":"AND(CharacterStatus = 0,Base!V158>0)","v":true},false,{"$f":"Base!X158","v":true},0,{"$f":"Base!Y158","v":false},{"$f":"Base!Z158","v":false},{"$f":"Base!AA158","v":false},null,{"$f":"Base!AB158","v":false},{"$f":"Base!AC158","v":false},{"$f":"Base!AD158","v":false},{"$f":"Base!AE158","v":false},{"$f":"Base!AF158","v":false},{"$f":"Base!AG158","v":false},{"$f":"Base!AH158","v":false},{"$f":"Base!AI158","v":false},{"$f":"Base!AJ158","v":false},{"$f":"Base!AK158","v":false},{"$f":"Base!AL158","v":false},{"$f":"Base!AM158","v":false},{"$f":"Base!AN158","v":false},{"$f":"Base!AO158","v":false},{"$f":"Base!AP158","v":false},{"$f":"Base!AQ158","v":false},{"$f":"Base!AR158","v":false},{"$f":"Base!AS158","v":false}]
[{"$f":"Base!B159","v":"First Aid"},0,null,null,0,{"$f":"Base!U159","v":1},{"$f":"IF(AND(C170<>0,ISNUMBER(C170)),Base!V159*C170,IF(Base!V159=0,\"N\",\"Y\"))","v":"N"},{"$f":"Base!W159","v":"None"},null,null,null,null,null,1,false,false,{"$f":"AND(CharacterStatus = 0,Base!V159>0)","v":false},false,{"$f":"Base!X159","v":false},1,{"$f":"Base!Y159","v":true},{"$f":"Base!Z159","v":false},{"$f":"Base!AA159","v":false},null,{"$f":"Base!AB159","v":false},{"$f":"Base!AC159","v":false},{"$f":"Base!AD159","v":false},{"$f":"Base!AE159","v":false},{"$f":"Base!AF159","v":false},{"$f":"Base!AG159","v":false},{"$f":"Base!AH159","v":false},{"$f":"Base!AI159","v":false},{"$f":"Base!AJ159","v":false},{"$f":"Base!AK159","v":false},{"$f":"Base!AL159","v":false},{"$f":"Base!AM159","v":false},{"$f":"Base!AN159","v":false},{"$f":"Base!AO159","v":false},{"$f":"Base!AP159","v":false},{"$f":"Base!AQ159","v":false},{"$f":"Base!AR159","v":false},{"$f":"Base!AS159","v":false}]
[{"$f":"Base!B160","v":"Set Broken Bone"},12,null,null,0,{"$f":"Base!U160","v":1},{"$f":"IF(AND(C171<>0,ISNUMBER(C171)),Base!V160*C171,IF(Base!V160=0,\"N\",\"Y\"))","v":"N"},{"$f":"Base!W160","v":"Discern Wounds and First Aid"},null,null,null,null,null,1,false,false,{"$f":"AND(CharacterStatus = 0,Base!V160>0)","v":false},false,{"$f":"Base!X160","v":true},1,{"$f":"Base!Y160","v":true},{"$f":"Base!Z160","v":false},{"$f":"Base!AA160","v":false},null,{"$f":"Base!AB160","v":false},{"$f":"Base!AC160","v":false},{"$f":"Base!AD160","v":false},{"$f":"Base!AE160","v":false},{"$f":"Base!AF160","v":false},{"$f":"Base!AG160","v":false},{"$f":"Base!AH160","v":false},{"$f":"Base!AI160","v":false},{"$f":"Base!AJ160","v":false},{"$f":"Base!AK160","v":false},{"$f":"Base!AL160","v":false},{"$f":"Base!AM160","v":false},{"$f":"Base!AN160","v":false},{"$f":"Base!AO160","v":false},{"$f":"Base!AP160","v":false},{"$f":"Base!AQ160","v":false},{"$f":"Base!AR160","v":false},{"$f":"Base!AS160","v":false}]
[{"$f":"Base!B161","v":"Discern Disease"},8,null,null,0,{"$f":"Base!U161","v":1},{"$f":"IF(AND(C172<>0,ISNUMBER(C172)),Base!V161*C172,IF(Base!V161=0,\"N\",\"Y\"))","v":"N"},{"$f":"Base!W161","v":"Discern Nature of Wounds"},null,null,null,null,null,0,false,false,{"$f":"AND(CharacterStatus = 0,Base!V161>0)","v":false},false,{"$f":"Base!X161","v":false},0,{"$f":"Base!Y161","v":false},{"$f":"Base!Z161","v":false},{"$f":"Base!AA161","v":false},null,{"$f":"Base!AB161","v":false},{"$f":"Base!AC161","v":false},{"$f":"Base!AD161","v":false},{"$f":"Base!AE161","v":false},{"$f":"Base!AF161","v":false},{"$f":"Base!AG161","v":false},{"$f":"Base!AH161","v":false},{"$f":"Base!AI161","v":false},{"$f":"Base!AJ161","v":false},{"$f":"Base!AK161","v":false},{"$f":"Base!AL161","v":false},{"$f":"Base!AM161","v":false},{"$f":"Base!AN161","v":false},{"$f":"Base!AO161","v":false},{"$f":"Base!AP161","v":false},{"$f":"Base!AQ161","v":false},{"$f":"Base!AR161","v":false},{"$f":"Base!AS161","v":false}]
[{"$f":"Base!B162","v":"Discern Paralysis"},8,null,null,0,{"$f":"Base!U162","v":1},{"$f":"IF(AND(C173<>0,ISNUMBER(C173)),Base!V162*C173,IF(Base!V162=0,\"N\",\"Y\"))","v":"N"},{"$f":"Base!W162","v":"Discern Nature of Wounds"},null,null,null,null,null,0,false,false,{"$f":"AND(CharacterStatus = 0,Base!V162>0)","v":false},false,{"$f":"Base!X162","v":false},0,{"$f":"Base!Y162","v":false},{"$f":"Base!Z162","v":false},{"$f":"Base!AA162","v":false},null,{"$f":"Base!AB162","v":false},{"$f":"Base!AC162","v":false},{"$f":"Base!AD162","v":false},{"$f":"Base!AE162","v":false},{"$f":"Base!AF162","v":false},{"$f":"Base!AG162","v":false},{"$f":"Base!AH162","v":false},{"$f":"Base!AI162","v":false},{"$f":"Base!AJ162","v":false},{"$f":"Base!AK162","v":false},{"$f":"Base!AL162","v":false},{"$f":"Base!AM162","v":false},{"$f":"Base!AN162","v":false},{"$f":"Base!AO162","v":false},{"$f":"Base!AP162","v":false},{"$f":"Base!AQ162","v":false},{"$f":"Base!AR162","v":false},{"$f":"Base!AS162","v":false}]
[{"$f":"Base!B163","v":"Discern Poisoning"},8,null,null,0,{"$f":"Base!U163","v":1},{"$f":"IF(AND(C174<>0,ISNUMBER(C174)),Base!V163*C174,IF(Base!V163=0,\"N\",\"Y\"))","v":"N"},{"$f":"Base!W163","v":"Discern Nature of Wounds"},null,null,null,null,null,0,false,false,{"$f":"AND(CharacterStatus = 0,Base!V163>0)","v":false},false,{"$f":"Base!X163","v":false},0,{"$f":"Base!Y163","v":false},{"$f":"Base!Z163","v":false},{"$f":"Base!AA163","v":false},null,{"$f":"Base!AB163","v":false},{"$f":"Base!AC163","v":false},{"$f":"Base!AD163","v":false},{"$f":"Base!AE163","v":false},{"$f":"Base!AF163","v":false},{"$f":"Base!AG163","v":false},{"$f":"Base!AH163","v":false},{"$f":"Base!AI163","v":false},{"$f":"Base!AJ163","v":false},{"$f":"Base!AK163","v":false},{"$f":"Base!AL163","v":false},{"$f":"Base!AM163","v":false},{"$f":"Base!AN163","v":false},{"$f":"Base!AO163","v":false},{"$f":"Base!AP163","v":false},{"$f":"Base!AQ163","v":false},{"$f":"Base!AR163","v":false},{"$f":"Base!AS163","v":false}]
[{"$f":"Base!B164","v":"Discern Spiritual Influence"},8,null,null,0,{"$f":"Base!U164","v":1},{"$f":"IF(AND(C175<>0,ISNUMBER(C175)),Base!V164*C175,IF(Base!V164=0,\"N\",\"Y\"))","v":"N"},{"$f":"Base!W164","v":"Discern Nature of Wounds"},null,null,null,null,null,0,false,false,{"$f":"AND(CharacterStatus = 0,Base!V164>0)","v":false},false,{"$f":"Base!X164","v":false},0,{"$f":"Base!Y164","v":false},{"$f":"Base!Z164","v":false},{"$f":"Base!AA164","v":false},null,{"$f":"Base!AB164","v":false},{"$f":"Base!AC164","v":false},{"$f":"Base!AD164","v":false},{"$f":"Base!AE164","v":false},{"$f":"Base!AF164","v":false},{"$f":"Base!AG164","v":false},{"$f":"Base!AH164","v":false},{"$f":"Base!AI164","v":false},{"$f":"Base!AJ164","v":false},{"$f":"Base!AK164","v":false},{"$f":"Base!AL164","v":false},{"$f":"Base!AM164","v":false},{"$f":"Base!AN164","v":false},{"$f":"Base!AO164","v":false},{"$f":"Base!AP164","v":false},{"$f":"Base!AQ164","v":false},{"$f":"Base!AR164","v":false},{"$f":"Base!AS164","v":false}]
[{"$f":"Base!B165","v":"Buy Life points (3 at a time)"},9,null,null,0,{"$f":"Base!U165","v":53},{"$f":"IF(AND(C176<>0,ISNUMBER(C176)),Base!V165*C176,IF(Base!V165=0,\"N\",\"Y\"))","v":"N"},{"$f":"Base!W165","v":"None"},null,null,null,null,null,1,false,false,{"$f":"AND(CharacterStatus = 0,Base!V165>0)","v":false},false,{"$f":"Base!X165","v":false},1,{"$f":"Base!Y165","v":true},{"$f":"Base!Z165","v":false},{"$f":"Base!AA165","v":false},null,{"$f":"Base!AB165","v":false},{"$f":"Base!AC165","v":false},{"$f":"Base!AD165","v":false},{"$f":"Base!AE165","v":false},{"$f":"Base!AF165","v":false},{"$f":"Base!AG165","v":false},{"$f":"Base!AH165","v":false},{"$f":"Base!AI165","v":false},{"$f":"Base!AJ165","v":false},{"$f":"Base!AK165","v":false},{"$f":"Base!AL165","v":false},{"$f":"Base!AM165","v":false},{"$f":"Base!AN165","v":false},{"$f":"Base!AO165","v":false},{"$f":"Base!AP165","v":false},{"$f":"Base!AQ165","v":false},{"$f":"Base!AR165","v":false},{"$f":"Base!AS165","v":false}]
[{"$f":"Base!B166","v":"Ambidexterity Mastery"},20,null,null,0,{"$f":"Base!U166","v":1},{"$f":"IF(AND(C177<>0,ISNUMBER(C177)),Base!V166*C177,IF(Base!V166=0,\"N\",\"Y\"))","v":"N"},{"$f":"Base!W166","v":"None"},null,null,null,null,null,0,false,false,{"$f":"AND(CharacterStatus = 0,Base!V166>0)","v":false},false,{"$f":"Base!X166","v":false},0,{"$f":"Base!Y166","v":false},{"$f":"Base!Z166","v":false},{"$f":"Base!AA166","v":false},null,{"$f":"Base!AB166","v":false},{"$f":"Base!AC166","v":false},{"$f":"Base!AD166","v":false},{"$f":"Base!AE166","v":false},{"$f":"Base!AF166","v":false},{"$f":"Base!AG166","v":false},{"$f":"Base!AH166","v":false},{"$f":"Base!AI166","v":false},{"$f":"Base!AJ166","v":false},{"$f":"Base!AK166","v":false},{"$f":"Base!AL166","v":false},{"$f":"Base!AM166","v":false},{"$f":"Base!AN166","v":false},{"$f":"Base!AO166","v":false},{"$f":"Base!AP166","v":false},{"$f":"Base!AQ166","v":false},{"$f":"Base!AR166","v":false},{"$f":"Base!AS166","v":false}]
[{"$f":"Base!B167","v":"Strength"},90,null,null,0,{"$f":"Base!U167","v":1},{"$f":"IF(AND(C178<>0,ISNUMBER(C178)),Base!V167*C178,IF(Base!V167=0,\"N\",\"Y\"))","v":"N"},{"$f":"Base!W167","v":"None"},null,null,null,null,null,0,false,false,{"$f":"AND(CharacterStatus = 0,Base!V167>0)","v":false},false,{"$f":"Base!X167","v":false},0,{"$f":"Base!Y167","v":false},{"$f":"Base!Z167","v":false},{"$f":"Base!AA167","v":false},null,{"$f":"Base!AB167","v":false},{"$f":"Base!AC167","v":false},{"$f":"Base!AD167","v":false},{"$f":"Base!AE167","v":false},{"$f":"Base!AF167","v":false},{"$f":"Base!AG167","v":false},{"$f":"Base!AH167","v":false},{"$f":"Base!AI167","v":false},{"$f":"Base!AJ167","v":false},{"$f":"Base!AK167","v":false},{"$f":"Base!AL167","v":false},{"$f":"Base!AM167","v":false},{"$f":"Base!AN167","v":false},{"$f":"Base!AO167","v":false},{"$f":"Base!AP167","v":false},{"$f":"Base!AQ167","v":false},{"$f":"Base!AR167","v":false},{"$f":"Base!AS167","v":false}]
[{"$f":"Base!B168","v":"Strength - Double"},180,null,null,0,{"$f":"Base!U168","v":1},{"$f":"IF(AND(C179<>0,ISNUMBER(C179)),Base!V168*C179,IF(Base!V168=0,\"N\",\"Y\"))","v":"Y"},{"$f":"Base!W168","v":"Strength"},null,null,null,null,null,0,false,false,{"$f":"AND(CharacterStatus = 0,Base!V168>0)","v":true},false,{"$f":"Base!X168","v":true},0,{"$f":"Base!Y168","v":false},{"$f":"Base!Z168","v":false},{"$f":"Base!AA168","v":false},null,{"$f":"Base!AB168","v":false},{"$f":"Base!AC168","v":false},{"$f":"Base!AD168","v":false},{"$f":"Base!AE168","v":false},{"$f":"Base!AF168","v":false},{"$f":"Base!AG168","v":false},{"$f":"Base!AH168","v":false},{"$f":"Base!AI168","v":false},{"$f":"Base!AJ168","v":false},{"$f":"Base!AK168","v":false},{"$f":"Base!AL168","v":false},{"$f":"Base!AM168","v":false},{"$f":"Base!AN168","v":false},{"$f":"Base!AO168","v":false},{"$f":"Base!AP168","v":false},{"$f":"Base!AQ168","v":false},{"$f":"Base!AR168","v":false},{"$f":"Base!AS168","v":false}]
[{"$f":"Base!B169","v":"Strength - Triple"},270,null,null,0,{"$f":"Base!U169","v":1},{"$f":"IF(AND(C180<>0,ISNUMBER(C180)),Base!V169*C180,IF(Base!V169=0,\"N\",\"Y\"))","v":"Y"},{"$f":"Base!W169","v":"Double Strength"},null,null,null,null,null,0,false,false,{"$f":"AND(CharacterStatus = 0,Base!V169>0)","v":true},false,{"$f":"Base!X169","v":true},0,{"$f":"Base!Y169","v":false},{"$f":"Base!Z169","v":false},{"$f":"Base!AA169","v":false},null,{"$f":"Base!AB169","v":false},{"$f":"Base!AC169","v":false},{"$f":"Base!AD169","v":false},{"$f":"Base!AE169","v":false},{"$f":"Base!AF169","v":false},{"$f":"Base!AG169","v":false},{"$f":"Base!AH169","v":false},{"$f":"Base!AI169","v":false},{"$f":"Base!AJ169","v":false},{"$f":"Base!AK169","v":false},{"$f":"Base!AL169","v":false},{"$f":"Base!AM169","v":false},{"$f":"Base!AN169","v":false},{"$f":"Base!AO169","v":false},{"$f":"Base!AP169","v":false},{"$f":"Base!AQ169","v":false},{"$f":"Base!AR169","v":false},{"$f":"Base!AS169","v":false}]
[{"$f":"Base!B170","v":"Toughened Skin"},90,null,null,0,{"$f":"Base!U170","v":1},{"$f":"IF(AND(C181<>0,ISNUMBER(C181)),Base!V170*C181,IF(Base!V170=0,\"N\",\"Y\"))","v":"N"},{"$f":"Base!W170","v":"None"},null,null,null,null,null,0,false,false,{"$f":"AND(CharacterStatus = 0,Base!V170>0)","v":false},false,{"$f":"Base!X170","v":false},0,{"$f":"Base!Y170","v":false},{"$f":"Base!Z170","v":false},{"$f":"Base!AA170","v":false},null,{"$f":"Base!AB170","v":false},{"$f":"Base!AC170","v":false},{"$f":"Base!AD170","v":false},{"$f":"Base!AE170","v":false},{"$f":"Base!AF170","v":false},{"$f":"Base!AG170","v":false},{"$f":"Base!AH170","v":false},{"$f":"Base!AI170","v":false},{"$f":"Base!AJ170","v":false},{"$f":"Base!AK170","v":false},{"$f":"Base!AL170","v":false},{"$f":"Base!AM170","v":false},{"$f":"Base!AN170","v":false},{"$f":"Base!AO170","v":false},{"$f":"Base!AP170","v":false},{"$f":"Base!AQ170","v":false},{"$f":"Base!AR170","v":false},{"$f":"Base!AS170","v":false}]
[{"$f":"Base!B171","v":"Toughened Skin Mastery"},90,null,null,0,{"$f":"Base!U171","v":1},{"$f":"IF(AND(C182<>0,ISNUMBER(C182)),Base!V171*C182,IF(Base!V171=0,\"N\",\"Y\"))","v":"Y"},{"$f":"Base!W171","v":"Toughened Skin"},null,null,null,null,null,0,false,false,{"$f":"AND(CharacterStatus = 0,Base!V171>0)","v":true},false,{"$f":"Base!X171","v":true},0,{"$f":"Base!Y171","v":false},{"$f":"Base!Z171","v":false},{"$f":"Base!AA171","v":false},null,{"$f":"Base!AB171","v":false},{"$f":"Base!AC171","v":false},{"$f":"Base!AD171","v":false},{"$f":"Base!AE171","v":false},{"$f":"Base!AF171","v":false},{"$f":"Base!AG171","v":false},{"$f":"Base!AH171","v":false},{"$f":"Base!AI171","v":false},{"$f":"Base!AJ171","v":false},{"$f":"Base!AK171","v":false},{"$f":"Base!AL171","v":false},{"$f":"Base!AM171","v":false},{"$f":"Base!AN171","v":false},{"$f":"Base!AO171","v":false},{"$f":"Base!AP171","v":false},{"$f":"Base!AQ171","v":false},{"$f":"Base!AR171","v":false},{"$f":"Base!AS171","v":false}]
[{"$f":"Base!B172","v":"Toughened Skin Enhanced Mastery"},90,null,null,0,{"$f":"Base!U172","v":1},{"$f":"IF(AND(C183<>0,ISNUMBER(C183)),Base!V172*C183,IF(Base!V172=0,\"N\",\"Y\"))","v":"N"},{"$f":"Base!W172","v":"Toughened Skin Mastery"},null,null,null,null,null,0,false,false,{"$f":"AND(CharacterStatus = 0,Base!V172>0)","v":false},false,{"$f":"Base!X172","v":true},0,{"$f":"Base!Y172","v":false},{"$f":"Base!Z172","v":false},{"$f":"Base!AA172","v":false},null,{"$f":"Base!AB172","v":false},{"$f":"Base!AC172","v":false},{"$f":"Base!AD172","v":false},{"$f":"Base!AE172","v":false},{"$f":"Base!AF172","v":false},{"$f":"Base!AG172","v":false},{"$f":"Base!AH172","v":false},{"$f":"Base!AI172","v":false},{"$f":"Base!AJ172","v":false},{"$f":"Base!AK172","v":false},{"$f":"Base!AL172","v":false},{"$f":"Base!AM172","v":false},{"$f":"Base!AN172","v":false},{"$f":"Base!AO172","v":false},{"$f":"Base!AP172","v":false},{"$f":"Base!AQ172","v":false},{"$f":"Base!AR172","v":false},{"$f":"Base!AS172","v":false}]
[{"$f":"Base!B173","v":"Toughened Skin Superior Mastery"},90,null,null,0,{"$f":"Base!U173","v":1},{"$f":"IF(AND(C184<>0,ISNUMBER(C184)),Base!V173*C184,IF(Base!V173=0,\"N\",\"Y\"))","v":"Y"},{"$f":"Base!W173","v":"Toughened Skin Enhanced Mastery"},null,null,null,null,null,0,false,false,{"$f":"AND(CharacterStatus = 0,Base!V173>0)","v":true},false,{"$f":"Base!X173","v":true},{"$f":"IF(OR(U184,AND(V184,CharacterRank>=W184),AND(Y184,CharacterRank>=Z184),AND(AA184,CharacterRank>=AB184),AND(AC184,CharacterRank>=AD184),AND(AE184,CharacterRank>=AF184),AND(AG184,CharacterRank>=AH184),AND(AI184,CharacterRank>=AJ184),AND(AK184,CharacterRank>=AL184),AND(AM184,CharacterRank>=AN184),AND(AO184,CharacterRank>=AP184)),1,0)","v":0},{"$f":"Base!Y173","v":false},{"$f":"Base!Z173","v":false},{"$f":"Base!AA173","v":false},null,{"$f":"Base!AB173","v":false},{"$f":"Base!AC173","v":false},{"$f":"Base!AD173","v":false},{"$f":"Base!AE173","v":false},{"$f":"Base!AF173","v":false},{"$f":"Base!AG173","v":false},{"$f":"Base!AH173","v":false},{"$f":"Base!AI173","v":false},{"$f":"Base!AJ173","v":false},{"$f":"Base!AK173","v":false},{"$f":"Base!AL173","v":false},{"$f":"Base!AM173","v":false},{"$f":"Base!AN173","v":false},{"$f":"Base!AO173","v":false},{"$f":"Base!AP173","v":false},{"$f":"Base!AQ173","v":false},{"$f":"Base!AR173","v":false},{"$f":"Base!AS173","v":false}]
[{"$f":"Base!B174","v":"Alchemist"},15,null,null,0,{"$f":"Base!U174","v":1},{"$f":"IF(AND(C185<>0,ISNUMBER(C185)),Base!V174*C185,IF(Base!V174=0,\"N\",\"Y\"))","v":"Y"},{"$f":"Base!W174","v":"None"},null,null,null,null,null,0,false,false,{"$f":"AND(CharacterStatus = 0,Base!V174>0)","v":true},false,{"$f":"Base!X174","v":false},0,{"$f":"Base!Y174","v":false},{"$f":"Base!Z174","v":false},{"$f":"Base!AA174","v":false},null,{"$f":"Base!AB174","v":false},{"$f":"Base!AC174","v":false},{"$f":"Base!AD174","v":false},{"$f":"Base!AE174","v":false},{"$f":"Base!AF174","v":false},{"$f":"Base!AG174","v":false},{"$f":"Base!AH174","v":false},{"$f":"Base!AI174","v":false},{"$f":"Base!AJ174","v":false},{"$f":"Base!AK174","v":false},{"$f":"Base!AL174","v":false},{"$f":"Base!AM174","v":false},{"$f":"Base!AN174","v":false},{"$f":"Base!AO174","v":false},{"$f":"Base!AP174","v":false},{"$f":"Base!AQ174","v":false},{"$f":"Base!AR174","v":false},{"$f":"Base!AS174","v":false}]
[{"$f":"Base!B175","v":"Additional Alchemical Recipes"},0,null,null,{"$f":"C186*B186","v":0},{"$f":"Base!U175","v":"N/A"},{"$f":"IF(AND(C186<>0,ISNUMBER(C186)),Base!V175*C186,IF(Base!V175=0,\"N\",\"Y\"))","v":"Y"},{"$f":"Base!W175","v":0},null,null,null,null,null,{"$f":"IF(OR(T186=1,NOT(C186=0),NOT(D186=0)),1,0)","v":0},{"$f":"NOT(OR(ISBLANK(C186),C186=0))","v":false},{"$f":"AND(F186<>\"N\",C186>F186)","v":false},{"$f":"AND(CharacterStatus = 0,Base!V175>0)","v":true},{"$f":"AND(CharacterStatus > 0,G186>0,G186<>\"N\")","v":false},{"$f":"Base!X175","v":false},{"$f":"IF(OR(U186,AND(V186,CharacterRank>=W186),AND(Y186,CharacterRank>=Z186),AND(AA186,CharacterRank>=AB186),AND(AC186,CharacterRank>=AD186),AND(AE186,CharacterRank>=AF186),AND(AG186,CharacterRank>=AH186),AND(AI186,CharacterRank>=AJ186),AND(AK186,CharacterRank>=AL186),AND(AM186,CharacterRank>=AN186),AND(AO186,CharacterRank>=AP186)),1,0)","v":0},{"$f":"Base!Y175","v":false},{"$f":"Base!Z175","v":false},{"$f":"Base!AA175","v":false},null,{"$f":"Base!AB175","v":false},{"$f":"Base!AC175","v":false},{"$f":"Base!AD175","v":false},{"$f":"Base!AE175","v":false},{"$f":"Base!AF175","v":false},{"$f":"Base!AG175","v":false},{"$f":"Base!AH175","v":false},{"$f":"Base!AI175","v":false},{"$f":"Base!AJ175","v":false},{"$f":"Base!AK175","v":false},{"$f":"Base!AL175","v":false},{"$f":"Base!AM175","v":false},{"$f":"Base!AN175","v":false},{"$f":"Base!AO175","v":false},{"$f":"Base!AP175","v":false},{"$f":"Base!AQ175","v":false},{"$f":"Base!AR175","v":false},{"$f":"Base!AS175","v":false}]
[{"$f":"Base!B176","v":"Transmutation"},25,null,null,0,{"$f":"Base!U176","v":1},{"$f":"IF(AND(C187<>0,ISNUMBER(C187)),Base!V176*C187,IF(Base!V176=0,\"N\",\"Y\"))","v":"Y"},{"$f":"Base!W176","v":"Alchemist"},null,null,null,null,null,0,false,false,{"$f":"AND(CharacterStatus = 0,Base!V176>0)","v":true},false,{"$f":"Base!X176","v":true},0,{"$f":"Base!Y176","v":false},{"$f":"Base!Z176","v":false},{"$f":"Base!AA176","v":false},null,{"$f":"Base!AB176","v":false},{"$f":"Base!AC176","v":false},{"$f":"Base!AD176","v":false},{"$f":"Base!AE176","v":false},{"$f":"Base!AF176","v":false},{"$f":"Base!AG176","v":false},{"$f":"Base!AH176","v":false},{"$f":"Base!AI176","v":false},{"$f":"Base!AJ176","v":false},{"$f":"Base!AK176","v":false},{"$f":"Base!AL176","v":false},{"$f":"Base!AM176","v":false},{"$f":"Base!AN176","v":false},{"$f":"Base!AO176","v":false},{"$f":"Base!AP176","v":false},{"$f":"Base!AQ176","v":false},{"$f":"Base!AR176","v":false},{"$f":"Base!AS176","v":false}]
[{"$f":"Base!B177","v":"Transmutation Mastery"},37,null,null,0,{"$f":"Base!U177","v":1},{"$f":"IF(AND(C188<>0,ISNUMBER(C188)),Base!V177*C188,IF(Base!V177=0,\"N\",\"Y\"))","v":"N"},{"$f":"Base!W177","v":"Transmutation, Philosopher's Stone"},null,null,null,null,null,0,false,false,{"$f":"AND(CharacterStatus = 0,Base!V177>0)","v":false},false,{"$f":"Base!X177","v":true},0,{"$f":"Base!Y177","v":false},{"$f":"Base!Z177","v":false},{"$f":"Base!AA177","v":false},null,{"$f":"Base!AB177","v":false},{"$f":"Base!AC177","v":false},{"$f":"Base!AD177","v":false},{"$f":"Base!AE177","v":false},{"$f":"Base!AF177","v":false},{"$f":"Base!AG177","v":false},{"$f":"Base!AH177","v":false},{"$f":"Base!AI177","v":false},{"$f":"Base!AJ177","v":false},{"$f":"Base!AK177","v":false},{"$f":"Base!AL177","v":false},{"$f":"Base!AM177","v":false},{"$f":"Base!AN177","v":false},{"$f":"Base!AO177","v":false},{"$f":"Base!AP177","v":false},{"$f":"Base!AQ177","v":false},{"$f":"Base!AR177","v":false},{"$f":"Base!AS177","v":false}]
[{"$f":"Base!B178","v":"Transmutation Enhanced Mastery"},50,null,null,0,{"$f":"Base!U178","v":1},{"$f":"IF(AND(C189<>0,ISNUMBER(C189)),Base!V178*C189,IF(Base!V178=0,\"N\",\"Y\"))","v":"N"},{"$f":"Base!W178","v":"Transmutation Mastery"},null,null,null,null,null,0,false,false,{"$f":"AND(CharacterStatus = 0,Base!V178>0)","v":false},false,{"$f":"Base!X178","v":true},0,{"$f":"Base!Y178","v":false},{"$f":"Base!Z178","v":false},{"$f":"Base!AA178","v":false},null,{"$f":"Base!AB178","v":false},{"$f":"Base!AC178","v":false},{"$f":"Base!AD178","v":false},{"$f":"Base!AE178","v":false},{"$f":"Base!AF178","v":false},{"$f":"Base!AG178","v":false},{"$f":"Base!AH178","v":false},{"$f":"Base!AI178","v":false},{"$f":"Base!AJ178","v":false},{"$f":"Base!AK178","v":false},{"$f":"Base!AL178","v":false},{"$f":"Base!AM178","v":false},{"$f":"Base!AN178","v":false},{"$f":"Base!AO178","v":false},{"$f":"Base!AP178","v":false},{"$f":"Base!AQ178","v":false},{"$f":"Base!AR178","v":false},{"$f":"Base!AS178","v":false}]
[{"$f":"Base!B179","v":"Philosopher's Stone"},30,null,null,0,{"$f":"Base!U179","v":1},{"$f":"IF(AND(C190<>0,ISNUMBER(C190)),Base!V179*C190,IF(Base!V179=0,\"N\",\"Y\"))","v":"Y"},{"$f":"Base!W179","v":"Transmutation"},null,null,null,null,null,0,false,false,{"$f":"AND(CharacterStatus = 0,Base!V179>0)","v":true},false,{"$f":"Base!X179","v":true},0,{"$f":"Base!Y179","v":false},{"$f":"Base!Z179","v":false},{"$f":"Base!AA179","v":false},null,{"$f":"Base!AB179","v":false},{"$f":"Base!AC179","v":false},{"$f":"Base!AD179","v":false},{"$f":"Base!AE179","v":false},{"$f":"Base!AF179","v":false},{"$f":"Base!AG179","v":false},{"$f":"Base!AH179","v":false},{"$f":"Base!AI179","v":false},{"$f":"Base!AJ179","v":false},{"$f":"Base!AK179","v":false},{"$f":"Base!AL179","v":false},{"$f":"Base!AM179","v":false},{"$f":"Base!AN179","v":false},{"$f":"Base!AO179","v":false},{"$f":"Base!AP179","v":false},{"$f":"Base!AQ179","v":false},{"$f":"Base!AR179","v":false},{"$f":"Base!AS179","v":false}]
[{"$f":"Base!B180","v":"Philosopher's Stone Mastery"},30,null,null,0,{"$f":"Base!U180","v":1},{"$f":"IF(AND(C191<>0,ISNUMBER(C191)),Base!V180*C191,IF(Base!V180=0,\"N\",\"Y\"))","v":"N"},{"$f":"Base!W180","v":"Philosopher's Stone"},null,null,null,null,null,0,false,false,{"$f":"AND(CharacterStatus = 0,Base!V180>0)","v":false},false,{"$f":"Base!X180","v":true},0,{"$f":"Base!Y180","v":false},{"$f":"Base!Z180","v":false},{"$f":"Base!AA180","v":false},null,{"$f":"Base!AB180","v":false},{"$f":"Base!AC180","v":false},{"$f":"Base!AD180","v":false},{"$f":"Base!AE180","v":false},{"$f":"Base!AF180","v":false},{"$f":"Base!AG180","v":false},{"$f":"Base!AH180","v":false},{"$f":"Base!AI180","v":false},{"$f":"Base!AJ180","v":false},{"$f":"Base!AK180","v":false},{"$f":"Base!AL180","v":false},{"$f":"Base!AM180","v":false},{"$f":"Base!AN180","v":false},{"$f":"Base!AO180","v":false},{"$f":"Base!AP180","v":false},{"$f":"Base!AQ180","v":false},{"$f":"Base!AR180","v":false},{"$f":"Base!AS180","v":false}]
[{"$f":"Base!B181","v":"Philosopher's Stone Enhanced Mastery"},30,null,null,0,{"$f":"Base!U181","v":1},{"$f":"IF(AND(C192<>0,ISNUMBER(C192)),Base!V181*C192,IF(Base!V181=0,\"N\",\"Y\"))","v":"N"},{"$f":"Base!W181","v":"Philosopher's Stone Mastery"},null,null,null,null,null,0,false,false,{"$f":"AND(CharacterStatus = 0,Base!V181>0)","v":false},false,{"$f":"Base!X181","v":true},0,{"$f":"Base!Y181","v":false},{"$f":"Base!Z181","v":false},{"$f":"Base!AA181","v":false},null,{"$f":"Base!AB181","v":false},{"$f":"Base!AC181","v":false},{"$f":"Base!AD181","v":false},{"$f":"Base!AE181","v":false},{"$f":"Base!AF181","v":false},{"$f":"Base!AG181","v":false},{"$f":"Base!AH181","v":false},{"$f":"Base!AI181","v":false},{"$f":"Base!AJ181","v":false},{"$f":"Base!AK181","v":false},{"$f":"Base!AL181","v":false},{"$f":"Base!AM181","v":false},{"$f":"Base!AN181","v":false},{"$f":"Base!AO181","v":false},{"$f":"Base!AP181","v":false},{"$f":"Base!AQ181","v":false},{"$f":"Base!AR181","v":false},{"$f":"Base!AS181","v":false}]
[{"$f":"Base!B182","v":"Construct Laboratory"},30,null,null,0,{"$f":"Base!U182","v":1},{"$f":"IF(AND(C193<>0,ISNUMBER(C193)),Base!V182*C193,IF(Base!V182=0,\"N\",\"Y\"))","v":"Y"},{"$f":"Base!W182","v":"Transmutation"},null,null,null,null,null,0,false,false,{"$f":"AND(CharacterStatus = 0,Base!V182>0)","v":true},false,{"$f":"Base!X182","v":true},0,{"$f":"Base!Y182","v":false},{"$f":"Base!Z182","v":false},{"$f":"Base!AA182","v":false},null,{"$f":"Base!AB182","v":false},{"$f":"Base!AC182","v":false},{"$f":"Base!AD182","v":false},{"$f":"Base!AE182","v":false},{"$f":"Base!AF182","v":false},{"$f":"Base!AG182","v":false},{"$f":"Base!AH182","v":false},{"$f":"Base!AI182","v":false},{"$f":"Base!AJ182","v":false},{"$f":"Base!AK182","v":false},{"$f":"Base!AL182","v":false},{"$f":"Base!AM182","v":false},{"$f":"Base!AN182","v":false},{"$f":"Base!AO182","v":false},{"$f":"Base!AP182","v":false},{"$f":"Base!AQ182","v":false},{"$f":"Base!AR182","v":false},{"$f":"Base!AS182","v":false}]
[{"$f":"Base!B183","v":"Construct Laboratory Mastery"},30,null,null,0,{"$f":"Base!U183","v":1},{"$f":"IF(AND(C194<>0,ISNUMBER(C194)),Base!V183*C194,IF(Base!V183=0,\"N\",\"Y\"))","v":"Y"},{"$f":"Base!W183","v":"Construct Laboratory"},null,null,null,null,null,0,false,false,{"$f":"AND(CharacterStatus = 0,Base!V183>0)","v":true},false,{"$f":"Base!X183","v":true},0,{"$f":"Base!Y183","v":false},{"$f":"Base!Z183","v":false},{"$f":"Base!AA183","v":false},null,{"$f":"Base!AB183","v":false},{"$f":"Base!AC183","v":false},{"$f":"Base!AD183","v":false},{"$f":"Base!AE183","v":false},{"$f":"Base!AF183","v":false},{"$f":"Base!AG183","v":false},{"$f":"Base!AH183","v":false},{"$f":"Base!AI183","v":false},{"$f":"Base!AJ183","v":false},{"$f":"Base!AK183","v":false},{"$f":"Base!AL183","v":false},{"$f":"Base!AM183","v":false},{"$f":"Base!AN183","v":false},{"$f":"Base!AO183","v":false},{"$f":"Base!AP183","v":false},{"$f":"Base!AQ183","v":false},{"$f":"Base!AR183","v":false},{"$f":"Base!AS183","v":false}]
[{"$f":"Base!B184","v":"Construct Laboratory Enhanced Mastery"},30,null,null,0,{"$f":"Base!U184","v":1},{"$f":"IF(AND(C195<>0,ISNUMBER(C195)),Base!V184*C195,IF(Base!V184=0,\"N\",\"Y\"))","v":"N"},{"$f":"Base!W184","v":"Construct Laboratory Mastery"},null,null,null,null,null,0,false,false,{"$f":"AND(CharacterStatus = 0,Base!V184>0)","v":false},false,{"$f":"Base!X184","v":true},0,{"$f":"Base!Y184","v":false},{"$f":"Base!Z184","v":false},{"$f":"Base!AA184","v":false},null,{"$f":"Base!AB184","v":false},{"$f":"Base!AC184","v":false},{"$f":"Base!AD184","v":false},{"$f":"Base!AE184","v":false},{"$f":"Base!AF184","v":false},{"$f":"Base!AG184","v":false},{"$f":"Base!AH184","v":false},{"$f":"Base!AI184","v":false},{"$f":"Base!AJ184","v":false},{"$f":"Base!AK184","v":false},{"$f":"Base!AL184","v":false},{"$f":"Base!AM184","v":false},{"$f":"Base!AN184","v":false},{"$f":"Base!AO184","v":false},{"$f":"Base!AP184","v":false},{"$f":"Base!AQ184","v":false},{"$f":"Base!AR184","v":false},{"$f":"Base!AS184","v":false}]
[{"$f":"Base!B185","v":"Construct Laboratory Superior Mastery"},30,null,null,{"$f":"C196*B196","v":0},{"$f":"Base!U185","v":1},{"$f":"IF(AND(C196<>0,ISNUMBER(C196)),Base!V185*C196,IF(Base!V185=0,\"N\",\"Y\"))","v":"N"},{"$f":"Base!W185","v":"Construct Laboratory Enhanced Mastery"},null,null,null,null,null,{"$f":"IF(OR(T196=1,NOT(C196=0),NOT(D196=0)),1,0)","v":0},{"$f":"NOT(OR(ISBLANK(C196),C196=0))","v":false},{"$f":"AND(F196<>\"N\",C196>F196)","v":false},{"$f":"AND(CharacterStatus = 0,Base!V185>0)","v":false},{"$f":"AND(CharacterStatus > 0,G196>0,G196<>\"N\")","v":false},{"$f":"Base!X185","v":true},{"$f":"IF(OR(U196,AND(V196,CharacterRank>=W196),AND(Y196,CharacterRank>=Z196),AND(AA196,CharacterRank>=AB196),AND(AC196,CharacterRank>=AD196),AND(AE196,CharacterRank>=AF196),AND(AG196,CharacterRank>=AH196),AND(AI196,CharacterRank>=AJ196),AND(AK196,CharacterRank>=AL196),AND(AM196,CharacterRank>=AN196),AND(AO196,CharacterRank>=AP196)),1,0)","v":0},{"$f":"Base!Y185","v":false},{"$f":"Base!Z185","v":false},{"$f":"Base!AA185","v":false},null,{"$f":"Base!AB185","v":false},{"$f":"Base!AC185","v":false},{"$f":"Base!AD185","v":false},{"$f":"Base!AE185","v":false},{"$f":"Base!AF185","v":false},{"$f":"Base!AG185","v":false},{"$f":"Base!AH185","v":false},{"$f":"Base!AI185","v":false},{"$f":"Base!AJ185","v":false},{"$f":"Base!AK185","v":false},{"$f":"Base!AL185","v":false},{"$f":"Base!AM185","v":false},{"$f":"Base!AN185","v":false},{"$f":"Base!AO185","v":false},{"$f":"Base!AP185","v":false},{"$f":"Base!AQ185","v":false},{"$f":"Base!AR185","v":false},{"$f":"Base!AS185","v":false}]
[{"$f":"Base!B186","v":"Potion Master"},0,null,null,0,{"$f":"Base!U186","v":1},{"$f":"IF(AND(C197<>0,ISNUMBER(C197)),Base!V186*C197,IF(Base!V186=0,\"N\",\"Y\"))","v":"Y"},{"$f":"Base!W186","v":"Primary Skirmisher"},null,null,null,null,null,0,false,false,{"$f":"AND(CharacterStatus = 0,Base!V186>0)","v":true},false,{"$f":"Base!X186","v":true},0,{"$f":"Base!Y186","v":false},{"$f":"Base!Z186","v":false},{"$f":"Base!AA186","v":false},null,{"$f":"Base!AB186","v":false},{"$f":"Base!AC186","v":false},{"$f":"Base!AD186","v":false},{"$f":"Base!AE186","v":false},{"$f":"Base!AF186","v":false},{"$f":"Base!AG186","v":false},{"$f":"Base!AH186","v":false},{"$f":"Base!AI186","v":false},{"$f":"Base!AJ186","v":false},{"$f":"Base!AK186","v":false},{"$f":"Base!AL186","v":false},{"$f":"Base!AM186","v":false},{"$f":"Base!AN186","v":false},{"$f":"Base!AO186","v":false},{"$f":"Base!AP186","v":false},{"$f":"Base!AQ186","v":false},{"$f":"Base!AR186","v":false},{"$f":"Base!AS186","v":false}]
[{"$f":"Base!B187","v":"Poison Master"},0,null,null,0,{"$f":"Base!U187","v":1},{"$f":"IF(AND(C198<>0,ISNUMBER(C198)),Base!V187*C198,IF(Base!V187=0,\"N\",\"Y\"))","v":"Y"},{"$f":"Base!W187","v":"Primary Assassin"},null,null,null,null,null,0,false,false,{"$f":"AND(CharacterStatus = 0,Base!V187>0)","v":true},false,{"$f":"Base!X187","v":true},0,{"$f":"Base!Y187","v":false},{"$f":"Base!Z187","v":false},{"$f":"Base!AA187","v":false},null,{"$f":"Base!AB187","v":false},{"$f":"Base!AC187","v":false},{"$f":"Base!AD187","v":false},{"$f":"Base!AE187","v":false},{"$f":"Base!AF187","v":false},{"$f":"Base!AG187","v":false},{"$f":"Base!AH187","v":false},{"$f":"Base!AI187","v":false},{"$f":"Base!AJ187","v":false},{"$f":"Base!AK187","v":false},{"$f":"Base!AL187","v":false},{"$f":"Base!AM187","v":false},{"$f":"Base!AN187","v":false},{"$f":"Base!AO187","v":false},{"$f":"Base!AP187","v":false},{"$f":"Base!AQ187","v":false},{"$f":"Base!AR187","v":false},{"$f":"Base!AS187","v":false}]
[{"$f":"Base!B188","v":"Herbalist"},15,null,null,0,{"$f":"Base!U188","v":1},{"$f":"IF(AND(C199<>0,ISNUMBER(C199)),Base!V188*C199,IF(Base!V188=0,\"N\",\"Y\"))","v":"Y"},{"$f":"Base!W188","v":"None"},null,null,null,null,null,0,false,false,{"$f":"AND(CharacterStatus = 0,Base!V188>0)","v":true},false,{"$f":"Base!X188","v":false},0,{"$f":"Base!Y188","v":false},{"$f":"Base!Z188","v":false},{"$f":"Base!AA188","v":false},null,{"$f":"Base!AB188","v":false},{"$f":"Base!AC188","v":false},{"$f":"Base!AD188","v":false},{"$f":"Base!AE188","v":false},{"$f":"Base!AF188","v":false},{"$f":"Base!AG188","v":false},{"$f":"Base!AH188","v":false},{"$f":"Base!AI188","v":false},{"$f":"Base!AJ188","v":false},{"$f":"Base!AK188","v":false},{"$f":"Base!AL188","v":false},{"$f":"Base!AM188","v":false},{"$f":"Base!AN188","v":false},{"$f":"Base!AO188","v":false},{"$f":"Base!AP188","v":false},{"$f":"Base!AQ188","v":false},{"$f":"Base!AR188","v":false},{"$f":"Base!AS188","v":false}]
[{"$f":"Base!B189","v":"Make Herbal Potion"},25,null,null,0,{"$f":"Base!U189","v":1},{"$f":"IF(AND(C200<>0,ISNUMBER(C200)),Base!V189*C200,IF(Base!V189=0,\"N\",\"Y\"))","v":"N"},{"$f":"Base!W189","v":"Herbalist"},null,null,null,null,null,0,false,false,{"$f":"AND(CharacterStatus = 0,Base!V189>0)","v":false},false,{"$f":"Base!X189","v":true},0,{"$f":"Base!Y189","v":false},{"$f":"Base!Z189","v":false},{"$f":"Base!AA189","v":false},null,{"$f":"Base!AB189","v":false},{"$f":"Base!AC189","v":false},{"$f":"Base!AD189","v":false},{"$f":"Base!AE189","v":false},{"$f":"Base!AF189","v":false},{"$f":"Base!AG189","v":false},{"$f":"Base!AH189","v":false},{"$f":"Base!AI189","v":false},{"$f":"Base!AJ189","v":false},{"$f":"Base!AK189","v":false},{"$f":"Base!AL189","v":false},{"$f":"Base!AM189","v":false},{"$f":"Base!AN189","v":false},{"$f":"Base!AO189","v":false},{"$f":"Base!AP189","v":false},{"$f":"Base!AQ189","v":false},{"$f":"Base!AR189","v":false},{"$f":"Base!AS189","v":false}]
[{"$f":"Base!B190","v":"Make Herbal Potion Mastery"},37,null,null,0,{"$f":"Base!U190","v":1},{"$f":"IF(AND(C201<>0,ISNUMBER(C201)),Base!V190*C201,IF(Base!V190=0,\"N\",\"Y\"))","v":"N"},{"$f":"Base!W190","v":"Make Herbal Potion"},null,null,null,null,null,0,false,false,{"$f":"AND(CharacterStatus = 0,Base!V190>0)","v":false},false,{"$f":"Base!X190","v":true},0,{"$f":"Base!Y190","v":false},{"$f":"Base!Z190","v":false},{"$f":"Base!AA190","v":false},null,{"$f":"Base!AB190","v":false},{"$f":"Base!AC190","v":false},{"$f":"Base!AD190","v":false},{"$f":"Base!AE190","v":false},{"$f":"Base!AF190","v":false},{"$f":"Base!AG190","v":false},{"$f":"Base!AH190","v":false},{"$f":"Base!AI190","v":false},{"$f":"Base!AJ190","v":false},{"$f":"Base!AK190","v":false},{"$f":"Base!AL190","v":false},{"$f":"Base!AM190","v":false},{"$f":"Base!AN190","v":false},{"$f":"Base!AO190","v":false},{"$f":"Base!AP190","v":false},{"$f":"Base!AQ190","v":false},{"$f":"Base!AR190","v":false},{"$f":"Base!AS190","v":false}]
[{"$f":"Base!B191","v":"Make Herbal Potion Enhanced Mastery"},50,null,null,0,{"$f":"Base!U191","v":1},{"$f":"IF(AND(C202<>0,ISNUMBER(C202)),Base!V191*C202,IF(Base!V191=0,\"N\",\"Y\"))","v":"N"},{"$f":"Base!W191","v":"Make Herbal Potion Mastery"},null,null,null,null,null,0,false,false,{"$f":"AND(CharacterStatus = 0,Base!V191>0)","v":false},false,{"$f":"Base!X191","v":true},0,{"$f":"Base!Y191","v":false},{"$f":"Base!Z191","v":false},{"$f":"Base!AA191","v":false},null,{"$f":"Base!AB191","v":false},{"$f":"Base!AC191","v":false},{"$f":"Base!AD191","v":false},{"$f":"Base!AE191","v":false},{"$f":"Base!AF191","v":false},{"$f":"Base!AG191","v":false},{"$f":"Base!AH191","v":false},{"$f":"Base!AI191","v":false},{"$f":"Base!AJ191","v":false},{"$f":"Base!AK191","v":false},{"$f":"Base!AL191","v":false},{"$f":"Base!AM191","v":false},{"$f":"Base!AN191","v":false},{"$f":"Base!AO191","v":false},{"$f":"Base!AP191","v":false},{"$f":"Base!AQ191","v":false},{"$f":"Base!AR191","v":false},{"$f":"Base!AS191","v":false}]
[{"$f":"Base!B192","v":"Make Herbal Potion Superior Mastery"},50,null,null,{"$f":"C203*B203","v":0},{"$f":"Base!U192","v":1},{"$f":"IF(AND(C203<>0,ISNUMBER(C203)),Base!V192*C203,IF(Base!V192=0,\"N\",\"Y\"))","v":"N"},{"$f":"Base!W192","v":"Make Herbal Potion Enhanced Mastery"},null,null,null,null,null,{"$f":"IF(OR(T203=1,NOT(C203=0),NOT(D203=0)),1,0)","v":0},{"$f":"NOT(OR(ISBLANK(C203),C203=0))","v":false},{"$f":"AND(F203<>\"N\",C203>F203)","v":false},{"$f":"AND(CharacterStatus = 0,Base!V192>0)","v":false},{"$f":"AND(CharacterStatus > 0,G203>0,G203<>\"N\")","v":false},{"$f":"Base!X192","v":true},{"$f":"IF(OR(U203,AND(V203,CharacterRank>=W203),AND(Y203,CharacterRank>=Z203),AND(AA203,CharacterRank>=AB203),AND(AC203,CharacterRank>=AD203),AND(AE203,CharacterRank>=AF203),AND(AG203,CharacterRank>=AH203),AND(AI203,CharacterRank>=AJ203),AND(AK203,CharacterRank>=AL203),AND(AM203,CharacterRank>=AN203),AND(AO203,CharacterRank>=AP203)),1,0)","v":0},{"$f":"Base!Y192","v":false},{"$f":"Base!Z192","v":false},{"$f":"Base!AA192","v":false},null,{"$f":"Base!AB192","v":false},{"$f":"Base!AC192","v":false},{"$f":"Base!AD192","v":false},{"$f":"Base!AE192","v":false},{"$f":"Base!AF192","v":false},{"$f":"Base!AG192","v":false},{"$f":"Base!AH192","v":false},{"$f":"Base!AI192","v":false},{"$f":"Base!AJ192","v":false},{"$f":"Base!AK192","v":false},{"$f":"Base!AL192","v":false},{"$f":"Base!AM192","v":false},{"$f":"Base!AN192","v":false},{"$f":"Base!AO192","v":false},{"$f":"Base!AP192","v":false},{"$f":"Base!AQ192","v":false},{"$f":"Base!AR192","v":false},{"$f":"Base!AS192","v":false}]
[{"$f":"Base!B193","v":"Make Herbal Potion Exceptional Mastery"},50,null,null,0,{"$f":"Base!U193","v":1},{"$f":"IF(AND(C204<>0,ISNUMBER(C204)),Base!V193*C204,IF(Base!V193=0,\"N\",\"Y\"))","v":"N"},{"$f":"Base!W193","v":"Make Herbal Potion Superior Mastery"},null,null,null,null,null,0,false,false,{"$f":"AND(CharacterStatus = 0,Base!V193>0)","v":false},false,{"$f":"Base!X193","v":true},0,{"$f":"Base!Y193","v":false},{"$f":"Base!Z193","v":false},{"$f":"Base!AA193","v":false},null,{"$f":"Base!AB193","v":false},{"$f":"Base!AC193","v":false},{"$f":"Base!AD193","v":false},{"$f":"Base!AE193","v":false},{"$f":"Base!AF193","v":false},{"$f":"Base!AG193","v":false},{"$f":"Base!AH193","v":false},{"$f":"Base!AI193","v":false},{"$f":"Base!AJ193","v":false},{"$f":"Base!AK193","v":false},{"$f":"Base!AL193","v":false},{"$f":"Base!AM193","v":false},{"$f":"Base!AN193","v":false},{"$f":"Base!AO193","v":false},{"$f":"Base!AP193","v":false},{"$f":"Base!AQ193","v":false},{"$f":"Base!AR193","v":false},{"$f":"Base!AS193","v":false}]
[{"$f":"Base!B194","v":"Alembic"},30,null,null,0,{"$f":"Base!U194","v":1},{"$f":"IF(AND(C205<>0,ISNUMBER(C205)),Base!V194*C205,IF(Base!V194=0,\"N\",\"Y\"))","v":"Y"},{"$f":"Base!W194","v":"Herbalist"},null,null,null,null,null,0,false,false,{"$f":"AND(CharacterStatus = 0,Base!V194>0)","v":true},false,{"$f":"Base!X194","v":true},0,{"$f":"Base!Y194","v":false},{"$f":"Base!Z194","v":false},{"$f":"Base!AA194","v":false},null,{"$f":"Base!AB194","v":false},{"$f":"Base!AC194","v":false},{"$f":"Base!AD194","v":false},{"$f":"Base!AE194","v":false},{"$f":"Base!AF194","v":false},{"$f":"Base!AG194","v":false},{"$f":"Base!AH194","v":false},{"$f":"Base!AI194","v":false},{"$f":"Base!AJ194","v":false},{"$f":"Base!AK194","v":false},{"$f":"Base!AL194","v":false},{"$f":"Base!AM194","v":false},{"$f":"Base!AN194","v":false},{"$f":"Base!AO194","v":false},{"$f":"Base!AP194","v":false},{"$f":"Base!AQ194","v":false},{"$f":"Base!AR194","v":false},{"$f":"Base!AS194","v":false}]
[{"$f":"Base!B195","v":"Master Alembic"},30,null,null,0,{"$f":"Base!U195","v":1},{"$f":"IF(AND(C206<>0,ISNUMBER(C206)),Base!V195*C206,IF(Base!V195=0,\"N\",\"Y\"))","v":"N"},{"$f":"Base!W195","v":"Alembic"},null,null,null,null,null,0,false,false,{"$f":"AND(CharacterStatus = 0,Base!V195>0)","v":false},false,{"$f":"Base!X195","v":true},0,{"$f":"Base!Y195","v":false},{"$f":"Base!Z195","v":false},{"$f":"Base!AA195","v":false},null,{"$f":"Base!AB195","v":false},{"$f":"Base!AC195","v":false},{"$f":"Base!AD195","v":false},{"$f":"Base!AE195","v":false},{"$f":"Base!AF195","v":false},{"$f":"Base!AG195","v":false},{"$f":"Base!AH195","v":false},{"$f":"Base!AI195","v":false},{"$f":"Base!AJ195","v":false},{"$f":"Base!AK195","v":false},{"$f":"Base!AL195","v":false},{"$f":"Base!AM195","v":false},{"$f":"Base!AN195","v":false},{"$f":"Base!AO195","v":false},{"$f":"Base!AP195","v":false},{"$f":"Base!AQ195","v":false},{"$f":"Base!AR195","v":false},{"$f":"Base!AS195","v":false}]
[{"$f":"Base!B196","v":"Prescision Alembic"},30,null,null,0,{"$f":"Base!U196","v":1},{"$f":"IF(AND(C207<>0,ISNUMBER(C207)),Base!V196*C207,IF(Base!V196=0,\"N\",\"Y\"))","v":"N"},{"$f":"Base!W196","v":"Master Alembic"},null,null,null,null,null,0,false,false,{"$f":"AND(CharacterStatus = 0,Base!V196>0)","v":false},false,{"$f":"Base!X196","v":true},0,{"$f":"Base!Y196","v":false},{"$f":"Base!Z196","v":false},{"$f":"Base!AA196","v":false},null,{"$f":"Base!AB196","v":false},{"$f":"Base!AC196","v":false},{"$f":"Base!AD196","v":false},{"$f":"Base!AE196","v":false},{"$f":"Base!AF196","v":false},{"$f":"Base!AG196","v":false},{"$f":"Base!AH196","v":false},{"$f":"Base!AI196","v":false},{"$f":"Base!AJ196","v":false},{"$f":"Base!AK196","v":false},{"$f":"Base!AL196","v":false},{"$f":"Base!AM196","v":false},{"$f":"Base!AN196","v":false},{"$f":"Base!AO196","v":false},{"$f":"Base!AP196","v":false},{"$f":"Base!AQ196","v":false},{"$f":"Base!AR196","v":false},{"$f":"Base!AS196","v":false}]
[{"$f":"Base!B197","v":"Distil Herbal Potion"},30,null,null,0,{"$f":"Base!U197","v":1},{"$f":"IF(AND(C208<>0,ISNUMBER(C208)),Base!V197*C208,IF(Base!V197=0,\"N\",\"Y\"))","v":"Y"},{"$f":"Base!W197","v":"Alembic"},null,null,null,null,null,0,false,false,{"$f":"AND(CharacterStatus = 0,Base!V197>0)","v":true},false,{"$f":"Base!X197","v":true},0,{"$f":"Base!Y197","v":false},{"$f":"Base!Z197","v":false},{"$f":"Base!AA197","v":false},null,{"$f":"Base!AB197","v":false},{"$f":"Base!AC197","v":false},{"$f":"Base!AD197","v":false},{"$f":"Base!AE197","v":false},{"$f":"Base!AF197","v":false},{"$f":"Base!AG197","v":false},{"$f":"Base!AH197","v":false},{"$f":"Base!AI197","v":false},{"$f":"Base!AJ197","v":false},{"$f":"Base!AK197","v":false},{"$f":"Base!AL197","v":false},{"$f":"Base!AM197","v":false},{"$f":"Base!AN197","v":false},{"$f":"Base!AO197","v":false},{"$f":"Base!AP197","v":false},{"$f":"Base!AQ197","v":false},{"$f":"Base!AR197","v":false},{"$f":"Base!AS197","v":false}]
[{"$f":"Base!B198","v":"Distil Herbal Potion Mastery"},30,null,null,0,{"$f":"Base!U198","v":1},{"$f":"IF(AND(C209<>0,ISNUMBER(C209)),Base!V198*C209,IF(Base!V198=0,\"N\",\"Y\"))","v":"N"},{"$f":"Base!W198","v":"Distill Herbal Potion"},null,null,null,null,null,0,false,false,{"$f":"AND(CharacterStatus = 0,Base!V198>0)","v":false},false,{"$f":"Base!X198","v":true},0,{"$f":"Base!Y198","v":false},{"$f":"Base!Z198","v":false},{"$f":"Base!AA198","v":false},null,{"$f":"Base!AB198","v":false},{"$f":"Base!AC198","v":false},{"$f":"Base!AD198","v":false},{"$f":"Base!AE198","v":false},{"$f":"Base!AF198","v":false},{"$f":"Base!AG198","v":false},{"$f":"Base!AH198","v":false},{"$f":"Base!AI198","v":false},{"$f":"Base!AJ198","v":false},{"$f":"Base!AK198","v":false},{"$f":"Base!AL198","v":false},{"$f":"Base!AM198","v":false},{"$f":"Base!AN198","v":false},{"$f":"Base!AO198","v":false},{"$f":"Base!AP198","v":false},{"$f":"Base!AQ198","v":false},{"$f":"Base!AR198","v":false},{"$f":"Base!AS198","v":false}]
[{"$f":"Base!B199","v":"Distil Herbal Potion Enhanced Mastery "},30,null,null,0,{"$f":"Base!U199","v":1},{"$f":"IF(AND(C210<>0,ISNUMBER(C210)),Base!V199*C210,IF(Base!V199=0,\"N\",\"Y\"))","v":"N"},{"$f":"Base!W199","v":"Distill Herbal Mastery Potion"},null,null,null,null,null,0,false,false,{"$f":"AND(CharacterStatus = 0,Base!V199>0)","v":false},false,{"$f":"Base!X199","v":true},0,{"$f":"Base!Y199","v":false},{"$f":"Base!Z199","v":false},{"$f":"Base!AA199","v":false},null,{"$f":"Base!AB199","v":false},{"$f":"Base!AC199","v":false},{"$f":"Base!AD199","v":false},{"$f":"Base!AE199","v":false},{"$f":"Base!AF199","v":false},{"$f":"Base!AG199","v":false},{"$f":"Base!AH199","v":false},{"$f":"Base!AI199","v":false},{"$f":"Base!AJ199","v":false},{"$f":"Base!AK199","v":false},{"$f":"Base!AL199","v":false},{"$f":"Base!AM199","v":false},{"$f":"Base!AN199","v":false},{"$f":"Base!AO199","v":false},{"$f":"Base!AP199","v":false},{"$f":"Base!AQ199","v":false},{"$f":"Base!AR199","v":false},{"$f":"Base!AS199","v":false}]
[{"$f":"Base!B200","v":"Buy Power"},2,null,null,0,{"$f":"Base!U200","v":195},{"$f":"IF(AND(C211<>0,ISNUMBER(C211)),Base!V200*C211,IF(Base!V200=0,\"N\",\"Y\"))","v":"N"},{"$f":"Base!W200","v":"None"},null,null,null,null,null,1,false,false,{"$f":"AND(CharacterStatus = 0,Base!V200>0)","v":false},false,{"$f":"Base!X200","v":false},1,{"$f":"Base!Y200","v":true},{"$f":"Base!Z200","v":false},{"$f":"Base!AA200","v":false},null,{"$f":"Base!AB200","v":false},{"$f":"Base!AC200","v":false},{"$f":"Base!AD200","v":false},{"$f":"Base!AE200","v":false},{"$f":"Base!AF200","v":false},{"$f":"Base!AG200","v":false},{"$f":"Base!AH200","v":false},{"$f":"Base!AI200","v":false},{"$f":"Base!AJ200","v":false},{"$f":"Base!AK200","v":false},{"$f":"Base!AL200","v":false},{"$f":"Base!AM200","v":false},{"$f":"Base!AN200","v":false},{"$f":"Base!AO200","v":false},{"$f":"Base!AP200","v":false},{"$f":"Base!AQ200","v":false},{"$f":"Base!AR200","v":false},{"$f":"Base!AS200","v":false}]
[{"$f":"Base!B201","v":"Meditate Power"},8,null,null,0,{"$f":"Base!U201","v":1},{"$f":"IF(AND(C212<>0,ISNUMBER(C212)),Base!V201*C212,IF(Base!V201=0,\"N\",\"Y\"))","v":"N"},{"$f":"Base!W201","v":"None"},null,null,null,null,null,1,false,false,{"$f":"AND(CharacterStatus = 0,Base!V201>0)","v":false},false,{"$f":"Base!X201","v":false},1,{"$f":"Base!Y201","v":true},{"$f":"Base!Z201","v":false},{"$f":"Base!AA201","v":false},null,{"$f":"Base!AB201","v":false},{"$f":"Base!AC201","v":false},{"$f":"Base!AD201","v":false},{"$f":"Base!AE201","v":false},{"$f":"Base!AF201","v":false},{"$f":"Base!AG201","v":false},{"$f":"Base!AH201","v":false},{"$f":"Base!AI201","v":false},{"$f":"Base!AJ201","v":false},{"$f":"Base!AK201","v":false},{"$f":"Base!AL201","v":false},{"$f":"Base!AM201","v":false},{"$f":"Base!AN201","v":false},{"$f":"Base!AO201","v":false},{"$f":"Base!AP201","v":false},{"$f":"Base!AQ201","v":false},{"$f":"Base!AR201","v":false},{"$f":"Base!AS201","v":false}]
[{"$f":"Base!B202","v":"Meditate Power Mastery"},8,null,null,0,{"$f":"Base!U202","v":1},{"$f":"IF(AND(C213<>0,ISNUMBER(C213)),Base!V202*C213,IF(Base!V202=0,\"N\",\"Y\"))","v":"N"},{"$f":"Base!W202","v":"Meditate Power"},null,null,null,null,null,0,false,false,{"$f":"AND(CharacterStatus = 0,Base!V202>0)","v":false},false,{"$f":"Base!X202","v":true},{"$f":"IF(OR(U213,AND(V213,CharacterRank>=W213),AND(Y213,CharacterRank>=Z213),AND(AA213,CharacterRank>=AB213),AND(AC213,CharacterRank>=AD213),AND(AE213,CharacterRank>=AF213),AND(AG213,CharacterRank>=AH213),AND(AI213,CharacterRank>=AJ213),AND(AK213,CharacterRank>=AL213),AND(AM213,CharacterRank>=AN213),AND(AO213,CharacterRank>=AP213)),1,0)","v":0},{"$f":"Base!Y202","v":false},{"$f":"Base!Z202","v":false},{"$f":"Base!AA202","v":false},null,{"$f":"Base!AB202","v":false},{"$f":"Base!AC202","v":false},{"$f":"Base!AD202","v":false},{"$f":"Base!AE202","v":false},{"$f":"Base!AF202","v":false},{"$f":"Base!AG202","v":false},{"$f":"Base!AH202","v":false},{"$f":"Base!AI202","v":false},{"$f":"Base!AJ202","v":false},{"$f":"Base!AK202","v":false},{"$f":"Base!AL202","v":false},{"$f":"Base!AM202","v":false},{"$f":"Base!AN202","v":false},{"$f":"Base!AO202","v":false},{"$f":"Base!AP202","v":false},{"$f":"Base!AQ202","v":false},{"$f":"Base!AR202","v":false},{"$f":"Base!AS202","v":false}]
[{"$f":"Base!B203","v":"Meditate Power Enhanced Mastery"},8,null,null,0,{"$f":"Base!U203","v":1},{"$f":"IF(AND(C214<>0,ISNUMBER(C214)),Base!V203*C214,IF(Base!V203=0,\"N\",\"Y\"))","v":"N"},{"$f":"Base!W203","v":"Meditate Power Mastery"},null,null,null,null,null,0,false,false,{"$f":"AND(CharacterStatus = 0,Base!V203>0)","v":false},false,{"$f":"Base!X203","v":true},0,{"$f":"Base!Y203","v":false},{"$f":"Base!Z203","v":false},{"$f":"Base!AA203","v":false},null,{"$f":"Base!AB203","v":false},{"$f":"Base!AC203","v":false},{"$f":"Base!AD203","v":false},{"$f":"Base!AE203","v":false},{"$f":"Base!AF203","v":false},{"$f":"Base!AG203","v":false},{"$f":"Base!AH203","v":false},{"$f":"Base!AI203","v":false},{"$f":"Base!AJ203","v":false},{"$f":"Base!AK203","v":false},{"$f":"Base!AL203","v":false},{"$f":"Base!AM203","v":false},{"$f":"Base!AN203","v":false},{"$f":"Base!AO203","v":false},{"$f":"Base!AP203","v":false},{"$f":"Base!AQ203","v":false},{"$f":"Base!AR203","v":false},{"$f":"Base!AS203","v":false}]
[{"$f":"Base!B204","v":"Meditate Power Superior Mastery"},8,null,null,0,{"$f":"Base!U204","v":1},{"$f":"IF(AND(C215<>0,ISNUMBER(C215)),Base!V204*C215,IF(Base!V204=0,\"N\",\"Y\"))","v":"Y"},{"$f":"Base!W204","v":"Meditate Power Enhanced Mastery"},null,null,null,null,null,{"$f":"IF(OR(T215=1,NOT(C215=0),NOT(D215=0)),1,0)","v":0},{"$f":"NOT(OR(ISBLANK(C215),C215=0))","v":false},{"$f":"AND(F215<>\"N\",C215>F215)","v":false},{"$f":"AND(CharacterStatus = 0,Base!V204>0)","v":true},{"$f":"AND(CharacterStatus > 0,G215>0,G215<>\"N\")","v":false},{"$f":"Base!X204","v":true},0,{"$f":"Base!Y204","v":false},{"$f":"Base!Z204","v":false},{"$f":"Base!AA204","v":false},null,{"$f":"Base!AB204","v":false},{"$f":"Base!AC204","v":false},{"$f":"Base!AD204","v":false},{"$f":"Base!AE204","v":false},{"$f":"Base!AF204","v":false},{"$f":"Base!AG204","v":false},{"$f":"Base!AH204","v":false},{"$f":"Base!AI204","v":false},{"$f":"Base!AJ204","v":false},{"$f":"Base!AK204","v":false},{"$f":"Base!AL204","v":false},{"$f":"Base!AM204","v":false},{"$f":"Base!AN204","v":false},{"$f":"Base!AO204","v":false},{"$f":"Base!AP204","v":false},{"$f":"Base!AQ204","v":false},{"$f":"Base!AR204","v":false},{"$f":"Base!AS204","v":false}]
[{"$f":"Base!B205","v":"Power Store - Lesser"},50,null,null,0,{"$f":"Base!U205","v":1},{"$f":"IF(AND(C216<>0,ISNUMBER(C216)),Base!V205*C216,IF(Base!V205=0,\"N\",\"Y\"))","v":"Y"},{"$f":"Base!W205","v":"None"},null,null,null,null,null,0,false,false,{"$f":"AND(CharacterStatus = 0,Base!V205>0)","v":true},false,{"$f":"Base!X205","v":false},0,{"$f":"Base!Y205","v":false},{"$f":"Base!Z205","v":false},{"$f":"Base!AA205","v":false},null,{"$f":"Base!AB205","v":false},{"$f":"Base!AC205","v":false},{"$f":"Base!AD205","v":false},{"$f":"Base!AE205","v":false},{"$f":"Base!AF205","v":false},{"$f":"Base!AG205","v":false},{"$f":"Base!AH205","v":false},{"$f":"Base!AI205","v":false},{"$f":"Base!AJ205","v":false},{"$f":"Base!AK205","v":false},{"$f":"Base!AL205","v":false},{"$f":"Base!AM205","v":false},{"$f":"Base!AN205","v":false},{"$f":"Base!AO205","v":false},{"$f":"Base!AP205","v":false},{"$f":"Base!AQ205","v":false},{"$f":"Base!AR205","v":false},{"$f":"Base!AS205","v":false}]
[{"$f":"Base!B206","v":"Power Store - Greater"},50,null,null,0,{"$f":"Base!U206","v":1},{"$f":"IF(AND(C217<>0,ISNUMBER(C217)),Base!V206*C217,IF(Base!V206=0,\"N\",\"Y\"))","v":"Y"},{"$f":"Base!W206","v":"None"},null,null,null,null,null,0,false,false,{"$f":"AND(CharacterStatus = 0,Base!V206>0)","v":true},false,{"$f":"Base!X206","v":false},0,{"$f":"Base!Y206","v":false},{"$f":"Base!Z206","v":false},{"$f":"Base!AA206","v":false},null,{"$f":"Base!AB206","v":false},{"$f":"Base!AC206","v":false},{"$f":"Base!AD206","v":false},{"$f":"Base!AE206","v":false},{"$f":"Base!AF206","v":false},{"$f":"Base!AG206","v":false},{"$f":"Base!AH206","v":false},{"$f":"Base!AI206","v":false},{"$f":"Base!AJ206","v":false},{"$f":"Base!AK206","v":false},{"$f":"Base!AL206","v":false},{"$f":"Base!AM206","v":false},{"$f":"Base!AN206","v":false},{"$f":"Base!AO206","v":false},{"$f":"Base!AP206","v":false},{"$f":"Base!AQ206","v":false},{"$f":"Base!AR206","v":false},{"$f":"Base!AS206","v":false}]
[{"$f":"Base!B207","v":"Recognise Power"},3,null,null,0,{"$f":"Base!U207","v":1},{"$f":"IF(AND(C218<>0,ISNUMBER(C218)),Base!V207*C218,IF(Base!V207=0,\"N\",\"Y\"))","v":"N"},{"$f":"Base!W207","v":"None"},null,null,null,null,null,1,false,false,{"$f":"AND(CharacterStatus = 0,Base!V207>0)","v":false},false,{"$f":"Base!X207","v":false},1,{"$f":"Base!Y207","v":true},{"$f":"Base!Z207","v":false},{"$f":"Base!AA207","v":false},null,{"$f":"Base!AB207","v":false},{"$f":"Base!AC207","v":false},{"$f":"Base!AD207","v":false},{"$f":"Base!AE207","v":false},{"$f":"Base!AF207","v":false},{"$f":"Base!AG207","v":false},{"$f":"Base!AH207","v":false},{"$f":"Base!AI207","v":false},{"$f":"Base!AJ207","v":false},{"$f":"Base!AK207","v":false},{"$f":"Base!AL207","v":false},{"$f":"Base!AM207","v":false},{"$f":"Base!AN207","v":false},{"$f":"Base!AO207","v":false},{"$f":"Base!AP207","v":false},{"$f":"Base!AQ207","v":false},{"$f":"Base!AR207","v":false},{"$f":"Base!AS207","v":false}]
[{"$f":"Base!B208","v":"Connection with 1st Sphere"},8,null,null,0,{"$f":"Base!U208","v":1},{"$f":"IF(AND(C219<>0,ISNUMBER(C219)),Base!V208*C219,IF(Base!V208=0,\"N\",\"Y\"))","v":"N"},{"$f":"Base!W208","v":"None"},null,null,null,null,null,1,false,false,{"$f":"AND(CharacterStatus = 0,Base!V208>0)","v":false},false,{"$f":"Base!X208","v":false},1,{"$f":"Base!Y208","v":true},{"$f":"Base!Z208","v":false},{"$f":"Base!AA208","v":false},null,{"$f":"Base!AB208","v":false},{"$f":"Base!AC208","v":false},{"$f":"Base!AD208","v":false},{"$f":"Base!AE208","v":false},{"$f":"Base!AF208","v":false},{"$f":"Base!AG208","v":false},{"$f":"Base!AH208","v":false},{"$f":"Base!AI208","v":false},{"$f":"Base!AJ208","v":false},{"$f":"Base!AK208","v":false},{"$f":"Base!AL208","v":false},{"$f":"Base!AM208","v":false},{"$f":"Base!AN208","v":false},{"$f":"Base!AO208","v":false},{"$f":"Base!AP208","v":false},{"$f":"Base!AQ208","v":false},{"$f":"Base!AR208","v":false},{"$f":"Base!AS208","v":false}]
[{"$f":"Base!B209","v":"Cast 1st Sphere ranks 1 - 5"},"R+6",null,null,{"$f":"IF(B220<>\"NO\",IF(ISNUMBER(C220),(C220*(C220+1)/2)+RIGHT(B220,LEN(B220)-FIND(\"+\",B220))*(C220),0),0)","v":0},{"$f":"Base!U209","v":5},{"$f":"IF(AND(C220<>0,ISNUMBER(C220)),Base!V209*C220,IF(Base!V209=0,\"N\",\"Y\"))","v":"N"},{"$f":"Base!W209","v":"Connection  with 1st Sphere"},null,null,null,null,null,1,false,false,{"$f":"AND(CharacterStatus = 0,Base!V209>0)","v":false},false,{"$f":"Base!X209","v":true},1,{"$f":"Base!Y209","v":true},{"$f":"Base!Z209","v":false},{"$f":"Base!AA209","v":false},null,{"$f":"Base!AB209","v":false},{"$f":"Base!AC209","v":false},{"$f":"Base!AD209","v":false},{"$f":"Base!AE209","v":false},{"$f":"Base!AF209","v":false},{"$f":"Base!AG209","v":false},{"$f":"Base!AH209","v":false},{"$f":"Base!AI209","v":false},{"$f":"Base!AJ209","v":false},{"$f":"Base!AK209","v":false},{"$f":"Base!AL209","v":false},{"$f":"Base!AM209","v":false},{"$f":"Base!AN209","v":false},{"$f":"Base!AO209","v":false},{"$f":"Base!AP209","v":false},{"$f":"Base!AQ209","v":false},{"$f":"Base!AR209","v":false},{"$f":"Base!AS209","v":false}]
[{"$f":"Base!B210","v":"Cast 1st Sphere ranks 6 - 8"},"R+6",null,null,{"$f":"IF(ISNUMBER(C221), ((C221+C220)*((C221+C220)+1)/2)+RIGHT(B221,LEN(B221)-FIND(\"+\",B221))*(C221+C220)-E220, 0)","v":0},{"$f":"Base!U210","v":3},{"$f":"IF(AND(C221<>0,ISNUMBER(C221)),Base!V210*C221,IF(Base!V210=0,\"N\",\"Y\"))","v":"N"},{"$f":"Base!W210","v":"Talisman, Cast 1st Sphere ranks 1 - 5"},null,null,null,null,null,0,false,false,{"$f":"AND(CharacterStatus = 0,Base!V210>0)","v":false},false,{"$f":"Base!X210","v":true},0,{"$f":"Base!Y210","v":false},{"$f":"Base!Z210","v":false},{"$f":"Base!AA210","v":false},null,{"$f":"Base!AB210","v":false},{"$f":"Base!AC210","v":false},{"$f":"Base!AD210","v":false},{"$f":"Base!AE210","v":false},{"$f":"Base!AF210","v":false},{"$f":"Base!AG210","v":false},{"$f":"Base!AH210","v":false},{"$f":"Base!AI210","v":false},{"$f":"Base!AJ210","v":false},{"$f":"Base!AK210","v":false},{"$f":"Base!AL210","v":false},{"$f":"Base!AM210","v":false},{"$f":"Base!AN210","v":false},{"$f":"Base!AO210","v":false},{"$f":"Base!AP210","v":false},{"$f":"Base!AQ210","v":false},{"$f":"Base!AR210","v":false},{"$f":"Base!AS210","v":false}]
[{"$f":"Base!B211","v":"Cast 1st Sphere ranks 9 - 10"},"R+6",null,null,{"$f":"IF(ISNUMBER(C222), ((C222+C221+C220)*((C222+C221+C220)+1)/2)+RIGHT(B222,LEN(B222)-FIND(\"+\",B222))*(C222+C221+C220)-E221-E220, 0)","v":0},{"$f":"Base!U211","v":2},{"$f":"IF(AND(C222<>0,ISNUMBER(C222)),Base!V211*C222,IF(Base!V211=0,\"N\",\"Y\"))","v":"N"},{"$f":"Base!W211","v":"Cast 1st Sphere ranks 6 - 8"},null,null,null,null,null,0,false,false,{"$f":"AND(CharacterStatus = 0,Base!V211>0)","v":false},false,{"$f":"Base!X211","v":true},0,{"$f":"Base!Y211","v":false},{"$f":"Base!Z211","v":false},{"$f":"Base!AA211","v":false},null,{"$f":"Base!AB211","v":false},{"$f":"Base!AC211","v":false},{"$f":"Base!AD211","v":false},{"$f":"Base!AE211","v":false},{"$f":"Base!AF211","v":false},{"$f":"Base!AG211","v":false},{"$f":"Base!AH211","v":false},{"$f":"Base!AI211","v":false},{"$f":"Base!AJ211","v":false},{"$f":"Base!AK211","v":false},{"$f":"Base!AL211","v":false},{"$f":"Base!AM211","v":false},{"$f":"Base!AN211","v":false},{"$f":"Base!AO211","v":false},{"$f":"Base!AP211","v":false},{"$f":"Base!AQ211","v":false},{"$f":"Base!AR211","v":false},{"$f":"Base!AS211","v":false}]
[{"$f":"Base!B212","v":"Connection with 2nd Sphere"},16,null,null,{"$f":"C223*B223","v":0},{"$f":"Base!U212","v":1},{"$f":"IF(AND(C223<>0,ISNUMBER(C223)),Base!V212*C223,IF(Base!V212=0,\"N\",\"Y\"))","v":"N"},{"$f":"Base!W212","v":"Connection with 1st Sphere"},null,null,null,null,null,0,false,false,{"$f":"AND(CharacterStatus = 0,Base!V212>0)","v":false},false,{"$f":"Base!X212","v":true},0,{"$f":"Base!Y212","v":false},{"$f":"Base!Z212","v":false},{"$f":"Base!AA212","v":false},null,{"$f":"Base!AB212","v":false},{"$f":"Base!AC212","v":false},{"$f":"Base!AD212","v":false},{"$f":"Base!AE212","v":false},{"$f":"Base!AF212","v":false},{"$f":"Base!AG212","v":false},{"$f":"Base!AH212","v":false},{"$f":"Base!AI212","v":false},{"$f":"Base!AJ212","v":false},{"$f":"Base!AK212","v":false},{"$f":"Base!AL212","v":false},{"$f":"Base!AM212","v":false},{"$f":"Base!AN212","v":false},{"$f":"Base!AO212","v":false},{"$f":"Base!AP212","v":false},{"$f":"Base!AQ212","v":false},{"$f":"Base!AR212","v":false},{"$f":"Base!AS212","v":false}]
[{"$f":"Base!B213","v":"Cast 2nd Sphere ranks 1 - 5"},"R+6",null,null,{"$f":"IF(B224<>\"NO\",IF(ISNUMBER(C224),(C224*(C224+1)/2)+RIGHT(B224,LEN(B224)-FIND(\"+\",B224))*(C224),0),0)","v":0},{"$f":"Base!U213","v":5},{"$f":"IF(AND(C224<>0,ISNUMBER(C224)),Base!V213*C224,IF(Base!V213=0,\"N\",\"Y\"))","v":"N"},{"$f":"Base!W213","v":"Connection with 2nd Sphere, Cast 1st Sphere ranks the same or higher"},null,null,null,null,null,0,false,false,{"$f":"AND(CharacterStatus = 0,Base!V213>0)","v":false},false,{"$f":"Base!X213","v":true},0,{"$f":"Base!Y213","v":false},{"$f":"Base!Z213","v":false},{"$f":"Base!AA213","v":false},null,{"$f":"Base!AB213","v":false},{"$f":"Base!AC213","v":false},{"$f":"Base!AD213","v":false},{"$f":"Base!AE213","v":false},{"$f":"Base!AF213","v":false},{"$f":"Base!AG213","v":false},{"$f":"Base!AH213","v":false},{"$f":"Base!AI213","v":false},{"$f":"Base!AJ213","v":false},{"$f":"Base!AK213","v":false},{"$f":"Base!AL213","v":false},{"$f":"Base!AM213","v":false},{"$f":"Base!AN213","v":false},{"$f":"Base!AO213","v":false},{"$f":"Base!AP213","v":false},{"$f":"Base!AQ213","v":false},{"$f":"Base!AR213","v":false},{"$f":"Base!AS213","v":false}]
[{"$f":"Base!B214","v":"Cast 2nd Sphere ranks 6 - 8"},"R+6",null,null,{"$f":"IF(ISNUMBER(C225), ((C225+C224)*((C225+C224)+1)/2)+RIGHT(B225,LEN(B225)-FIND(\"+\",B225))*(C225+C224)-E224, 0)","v":0},{"$f":"Base!U214","v":3},{"$f":"IF(AND(C225<>0,ISNUMBER(C225)),Base!V214*C225,IF(Base!V214=0,\"N\",\"Y\"))","v":"N"},{"$f":"Base!W214","v":"Cast 2nd Sphere ranks 1 - 5, Priest in 2nd Sphere, Cast 1st Sphere ranks the same or higher"},null,null,null,null,null,0,false,false,{"$f":"AND(CharacterStatus = 0,Base!V214>0)","v":false},false,{"$f":"Base!X214","v":true},0,{"$f":"Base!Y214","v":false},{"$f":"Base!Z214","v":false},{"$f":"Base!AA214","v":false},null,{"$f":"Base!AB214","v":false},{"$f":"Base!AC214","v":false},{"$f":"Base!AD214","v":false},{"$f":"Base!AE214","v":false},{"$f":"Base!AF214","v":false},{"$f":"Base!AG214","v":false},{"$f":"Base!AH214","v":false},{"$f":"Base!AI214","v":false},{"$f":"Base!AJ214","v":false},{"$f":"Base!AK214","v":false},{"$f":"Base!AL214","v":false},{"$f":"Base!AM214","v":false},{"$f":"Base!AN214","v":false},{"$f":"Base!AO214","v":false},{"$f":"Base!AP214","v":false},{"$f":"Base!AQ214","v":false},{"$f":"Base!AR214","v":false},{"$f":"Base!AS214","v":false}]
[{"$f":"Base!B215","v":"Cast 2nd Sphere ranks 9 - 10"},"R+6",null,null,{"$f":"IF(ISNUMBER(C226), ((C226+C225+C224)*((C226+C225+C224)+1)/2)+RIGHT(B226,LEN(B226)-FIND(\"+\",B226))*(C226+C225+C224)-E225-E224, 0)","v":0},{"$f":"Base!U215","v":2},{"$f":"IF(AND(C226<>0,ISNUMBER(C226)),Base!V215*C226,IF(Base!V215=0,\"N\",\"Y\"))","v":"N"},{"$f":"Base!W215","v":"Cast 2nd Sphere ranks 6 - 8, Cast 1st Sphere ranks the same or higher"},null,null,null,null,null,0,false,false,{"$f":"AND(CharacterStatus = 0,Base!V215>0)","v":false},false,{"$f":"Base!X215","v":true},0,{"$f":"Base!Y215","v":false},{"$f":"Base!Z215","v":false},{"$f":"Base!AA215","v":false},null,{"$f":"Base!AB215","v":false},{"$f":"Base!AC215","v":false},{"$f":"Base!AD215","v":false},{"$f":"Base!AE215","v":false},{"$f":"Base!AF215","v":false},{"$f":"Base!AG215","v":false},{"$f":"Base!AH215","v":false},{"$f":"Base!AI215","v":false},{"$f":"Base!AJ215","v":false},{"$f":"Base!AK215","v":false},{"$f":"Base!AL215","v":false},{"$f":"Base!AM215","v":false},{"$f":"Base!AN215","v":false},{"$f":"Base!AO215","v":false},{"$f":"Base!AP215","v":false},{"$f":"Base!AQ215","v":false},{"$f":"Base!AR215","v":false},{"$f":"Base!AS215","v":false}]
[{"$f":"Base!B216","v":"Connection with 3rd Sphere"},32,null,null,{"$f":"C227*B227","v":0},{"$f":"Base!U216","v":1},{"$f":"IF(AND(C227<>0,ISNUMBER(C227)),Base!V216*C227,IF(Base!V216=0,\"N\",\"Y\"))","v":"Y"},{"$f":"Base!W216","v":"Connection with 2nd Sphere, Primary Class must be Neutral Acolyte"},null,null,null,null,null,0,false,false,{"$f":"AND(CharacterStatus = 0,Base!V216>0)","v":true},false,{"$f":"Base!X216","v":true},0,{"$f":"Base!Y216","v":false},{"$f":"Base!Z216","v":false},{"$f":"Base!AA216","v":false},null,{"$f":"Base!AB216","v":false},{"$f":"Base!AC216","v":false},{"$f":"Base!AD216","v":false},{"$f":"Base!AE216","v":false},{"$f":"Base!AF216","v":false},{"$f":"Base!AG216","v":false},{"$f":"Base!AH216","v":false},{"$f":"Base!AI216","v":false},{"$f":"Base!AJ216","v":false},{"$f":"Base!AK216","v":false},{"$f":"Base!AL216","v":false},{"$f":"Base!AM216","v":false},{"$f":"Base!AN216","v":false},{"$f":"Base!AO216","v":false},{"$f":"Base!AP216","v":false},{"$f":"Base!AQ216","v":false},{"$f":"Base!AR216","v":false},{"$f":"Base!AS216","v":false}]
[{"$f":"Base!B217","v":"Cast 3rd Sphere ranks 1 - 5"},"R+6",null,null,{"$f":"IF(B228<>\"NO\",IF(ISNUMBER(C228),(C228*(C228+1)/2)+RIGHT(B228,LEN(B228)-FIND(\"+\",B228))*(C228),0),0)","v":0},{"$f":"Base!U217","v":5},{"$f":"IF(AND(C228<>0,ISNUMBER(C228)),Base!V217*C228,IF(Base!V217=0,\"N\",\"Y\"))","v":"N"},{"$f":"Base!W217","v":"Connection with 3rd Sphere, Cast 1st & 2nd Sphere ranks the same or higher"},null,null,null,null,null,0,false,false,{"$f":"AND(CharacterStatus = 0,Base!V217>0)","v":false},false,{"$f":"Base!X217","v":true},0,{"$f":"Base!Y217","v":false},{"$f":"Base!Z217","v":false},{"$f":"Base!AA217","v":false},null,{"$f":"Base!AB217","v":false},{"$f":"Base!AC217","v":false},{"$f":"Base!AD217","v":false},{"$f":"Base!AE217","v":false},{"$f":"Base!AF217","v":false},{"$f":"Base!AG217","v":false},{"$f":"Base!AH217","v":false},{"$f":"Base!AI217","v":false},{"$f":"Base!AJ217","v":false},{"$f":"Base!AK217","v":false},{"$f":"Base!AL217","v":false},{"$f":"Base!AM217","v":false},{"$f":"Base!AN217","v":false},{"$f":"Base!AO217","v":false},{"$f":"Base!AP217","v":false},{"$f":"Base!AQ217","v":false},{"$f":"Base!AR217","v":false},{"$f":"Base!AS217","v":false}]
[{"$f":"Base!B218","v":"Cast 3rd Sphere ranks 6 - 8"},"R+6",null,null,{"$f":"IF(ISNUMBER(C229), ((C229+C228)*((C229+C228)+1)/2)+RIGHT(B229,LEN(B229)-FIND(\"+\",B229))*(C229+C228)-E228, 0)","v":0},{"$f":"Base!U218","v":3},{"$f":"IF(AND(C229<>0,ISNUMBER(C229)),Base!V218*C229,IF(Base!V218=0,\"N\",\"Y\"))","v":"N"},{"$f":"Base!W218","v":"Cast 3rd Sphere ranks 1 - 5, Priest in 3rd Sphere, Cast 2nd Sphere ranks the same or higher"},null,null,null,null,null,0,false,false,{"$f":"AND(CharacterStatus = 0,Base!V218>0)","v":false},false,{"$f":"Base!X218","v":true},0,{"$f":"Base!Y218","v":false},{"$f":"Base!Z218","v":false},{"$f":"Base!AA218","v":false},null,{"$f":"Base!AB218","v":false},{"$f":"Base!AC218","v":false},{"$f":"Base!AD218","v":false},{"$f":"Base!AE218","v":false},{"$f":"Base!AF218","v":false},{"$f":"Base!AG218","v":false},{"$f":"Base!AH218","v":false},{"$f":"Base!AI218","v":false},{"$f":"Base!AJ218","v":false},{"$f":"Base!AK218","v":false},{"$f":"Base!AL218","v":false},{"$f":"Base!AM218","v":false},{"$f":"Base!AN218","v":false},{"$f":"Base!AO218","v":false},{"$f":"Base!AP218","v":false},{"$f":"Base!AQ218","v":false},{"$f":"Base!AR218","v":false},{"$f":"Base!AS218","v":false}]
[{"$f":"Base!B219","v":"Cast 3rd Sphere ranks 9 - 10"},{"$f":"INDEX(points, ROW()-13,  CharacterTable)","v":"R+6"},null,null,{"$f":"IF(ISNUMBER(C230), ((C230+C229+C228)*((C230+C229+C228)+1)/2)+RIGHT(B230,LEN(B230)-FIND(\"+\",B230))*(C230+C229+C228)-E229-E228, 0)","v":0},{"$f":"Base!U219","v":2},{"$f":"IF(AND(C230<>0,ISNUMBER(C230)),Base!V219*C230,IF(Base!V219=0,\"N\",\"Y\"))","v":"N"},{"$f":"Base!W219","v":"Cast 3rd Sphere ranks 6 - 8, Cast 2nd Sphere ranks the same or higher"},null,null,null,null,null,0,false,false,{"$f":"AND(CharacterStatus = 0,Base!V219>0)","v":false},false,{"$f":"Base!X219","v":true},0,{"$f":"Base!Y219","v":false},{"$f":"Base!Z219","v":false},{"$f":"Base!AA219","v":false},null,{"$f":"Base!AB219","v":false},{"$f":"Base!AC219","v":false},{"$f":"Base!AD219","v":false},{"$f":"Base!AE219","v":false},{"$f":"Base!AF219","v":false},{"$f":"Base!AG219","v":false},{"$f":"Base!AH219","v":false},{"$f":"Base!AI219","v":false},{"$f":"Base!AJ219","v":false},{"$f":"Base!AK219","v":false},{"$f":"Base!AL219","v":false},{"$f":"Base!AM219","v":false},{"$f":"Base!AN219","v":false},{"$f":"Base!AO219","v":false},{"$f":"Base!AP219","v":false},{"$f":"Base!AQ219","v":false},{"$f":"Base!AR219","v":false},{"$f":"Base!AS219","v":false}]
[{"$f":"Base!B220","v":"Greater Invoke"},0,null,null,{"$f":"C231*B231","v":0},{"$f":"Base!U220","v":1},{"$f":"IF(AND(C231<>0,ISNUMBER(C231)),Base!V220*C231,IF(Base!V220=0,\"N\",\"Y\"))","v":"Y"},{"$f":"Base!W220","v":"Make Talisman"},null,null,null,null,null,0,false,false,{"$f":"AND(CharacterStatus = 0,Base!V220>0)","v":true},false,{"$f":"Base!X220","v":true},0,{"$f":"Base!Y220","v":false},{"$f":"Base!Z220","v":false},{"$f":"Base!AA220","v":false},null,{"$f":"Base!AB220","v":false},{"$f":"Base!AC220","v":false},{"$f":"Base!AD220","v":false},{"$f":"Base!AE220","v":false},{"$f":"Base!AF220","v":false},{"$f":"Base!AG220","v":false},{"$f":"Base!AH220","v":false},{"$f":"Base!AI220","v":false},{"$f":"Base!AJ220","v":false},{"$f":"Base!AK220","v":false},{"$f":"Base!AL220","v":false},{"$f":"Base!AM220","v":false},{"$f":"Base!AN220","v":false},{"$f":"Base!AO220","v":false},{"$f":"Base!AP220","v":false},{"$f":"Base!AQ220","v":false},{"$f":"Base!AR220","v":false},{"$f":"Base!AS220","v":false}]
[{"$f":"Base!B221","v":"Invocation Guard"},0,null,null,{"$f":"C232*B232","v":0},{"$f":"Base!U221","v":1},{"$f":"IF(AND(C232<>0,ISNUMBER(C232)),Base!V221*C232,IF(Base!V221=0,\"N\",\"Y\"))","v":"Y"},{"$f":"Base!W221","v":"None"},null,null,null,null,null,0,false,false,{"$f":"AND(CharacterStatus = 0,Base!V221>0)","v":true},false,{"$f":"Base!X221","v":false},0,{"$f":"Base!Y221","v":false},{"$f":"Base!Z221","v":false},{"$f":"Base!AA221","v":false},null,{"$f":"Base!AB221","v":false},{"$f":"Base!AC221","v":false},{"$f":"Base!AD221","v":false},{"$f":"Base!AE221","v":false},{"$f":"Base!AF221","v":false},{"$f":"Base!AG221","v":false},{"$f":"Base!AH221","v":false},{"$f":"Base!AI221","v":false},{"$f":"Base!AJ221","v":false},{"$f":"Base!AK221","v":false},{"$f":"Base!AL221","v":false},{"$f":"Base!AM221","v":false},{"$f":"Base!AN221","v":false},{"$f":"Base!AO221","v":false},{"$f":"Base!AP221","v":false},{"$f":"Base!AQ221","v":false},{"$f":"Base!AR221","v":false},{"$f":"Base!AS221","v":false}]
[{"$f":"Base!B222","v":"Invoke Mastery"},0,null,null,0,{"$f":"Base!U222","v":1},{"$f":"IF(AND(C233<>0,ISNUMBER(C233)),Base!V222*C233,IF(Base!V222=0,\"N\",\"Y\"))","v":"Y"},{"$f":"Base!W222","v":"Make Talisman"},null,null,null,null,null,0,false,false,{"$f":"AND(CharacterStatus = 0,Base!V222>0)","v":true},false,{"$f":"Base!X222","v":true},0,{"$f":"Base!Y222","v":false},{"$f":"Base!Z222","v":false},{"$f":"Base!AA222","v":false},null,{"$f":"Base!AB222","v":false},{"$f":"Base!AC222","v":false},{"$f":"Base!AD222","v":false},{"$f":"Base!AE222","v":false},{"$f":"Base!AF222","v":false},{"$f":"Base!AG222","v":false},{"$f":"Base!AH222","v":false},{"$f":"Base!AI222","v":false},{"$f":"Base!AJ222","v":false},{"$f":"Base!AK222","v":false},{"$f":"Base!AL222","v":false},{"$f":"Base!AM222","v":false},{"$f":"Base!AN222","v":false},{"$f":"Base!AO222","v":false},{"$f":"Base!AP222","v":false},{"$f":"Base!AQ222","v":false},{"$f":"Base!AR222","v":false},{"$f":"Base!AS222","v":false}]
[{"$f":"Base!B223","v":"Invocation Extension"},0,null,null,0,{"$f":"Base!U223","v":"N/A"},{"$f":"IF(AND(C234<>0,ISNUMBER(C234)),Base!V223*C234,IF(Base!V223=0,\"N\",\"Y\"))","v":"Y"},{"$f":"Base!W223","v":"High Priest"},null,null,null,null,null,0,false,false,{"$f":"AND(CharacterStatus = 0,Base!V223>0)","v":true},false,{"$f":"Base!X223","v":true},{"$f":"IF(OR(U234,AND(V234,CharacterRank>=W234),AND(Y234,CharacterRank>=Z234),AND(AA234,CharacterRank>=AB234),AND(AC234,CharacterRank>=AD234),AND(AE234,CharacterRank>=AF234),AND(AG234,CharacterRank>=AH234),AND(AI234,CharacterRank>=AJ234),AND(AK234,CharacterRank>=AL234),AND(AM234,CharacterRank>=AN234),AND(AO234,CharacterRank>=AP234)),1,0)","v":0},{"$f":"Base!Y223","v":false},{"$f":"Base!Z223","v":false},{"$f":"Base!AA223","v":false},null,{"$f":"Base!AB223","v":false},{"$f":"Base!AC223","v":false},{"$f":"Base!AD223","v":false},{"$f":"Base!AE223","v":false},{"$f":"Base!AF223","v":false},{"$f":"Base!AG223","v":false},{"$f":"Base!AH223","v":false},{"$f":"Base!AI223","v":false},{"$f":"Base!AJ223","v":false},{"$f":"Base!AK223","v":false},{"$f":"Base!AL223","v":false},{"$f":"Base!AM223","v":false},{"$f":"Base!AN223","v":false},{"$f":"Base!AO223","v":false},{"$f":"Base!AP223","v":false},{"$f":"Base!AQ223","v":false},{"$f":"Base!AR223","v":false},{"$f":"Base!AS223","v":false}]
[{"$f":"Base!B224","v":"Learn additional rank 1 - 8 Invocations"},0,null,null,0,{"$f":"Base!U224","v":"N/A"},{"$f":"IF(AND(C235<>0,ISNUMBER(C235)),Base!V224*C235,IF(Base!V224=0,\"N\",\"Y\"))","v":"Y"},{"$f":"Base!W224","v":"None"},null,null,null,null,null,0,false,false,{"$f":"AND(CharacterStatus = 0,Base!V224>0)","v":true},false,{"$f":"Base!X224","v":false},0,{"$f":"Base!Y224","v":false},{"$f":"Base!Z224","v":false},{"$f":"Base!AA224","v":false},null,{"$f":"Base!AB224","v":false},{"$f":"Base!AC224","v":false},{"$f":"Base!AD224","v":false},{"$f":"Base!AE224","v":false},{"$f":"Base!AF224","v":false},{"$f":"Base!AG224","v":false},{"$f":"Base!AH224","v":false},{"$f":"Base!AI224","v":false},{"$f":"Base!AJ224","v":false},{"$f":"Base!AK224","v":false},{"$f":"Base!AL224","v":false},{"$f":"Base!AM224","v":false},{"$f":"Base!AN224","v":false},{"$f":"Base!AO224","v":false},{"$f":"Base!AP224","v":false},{"$f":"Base!AQ224","v":false},{"$f":"Base!AR224","v":false},{"$f":"Base!AS224","v":false}]
[{"$f":"Base!B225","v":"Learn rank 9 Invocations"},0,null,null,0,{"$f":"Base!U225","v":"N/A"},{"$f":"IF(AND(C236<>0,ISNUMBER(C236)),Base!V225*C236,IF(Base!V225=0,\"N\",\"Y\"))","v":"Y"},{"$f":"Base!W225","v":"Cast Cosmic Power in 1st Sphere, Rank 8 Invocation"},null,null,null,null,null,0,false,false,{"$f":"AND(CharacterStatus = 0,Base!V225>0)","v":true},false,{"$f":"Base!X225","v":true},0,{"$f":"Base!Y225","v":false},{"$f":"Base!Z225","v":false},{"$f":"Base!AA225","v":false},null,{"$f":"Base!AB225","v":false},{"$f":"Base!AC225","v":false},{"$f":"Base!AD225","v":false},{"$f":"Base!AE225","v":false},{"$f":"Base!AF225","v":false},{"$f":"Base!AG225","v":false},{"$f":"Base!AH225","v":false},{"$f":"Base!AI225","v":false},{"$f":"Base!AJ225","v":false},{"$f":"Base!AK225","v":false},{"$f":"Base!AL225","v":false},{"$f":"Base!AM225","v":false},{"$f":"Base!AN225","v":false},{"$f":"Base!AO225","v":false},{"$f":"Base!AP225","v":false},{"$f":"Base!AQ225","v":false},{"$f":"Base!AR225","v":false},{"$f":"Base!AS225","v":false}]
[{"$f":"Base!B226","v":"Learn rank 10 Invocations"},0,null,null,0,{"$f":"Base!U226","v":"N/A"},{"$f":"IF(AND(C237<>0,ISNUMBER(C237)),Base!V226*C237,IF(Base!V226=0,\"N\",\"Y\"))","v":"Y"},{"$f":"Base!W226","v":"Cast Cosmic Power in 1st Sphere, Rank 9 Invocation"},null,null,null,null,null,0,false,false,{"$f":"AND(CharacterStatus = 0,Base!V226>0)","v":true},false,{"$f":"Base!X226","v":true},0,{"$f":"Base!Y226","v":false},{"$f":"Base!Z226","v":false},{"$f":"Base!AA226","v":false},null,{"$f":"Base!AB226","v":false},{"$f":"Base!AC226","v":false},{"$f":"Base!AD226","v":false},{"$f":"Base!AE226","v":false},{"$f":"Base!AF226","v":false},{"$f":"Base!AG226","v":false},{"$f":"Base!AH226","v":false},{"$f":"Base!AI226","v":false},{"$f":"Base!AJ226","v":false},{"$f":"Base!AK226","v":false},{"$f":"Base!AL226","v":false},{"$f":"Base!AM226","v":false},{"$f":"Base!AN226","v":false},{"$f":"Base!AO226","v":false},{"$f":"Base!AP226","v":false},{"$f":"Base!AQ226","v":false},{"$f":"Base!AR226","v":false},{"$f":"Base!AS226","v":false}]
[{"$f":"Base!B227","v":"Limit Raise - Power"},0,null,null,0,{"$f":"Base!U227","v":1},{"$f":"IF(AND(C238<>0,ISNUMBER(C238)),Base!V227*C238,IF(Base!V227=0,\"N\",\"Y\"))","v":"Y"},{"$f":"Base!W227","v":"None"},null,null,null,null,null,0,false,false,{"$f":"AND(CharacterStatus = 0,Base!V227>0)","v":true},false,{"$f":"Base!X227","v":false},0,{"$f":"Base!Y227","v":false},{"$f":"Base!Z227","v":false},{"$f":"Base!AA227","v":false},null,{"$f":"Base!AB227","v":false},{"$f":"Base!AC227","v":false},{"$f":"Base!AD227","v":false},{"$f":"Base!AE227","v":false},{"$f":"Base!AF227","v":false},{"$f":"Base!AG227","v":false},{"$f":"Base!AH227","v":false},{"$f":"Base!AI227","v":false},{"$f":"Base!AJ227","v":false},{"$f":"Base!AK227","v":false},{"$f":"Base!AL227","v":false},{"$f":"Base!AM227","v":false},{"$f":"Base!AN227","v":false},{"$f":"Base!AO227","v":false},{"$f":"Base!AP227","v":false},{"$f":"Base!AQ227","v":false},{"$f":"Base!AR227","v":false},{"$f":"Base!AS227","v":false}]
[{"$f":"Base!B228","v":"Limit Raise Mastery - Power"},0,null,null,0,{"$f":"Base!U228","v":1},{"$f":"IF(AND(C239<>0,ISNUMBER(C239)),Base!V228*C239,IF(Base!V228=0,\"N\",\"Y\"))","v":"Y"},{"$f":"Base!W228","v":"Limit Raise - Power"},null,null,null,null,null,0,false,false,{"$f":"AND(CharacterStatus = 0,Base!V228>0)","v":true},false,{"$f":"Base!X228","v":true},0,{"$f":"Base!Y228","v":false},{"$f":"Base!Z228","v":false},{"$f":"Base!AA228","v":false},null,{"$f":"Base!AB228","v":false},{"$f":"Base!AC228","v":false},{"$f":"Base!AD228","v":false},{"$f":"Base!AE228","v":false},{"$f":"Base!AF228","v":false},{"$f":"Base!AG228","v":false},{"$f":"Base!AH228","v":false},{"$f":"Base!AI228","v":false},{"$f":"Base!AJ228","v":false},{"$f":"Base!AK228","v":false},{"$f":"Base!AL228","v":false},{"$f":"Base!AM228","v":false},{"$f":"Base!AN228","v":false},{"$f":"Base!AO228","v":false},{"$f":"Base!AP228","v":false},{"$f":"Base!AQ228","v":false},{"$f":"Base!AR228","v":false},{"$f":"Base!AS228","v":false}]
[{"$f":"Base!B229","v":"Limit Raise Enhanced Mastery - Power"},0,null,null,0,{"$f":"Base!U229","v":1},{"$f":"IF(AND(C240<>0,ISNUMBER(C240)),Base!V229*C240,IF(Base!V229=0,\"N\",\"Y\"))","v":"Y"},{"$f":"Base!W229","v":"Limit Raise Mastery - Power"},null,null,null,null,null,0,false,false,{"$f":"AND(CharacterStatus = 0,Base!V229>0)","v":true},false,{"$f":"Base!X229","v":true},0,{"$f":"Base!Y229","v":false},{"$f":"Base!Z229","v":false},{"$f":"Base!AA229","v":false},null,{"$f":"Base!AB229","v":false},{"$f":"Base!AC229","v":false},{"$f":"Base!AD229","v":false},{"$f":"Base!AE229","v":false},{"$f":"Base!AF229","v":false},{"$f":"Base!AG229","v":false},{"$f":"Base!AH229","v":false},{"$f":"Base!AI229","v":false},{"$f":"Base!AJ229","v":false},{"$f":"Base!AK229","v":false},{"$f":"Base!AL229","v":false},{"$f":"Base!AM229","v":false},{"$f":"Base!AN229","v":false},{"$f":"Base!AO229","v":false},{"$f":"Base!AP229","v":false},{"$f":"Base!AQ229","v":false},{"$f":"Base!AR229","v":false},{"$f":"Base!AS229","v":false}]
[{"$f":"Base!B230","v":"Limit Raise Superior Mastery - Power"},0,null,null,0,{"$f":"Base!U230","v":1},{"$f":"IF(AND(C241<>0,ISNUMBER(C241)),Base!V230*C241,IF(Base!V230=0,\"N\",\"Y\"))","v":"Y"},{"$f":"Base!W230","v":"Limit Raise Enhanced Mastery - Power"},null,null,null,null,null,0,false,false,{"$f":"AND(CharacterStatus = 0,Base!V230>0)","v":true},false,{"$f":"Base!X230","v":true},{"$f":"IF(OR(U241,AND(V241,CharacterRank>=W241),AND(Y241,CharacterRank>=Z241),AND(AA241,CharacterRank>=AB241),AND(AC241,CharacterRank>=AD241),AND(AE241,CharacterRank>=AF241),AND(AG241,CharacterRank>=AH241),AND(AI241,CharacterRank>=AJ241),AND(AK241,CharacterRank>=AL241),AND(AM241,CharacterRank>=AN241),AND(AO241,CharacterRank>=AP241)),1,0)","v":0},{"$f":"Base!Y230","v":false},{"$f":"Base!Z230","v":false},{"$f":"Base!AA230","v":false},null,{"$f":"Base!AB230","v":false},{"$f":"Base!AC230","v":false},{"$f":"Base!AD230","v":false},{"$f":"Base!AE230","v":false},{"$f":"Base!AF230","v":false},{"$f":"Base!AG230","v":false},{"$f":"Base!AH230","v":false},{"$f":"Base!AI230","v":false},{"$f":"Base!AJ230","v":false},{"$f":"Base!AK230","v":false},{"$f":"Base!AL230","v":false},{"$f":"Base!AM230","v":false},{"$f":"Base!AN230","v":false},{"$f":"Base!AO230","v":false},{"$f":"Base!AP230","v":false},{"$f":"Base!AQ230","v":false},{"$f":"Base!AR230","v":false},{"$f":"Base!AS230","v":false}]
[{"$f":"Base!B231","v":"Limit Raise - Invocation"},0,null,null,0,{"$f":"Base!U231","v":1},{"$f":"IF(AND(C242<>0,ISNUMBER(C242)),Base!V231*C242,IF(Base!V231=0,\"N\",\"Y\"))","v":"Y"},{"$f":"Base!W231","v":"None"},null,null,null,null,null,0,false,false,{"$f":"AND(CharacterStatus = 0,Base!V231>0)","v":true},false,{"$f":"Base!X231","v":false},0,{"$f":"Base!Y231","v":false},{"$f":"Base!Z231","v":false},{"$f":"Base!AA231","v":false},null,{"$f":"Base!AB231","v":false},{"$f":"Base!AC231","v":false},{"$f":"Base!AD231","v":false},{"$f":"Base!AE231","v":false},{"$f":"Base!AF231","v":false},{"$f":"Base!AG231","v":false},{"$f":"Base!AH231","v":false},{"$f":"Base!AI231","v":false},{"$f":"Base!AJ231","v":false},{"$f":"Base!AK231","v":false},{"$f":"Base!AL231","v":false},{"$f":"Base!AM231","v":false},{"$f":"Base!AN231","v":false},{"$f":"Base!AO231","v":false},{"$f":"Base!AP231","v":false},{"$f":"Base!AQ231","v":false},{"$f":"Base!AR231","v":false},{"$f":"Base!AS231","v":false}]
[{"$f":"Base!B232","v":"Make Talisman"},16,null,null,0,{"$f":"Base!U232","v":1},{"$f":"IF(AND(C243<>0,ISNUMBER(C243)),Base!V232*C243,IF(Base!V232=0,\"N\",\"Y\"))","v":"Y"},{"$f":"Base!W232","v":"None"},null,null,null,null,null,0,false,false,{"$f":"AND(CharacterStatus = 0,Base!V232>0)","v":true},false,{"$f":"Base!X232","v":false},0,{"$f":"Base!Y232","v":false},{"$f":"Base!Z232","v":false},{"$f":"Base!AA232","v":false},null,{"$f":"Base!AB232","v":false},{"$f":"Base!AC232","v":false},{"$f":"Base!AD232","v":false},{"$f":"Base!AE232","v":false},{"$f":"Base!AF232","v":false},{"$f":"Base!AG232","v":false},{"$f":"Base!AH232","v":false},{"$f":"Base!AI232","v":false},{"$f":"Base!AJ232","v":false},{"$f":"Base!AK232","v":false},{"$f":"Base!AL232","v":false},{"$f":"Base!AM232","v":false},{"$f":"Base!AN232","v":false},{"$f":"Base!AO232","v":false},{"$f":"Base!AP232","v":false},{"$f":"Base!AQ232","v":false},{"$f":"Base!AR232","v":false},{"$f":"Base!AS232","v":false}]
[{"$f":"Base!B233","v":"Priest in 2nd Sphere"},0,null,null,0,{"$f":"Base!U233","v":1},{"$f":"IF(AND(C244<>0,ISNUMBER(C244)),Base!V233*C244,IF(Base!V233=0,\"N\",\"Y\"))","v":"N"},{"$f":"Base!W233","v":"Make Talisman, Cast Rank 5 in 2nd Sphere"},null,null,null,null,null,0,false,false,{"$f":"AND(CharacterStatus = 0,Base!V233>0)","v":false},false,{"$f":"Base!X233","v":true},{"$f":"IF(OR(U244,AND(V244,CharacterRank>=W244),AND(Y244,CharacterRank>=Z244),AND(AA244,CharacterRank>=AB244),AND(AC244,CharacterRank>=AD244),AND(AE244,CharacterRank>=AF244),AND(AG244,CharacterRank>=AH244),AND(AI244,CharacterRank>=AJ244),AND(AK244,CharacterRank>=AL244),AND(AM244,CharacterRank>=AN244),AND(AO244,CharacterRank>=AP244)),1,0)","v":0},{"$f":"Base!Y233","v":false},{"$f":"Base!Z233","v":false},{"$f":"Base!AA233","v":false},null,{"$f":"Base!AB233","v":false},{"$f":"Base!AC233","v":false},{"$f":"Base!AD233","v":false},{"$f":"Base!AE233","v":false},{"$f":"Base!AF233","v":false},{"$f":"Base!AG233","v":false},{"$f":"Base!AH233","v":false},{"$f":"Base!AI233","v":false},{"$f":"Base!AJ233","v":false},{"$f":"Base!AK233","v":false},{"$f":"Base!AL233","v":false},{"$f":"Base!AM233","v":false},{"$f":"Base!AN233","v":false},{"$f":"Base!AO233","v":false},{"$f":"Base!AP233","v":false},{"$f":"Base!AQ233","v":false},{"$f":"Base!AR233","v":false},{"$f":"Base!AS233","v":false}]
[{"$f":"Base!B234","v":"Priest in 3rd Sphere"},0,null,null,0,{"$f":"Base!U234","v":1},{"$f":"IF(AND(C245<>0,ISNUMBER(C245)),Base!V234*C245,IF(Base!V234=0,\"N\",\"Y\"))","v":"N"},{"$f":"Base!W234","v":"Make Talisman, Cast Rank 5 in 3rd Sphere"},null,null,null,null,null,0,false,false,{"$f":"AND(CharacterStatus = 0,Base!V234>0)","v":false},false,{"$f":"Base!X234","v":true},0,{"$f":"Base!Y234","v":false},{"$f":"Base!Z234","v":false},{"$f":"Base!AA234","v":false},null,{"$f":"Base!AB234","v":false},{"$f":"Base!AC234","v":false},{"$f":"Base!AD234","v":false},{"$f":"Base!AE234","v":false},{"$f":"Base!AF234","v":false},{"$f":"Base!AG234","v":false},{"$f":"Base!AH234","v":false},{"$f":"Base!AI234","v":false},{"$f":"Base!AJ234","v":false},{"$f":"Base!AK234","v":false},{"$f":"Base!AL234","v":false},{"$f":"Base!AM234","v":false},{"$f":"Base!AN234","v":false},{"$f":"Base!AO234","v":false},{"$f":"Base!AP234","v":false},{"$f":"Base!AQ234","v":false},{"$f":"Base!AR234","v":false},{"$f":"Base!AS234","v":false}]
[{"$f":"Base!B235","v":"Cast Cosmic Power in Additional Sphere"},0,null,null,0,{"$f":"Base!U235","v":1},{"$f":"IF(AND(C246<>0,ISNUMBER(C246)),Base!V235*C246,IF(Base!V235=0,\"N\",\"Y\"))","v":"Y"},{"$f":"Base!W235","v":" Cast rank 1-8 in 2nd Sphere, Cast Cosmic Power in 1st Sphere"},null,null,null,null,null,0,false,false,{"$f":"AND(CharacterStatus = 0,Base!V235>0)","v":true},false,{"$f":"Base!X235","v":true},0,{"$f":"Base!Y235","v":false},{"$f":"Base!Z235","v":false},{"$f":"Base!AA235","v":false},null,{"$f":"Base!AB235","v":false},{"$f":"Base!AC235","v":false},{"$f":"Base!AD235","v":false},{"$f":"Base!AE235","v":false},{"$f":"Base!AF235","v":false},{"$f":"Base!AG235","v":false},{"$f":"Base!AH235","v":false},{"$f":"Base!AI235","v":false},{"$f":"Base!AJ235","v":false},{"$f":"Base!AK235","v":false},{"$f":"Base!AL235","v":false},{"$f":"Base!AM235","v":false},{"$f":"Base!AN235","v":false},{"$f":"Base!AO235","v":false},{"$f":"Base!AP235","v":false},{"$f":"Base!AQ235","v":false},{"$f":"Base!AR235","v":false},{"$f":"Base!AS235","v":false}]
[{"$f":"Base!B236","v":"Cast Cosmic Power in 1st Sphere"},0,null,null,0,{"$f":"Base!U236","v":1},{"$f":"IF(AND(C247<>0,ISNUMBER(C247)),Base!V236*C247,IF(Base!V236=0,\"N\",\"Y\"))","v":"Y"},{"$f":"Base!W236","v":" Cast rank 1-8 in 1st Sphere"},null,null,null,null,null,0,false,false,{"$f":"AND(CharacterStatus = 0,Base!V236>0)","v":true},false,{"$f":"Base!X236","v":true},0,{"$f":"Base!Y236","v":false},{"$f":"Base!Z236","v":false},{"$f":"Base!AA236","v":false},null,{"$f":"Base!AB236","v":false},{"$f":"Base!AC236","v":false},{"$f":"Base!AD236","v":false},{"$f":"Base!AE236","v":false},{"$f":"Base!AF236","v":false},{"$f":"Base!AG236","v":false},{"$f":"Base!AH236","v":false},{"$f":"Base!AI236","v":false},{"$f":"Base!AJ236","v":false},{"$f":"Base!AK236","v":false},{"$f":"Base!AL236","v":false},{"$f":"Base!AM236","v":false},{"$f":"Base!AN236","v":false},{"$f":"Base!AO236","v":false},{"$f":"Base!AP236","v":false},{"$f":"Base!AQ236","v":false},{"$f":"Base!AR236","v":false},{"$f":"Base!AS236","v":false}]
[{"$f":"Base!B237","v":"Write Lay Power Scrolls"},15,null,null,0,{"$f":"Base!U237","v":1},{"$f":"IF(AND(C248<>0,ISNUMBER(C248)),Base!V237*C248,IF(Base!V237=0,\"N\",\"Y\"))","v":"Y"},{"$f":"Base!W237","v":"Cast Rank 1 Invocations"},null,null,null,null,null,0,false,false,{"$f":"AND(CharacterStatus = 0,Base!V237>0)","v":true},false,{"$f":"Base!X237","v":true},0,{"$f":"Base!Y237","v":false},{"$f":"Base!Z237","v":false},{"$f":"Base!AA237","v":false},null,{"$f":"Base!AB237","v":false},{"$f":"Base!AC237","v":false},{"$f":"Base!AD237","v":false},{"$f":"Base!AE237","v":false},{"$f":"Base!AF237","v":false},{"$f":"Base!AG237","v":false},{"$f":"Base!AH237","v":false},{"$f":"Base!AI237","v":false},{"$f":"Base!AJ237","v":false},{"$f":"Base!AK237","v":false},{"$f":"Base!AL237","v":false},{"$f":"Base!AM237","v":false},{"$f":"Base!AN237","v":false},{"$f":"Base!AO237","v":false},{"$f":"Base!AP237","v":false},{"$f":"Base!AQ237","v":false},{"$f":"Base!AR237","v":false},{"$f":"Base!AS237","v":false}]
[{"$f":"Base!B238","v":"Write Ritual Power Scrolls"},30,null,null,0,{"$f":"Base!U238","v":1},{"$f":"IF(AND(C249<>0,ISNUMBER(C249)),Base!V238*C249,IF(Base!V238=0,\"N\",\"Y\"))","v":"Y"},{"$f":"Base!W238","v":"Cast Rank 6 Invocations, Write Lay Power Invocations"},null,null,null,null,null,0,false,false,{"$f":"AND(CharacterStatus = 0,Base!V238>0)","v":true},false,{"$f":"Base!X238","v":true},0,{"$f":"Base!Y238","v":false},{"$f":"Base!Z238","v":false},{"$f":"Base!AA238","v":false},null,{"$f":"Base!AB238","v":false},{"$f":"Base!AC238","v":false},{"$f":"Base!AD238","v":false},{"$f":"Base!AE238","v":false},{"$f":"Base!AF238","v":false},{"$f":"Base!AG238","v":false},{"$f":"Base!AH238","v":false},{"$f":"Base!AI238","v":false},{"$f":"Base!AJ238","v":false},{"$f":"Base!AK238","v":false},{"$f":"Base!AL238","v":false},{"$f":"Base!AM238","v":false},{"$f":"Base!AN238","v":false},{"$f":"Base!AO238","v":false},{"$f":"Base!AP238","v":false},{"$f":"Base!AQ238","v":false},{"$f":"Base!AR238","v":false},{"$f":"Base!AS238","v":false}]
[{"$f":"Base!B239","v":"Write Cosmic Power Scrolls"},30,null,null,0,{"$f":"Base!U239","v":1},{"$f":"IF(AND(C250<>0,ISNUMBER(C250)),Base!V239*C250,IF(Base!V239=0,\"N\",\"Y\"))","v":"Y"},{"$f":"Base!W239","v":"Cast Rank 9 Invocations, Write Ritual Power Invocations"},null,null,null,null,null,0,false,false,{"$f":"AND(CharacterStatus = 0,Base!V239>0)","v":true},false,{"$f":"Base!X239","v":true},0,{"$f":"Base!Y239","v":false},{"$f":"Base!Z239","v":false},{"$f":"Base!AA239","v":false},null,{"$f":"Base!AB239","v":false},{"$f":"Base!AC239","v":false},{"$f":"Base!AD239","v":false},{"$f":"Base!AE239","v":false},{"$f":"Base!AF239","v":false},{"$f":"Base!AG239","v":false},{"$f":"Base!AH239","v":false},{"$f":"Base!AI239","v":false},{"$f":"Base!AJ239","v":false},{"$f":"Base!AK239","v":false},{"$f":"Base!AL239","v":false},{"$f":"Base!AM239","v":false},{"$f":"Base!AN239","v":false},{"$f":"Base!AO239","v":false},{"$f":"Base!AP239","v":false},{"$f":"Base!AQ239","v":false},{"$f":"Base!AR239","v":false},{"$f":"Base!AS239","v":false}]
[{"$f":"Base!B240","v":"Limit Raise - Psi"},0,null,null,0,{"$f":"Base!U240","v":1},{"$f":"IF(AND(C251<>0,ISNUMBER(C251)),Base!V240*C251,IF(Base!V240=0,\"N\",\"Y\"))","v":"Y"},{"$f":"Base!W240","v":"None"},null,null,null,null,null,0,false,false,{"$f":"AND(CharacterStatus = 0,Base!V240>0)","v":true},false,{"$f":"Base!X240","v":true},{"$f":"IF(HasPsi,1,0)","v":0},{"$f":"Base!Y240","v":false},{"$f":"Base!Z240","v":false},{"$f":"Base!AA240","v":false},null,{"$f":"Base!AB240","v":false},{"$f":"Base!AC240","v":false},{"$f":"Base!AD240","v":false},{"$f":"Base!AE240","v":false},{"$f":"Base!AF240","v":false},{"$f":"Base!AG240","v":false},{"$f":"Base!AH240","v":false},{"$f":"Base!AI240","v":false},{"$f":"Base!AJ240","v":false},{"$f":"Base!AK240","v":false},{"$f":"Base!AL240","v":false},{"$f":"Base!AM240","v":false},{"$f":"Base!AN240","v":false},{"$f":"Base!AO240","v":false},{"$f":"Base!AP240","v":false},{"$f":"Base!AQ240","v":false},{"$f":"Base!AR240","v":false},{"$f":"Base!AS240","v":false}]
[{"$f":"Base!B241","v":"Limit Raise Mastery - Psi"},0,null,null,0,{"$f":"Base!U241","v":1},{"$f":"IF(AND(C252<>0,ISNUMBER(C252)),Base!V241*C252,IF(Base!V241=0,\"N\",\"Y\"))","v":"Y"},{"$f":"Base!W241","v":"Limit Raise - Psi"},null,null,null,null,null,0,false,false,{"$f":"AND(CharacterStatus = 0,Base!V241>0)","v":true},false,{"$f":"Base!X241","v":true},0,{"$f":"Base!Y241","v":false},{"$f":"Base!Z241","v":false},{"$f":"Base!AA241","v":false},null,{"$f":"Base!AB241","v":false},{"$f":"Base!AC241","v":false},{"$f":"Base!AD241","v":false},{"$f":"Base!AE241","v":false},{"$f":"Base!AF241","v":false},{"$f":"Base!AG241","v":false},{"$f":"Base!AH241","v":false},{"$f":"Base!AI241","v":false},{"$f":"Base!AJ241","v":false},{"$f":"Base!AK241","v":false},{"$f":"Base!AL241","v":false},{"$f":"Base!AM241","v":false},{"$f":"Base!AN241","v":false},{"$f":"Base!AO241","v":false},{"$f":"Base!AP241","v":false},{"$f":"Base!AQ241","v":false},{"$f":"Base!AR241","v":false},{"$f":"Base!AS241","v":false}]
[{"$f":"Base!B242","v":"Limit Raise Enhanced Mastery - Psi"},0,null,null,0,{"$f":"Base!U242","v":1},{"$f":"IF(AND(C253<>0,ISNUMBER(C253)),Base!V242*C253,IF(Base!V242=0,\"N\",\"Y\"))","v":"Y"},{"$f":"Base!W242","v":"Limit Raise Mastery - Psi"},null,null,null,null,null,0,false,false,{"$f":"AND(CharacterStatus = 0,Base!V242>0)","v":true},false,{"$f":"Base!X242","v":true},0,{"$f":"Base!Y242","v":false},{"$f":"Base!Z242","v":false},{"$f":"Base!AA242","v":false},null,{"$f":"Base!AB242","v":false},{"$f":"Base!AC242","v":false},{"$f":"Base!AD242","v":false},{"$f":"Base!AE242","v":false},{"$f":"Base!AF242","v":false},{"$f":"Base!AG242","v":false},{"$f":"Base!AH242","v":false},{"$f":"Base!AI242","v":false},{"$f":"Base!AJ242","v":false},{"$f":"Base!AK242","v":false},{"$f":"Base!AL242","v":false},{"$f":"Base!AM242","v":false},{"$f":"Base!AN242","v":false},{"$f":"Base!AO242","v":false},{"$f":"Base!AP242","v":false},{"$f":"Base!AQ242","v":false},{"$f":"Base!AR242","v":false},{"$f":"Base!AS242","v":false}]
[{"$f":"Base!B243","v":"Meditate Psi"},8,null,null,0,{"$f":"Base!U243","v":1},{"$f":"IF(AND(C254<>0,ISNUMBER(C254)),Base!V243*C254,IF(Base!V243=0,\"N\",\"Y\"))","v":"N"},{"$f":"Base!W243","v":"Buy Psi"},null,null,null,null,null,0,false,false,{"$f":"AND(CharacterStatus = 0,Base!V243>0)","v":false},false,{"$f":"Base!X243","v":true},0,{"$f":"Base!Y243","v":false},{"$f":"Base!Z243","v":false},{"$f":"Base!AA243","v":false},null,{"$f":"Base!AB243","v":false},{"$f":"Base!AC243","v":false},{"$f":"Base!AD243","v":false},{"$f":"Base!AE243","v":false},{"$f":"Base!AF243","v":false},{"$f":"Base!AG243","v":false},{"$f":"Base!AH243","v":false},{"$f":"Base!AI243","v":false},{"$f":"Base!AJ243","v":false},{"$f":"Base!AK243","v":false},{"$f":"Base!AL243","v":false},{"$f":"Base!AM243","v":false},{"$f":"Base!AN243","v":false},{"$f":"Base!AO243","v":false},{"$f":"Base!AP243","v":false},{"$f":"Base!AQ243","v":false},{"$f":"Base!AR243","v":false},{"$f":"Base!AS243","v":false}]
[{"$f":"Base!B244","v":"Meditate Psi Mastery"},8,null,null,0,{"$f":"Base!U244","v":1},{"$f":"IF(AND(C255<>0,ISNUMBER(C255)),Base!V244*C255,IF(Base!V244=0,\"N\",\"Y\"))","v":"N"},{"$f":"Base!W244","v":"Meditate Psi"},null,null,null,null,null,0,false,false,{"$f":"AND(CharacterStatus = 0,Base!V244>0)","v":false},false,{"$f":"Base!X244","v":true},0,{"$f":"Base!Y244","v":false},{"$f":"Base!Z244","v":false},{"$f":"Base!AA244","v":false},null,{"$f":"Base!AB244","v":false},{"$f":"Base!AC244","v":false},{"$f":"Base!AD244","v":false},{"$f":"Base!AE244","v":false},{"$f":"Base!AF244","v":false},{"$f":"Base!AG244","v":false},{"$f":"Base!AH244","v":false},{"$f":"Base!AI244","v":false},{"$f":"Base!AJ244","v":false},{"$f":"Base!AK244","v":false},{"$f":"Base!AL244","v":false},{"$f":"Base!AM244","v":false},{"$f":"Base!AN244","v":false},{"$f":"Base!AO244","v":false},{"$f":"Base!AP244","v":false},{"$f":"Base!AQ244","v":false},{"$f":"Base!AR244","v":false},{"$f":"Base!AS244","v":false}]
[{"$f":"Base!B245","v":"Meditate Psi Enhanced Mastery"},8,null,null,0,{"$f":"Base!U245","v":1},{"$f":"IF(AND(C256<>0,ISNUMBER(C256)),Base!V245*C256,IF(Base!V245=0,\"N\",\"Y\"))","v":"N"},{"$f":"Base!W245","v":"Meditate Psi Mastery"},null,null,null,null,null,0,false,false,{"$f":"AND(CharacterStatus = 0,Base!V245>0)","v":false},false,{"$f":"Base!X245","v":true},0,{"$f":"Base!Y245","v":false},{"$f":"Base!Z245","v":false},{"$f":"Base!AA245","v":false},null,{"$f":"Base!AB245","v":false},{"$f":"Base!AC245","v":false},{"$f":"Base!AD245","v":false},{"$f":"Base!AE245","v":false},{"$f":"Base!AF245","v":false},{"$f":"Base!AG245","v":false},{"$f":"Base!AH245","v":false},{"$f":"Base!AI245","v":false},{"$f":"Base!AJ245","v":false},{"$f":"Base!AK245","v":false},{"$f":"Base!AL245","v":false},{"$f":"Base!AM245","v":false},{"$f":"Base!AN245","v":false},{"$f":"Base!AO245","v":false},{"$f":"Base!AP245","v":false},{"$f":"Base!AQ245","v":false},{"$f":"Base!AR245","v":false},{"$f":"Base!AS245","v":false}]
[{"$f":"Base!B246","v":"Meditate Psi Superior Mastery"},8,null,null,0,{"$f":"Base!U246","v":1},{"$f":"IF(AND(C257<>0,ISNUMBER(C257)),Base!V246*C257,IF(Base!V246=0,\"N\",\"Y\"))","v":"Y"},{"$f":"Base!W246","v":"Meditate Psi Enhanced Mastery"},null,null,null,null,null,0,false,false,{"$f":"AND(CharacterStatus = 0,Base!V246>0)","v":true},false,{"$f":"Base!X246","v":true},0,{"$f":"Base!Y246","v":false},{"$f":"Base!Z246","v":false},{"$f":"Base!AA246","v":false},null,{"$f":"Base!AB246","v":false},{"$f":"Base!AC246","v":false},{"$f":"Base!AD246","v":false},{"$f":"Base!AE246","v":false},{"$f":"Base!AF246","v":false},{"$f":"Base!AG246","v":false},{"$f":"Base!AH246","v":false},{"$f":"Base!AI246","v":false},{"$f":"Base!AJ246","v":false},{"$f":"Base!AK246","v":false},{"$f":"Base!AL246","v":false},{"$f":"Base!AM246","v":false},{"$f":"Base!AN246","v":false},{"$f":"Base!AO246","v":false},{"$f":"Base!AP246","v":false},{"$f":"Base!AQ246","v":false},{"$f":"Base!AR246","v":false},{"$f":"Base!AS246","v":false}]
[{"$f":"Base!B247","v":"Buy Psi"},2,null,null,0,{"$f":"Base!U247","v":200},{"$f":"IF(AND(C258<>0,ISNUMBER(C258)),Base!V247*C258,IF(Base!V247=0,\"N\",\"Y\"))","v":"N"},{"$f":"Base!W247","v":"Psionics (HQ Ability)"},null,null,null,null,null,0,false,false,{"$f":"AND(CharacterStatus = 0,Base!V247>0)","v":false},false,{"$f":"Base!X247","v":true},0,{"$f":"Base!Y247","v":false},{"$f":"Base!Z247","v":false},{"$f":"Base!AA247","v":false},null,{"$f":"Base!AB247","v":false},{"$f":"Base!AC247","v":false},{"$f":"Base!AD247","v":false},{"$f":"Base!AE247","v":false},{"$f":"Base!AF247","v":false},{"$f":"Base!AG247","v":false},{"$f":"Base!AH247","v":false},{"$f":"Base!AI247","v":false},{"$f":"Base!AJ247","v":false},{"$f":"Base!AK247","v":false},{"$f":"Base!AL247","v":false},{"$f":"Base!AM247","v":false},{"$f":"Base!AN247","v":false},{"$f":"Base!AO247","v":false},{"$f":"Base!AP247","v":false},{"$f":"Base!AQ247","v":false},{"$f":"Base!AR247","v":false},{"$f":"Base!AS247","v":false}]
[{"$f":"Base!B248","v":"Cast Rank Psi"},"R+6",null,null,{"$f":"IF(B259<>\"NO\",IF(ISNUMBER(C259),(C259*(C259+1)/2)+RIGHT(B259,LEN(B259)-FIND(\"+\",B259))*(C259),0),0)","v":0},{"$f":"Base!U248","v":5},{"$f":"IF(AND(C259<>0,ISNUMBER(C259)),Base!V248*C259,IF(Base!V248=0,\"N\",\"Y\"))","v":"N"},{"$f":"Base!W248","v":"Rk 1-5: Psi Acolyte only - Rk 6-8: Psi Priests only (Require Psi Talisman)"},null,null,null,null,null,0,false,false,{"$f":"AND(CharacterStatus = 0,Base!V248>0)","v":false},false,{"$f":"Base!X248","v":true},0,{"$f":"Base!Y248","v":false},{"$f":"Base!Z248","v":false},{"$f":"Base!AA248","v":false},null,{"$f":"Base!AB248","v":false},{"$f":"Base!AC248","v":false},{"$f":"Base!AD248","v":false},{"$f":"Base!AE248","v":false},{"$f":"Base!AF248","v":false},{"$f":"Base!AG248","v":false},{"$f":"Base!AH248","v":false},{"$f":"Base!AI248","v":false},{"$f":"Base!AJ248","v":false},{"$f":"Base!AK248","v":false},{"$f":"Base!AL248","v":false},{"$f":"Base!AM248","v":false},{"$f":"Base!AN248","v":false},{"$f":"Base!AO248","v":false},{"$f":"Base!AP248","v":false},{"$f":"Base!AQ248","v":false},{"$f":"Base!AR248","v":false},{"$f":"Base!AS248","v":false}]
[{"$f":"Base!B249","v":"Make Psi Talisman"},16,null,null,{"$f":"C260*B260","v":0},{"$f":"Base!U249","v":1},{"$f":"IF(AND(C260<>0,ISNUMBER(C260)),Base!V249*C260,IF(Base!V249=0,\"N\",\"Y\"))","v":"Y"},{"$f":"Base!W249","v":"Psi"},null,null,null,null,null,0,false,false,{"$f":"AND(CharacterStatus = 0,Base!V249>0)","v":true},false,{"$f":"Base!X249","v":true},0,{"$f":"Base!Y249","v":false},{"$f":"Base!Z249","v":false},{"$f":"Base!AA249","v":false},null,{"$f":"Base!AB249","v":false},{"$f":"Base!AC249","v":false},{"$f":"Base!AD249","v":false},{"$f":"Base!AE249","v":false},{"$f":"Base!AF249","v":false},{"$f":"Base!AG249","v":false},{"$f":"Base!AH249","v":false},{"$f":"Base!AI249","v":false},{"$f":"Base!AJ249","v":false},{"$f":"Base!AK249","v":false},{"$f":"Base!AL249","v":false},{"$f":"Base!AM249","v":false},{"$f":"Base!AN249","v":false},{"$f":"Base!AO249","v":false},{"$f":"Base!AP249","v":false},{"$f":"Base!AQ249","v":false},{"$f":"Base!AR249","v":false},{"$f":"Base!AS249","v":false}]
[{"$f":"Base!B250","v":"Dodge - Uncanny"},60,null,null,{"$f":"C261*B261","v":0},{"$f":"Base!U250","v":1},{"$f":"IF(AND(C261<>0,ISNUMBER(C261)),Base!V250*C261,IF(Base!V250=0,\"N\",\"Y\"))","v":"Y"},{"$f":"Base!W250","v":"8 Points of Dexterity, Scout"},null,null,null,null,null,0,false,false,{"$f":"AND(CharacterStatus = 0,Base!V250>0)","v":true},false,{"$f":"Base!X250","v":true},{"$f":"IF(OR(U261,AND(V261,CharacterRank>=W261),AND(Y261,CharacterRank>=Z261),AND(AA261,CharacterRank>=AB261),AND(AC261,CharacterRank>=AD261),AND(AE261,CharacterRank>=AF261),AND(AG261,CharacterRank>=AH261),AND(AI261,CharacterRank>=AJ261),AND(AK261,CharacterRank>=AL261),AND(AM261,CharacterRank>=AN261),AND(AO261,CharacterRank>=AP261)),1,0)","v":0},{"$f":"Base!Y250","v":false},{"$f":"Base!Z250","v":false},{"$f":"Base!AA250","v":false},null,{"$f":"Base!AB250","v":false},{"$f":"Base!AC250","v":false},{"$f":"Base!AD250","v":false},{"$f":"Base!AE250","v":false},{"$f":"Base!AF250","v":false},{"$f":"Base!AG250","v":false},{"$f":"Base!AH250","v":false},{"$f":"Base!AI250","v":false},{"$f":"Base!AJ250","v":false},{"$f":"Base!AK250","v":false},{"$f":"Base!AL250","v":false},{"$f":"Base!AM250","v":false},{"$f":"Base!AN250","v":false},{"$f":"Base!AO250","v":false},{"$f":"Base!AP250","v":false},{"$f":"Base!AQ250","v":false},{"$f":"Base!AR250","v":false},{"$f":"Base!AS250","v":false}]
[{"$f":"Base!B251","v":"Dodge - Exceptional"},120,null,null,0,{"$f":"Base!U251","v":1},{"$f":"IF(AND(C262<>0,ISNUMBER(C262)),Base!V251*C262,IF(Base!V251=0,\"N\",\"Y\"))","v":"Y"},{"$f":"Base!W251","v":"12 Points of Dexterity, Scout"},null,null,null,null,null,0,false,false,{"$f":"AND(CharacterStatus = 0,Base!V251>0)","v":true},false,{"$f":"Base!X251","v":true},0,{"$f":"Base!Y251","v":false},{"$f":"Base!Z251","v":false},{"$f":"Base!AA251","v":false},null,{"$f":"Base!AB251","v":false},{"$f":"Base!AC251","v":false},{"$f":"Base!AD251","v":false},{"$f":"Base!AE251","v":false},{"$f":"Base!AF251","v":false},{"$f":"Base!AG251","v":false},{"$f":"Base!AH251","v":false},{"$f":"Base!AI251","v":false},{"$f":"Base!AJ251","v":false},{"$f":"Base!AK251","v":false},{"$f":"Base!AL251","v":false},{"$f":"Base!AM251","v":false},{"$f":"Base!AN251","v":false},{"$f":"Base!AO251","v":false},{"$f":"Base!AP251","v":false},{"$f":"Base!AQ251","v":false},{"$f":"Base!AR251","v":false},{"$f":"Base!AS251","v":false}]
[{"$f":"Base!B252","v":"Dodge - Superior"},180,null,null,0,{"$f":"Base!U252","v":1},{"$f":"IF(AND(C263<>0,ISNUMBER(C263)),Base!V252*C263,IF(Base!V252=0,\"N\",\"Y\"))","v":"Y"},{"$f":"Base!W252","v":"Dodge - Exceptional"},null,null,null,null,null,0,false,false,{"$f":"AND(CharacterStatus = 0,Base!V252>0)","v":true},false,{"$f":"Base!X252","v":true},{"$f":"IF(OR(U263,AND(V263,CharacterRank>=W263),AND(Y263,CharacterRank>=Z263),AND(AA263,CharacterRank>=AB263),AND(AC263,CharacterRank>=AD263),AND(AE263,CharacterRank>=AF263),AND(AG263,CharacterRank>=AH263),AND(AI263,CharacterRank>=AJ263),AND(AK263,CharacterRank>=AL263),AND(AM263,CharacterRank>=AN263),AND(AO263,CharacterRank>=AP263)),1,0)","v":0},{"$f":"Base!Y252","v":false},{"$f":"Base!Z252","v":false},{"$f":"Base!AA252","v":false},null,{"$f":"Base!AB252","v":false},{"$f":"Base!AC252","v":false},{"$f":"Base!AD252","v":false},{"$f":"Base!AE252","v":false},{"$f":"Base!AF252","v":false},{"$f":"Base!AG252","v":false},{"$f":"Base!AH252","v":false},{"$f":"Base!AI252","v":false},{"$f":"Base!AJ252","v":false},{"$f":"Base!AK252","v":false},{"$f":"Base!AL252","v":false},{"$f":"Base!AM252","v":false},{"$f":"Base!AN252","v":false},{"$f":"Base!AO252","v":false},{"$f":"Base!AP252","v":false},{"$f":"Base!AQ252","v":false},{"$f":"Base!AR252","v":false},{"$f":"Base!AS252","v":false}]
[{"$f":"Base!B253","v":"Jack of All trades"},0,null,0,0,{"$f":"Base!U253","v":1},{"$f":"IF(AND(C264<>0,ISNUMBER(C264)),Base!V253*C264,IF(Base!V253=0,\"N\",\"Y\"))","v":"Y"},{"$f":"Base!W253","v":"None"},null,null,null,null,null,0,false,false,{"$f":"AND(CharacterStatus = 0,Base!V253>0)","v":true},false,{"$f":"Base!X253","v":true},0,{"$f":"Base!Y253","v":false},{"$f":"Base!Z253","v":false},{"$f":"Base!AA253","v":false},null,{"$f":"Base!AB253","v":false},{"$f":"Base!AC253","v":false},{"$f":"Base!AD253","v":false},{"$f":"Base!AE253","v":false},{"$f":"Base!AF253","v":false},{"$f":"Base!AG253","v":false},{"$f":"Base!AH253","v":false},{"$f":"Base!AI253","v":false},{"$f":"Base!AJ253","v":false},{"$f":"Base!AK253","v":false},{"$f":"Base!AL253","v":false},{"$f":"Base!AM253","v":false},{"$f":"Base!AN253","v":false},{"$f":"Base!AO253","v":false},{"$f":"Base!AP253","v":false},{"$f":"Base!AQ253","v":false},{"$f":"Base!AR253","v":false},{"$f":"Base!AS253","v":false}]
[{"$f":"Base!B254","v":"Trap Handling"},20,null,null,0,{"$f":"Base!U254","v":1},{"$f":"IF(AND(C265<>0,ISNUMBER(C265)),Base!V254*C265,IF(Base!V254=0,\"N\",\"Y\"))","v":"N"},{"$f":"Base!W254","v":"None"},null,null,null,null,null,0,false,false,{"$f":"AND(CharacterStatus = 0,Base!V254>0)","v":false},false,{"$f":"Base!X254","v":false},0,{"$f":"Base!Y254","v":false},{"$f":"Base!Z254","v":false},{"$f":"Base!AA254","v":false},null,{"$f":"Base!AB254","v":false},{"$f":"Base!AC254","v":false},{"$f":"Base!AD254","v":false},{"$f":"Base!AE254","v":false},{"$f":"Base!AF254","v":false},{"$f":"Base!AG254","v":false},{"$f":"Base!AH254","v":false},{"$f":"Base!AI254","v":false},{"$f":"Base!AJ254","v":false},{"$f":"Base!AK254","v":false},{"$f":"Base!AL254","v":false},{"$f":"Base!AM254","v":false},{"$f":"Base!AN254","v":false},{"$f":"Base!AO254","v":false},{"$f":"Base!AP254","v":false},{"$f":"Base!AQ254","v":false},{"$f":"Base!AR254","v":false},{"$f":"Base!AS254","v":false}]
[{"$f":"Base!B255","v":"Trap Handling Mastery"},20,null,null,{"$f":"C266*B266","v":0},{"$f":"Base!U255","v":1},{"$f":"IF(AND(C266<>0,ISNUMBER(C266)),Base!V255*C266,IF(Base!V255=0,\"N\",\"Y\"))","v":"N"},{"$f":"Base!W255","v":"Trap Handling"},null,null,null,null,null,{"$f":"IF(OR(T266=1,NOT(C266=0),NOT(D266=0)),1,0)","v":0},{"$f":"NOT(OR(ISBLANK(C266),C266=0))","v":false},{"$f":"AND(F266<>\"N\",C266>F266)","v":false},{"$f":"AND(CharacterStatus = 0,Base!V255>0)","v":false},{"$f":"AND(CharacterStatus > 0,G266>0,G266<>\"N\")","v":false},{"$f":"Base!X255","v":true},{"$f":"IF(OR(U266,AND(V266,CharacterRank>=W266),AND(Y266,CharacterRank>=Z266),AND(AA266,CharacterRank>=AB266),AND(AC266,CharacterRank>=AD266),AND(AE266,CharacterRank>=AF266),AND(AG266,CharacterRank>=AH266),AND(AI266,CharacterRank>=AJ266),AND(AK266,CharacterRank>=AL266),AND(AM266,CharacterRank>=AN266),AND(AO266,CharacterRank>=AP266)),1,0)","v":0},{"$f":"Base!Y255","v":false},{"$f":"Base!Z255","v":false},{"$f":"Base!AA255","v":false},null,{"$f":"Base!AB255","v":false},{"$f":"Base!AC255","v":false},{"$f":"Base!AD255","v":false},{"$f":"Base!AE255","v":false},{"$f":"Base!AF255","v":false},{"$f":"Base!AG255","v":false},{"$f":"Base!AH255","v":false},{"$f":"Base!AI255","v":false},{"$f":"Base!AJ255","v":false},{"$f":"Base!AK255","v":false},{"$f":"Base!AL255","v":false},{"$f":"Base!AM255","v":false},{"$f":"Base!AN255","v":false},{"$f":"Base!AO255","v":false},{"$f":"Base!AP255","v":false},{"$f":"Base!AQ255","v":false},{"$f":"Base!AR255","v":false},{"$f":"Base!AS255","v":false}]
[{"$f":"Base!B256","v":"Trap Handling Enhanced Mastery"},20,null,null,0,{"$f":"Base!U256","v":1},{"$f":"IF(AND(C267<>0,ISNUMBER(C267)),Base!V256*C267,IF(Base!V256=0,\"N\",\"Y\"))","v":"N"},{"$f":"Base!W256","v":"Trap Handling Mastery"},null,null,null,null,null,0,false,false,{"$f":"AND(CharacterStatus = 0,Base!V256>0)","v":false},false,{"$f":"Base!X256","v":true},0,{"$f":"Base!Y256","v":false},{"$f":"Base!Z256","v":false},{"$f":"Base!AA256","v":false},null,{"$f":"Base!AB256","v":false},{"$f":"Base!AC256","v":false},{"$f":"Base!AD256","v":false},{"$f":"Base!AE256","v":false},{"$f":"Base!AF256","v":false},{"$f":"Base!AG256","v":false},{"$f":"Base!AH256","v":false},{"$f":"Base!AI256","v":false},{"$f":"Base!AJ256","v":false},{"$f":"Base!AK256","v":false},{"$f":"Base!AL256","v":false},{"$f":"Base!AM256","v":false},{"$f":"Base!AN256","v":false},{"$f":"Base!AO256","v":false},{"$f":"Base!AP256","v":false},{"$f":"Base!AQ256","v":false},{"$f":"Base!AR256","v":false},{"$f":"Base!AS256","v":false}]
[{"$f":"Base!B257","v":"Trap Handling Superior Mastery"},20,null,null,0,{"$f":"Base!U257","v":1},{"$f":"IF(AND(C268<>0,ISNUMBER(C268)),Base!V257*C268,IF(Base!V257=0,\"N\",\"Y\"))","v":"N"},{"$f":"Base!W257","v":"Trap Handling Enhanced Mastery"},null,null,null,null,null,0,false,false,{"$f":"AND(CharacterStatus = 0,Base!V257>0)","v":false},false,{"$f":"Base!X257","v":true},0,{"$f":"Base!Y257","v":false},{"$f":"Base!Z257","v":false},{"$f":"Base!AA257","v":false},null,{"$f":"Base!AB257","v":false},{"$f":"Base!AC257","v":false},{"$f":"Base!AD257","v":false},{"$f":"Base!AE257","v":false},{"$f":"Base!AF257","v":false},{"$f":"Base!AG257","v":false},{"$f":"Base!AH257","v":false},{"$f":"Base!AI257","v":false},{"$f":"Base!AJ257","v":false},{"$f":"Base!AK257","v":false},{"$f":"Base!AL257","v":false},{"$f":"Base!AM257","v":false},{"$f":"Base!AN257","v":false},{"$f":"Base!AO257","v":false},{"$f":"Base!AP257","v":false},{"$f":"Base!AQ257","v":false},{"$f":"Base!AR257","v":false},{"$f":"Base!AS257","v":false}]
[{"$f":"Base!B258","v":"Trap Handling Exceptional Mastery"},20,null,null,0,{"$f":"Base!U258","v":1},{"$f":"IF(AND(C269<>0,ISNUMBER(C269)),Base!V258*C269,IF(Base!V258=0,\"N\",\"Y\"))","v":"Y"},{"$f":"Base!W258","v":"Trap Handling Superior Mastery"},null,null,null,null,null,0,false,false,{"$f":"AND(CharacterStatus = 0,Base!V258>0)","v":true},false,{"$f":"Base!X258","v":true},0,{"$f":"Base!Y258","v":false},{"$f":"Base!Z258","v":false},{"$f":"Base!AA258","v":false},null,{"$f":"Base!AB258","v":false},{"$f":"Base!AC258","v":false},{"$f":"Base!AD258","v":false},{"$f":"Base!AE258","v":false},{"$f":"Base!AF258","v":false},{"$f":"Base!AG258","v":false},{"$f":"Base!AH258","v":false},{"$f":"Base!AI258","v":false},{"$f":"Base!AJ258","v":false},{"$f":"Base!AK258","v":false},{"$f":"Base!AL258","v":false},{"$f":"Base!AM258","v":false},{"$f":"Base!AN258","v":false},{"$f":"Base!AO258","v":false},{"$f":"Base!AP258","v":false},{"$f":"Base!AQ258","v":false},{"$f":"Base!AR258","v":false},{"$f":"Base!AS258","v":false}]
[{"$f":"Base!B259","v":"Disguise"},20,null,null,0,{"$f":"Base!U259","v":"N"},{"$f":"IF(AND(C270<>0,ISNUMBER(C270)),Base!V259*C270,IF(Base!V259=0,\"N\",\"Y\"))","v":"Y"},{"$f":"Base!W259","v":"None"},null,null,null,null,null,0,false,false,{"$f":"AND(CharacterStatus = 0,Base!V259>0)","v":true},false,{"$f":"Base!X259","v":false},0,{"$f":"Base!Y259","v":false},{"$f":"Base!Z259","v":false},{"$f":"Base!AA259","v":false},null,{"$f":"Base!AB259","v":false},{"$f":"Base!AC259","v":false},{"$f":"Base!AD259","v":false},{"$f":"Base!AE259","v":false},{"$f":"Base!AF259","v":false},{"$f":"Base!AG259","v":false},{"$f":"Base!AH259","v":false},{"$f":"Base!AI259","v":false},{"$f":"Base!AJ259","v":false},{"$f":"Base!AK259","v":false},{"$f":"Base!AL259","v":false},{"$f":"Base!AM259","v":false},{"$f":"Base!AN259","v":false},{"$f":"Base!AO259","v":false},{"$f":"Base!AP259","v":false},{"$f":"Base!AQ259","v":false},{"$f":"Base!AR259","v":false},{"$f":"Base!AS259","v":false}]
[{"$f":"Base!B260","v":"Disguise Mastery"},40,null,null,0,{"$f":"Base!U260","v":1},{"$f":"IF(AND(C271<>0,ISNUMBER(C271)),Base!V260*C271,IF(Base!V260=0,\"N\",\"Y\"))","v":"Y"},{"$f":"Base!W260","v":"Disguise"},null,null,null,null,null,0,false,false,{"$f":"AND(CharacterStatus = 0,Base!V260>0)","v":true},false,{"$f":"Base!X260","v":true},0,{"$f":"Base!Y260","v":false},{"$f":"Base!Z260","v":false},{"$f":"Base!AA260","v":false},null,{"$f":"Base!AB260","v":false},{"$f":"Base!AC260","v":false},{"$f":"Base!AD260","v":false},{"$f":"Base!AE260","v":false},{"$f":"Base!AF260","v":false},{"$f":"Base!AG260","v":false},{"$f":"Base!AH260","v":false},{"$f":"Base!AI260","v":false},{"$f":"Base!AJ260","v":false},{"$f":"Base!AK260","v":false},{"$f":"Base!AL260","v":false},{"$f":"Base!AM260","v":false},{"$f":"Base!AN260","v":false},{"$f":"Base!AO260","v":false},{"$f":"Base!AP260","v":false},{"$f":"Base!AQ260","v":false},{"$f":"Base!AR260","v":false},{"$f":"Base!AS260","v":false}]
[{"$f":"Base!B261","v":"Disguise Other"},20,null,null,0,{"$f":"Base!U261","v":1},{"$f":"IF(AND(C272<>0,ISNUMBER(C272)),Base!V261*C272,IF(Base!V261=0,\"N\",\"Y\"))","v":"N"},{"$f":"Base!W261","v":"Disguise"},null,null,null,null,null,0,false,false,{"$f":"AND(CharacterStatus = 0,Base!V261>0)","v":false},false,{"$f":"Base!X261","v":true},0,{"$f":"Base!Y261","v":false},{"$f":"Base!Z261","v":false},{"$f":"Base!AA261","v":false},null,{"$f":"Base!AB261","v":false},{"$f":"Base!AC261","v":false},{"$f":"Base!AD261","v":false},{"$f":"Base!AE261","v":false},{"$f":"Base!AF261","v":false},{"$f":"Base!AG261","v":false},{"$f":"Base!AH261","v":false},{"$f":"Base!AI261","v":false},{"$f":"Base!AJ261","v":false},{"$f":"Base!AK261","v":false},{"$f":"Base!AL261","v":false},{"$f":"Base!AM261","v":false},{"$f":"Base!AN261","v":false},{"$f":"Base!AO261","v":false},{"$f":"Base!AP261","v":false},{"$f":"Base!AQ261","v":false},{"$f":"Base!AR261","v":false},{"$f":"Base!AS261","v":false}]
[{"$f":"Base!B262","v":"Recognise Disguise"},20,null,null,0,{"$f":"Base!U262","v":1},{"$f":"IF(AND(C273<>0,ISNUMBER(C273)),Base!V262*C273,IF(Base!V262=0,\"N\",\"Y\"))","v":"N"},{"$f":"Base!W262","v":"None"},null,null,null,null,null,0,false,false,{"$f":"AND(CharacterStatus = 0,Base!V262>0)","v":false},false,{"$f":"Base!X262","v":false},0,{"$f":"Base!Y262","v":false},{"$f":"Base!Z262","v":false},{"$f":"Base!AA262","v":false},null,{"$f":"Base!AB262","v":false},{"$f":"Base!AC262","v":false},{"$f":"Base!AD262","v":false},{"$f":"Base!AE262","v":false},{"$f":"Base!AF262","v":false},{"$f":"Base!AG262","v":false},{"$f":"Base!AH262","v":false},{"$f":"Base!AI262","v":false},{"$f":"Base!AJ262","v":false},{"$f":"Base!AK262","v":false},{"$f":"Base!AL262","v":false},{"$f":"Base!AM262","v":false},{"$f":"Base!AN262","v":false},{"$f":"Base!AO262","v":false},{"$f":"Base!AP262","v":false},{"$f":"Base!AQ262","v":false},{"$f":"Base!AR262","v":false},{"$f":"Base!AS262","v":false}]
[{"$f":"Base!B263","v":"Recognise Disguise Mastery"},40,null,null,0,{"$f":"Base!U263","v":1},{"$f":"IF(AND(C274<>0,ISNUMBER(C274)),Base!V263*C274,IF(Base!V263=0,\"N\",\"Y\"))","v":"Y"},{"$f":"Base!W263","v":"Recognise Disguise"},null,null,null,null,null,0,false,false,{"$f":"AND(CharacterStatus = 0,Base!V263>0)","v":true},false,{"$f":"Base!X263","v":true},0,{"$f":"Base!Y263","v":false},{"$f":"Base!Z263","v":false},{"$f":"Base!AA263","v":false},null,{"$f":"Base!AB263","v":false},{"$f":"Base!AC263","v":false},{"$f":"Base!AD263","v":false},{"$f":"Base!AE263","v":false},{"$f":"Base!AF263","v":false},{"$f":"Base!AG263","v":false},{"$f":"Base!AH263","v":false},{"$f":"Base!AI263","v":false},{"$f":"Base!AJ263","v":false},{"$f":"Base!AK263","v":false},{"$f":"Base!AL263","v":false},{"$f":"Base!AM263","v":false},{"$f":"Base!AN263","v":false},{"$f":"Base!AO263","v":false},{"$f":"Base!AP263","v":false},{"$f":"Base!AQ263","v":false},{"$f":"Base!AR263","v":false},{"$f":"Base!AS263","v":false}]
[{"$f":"Base!B264","v":"Sneak Attack"},40,null,null,0,{"$f":"Base!U264","v":1},{"$f":"IF(AND(C275<>0,ISNUMBER(C275)),Base!V264*C275,IF(Base!V264=0,\"N\",\"Y\"))","v":"Y"},{"$f":"Base!W264","v":"None"},null,null,null,null,null,0,false,false,{"$f":"AND(CharacterStatus = 0,Base!V264>0)","v":true},false,{"$f":"Base!X264","v":false},0,{"$f":"Base!Y264","v":false},{"$f":"Base!Z264","v":false},{"$f":"Base!AA264","v":false},null,{"$f":"Base!AB264","v":false},{"$f":"Base!AC264","v":false},{"$f":"Base!AD264","v":false},{"$f":"Base!AE264","v":false},{"$f":"Base!AF264","v":false},{"$f":"Base!AG264","v":false},{"$f":"Base!AH264","v":false},{"$f":"Base!AI264","v":false},{"$f":"Base!AJ264","v":false},{"$f":"Base!AK264","v":false},{"$f":"Base!AL264","v":false},{"$f":"Base!AM264","v":false},{"$f":"Base!AN264","v":false},{"$f":"Base!AO264","v":false},{"$f":"Base!AP264","v":false},{"$f":"Base!AQ264","v":false},{"$f":"Base!AR264","v":false},{"$f":"Base!AS264","v":false}]
[{"$f":"Base!B265","v":"Sneak Attack Mastery"},60,null,null,0,{"$f":"Base!U265","v":1},{"$f":"IF(AND(C276<>0,ISNUMBER(C276)),Base!V265*C276,IF(Base!V265=0,\"N\",\"Y\"))","v":"N"},{"$f":"Base!W265","v":"Sneak Attack "},null,null,null,null,null,0,false,false,{"$f":"AND(CharacterStatus = 0,Base!V265>0)","v":false},false,{"$f":"Base!X265","v":true},0,{"$f":"Base!Y265","v":false},{"$f":"Base!Z265","v":false},{"$f":"Base!AA265","v":false},null,{"$f":"Base!AB265","v":false},{"$f":"Base!AC265","v":false},{"$f":"Base!AD265","v":false},{"$f":"Base!AE265","v":false},{"$f":"Base!AF265","v":false},{"$f":"Base!AG265","v":false},{"$f":"Base!AH265","v":false},{"$f":"Base!AI265","v":false},{"$f":"Base!AJ265","v":false},{"$f":"Base!AK265","v":false},{"$f":"Base!AL265","v":false},{"$f":"Base!AM265","v":false},{"$f":"Base!AN265","v":false},{"$f":"Base!AO265","v":false},{"$f":"Base!AP265","v":false},{"$f":"Base!AQ265","v":false},{"$f":"Base!AR265","v":false},{"$f":"Base!AS265","v":false}]
[{"$f":"Base!B266","v":"Sneak Attack Enhanced Mastery"},80,null,null,0,{"$f":"Base!U266","v":1},{"$f":"IF(AND(C277<>0,ISNUMBER(C277)),Base!V266*C277,IF(Base!V266=0,\"N\",\"Y\"))","v":"N"},{"$f":"Base!W266","v":"Sneak Attack Mastery"},null,null,null,null,null,0,false,false,{"$f":"AND(CharacterStatus = 0,Base!V266>0)","v":false},false,{"$f":"Base!X266","v":true},0,{"$f":"Base!Y266","v":false},{"$f":"Base!Z266","v":false},{"$f":"Base!AA266","v":false},null,{"$f":"Base!AB266","v":false},{"$f":"Base!AC266","v":false},{"$f":"Base!AD266","v":false},{"$f":"Base!AE266","v":false},{"$f":"Base!AF266","v":false},{"$f":"Base!AG266","v":false},{"$f":"Base!AH266","v":false},{"$f":"Base!AI266","v":false},{"$f":"Base!AJ266","v":false},{"$f":"Base!AK266","v":false},{"$f":"Base!AL266","v":false},{"$f":"Base!AM266","v":false},{"$f":"Base!AN266","v":false},{"$f":"Base!AO266","v":false},{"$f":"Base!AP266","v":false},{"$f":"Base!AQ266","v":false},{"$f":"Base!AR266","v":false},{"$f":"Base!AS266","v":false}]
[{"$f":"Base!B267","v":"Sneak Attack Superior Mastery"},100,null,null,0,{"$f":"Base!U267","v":1},{"$f":"IF(AND(C278<>0,ISNUMBER(C278)),Base!V267*C278,IF(Base!V267=0,\"N\",\"Y\"))","v":"N"},{"$f":"Base!W267","v":"Sneak Attack Enhanced Mastery"},null,null,null,null,null,0,false,false,{"$f":"AND(CharacterStatus = 0,Base!V267>0)","v":false},false,{"$f":"Base!X267","v":true},0,{"$f":"Base!Y267","v":false},{"$f":"Base!Z267","v":false},{"$f":"Base!AA267","v":false},null,{"$f":"Base!AB267","v":false},{"$f":"Base!AC267","v":false},{"$f":"Base!AD267","v":false},{"$f":"Base!AE267","v":false},{"$f":"Base!AF267","v":false},{"$f":"Base!AG267","v":false},{"$f":"Base!AH267","v":false},{"$f":"Base!AI267","v":false},{"$f":"Base!AJ267","v":false},{"$f":"Base!AK267","v":false},{"$f":"Base!AL267","v":false},{"$f":"Base!AM267","v":false},{"$f":"Base!AN267","v":false},{"$f":"Base!AO267","v":false},{"$f":"Base!AP267","v":false},{"$f":"Base!AQ267","v":false},{"$f":"Base!AR267","v":false},{"$f":"Base!AS267","v":false}]
[{"$f":"Base!B268","v":"Sneak Attack Exceptional Mastery"},120,null,null,0,{"$f":"Base!U268","v":1},{"$f":"IF(AND(C279<>0,ISNUMBER(C279)),Base!V268*C279,IF(Base!V268=0,\"N\",\"Y\"))","v":"Y"},{"$f":"Base!W268","v":"Sneak Attack Superior Mastery"},null,null,null,null,null,0,false,false,{"$f":"AND(CharacterStatus = 0,Base!V268>0)","v":true},false,{"$f":"Base!X268","v":true},0,{"$f":"Base!Y268","v":false},{"$f":"Base!Z268","v":false},{"$f":"Base!AA268","v":false},null,{"$f":"Base!AB268","v":false},{"$f":"Base!AC268","v":false},{"$f":"Base!AD268","v":false},{"$f":"Base!AE268","v":false},{"$f":"Base!AF268","v":false},{"$f":"Base!AG268","v":false},{"$f":"Base!AH268","v":false},{"$f":"Base!AI268","v":false},{"$f":"Base!AJ268","v":false},{"$f":"Base!AK268","v":false},{"$f":"Base!AL268","v":false},{"$f":"Base!AM268","v":false},{"$f":"Base!AN268","v":false},{"$f":"Base!AO268","v":false},{"$f":"Base!AP268","v":false},{"$f":"Base!AQ268","v":false},{"$f":"Base!AR268","v":false},{"$f":"Base!AS268","v":false}]
[{"$f":"Base!B269","v":"Throat Slit"},50,null,null,0,{"$f":"Base!U269","v":1},{"$f":"IF(AND(C280<>0,ISNUMBER(C280)),Base!V269*C280,IF(Base!V269=0,\"N\",\"Y\"))","v":"Y"},{"$f":"Base!W269","v":"Dagger Mastery"},null,null,null,null,null,0,false,false,{"$f":"AND(CharacterStatus = 0,Base!V269>0)","v":true},false,{"$f":"Base!X269","v":true},0,{"$f":"Base!Y269","v":false},{"$f":"Base!Z269","v":false},{"$f":"Base!AA269","v":false},null,{"$f":"Base!AB269","v":false},{"$f":"Base!AC269","v":false},{"$f":"Base!AD269","v":false},{"$f":"Base!AE269","v":false},{"$f":"Base!AF269","v":false},{"$f":"Base!AG269","v":false},{"$f":"Base!AH269","v":false},{"$f":"Base!AI269","v":false},{"$f":"Base!AJ269","v":false},{"$f":"Base!AK269","v":false},{"$f":"Base!AL269","v":false},{"$f":"Base!AM269","v":false},{"$f":"Base!AN269","v":false},{"$f":"Base!AO269","v":false},{"$f":"Base!AP269","v":false},{"$f":"Base!AQ269","v":false},{"$f":"Base!AR269","v":false},{"$f":"Base!AS269","v":false}]
[{"$f":"Base!B270","v":"Throat Slit Mastery"},50,null,null,0,{"$f":"Base!U270","v":1},{"$f":"IF(AND(C281<>0,ISNUMBER(C281)),Base!V270*C281,IF(Base!V270=0,\"N\",\"Y\"))","v":"N"},{"$f":"Base!W270","v":"Throat Slit, Enhance Dagger Mastery"},null,null,null,null,null,0,false,false,{"$f":"AND(CharacterStatus = 0,Base!V270>0)","v":false},false,{"$f":"Base!X270","v":true},0,{"$f":"Base!Y270","v":false},{"$f":"Base!Z270","v":false},{"$f":"Base!AA270","v":false},null,{"$f":"Base!AB270","v":false},{"$f":"Base!AC270","v":false},{"$f":"Base!AD270","v":false},{"$f":"Base!AE270","v":false},{"$f":"Base!AF270","v":false},{"$f":"Base!AG270","v":false},{"$f":"Base!AH270","v":false},{"$f":"Base!AI270","v":false},{"$f":"Base!AJ270","v":false},{"$f":"Base!AK270","v":false},{"$f":"Base!AL270","v":false},{"$f":"Base!AM270","v":false},{"$f":"Base!AN270","v":false},{"$f":"Base!AO270","v":false},{"$f":"Base!AP270","v":false},{"$f":"Base!AQ270","v":false},{"$f":"Base!AR270","v":false},{"$f":"Base!AS270","v":false}]
[{"$f":"Base!B271","v":"Throat Slit Enhanced Mastery"},50,null,null,0,{"$f":"Base!U271","v":1},{"$f":"IF(AND(C282<>0,ISNUMBER(C282)),Base!V271*C282,IF(Base!V271=0,\"N\",\"Y\"))","v":"N"},{"$f":"Base!W271","v":"Throat Slit Mastery, Dagger Attunement"},null,null,null,null,null,{"$f":"IF(OR(T282=1,NOT(C282=0),NOT(D282=0)),1,0)","v":0},{"$f":"NOT(OR(ISBLANK(C282),C282=0))","v":false},{"$f":"AND(F282<>\"N\",C282>F282)","v":false},{"$f":"AND(CharacterStatus = 0,Base!V271>0)","v":false},{"$f":"AND(CharacterStatus > 0,G282>0,G282<>\"N\")","v":false},{"$f":"Base!X271","v":true},0,{"$f":"Base!Y271","v":false},{"$f":"Base!Z271","v":false},{"$f":"Base!AA271","v":false},null,{"$f":"Base!AB271","v":false},{"$f":"Base!AC271","v":false},{"$f":"Base!AD271","v":false},{"$f":"Base!AE271","v":false},{"$f":"Base!AF271","v":false},{"$f":"Base!AG271","v":false},{"$f":"Base!AH271","v":false},{"$f":"Base!AI271","v":false},{"$f":"Base!AJ271","v":false},{"$f":"Base!AK271","v":false},{"$f":"Base!AL271","v":false},{"$f":"Base!AM271","v":false},{"$f":"Base!AN271","v":false},{"$f":"Base!AO271","v":false},{"$f":"Base!AP271","v":false},{"$f":"Base!AQ271","v":false},{"$f":"Base!AR271","v":false},{"$f":"Base!AS271","v":false}]
[{"$f":"Base!B272","v":"Throat Slit Superior Mastery"},50,null,null,0,{"$f":"Base!U272","v":1},{"$f":"IF(AND(C283<>0,ISNUMBER(C283)),Base!V272*C283,IF(Base!V272=0,\"N\",\"Y\"))","v":"Y"},{"$f":"Base!W272","v":"Throat Slit Enhanced Mastery"},null,null,null,null,null,0,false,false,{"$f":"AND(CharacterStatus = 0,Base!V272>0)","v":true},false,{"$f":"Base!X272","v":true},0,{"$f":"Base!Y272","v":false},{"$f":"Base!Z272","v":false},{"$f":"Base!AA272","v":false},null,{"$f":"Base!AB272","v":false},{"$f":"Base!AC272","v":false},{"$f":"Base!AD272","v":false},{"$f":"Base!AE272","v":false},{"$f":"Base!AF272","v":false},{"$f":"Base!AG272","v":false},{"$f":"Base!AH272","v":false},{"$f":"Base!AI272","v":false},{"$f":"Base!AJ272","v":false},{"$f":"Base!AK272","v":false},{"$f":"Base!AL272","v":false},{"$f":"Base!AM272","v":false},{"$f":"Base!AN272","v":false},{"$f":"Base!AO272","v":false},{"$f":"Base!AP272","v":false},{"$f":"Base!AQ272","v":false},{"$f":"Base!AR272","v":false},{"$f":"Base!AS272","v":false}]
[{"$f":"Base!B273","v":"Throat Slit Exceptional Mastery"},50,null,null,0,{"$f":"Base!U273","v":1},{"$f":"IF(AND(C284<>0,ISNUMBER(C284)),Base!V273*C284,IF(Base!V273=0,\"N\",\"Y\"))","v":"Y"},{"$f":"Base!W273","v":"Throat Slit Superior Mastery"},null,null,null,null,null,0,false,false,{"$f":"AND(CharacterStatus = 0,Base!V273>0)","v":true},false,{"$f":"Base!X273","v":true},0,{"$f":"Base!Y273","v":false},{"$f":"Base!Z273","v":false},{"$f":"Base!AA273","v":false},null,{"$f":"Base!AB273","v":false},{"$f":"Base!AC273","v":false},{"$f":"Base!AD273","v":false},{"$f":"Base!AE273","v":false},{"$f":"Base!AF273","v":false},{"$f":"Base!AG273","v":false},{"$f":"Base!AH273","v":false},{"$f":"Base!AI273","v":false},{"$f":"Base!AJ273","v":false},{"$f":"Base!AK273","v":false},{"$f":"Base!AL273","v":false},{"$f":"Base!AM273","v":false},{"$f":"Base!AN273","v":false},{"$f":"Base!AO273","v":false},{"$f":"Base!AP273","v":false},{"$f":"Base!AQ273","v":false},{"$f":"Base!AR273","v":false},{"$f":"Base!AS273","v":false}]
[{"$f":"Base!B274","v":"Bonebreak"},120,null,null,0,{"$f":"Base!U274","v":1},{"$f":"IF(AND(C285<>0,ISNUMBER(C285)),Base!V274*C285,IF(Base!V274=0,\"N\",\"Y\"))","v":"Y"},{"$f":"Base!W274","v":"Double Strength"},null,null,null,null,null,0,false,false,{"$f":"AND(CharacterStatus = 0,Base!V274>0)","v":true},false,{"$f":"Base!X274","v":true},0,{"$f":"Base!Y274","v":false},{"$f":"Base!Z274","v":false},{"$f":"Base!AA274","v":false},null,{"$f":"Base!AB274","v":false},{"$f":"Base!AC274","v":false},{"$f":"Base!AD274","v":false},{"$f":"Base!AE274","v":false},{"$f":"Base!AF274","v":false},{"$f":"Base!AG274","v":false},{"$f":"Base!AH274","v":false},{"$f":"Base!AI274","v":false},{"$f":"Base!AJ274","v":false},{"$f":"Base!AK274","v":false},{"$f":"Base!AL274","v":false},{"$f":"Base!AM274","v":false},{"$f":"Base!AN274","v":false},{"$f":"Base!AO274","v":false},{"$f":"Base!AP274","v":false},{"$f":"Base!AQ274","v":false},{"$f":"Base!AR274","v":false},{"$f":"Base!AS274","v":false}]
[{"$f":"Base!B275","v":"Bonebreak Mastery"},160,null,null,0,{"$f":"Base!U275","v":1},{"$f":"IF(AND(C286<>0,ISNUMBER(C286)),Base!V275*C286,IF(Base!V275=0,\"N\",\"Y\"))","v":"N"},{"$f":"Base!W275","v":"Bonebreak"},null,null,null,null,null,0,false,false,{"$f":"AND(CharacterStatus = 0,Base!V275>0)","v":false},false,{"$f":"Base!X275","v":true},0,{"$f":"Base!Y275","v":false},{"$f":"Base!Z275","v":false},{"$f":"Base!AA275","v":false},null,{"$f":"Base!AB275","v":false},{"$f":"Base!AC275","v":false},{"$f":"Base!AD275","v":false},{"$f":"Base!AE275","v":false},{"$f":"Base!AF275","v":false},{"$f":"Base!AG275","v":false},{"$f":"Base!AH275","v":false},{"$f":"Base!AI275","v":false},{"$f":"Base!AJ275","v":false},{"$f":"Base!AK275","v":false},{"$f":"Base!AL275","v":false},{"$f":"Base!AM275","v":false},{"$f":"Base!AN275","v":false},{"$f":"Base!AO275","v":false},{"$f":"Base!AP275","v":false},{"$f":"Base!AQ275","v":false},{"$f":"Base!AR275","v":false},{"$f":"Base!AS275","v":false}]
[{"$f":"Base!B276","v":"Bonebreak Enhanced Mastery"},200,null,null,0,{"$f":"Base!U276","v":1},{"$f":"IF(AND(C287<>0,ISNUMBER(C287)),Base!V276*C287,IF(Base!V276=0,\"N\",\"Y\"))","v":"Y"},{"$f":"Base!W276","v":"Bonebreak Mastery, Weapon Attunement"},null,null,null,null,null,0,false,false,{"$f":"AND(CharacterStatus = 0,Base!V276>0)","v":true},false,{"$f":"Base!X276","v":true},0,{"$f":"Base!Y276","v":false},{"$f":"Base!Z276","v":false},{"$f":"Base!AA276","v":false},null,{"$f":"Base!AB276","v":false},{"$f":"Base!AC276","v":false},{"$f":"Base!AD276","v":false},{"$f":"Base!AE276","v":false},{"$f":"Base!AF276","v":false},{"$f":"Base!AG276","v":false},{"$f":"Base!AH276","v":false},{"$f":"Base!AI276","v":false},{"$f":"Base!AJ276","v":false},{"$f":"Base!AK276","v":false},{"$f":"Base!AL276","v":false},{"$f":"Base!AM276","v":false},{"$f":"Base!AN276","v":false},{"$f":"Base!AO276","v":false},{"$f":"Base!AP276","v":false},{"$f":"Base!AQ276","v":false},{"$f":"Base!AR276","v":false},{"$f":"Base!AS276","v":false}]
[{"$f":"Base!B277","v":"Bonebreak Superior Mastery"},240,null,null,0,{"$f":"Base!U277","v":1},{"$f":"IF(AND(C288<>0,ISNUMBER(C288)),Base!V277*C288,IF(Base!V277=0,\"N\",\"Y\"))","v":"Y"},{"$f":"Base!W277","v":"Bonebreak Enhanced Mastery"},null,null,null,null,null,0,false,false,{"$f":"AND(CharacterStatus = 0,Base!V277>0)","v":true},false,{"$f":"Base!X277","v":true},{"$f":"IF(OR(U288,AND(V288,CharacterRank>=W288),AND(Y288,CharacterRank>=Z288),AND(AA288,CharacterRank>=AB288),AND(AC288,CharacterRank>=AD288),AND(AE288,CharacterRank>=AF288),AND(AG288,CharacterRank>=AH288),AND(AI288,CharacterRank>=AJ288),AND(AK288,CharacterRank>=AL288),AND(AM288,CharacterRank>=AN288),AND(AO288,CharacterRank>=AP288)),1,0)","v":0},{"$f":"Base!Y277","v":false},{"$f":"Base!Z277","v":false},{"$f":"Base!AA277","v":false},null,{"$f":"Base!AB277","v":false},{"$f":"Base!AC277","v":false},{"$f":"Base!AD277","v":false},{"$f":"Base!AE277","v":false},{"$f":"Base!AF277","v":false},{"$f":"Base!AG277","v":false},{"$f":"Base!AH277","v":false},{"$f":"Base!AI277","v":false},{"$f":"Base!AJ277","v":false},{"$f":"Base!AK277","v":false},{"$f":"Base!AL277","v":false},{"$f":"Base!AM277","v":false},{"$f":"Base!AN277","v":false},{"$f":"Base!AO277","v":false},{"$f":"Base!AP277","v":false},{"$f":"Base!AQ277","v":false},{"$f":"Base!AR277","v":false},{"$f":"Base!AS277","v":false}]
[{"$f":"Base!B278","v":"Damage Increase"},50,null,null,0,{"$f":"Base!U278","v":1},{"$f":"IF(AND(C289<>0,ISNUMBER(C289)),Base!V278*C289,IF(Base!V278=0,\"N\",\"Y\"))","v":"Y"},{"$f":"Base!W278","v":"Warrior"},null,null,null,null,null,0,false,false,{"$f":"AND(CharacterStatus = 0,Base!V278>0)","v":true},false,{"$f":"Base!X278","v":false},0,{"$f":"Base!Y278","v":false},{"$f":"Base!Z278","v":false},{"$f":"Base!AA278","v":false},null,{"$f":"Base!AB278","v":false},{"$f":"Base!AC278","v":false},{"$f":"Base!AD278","v":false},{"$f":"Base!AE278","v":false},{"$f":"Base!AF278","v":false},{"$f":"Base!AG278","v":false},{"$f":"Base!AH278","v":false},{"$f":"Base!AI278","v":false},{"$f":"Base!AJ278","v":false},{"$f":"Base!AK278","v":false},{"$f":"Base!AL278","v":false},{"$f":"Base!AM278","v":false},{"$f":"Base!AN278","v":false},{"$f":"Base!AO278","v":false},{"$f":"Base!AP278","v":false},{"$f":"Base!AQ278","v":false},{"$f":"Base!AR278","v":false},{"$f":"Base!AS278","v":false}]
[{"$f":"Base!B279","v":"Damage Increase Mastery"},100,null,null,0,{"$f":"Base!U279","v":1},{"$f":"IF(AND(C290<>0,ISNUMBER(C290)),Base!V279*C290,IF(Base!V279=0,\"N\",\"Y\"))","v":"Y"},{"$f":"Base!W279","v":"Warrior"},null,null,null,null,null,0,false,false,{"$f":"AND(CharacterStatus = 0,Base!V279>0)","v":true},false,{"$f":"Base!X279","v":false},0,{"$f":"Base!Y279","v":false},{"$f":"Base!Z279","v":false},{"$f":"Base!AA279","v":false},null,{"$f":"Base!AB279","v":false},{"$f":"Base!AC279","v":false},{"$f":"Base!AD279","v":false},{"$f":"Base!AE279","v":false},{"$f":"Base!AF279","v":false},{"$f":"Base!AG279","v":false},{"$f":"Base!AH279","v":false},{"$f":"Base!AI279","v":false},{"$f":"Base!AJ279","v":false},{"$f":"Base!AK279","v":false},{"$f":"Base!AL279","v":false},{"$f":"Base!AM279","v":false},{"$f":"Base!AN279","v":false},{"$f":"Base!AO279","v":false},{"$f":"Base!AP279","v":false},{"$f":"Base!AQ279","v":false},{"$f":"Base!AR279","v":false},{"$f":"Base!AS279","v":false}]
[{"$f":"Base!B280","v":"Disarm - Uses"},40,null,null,0,{"$f":"Base!U280","v":0},{"$f":"IF(AND(C291<>0,ISNUMBER(C291)),Base!V280*C291,IF(Base!V280=0,\"N\",\"Y\"))","v":"N"},{"$f":"Base!W280","v":"Disarm"},null,null,null,null,null,0,false,false,{"$f":"AND(CharacterStatus = 0,Base!V280>0)","v":false},false,{"$f":"Base!X280","v":true},0,{"$f":"Base!Y280","v":false},{"$f":"Base!Z280","v":false},{"$f":"Base!AA280","v":false},null,{"$f":"Base!AB280","v":false},{"$f":"Base!AC280","v":false},{"$f":"Base!AD280","v":false},{"$f":"Base!AE280","v":false},{"$f":"Base!AF280","v":false},{"$f":"Base!AG280","v":false},{"$f":"Base!AH280","v":false},{"$f":"Base!AI280","v":false},{"$f":"Base!AJ280","v":false},{"$f":"Base!AK280","v":false},{"$f":"Base!AL280","v":false},{"$f":"Base!AM280","v":false},{"$f":"Base!AN280","v":false},{"$f":"Base!AO280","v":false},{"$f":"Base!AP280","v":false},{"$f":"Base!AQ280","v":false},{"$f":"Base!AR280","v":false},{"$f":"Base!AS280","v":false}]
[{"$f":"Base!B281","v":"Disarm"},0,null,null,0,{"$f":"Base!U281","v":1},{"$f":"IF(AND(C292<>0,ISNUMBER(C292)),Base!V281*C292,IF(Base!V281=0,\"N\",\"Y\"))","v":"Y"},{"$f":"Base!W281","v":"Enhanced Weapon Mastery"},null,null,null,null,null,0,false,false,{"$f":"AND(CharacterStatus = 0,Base!V281>0)","v":true},false,{"$f":"Base!X281","v":true},0,{"$f":"Base!Y281","v":false},{"$f":"Base!Z281","v":false},{"$f":"Base!AA281","v":false},null,{"$f":"Base!AB281","v":false},{"$f":"Base!AC281","v":false},{"$f":"Base!AD281","v":false},{"$f":"Base!AE281","v":false},{"$f":"Base!AF281","v":false},{"$f":"Base!AG281","v":false},{"$f":"Base!AH281","v":false},{"$f":"Base!AI281","v":false},{"$f":"Base!AJ281","v":false},{"$f":"Base!AK281","v":false},{"$f":"Base!AL281","v":false},{"$f":"Base!AM281","v":false},{"$f":"Base!AN281","v":false},{"$f":"Base!AO281","v":false},{"$f":"Base!AP281","v":false},{"$f":"Base!AQ281","v":false},{"$f":"Base!AR281","v":false},{"$f":"Base!AS281","v":false}]
[{"$f":"Base!B282","v":"Disarm Mastery"},80,null,null,0,{"$f":"Base!U282","v":1},{"$f":"IF(AND(C293<>0,ISNUMBER(C293)),Base!V282*C293,IF(Base!V282=0,\"N\",\"Y\"))","v":"N"},{"$f":"Base!W282","v":"Diarm, Weapon Attunement"},null,null,null,null,null,0,false,false,{"$f":"AND(CharacterStatus = 0,Base!V282>0)","v":false},false,{"$f":"Base!X282","v":true},0,{"$f":"Base!Y282","v":false},{"$f":"Base!Z282","v":false},{"$f":"Base!AA282","v":false},null,{"$f":"Base!AB282","v":false},{"$f":"Base!AC282","v":false},{"$f":"Base!AD282","v":false},{"$f":"Base!AE282","v":false},{"$f":"Base!AF282","v":false},{"$f":"Base!AG282","v":false},{"$f":"Base!AH282","v":false},{"$f":"Base!AI282","v":false},{"$f":"Base!AJ282","v":false},{"$f":"Base!AK282","v":false},{"$f":"Base!AL282","v":false},{"$f":"Base!AM282","v":false},{"$f":"Base!AN282","v":false},{"$f":"Base!AO282","v":false},{"$f":"Base!AP282","v":false},{"$f":"Base!AQ282","v":false},{"$f":"Base!AR282","v":false},{"$f":"Base!AS282","v":false}]
[{"$f":"Base!B283","v":"Disarm Enhanced Mastery"},120,null,null,0,{"$f":"Base!U283","v":1},{"$f":"IF(AND(C294<>0,ISNUMBER(C294)),Base!V283*C294,IF(Base!V283=0,\"N\",\"Y\"))","v":"Y"},{"$f":"Base!W283","v":"Diarm Mastery"},null,null,null,null,null,0,false,false,{"$f":"AND(CharacterStatus = 0,Base!V283>0)","v":true},false,{"$f":"Base!X283","v":true},{"$f":"IF(OR(U294,AND(V294,CharacterRank>=W294),AND(Y294,CharacterRank>=Z294),AND(AA294,CharacterRank>=AB294),AND(AC294,CharacterRank>=AD294),AND(AE294,CharacterRank>=AF294),AND(AG294,CharacterRank>=AH294),AND(AI294,CharacterRank>=AJ294),AND(AK294,CharacterRank>=AL294),AND(AM294,CharacterRank>=AN294),AND(AO294,CharacterRank>=AP294)),1,0)","v":0},{"$f":"Base!Y283","v":false},{"$f":"Base!Z283","v":false},{"$f":"Base!AA283","v":false},null,{"$f":"Base!AB283","v":false},{"$f":"Base!AC283","v":false},{"$f":"Base!AD283","v":false},{"$f":"Base!AE283","v":false},{"$f":"Base!AF283","v":false},{"$f":"Base!AG283","v":false},{"$f":"Base!AH283","v":false},{"$f":"Base!AI283","v":false},{"$f":"Base!AJ283","v":false},{"$f":"Base!AK283","v":false},{"$f":"Base!AL283","v":false},{"$f":"Base!AM283","v":false},{"$f":"Base!AN283","v":false},{"$f":"Base!AO283","v":false},{"$f":"Base!AP283","v":false},{"$f":"Base!AQ283","v":false},{"$f":"Base!AR283","v":false},{"$f":"Base!AS283","v":false}]
[{"$f":"Base!B284","v":"Disarm Superior Mastery"},160,null,null,0,{"$f":"Base!U284","v":1},{"$f":"IF(AND(C295<>0,ISNUMBER(C295)),Base!V284*C295,IF(Base!V284=0,\"N\",\"Y\"))","v":"Y"},{"$f":"Base!W284","v":"Disarm Enhanced Mastery"},null,null,null,null,null,0,false,false,{"$f":"AND(CharacterStatus = 0,Base!V284>0)","v":true},false,{"$f":"Base!X284","v":true},{"$f":"IF(OR(U295,AND(V295,CharacterRank>=W295),AND(Y295,CharacterRank>=Z295),AND(AA295,CharacterRank>=AB295),AND(AC295,CharacterRank>=AD295),AND(AE295,CharacterRank>=AF295),AND(AG295,CharacterRank>=AH295),AND(AI295,CharacterRank>=AJ295),AND(AK295,CharacterRank>=AL295),AND(AM295,CharacterRank>=AN295),AND(AO295,CharacterRank>=AP295)),1,0)","v":0},{"$f":"Base!Y284","v":false},{"$f":"Base!Z284","v":false},{"$f":"Base!AA284","v":false},null,{"$f":"Base!AB284","v":false},{"$f":"Base!AC284","v":false},{"$f":"Base!AD284","v":false},{"$f":"Base!AE284","v":false},{"$f":"Base!AF284","v":false},{"$f":"Base!AG284","v":false},{"$f":"Base!AH284","v":false},{"$f":"Base!AI284","v":false},{"$f":"Base!AJ284","v":false},{"$f":"Base!AK284","v":false},{"$f":"Base!AL284","v":false},{"$f":"Base!AM284","v":false},{"$f":"Base!AN284","v":false},{"$f":"Base!AO284","v":false},{"$f":"Base!AP284","v":false},{"$f":"Base!AQ284","v":false},{"$f":"Base!AR284","v":false},{"$f":"Base!AS284","v":false}]
[{"$f":"Base!B285","v":"Dismember"},160,null,null,0,{"$f":"Base!U285","v":1},{"$f":"IF(AND(C296<>0,ISNUMBER(C296)),Base!V285*C296,IF(Base!V285=0,\"N\",\"Y\"))","v":"Y"},{"$f":"Base!W285","v":"Strength, Weapon Attunement"},null,null,null,null,null,0,false,false,{"$f":"AND(CharacterStatus = 0,Base!V285>0)","v":true},false,{"$f":"Base!X285","v":true},0,{"$f":"Base!Y285","v":false},{"$f":"Base!Z285","v":false},{"$f":"Base!AA285","v":false},null,{"$f":"Base!AB285","v":false},{"$f":"Base!AC285","v":false},{"$f":"Base!AD285","v":false},{"$f":"Base!AE285","v":false},{"$f":"Base!AF285","v":false},{"$f":"Base!AG285","v":false},{"$f":"Base!AH285","v":false},{"$f":"Base!AI285","v":false},{"$f":"Base!AJ285","v":false},{"$f":"Base!AK285","v":false},{"$f":"Base!AL285","v":false},{"$f":"Base!AM285","v":false},{"$f":"Base!AN285","v":false},{"$f":"Base!AO285","v":false},{"$f":"Base!AP285","v":false},{"$f":"Base!AQ285","v":false},{"$f":"Base!AR285","v":false},{"$f":"Base!AS285","v":false}]
[{"$f":"Base!B286","v":"Dismember Mastery"},{"$f":"INDEX(points, ROW()-13,  CharacterTable)","v":200},null,null,0,{"$f":"Base!U286","v":1},{"$f":"IF(AND(C297<>0,ISNUMBER(C297)),Base!V286*C297,IF(Base!V286=0,\"N\",\"Y\"))","v":"N"},{"$f":"Base!W286","v":"Dismember "},null,null,null,null,null,0,false,false,{"$f":"AND(CharacterStatus = 0,Base!V286>0)","v":false},false,{"$f":"Base!X286","v":true},0,{"$f":"Base!Y286","v":false},{"$f":"Base!Z286","v":false},{"$f":"Base!AA286","v":false},null,{"$f":"Base!AB286","v":false},{"$f":"Base!AC286","v":false},{"$f":"Base!AD286","v":false},{"$f":"Base!AE286","v":false},{"$f":"Base!AF286","v":false},{"$f":"Base!AG286","v":false},{"$f":"Base!AH286","v":false},{"$f":"Base!AI286","v":false},{"$f":"Base!AJ286","v":false},{"$f":"Base!AK286","v":false},{"$f":"Base!AL286","v":false},{"$f":"Base!AM286","v":false},{"$f":"Base!AN286","v":false},{"$f":"Base!AO286","v":false},{"$f":"Base!AP286","v":false},{"$f":"Base!AQ286","v":false},{"$f":"Base!AR286","v":false},{"$f":"Base!AS286","v":false}]
[{"$f":"Base!B287","v":"Dismember Enhanced Mastery"},240,null,null,0,{"$f":"Base!U287","v":1},{"$f":"IF(AND(C298<>0,ISNUMBER(C298)),Base!V287*C298,IF(Base!V287=0,\"N\",\"Y\"))","v":"Y"},{"$f":"Base!W287","v":"Dismember Mastery, Bone Break"},null,null,null,null,null,0,false,false,{"$f":"AND(CharacterStatus = 0,Base!V287>0)","v":true},false,{"$f":"Base!X287","v":true},0,{"$f":"Base!Y287","v":false},{"$f":"Base!Z287","v":false},{"$f":"Base!AA287","v":false},null,{"$f":"Base!AB287","v":false},{"$f":"Base!AC287","v":false},{"$f":"Base!AD287","v":false},{"$f":"Base!AE287","v":false},{"$f":"Base!AF287","v":false},{"$f":"Base!AG287","v":false},{"$f":"Base!AH287","v":false},{"$f":"Base!AI287","v":false},{"$f":"Base!AJ287","v":false},{"$f":"Base!AK287","v":false},{"$f":"Base!AL287","v":false},{"$f":"Base!AM287","v":false},{"$f":"Base!AN287","v":false},{"$f":"Base!AO287","v":false},{"$f":"Base!AP287","v":false},{"$f":"Base!AQ287","v":false},{"$f":"Base!AR287","v":false},{"$f":"Base!AS287","v":false}]
[{"$f":"Base!B288","v":"Dismember Superior Mastery"},280,null,null,0,{"$f":"Base!U288","v":1},{"$f":"IF(AND(C299<>0,ISNUMBER(C299)),Base!V288*C299,IF(Base!V288=0,\"N\",\"Y\"))","v":"Y"},{"$f":"Base!W288","v":"Dismember Enhanced Mastery"},null,null,null,null,null,0,false,false,{"$f":"AND(CharacterStatus = 0,Base!V288>0)","v":true},false,{"$f":"Base!X288","v":true},{"$f":"IF(OR(U299,AND(V299,CharacterRank>=W299),AND(Y299,CharacterRank>=Z299),AND(AA299,CharacterRank>=AB299),AND(AC299,CharacterRank>=AD299),AND(AE299,CharacterRank>=AF299),AND(AG299,CharacterRank>=AH299),AND(AI299,CharacterRank>=AJ299),AND(AK299,CharacterRank>=AL299),AND(AM299,CharacterRank>=AN299),AND(AO299,CharacterRank>=AP299)),1,0)","v":0},{"$f":"Base!Y288","v":false},{"$f":"Base!Z288","v":false},{"$f":"Base!AA288","v":false},null,{"$f":"Base!AB288","v":false},{"$f":"Base!AC288","v":false},{"$f":"Base!AD288","v":false},{"$f":"Base!AE288","v":false},{"$f":"Base!AF288","v":false},{"$f":"Base!AG288","v":false},{"$f":"Base!AH288","v":false},{"$f":"Base!AI288","v":false},{"$f":"Base!AJ288","v":false},{"$f":"Base!AK288","v":false},{"$f":"Base!AL288","v":false},{"$f":"Base!AM288","v":false},{"$f":"Base!AN288","v":false},{"$f":"Base!AO288","v":false},{"$f":"Base!AP288","v":false},{"$f":"Base!AQ288","v":false},{"$f":"Base!AR288","v":false},{"$f":"Base!AS288","v":false}]
[{"$f":"Base!B289","v":"Hold the Line"},90,null,null,0,{"$f":"Base!U289","v":1},{"$f":"IF(AND(C300<>0,ISNUMBER(C300)),Base!V289*C300,IF(Base!V289=0,\"N\",\"Y\"))","v":"Y"},{"$f":"Base!W289","v":"Double Strength"},null,null,null,null,null,0,false,false,{"$f":"AND(CharacterStatus = 0,Base!V289>0)","v":true},false,{"$f":"Base!X289","v":true},0,{"$f":"Base!Y289","v":false},{"$f":"Base!Z289","v":false},{"$f":"Base!AA289","v":false},null,{"$f":"Base!AB289","v":false},{"$f":"Base!AC289","v":false},{"$f":"Base!AD289","v":false},{"$f":"Base!AE289","v":false},{"$f":"Base!AF289","v":false},{"$f":"Base!AG289","v":false},{"$f":"Base!AH289","v":false},{"$f":"Base!AI289","v":false},{"$f":"Base!AJ289","v":false},{"$f":"Base!AK289","v":false},{"$f":"Base!AL289","v":false},{"$f":"Base!AM289","v":false},{"$f":"Base!AN289","v":false},{"$f":"Base!AO289","v":false},{"$f":"Base!AP289","v":false},{"$f":"Base!AQ289","v":false},{"$f":"Base!AR289","v":false},{"$f":"Base!AS289","v":false}]
[{"$f":"Base!B290","v":"Hold the Line Mastery"},90,null,null,0,{"$f":"Base!U290","v":1},{"$f":"IF(AND(C301<>0,ISNUMBER(C301)),Base!V290*C301,IF(Base!V290=0,\"N\",\"Y\"))","v":"N"},{"$f":"Base!W290","v":"Hold The Line"},null,null,null,null,null,0,false,false,{"$f":"AND(CharacterStatus = 0,Base!V290>0)","v":false},false,{"$f":"Base!X290","v":true},0,{"$f":"Base!Y290","v":false},{"$f":"Base!Z290","v":false},{"$f":"Base!AA290","v":false},null,{"$f":"Base!AB290","v":false},{"$f":"Base!AC290","v":false},{"$f":"Base!AD290","v":false},{"$f":"Base!AE290","v":false},{"$f":"Base!AF290","v":false},{"$f":"Base!AG290","v":false},{"$f":"Base!AH290","v":false},{"$f":"Base!AI290","v":false},{"$f":"Base!AJ290","v":false},{"$f":"Base!AK290","v":false},{"$f":"Base!AL290","v":false},{"$f":"Base!AM290","v":false},{"$f":"Base!AN290","v":false},{"$f":"Base!AO290","v":false},{"$f":"Base!AP290","v":false},{"$f":"Base!AQ290","v":false},{"$f":"Base!AR290","v":false},{"$f":"Base!AS290","v":false}]
[{"$f":"Base!B291","v":"Hold the Line Enhanced Mastery"},90,null,null,0,{"$f":"Base!U291","v":1},{"$f":"IF(AND(C302<>0,ISNUMBER(C302)),Base!V291*C302,IF(Base!V291=0,\"N\",\"Y\"))","v":"N"},{"$f":"Base!W291","v":"Hold The Line Mastery"},null,null,null,null,null,0,false,false,{"$f":"AND(CharacterStatus = 0,Base!V291>0)","v":false},false,{"$f":"Base!X291","v":true},0,{"$f":"Base!Y291","v":false},{"$f":"Base!Z291","v":false},{"$f":"Base!AA291","v":false},null,{"$f":"Base!AB291","v":false},{"$f":"Base!AC291","v":false},{"$f":"Base!AD291","v":false},{"$f":"Base!AE291","v":false},{"$f":"Base!AF291","v":false},{"$f":"Base!AG291","v":false},{"$f":"Base!AH291","v":false},{"$f":"Base!AI291","v":false},{"$f":"Base!AJ291","v":false},{"$f":"Base!AK291","v":false},{"$f":"Base!AL291","v":false},{"$f":"Base!AM291","v":false},{"$f":"Base!AN291","v":false},{"$f":"Base!AO291","v":false},{"$f":"Base!AP291","v":false},{"$f":"Base!AQ291","v":false},{"$f":"Base!AR291","v":false},{"$f":"Base!AS291","v":false}]
[{"$f":"Base!B292","v":"Never Surrender"},150,null,null,0,{"$f":"Base!U292","v":1},{"$f":"IF(AND(C303<>0,ISNUMBER(C303)),Base!V292*C303,IF(Base!V292=0,\"N\",\"Y\"))","v":"Y"},{"$f":"Base!W292","v":"Hold The Line"},null,null,null,null,null,0,false,false,{"$f":"AND(CharacterStatus = 0,Base!V292>0)","v":true},false,{"$f":"Base!X292","v":true},0,{"$f":"Base!Y292","v":false},{"$f":"Base!Z292","v":false},{"$f":"Base!AA292","v":false},null,{"$f":"Base!AB292","v":false},{"$f":"Base!AC292","v":false},{"$f":"Base!AD292","v":false},{"$f":"Base!AE292","v":false},{"$f":"Base!AF292","v":false},{"$f":"Base!AG292","v":false},{"$f":"Base!AH292","v":false},{"$f":"Base!AI292","v":false},{"$f":"Base!AJ292","v":false},{"$f":"Base!AK292","v":false},{"$f":"Base!AL292","v":false},{"$f":"Base!AM292","v":false},{"$f":"Base!AN292","v":false},{"$f":"Base!AO292","v":false},{"$f":"Base!AP292","v":false},{"$f":"Base!AQ292","v":false},{"$f":"Base!AR292","v":false},{"$f":"Base!AS292","v":false}]
[{"$f":"Base!B293","v":"Never Say Die"},150,null,null,0,{"$f":"Base!U293","v":1},{"$f":"IF(AND(C304<>0,ISNUMBER(C304)),Base!V293*C304,IF(Base!V293=0,\"N\",\"Y\"))","v":"Y"},{"$f":"Base!W293","v":"Never Surrender"},null,null,null,null,null,0,false,false,{"$f":"AND(CharacterStatus = 0,Base!V293>0)","v":true},false,{"$f":"Base!X293","v":true},0,{"$f":"Base!Y293","v":false},{"$f":"Base!Z293","v":false},{"$f":"Base!AA293","v":false},null,{"$f":"Base!AB293","v":false},{"$f":"Base!AC293","v":false},{"$f":"Base!AD293","v":false},{"$f":"Base!AE293","v":false},{"$f":"Base!AF293","v":false},{"$f":"Base!AG293","v":false},{"$f":"Base!AH293","v":false},{"$f":"Base!AI293","v":false},{"$f":"Base!AJ293","v":false},{"$f":"Base!AK293","v":false},{"$f":"Base!AL293","v":false},{"$f":"Base!AM293","v":false},{"$f":"Base!AN293","v":false},{"$f":"Base!AO293","v":false},{"$f":"Base!AP293","v":false},{"$f":"Base!AQ293","v":false},{"$f":"Base!AR293","v":false},{"$f":"Base!AS293","v":false}]
[{"$f":"Base!B294","v":"External Champion"},150,null,null,0,{"$f":"Base!U294","v":1},{"$f":"IF(AND(C305<>0,ISNUMBER(C305)),Base!V294*C305,IF(Base!V294=0,\"N\",\"Y\"))","v":"Y"},{"$f":"Base!W294","v":"Never Say Die"},null,null,null,null,null,0,false,false,{"$f":"AND(CharacterStatus = 0,Base!V294>0)","v":true},false,{"$f":"Base!X294","v":true},{"$f":"IF(OR(U305,AND(V305,CharacterRank>=W305),AND(Y305,CharacterRank>=Z305),AND(AA305,CharacterRank>=AB305),AND(AC305,CharacterRank>=AD305),AND(AE305,CharacterRank>=AF305),AND(AG305,CharacterRank>=AH305),AND(AI305,CharacterRank>=AJ305),AND(AK305,CharacterRank>=AL305),AND(AM305,CharacterRank>=AN305),AND(AO305,CharacterRank>=AP305)),1,0)","v":0},{"$f":"Base!Y294","v":false},{"$f":"Base!Z294","v":false},{"$f":"Base!AA294","v":false},null,{"$f":"Base!AB294","v":false},{"$f":"Base!AC294","v":false},{"$f":"Base!AD294","v":false},{"$f":"Base!AE294","v":false},{"$f":"Base!AF294","v":false},{"$f":"Base!AG294","v":false},{"$f":"Base!AH294","v":false},{"$f":"Base!AI294","v":false},{"$f":"Base!AJ294","v":false},{"$f":"Base!AK294","v":false},{"$f":"Base!AL294","v":false},{"$f":"Base!AM294","v":false},{"$f":"Base!AN294","v":false},{"$f":"Base!AO294","v":false},{"$f":"Base!AP294","v":false},{"$f":"Base!AQ294","v":false},{"$f":"Base!AR294","v":false},{"$f":"Base!AS294","v":false}]
[{"$f":"Base!B295","v":"Knockback Uses"},40,null,null,0,{"$f":"Base!U295","v":0},{"$f":"IF(AND(C306<>0,ISNUMBER(C306)),Base!V295*C306,IF(Base!V295=0,\"N\",\"Y\"))","v":"N"},{"$f":"Base!W295","v":"Knockback"},null,null,null,null,null,0,false,false,{"$f":"AND(CharacterStatus = 0,Base!V295>0)","v":false},false,{"$f":"Base!X295","v":true},0,{"$f":"Base!Y295","v":false},{"$f":"Base!Z295","v":false},{"$f":"Base!AA295","v":false},null,{"$f":"Base!AB295","v":false},{"$f":"Base!AC295","v":false},{"$f":"Base!AD295","v":false},{"$f":"Base!AE295","v":false},{"$f":"Base!AF295","v":false},{"$f":"Base!AG295","v":false},{"$f":"Base!AH295","v":false},{"$f":"Base!AI295","v":false},{"$f":"Base!AJ295","v":false},{"$f":"Base!AK295","v":false},{"$f":"Base!AL295","v":false},{"$f":"Base!AM295","v":false},{"$f":"Base!AN295","v":false},{"$f":"Base!AO295","v":false},{"$f":"Base!AP295","v":false},{"$f":"Base!AQ295","v":false},{"$f":"Base!AR295","v":false},{"$f":"Base!AS295","v":false}]
[{"$f":"Base!B296","v":"Knockback"},0,null,null,0,{"$f":"Base!U296","v":1},{"$f":"IF(AND(C307<>0,ISNUMBER(C307)),Base!V296*C307,IF(Base!V296=0,\"N\",\"Y\"))","v":"Y"},{"$f":"Base!W296","v":"None"},null,null,null,null,null,0,false,false,{"$f":"AND(CharacterStatus = 0,Base!V296>0)","v":true},false,{"$f":"Base!X296","v":false},0,{"$f":"Base!Y296","v":false},{"$f":"Base!Z296","v":false},{"$f":"Base!AA296","v":false},null,{"$f":"Base!AB296","v":false},{"$f":"Base!AC296","v":false},{"$f":"Base!AD296","v":false},{"$f":"Base!AE296","v":false},{"$f":"Base!AF296","v":false},{"$f":"Base!AG296","v":false},{"$f":"Base!AH296","v":false},{"$f":"Base!AI296","v":false},{"$f":"Base!AJ296","v":false},{"$f":"Base!AK296","v":false},{"$f":"Base!AL296","v":false},{"$f":"Base!AM296","v":false},{"$f":"Base!AN296","v":false},{"$f":"Base!AO296","v":false},{"$f":"Base!AP296","v":false},{"$f":"Base!AQ296","v":false},{"$f":"Base!AR296","v":false},{"$f":"Base!AS296","v":false}]
[{"$f":"Base!B297","v":"Knockback Mastery"},80,null,null,0,{"$f":"Base!U297","v":1},{"$f":"IF(AND(C308<>0,ISNUMBER(C308)),Base!V297*C308,IF(Base!V297=0,\"N\",\"Y\"))","v":"N"},{"$f":"Base!W297","v":"Knockback"},null,null,null,null,null,0,false,false,{"$f":"AND(CharacterStatus = 0,Base!V297>0)","v":false},false,{"$f":"Base!X297","v":true},0,{"$f":"Base!Y297","v":false},{"$f":"Base!Z297","v":false},{"$f":"Base!AA297","v":false},null,{"$f":"Base!AB297","v":false},{"$f":"Base!AC297","v":false},{"$f":"Base!AD297","v":false},{"$f":"Base!AE297","v":false},{"$f":"Base!AF297","v":false},{"$f":"Base!AG297","v":false},{"$f":"Base!AH297","v":false},{"$f":"Base!AI297","v":false},{"$f":"Base!AJ297","v":false},{"$f":"Base!AK297","v":false},{"$f":"Base!AL297","v":false},{"$f":"Base!AM297","v":false},{"$f":"Base!AN297","v":false},{"$f":"Base!AO297","v":false},{"$f":"Base!AP297","v":false},{"$f":"Base!AQ297","v":false},{"$f":"Base!AR297","v":false},{"$f":"Base!AS297","v":false}]
[{"$f":"Base!B298","v":"Knockback Enhanced Mastery"},120,null,null,0,{"$f":"Base!U298","v":1},{"$f":"IF(AND(C309<>0,ISNUMBER(C309)),Base!V298*C309,IF(Base!V298=0,\"N\",\"Y\"))","v":"Y"},{"$f":"Base!W298","v":"Knockback Mastery"},null,null,null,null,null,0,false,false,{"$f":"AND(CharacterStatus = 0,Base!V298>0)","v":true},false,{"$f":"Base!X298","v":true},0,{"$f":"Base!Y298","v":false},{"$f":"Base!Z298","v":false},{"$f":"Base!AA298","v":false},null,{"$f":"Base!AB298","v":false},{"$f":"Base!AC298","v":false},{"$f":"Base!AD298","v":false},{"$f":"Base!AE298","v":false},{"$f":"Base!AF298","v":false},{"$f":"Base!AG298","v":false},{"$f":"Base!AH298","v":false},{"$f":"Base!AI298","v":false},{"$f":"Base!AJ298","v":false},{"$f":"Base!AK298","v":false},{"$f":"Base!AL298","v":false},{"$f":"Base!AM298","v":false},{"$f":"Base!AN298","v":false},{"$f":"Base!AO298","v":false},{"$f":"Base!AP298","v":false},{"$f":"Base!AQ298","v":false},{"$f":"Base!AR298","v":false},{"$f":"Base!AS298","v":false}]
[{"$f":"Base!B299","v":"Knockback Superior Mastery"},160,null,null,0,{"$f":"Base!U299","v":1},{"$f":"IF(AND(C310<>0,ISNUMBER(C310)),Base!V299*C310,IF(Base!V299=0,\"N\",\"Y\"))","v":"Y"},{"$f":"Base!W299","v":"Knockback Enhanced Mastery"},null,null,null,null,null,0,false,false,{"$f":"AND(CharacterStatus = 0,Base!V299>0)","v":true},false,{"$f":"Base!X299","v":true},0,{"$f":"Base!Y299","v":false},{"$f":"Base!Z299","v":false},{"$f":"Base!AA299","v":false},null,{"$f":"Base!AB299","v":false},{"$f":"Base!AC299","v":false},{"$f":"Base!AD299","v":false},{"$f":"Base!AE299","v":false},{"$f":"Base!AF299","v":false},{"$f":"Base!AG299","v":false},{"$f":"Base!AH299","v":false},{"$f":"Base!AI299","v":false},{"$f":"Base!AJ299","v":false},{"$f":"Base!AK299","v":false},{"$f":"Base!AL299","v":false},{"$f":"Base!AM299","v":false},{"$f":"Base!AN299","v":false},{"$f":"Base!AO299","v":false},{"$f":"Base!AP299","v":false},{"$f":"Base!AQ299","v":false},{"$f":"Base!AR299","v":false},{"$f":"Base!AS299","v":false}]
[{"$f":"Base!B300","v":"Knockdown Uses"},40,null,null,0,{"$f":"Base!U300","v":0},{"$f":"IF(AND(C311<>0,ISNUMBER(C311)),Base!V300*C311,IF(Base!V300=0,\"N\",\"Y\"))","v":"N"},{"$f":"Base!W300","v":"Knockdown, Two Handed Weapon Proficiency"},null,null,null,null,null,0,false,false,{"$f":"AND(CharacterStatus = 0,Base!V300>0)","v":false},false,{"$f":"Base!X300","v":true},0,{"$f":"Base!Y300","v":false},{"$f":"Base!Z300","v":false},{"$f":"Base!AA300","v":false},null,{"$f":"Base!AB300","v":false},{"$f":"Base!AC300","v":false},{"$f":"Base!AD300","v":false},{"$f":"Base!AE300","v":false},{"$f":"Base!AF300","v":false},{"$f":"Base!AG300","v":false},{"$f":"Base!AH300","v":false},{"$f":"Base!AI300","v":false},{"$f":"Base!AJ300","v":false},{"$f":"Base!AK300","v":false},{"$f":"Base!AL300","v":false},{"$f":"Base!AM300","v":false},{"$f":"Base!AN300","v":false},{"$f":"Base!AO300","v":false},{"$f":"Base!AP300","v":false},{"$f":"Base!AQ300","v":false},{"$f":"Base!AR300","v":false},{"$f":"Base!AS300","v":false}]
[{"$f":"Base!B301","v":"Knockdown"},0,null,null,0,{"$f":"Base!U301","v":1},{"$f":"IF(AND(C312<>0,ISNUMBER(C312)),Base!V301*C312,IF(Base!V301=0,\"N\",\"Y\"))","v":"Y"},{"$f":"Base!W301","v":"Strength"},null,null,null,null,null,0,false,false,{"$f":"AND(CharacterStatus = 0,Base!V301>0)","v":true},false,{"$f":"Base!X301","v":true},0,{"$f":"Base!Y301","v":false},{"$f":"Base!Z301","v":false},{"$f":"Base!AA301","v":false},null,{"$f":"Base!AB301","v":false},{"$f":"Base!AC301","v":false},{"$f":"Base!AD301","v":false},{"$f":"Base!AE301","v":false},{"$f":"Base!AF301","v":false},{"$f":"Base!AG301","v":false},{"$f":"Base!AH301","v":false},{"$f":"Base!AI301","v":false},{"$f":"Base!AJ301","v":false},{"$f":"Base!AK301","v":false},{"$f":"Base!AL301","v":false},{"$f":"Base!AM301","v":false},{"$f":"Base!AN301","v":false},{"$f":"Base!AO301","v":false},{"$f":"Base!AP301","v":false},{"$f":"Base!AQ301","v":false},{"$f":"Base!AR301","v":false},{"$f":"Base!AS301","v":false}]
[{"$f":"Base!B302","v":"Knockdown Mastery"},80,null,null,0,{"$f":"Base!U302","v":1},{"$f":"IF(AND(C313<>0,ISNUMBER(C313)),Base!V302*C313,IF(Base!V302=0,\"N\",\"Y\"))","v":"N"},{"$f":"Base!W302","v":"Knockdown"},null,null,null,null,null,0,false,false,{"$f":"AND(CharacterStatus = 0,Base!V302>0)","v":false},false,{"$f":"Base!X302","v":true},0,{"$f":"Base!Y302","v":false},{"$f":"Base!Z302","v":false},{"$f":"Base!AA302","v":false},null,{"$f":"Base!AB302","v":false},{"$f":"Base!AC302","v":false},{"$f":"Base!AD302","v":false},{"$f":"Base!AE302","v":false},{"$f":"Base!AF302","v":false},{"$f":"Base!AG302","v":false},{"$f":"Base!AH302","v":false},{"$f":"Base!AI302","v":false},{"$f":"Base!AJ302","v":false},{"$f":"Base!AK302","v":false},{"$f":"Base!AL302","v":false},{"$f":"Base!AM302","v":false},{"$f":"Base!AN302","v":false},{"$f":"Base!AO302","v":false},{"$f":"Base!AP302","v":false},{"$f":"Base!AQ302","v":false},{"$f":"Base!AR302","v":false},{"$f":"Base!AS302","v":false}]
[{"$f":"Base!B303","v":"Knockdown Enhanced Mastery"},120,null,null,0,{"$f":"Base!U303","v":1},{"$f":"IF(AND(C314<>0,ISNUMBER(C314)),Base!V303*C314,IF(Base!V303=0,\"N\",\"Y\"))","v":"Y"},{"$f":"Base!W303","v":"Knockdown Mastery, Double Strength"},null,null,null,null,null,0,false,false,{"$f":"AND(CharacterStatus = 0,Base!V303>0)","v":true},false,{"$f":"Base!X303","v":true},0,{"$f":"Base!Y303","v":false},{"$f":"Base!Z303","v":false},{"$f":"Base!AA303","v":false},null,{"$f":"Base!AB303","v":false},{"$f":"Base!AC303","v":false},{"$f":"Base!AD303","v":false},{"$f":"Base!AE303","v":false},{"$f":"Base!AF303","v":false},{"$f":"Base!AG303","v":false},{"$f":"Base!AH303","v":false},{"$f":"Base!AI303","v":false},{"$f":"Base!AJ303","v":false},{"$f":"Base!AK303","v":false},{"$f":"Base!AL303","v":false},{"$f":"Base!AM303","v":false},{"$f":"Base!AN303","v":false},{"$f":"Base!AO303","v":false},{"$f":"Base!AP303","v":false},{"$f":"Base!AQ303","v":false},{"$f":"Base!AR303","v":false},{"$f":"Base!AS303","v":false}]
[{"$f":"Base!B304","v":"Knockdown Superior Mastery"},160,null,null,0,{"$f":"Base!U304","v":1},{"$f":"IF(AND(C315<>0,ISNUMBER(C315)),Base!V304*C315,IF(Base!V304=0,\"N\",\"Y\"))","v":"Y"},{"$f":"Base!W304","v":"Knockdown Enhanced Mastery"},null,null,null,null,null,0,false,false,{"$f":"AND(CharacterStatus = 0,Base!V304>0)","v":true},false,{"$f":"Base!X304","v":true},0,{"$f":"Base!Y304","v":false},{"$f":"Base!Z304","v":false},{"$f":"Base!AA304","v":false},null,{"$f":"Base!AB304","v":false},{"$f":"Base!AC304","v":false},{"$f":"Base!AD304","v":false},{"$f":"Base!AE304","v":false},{"$f":"Base!AF304","v":false},{"$f":"Base!AG304","v":false},{"$f":"Base!AH304","v":false},{"$f":"Base!AI304","v":false},{"$f":"Base!AJ304","v":false},{"$f":"Base!AK304","v":false},{"$f":"Base!AL304","v":false},{"$f":"Base!AM304","v":false},{"$f":"Base!AN304","v":false},{"$f":"Base!AO304","v":false},{"$f":"Base!AP304","v":false},{"$f":"Base!AQ304","v":false},{"$f":"Base!AR304","v":false},{"$f":"Base!AS304","v":false}]
[{"$f":"Base!B305","v":"Limit Raise - Life"},0,null,null,0,{"$f":"Base!U305","v":1},{"$f":"IF(AND(C316<>0,ISNUMBER(C316)),Base!V305*C316,IF(Base!V305=0,\"N\",\"Y\"))","v":"Y"},{"$f":"Base!W305","v":"Warrior or Scout"},null,null,null,null,null,0,false,false,{"$f":"AND(CharacterStatus = 0,Base!V305>0)","v":true},false,{"$f":"Base!X305","v":true},0,{"$f":"Base!Y305","v":false},{"$f":"Base!Z305","v":false},{"$f":"Base!AA305","v":false},null,{"$f":"Base!AB305","v":false},{"$f":"Base!AC305","v":false},{"$f":"Base!AD305","v":false},{"$f":"Base!AE305","v":false},{"$f":"Base!AF305","v":false},{"$f":"Base!AG305","v":false},{"$f":"Base!AH305","v":false},{"$f":"Base!AI305","v":false},{"$f":"Base!AJ305","v":false},{"$f":"Base!AK305","v":false},{"$f":"Base!AL305","v":false},{"$f":"Base!AM305","v":false},{"$f":"Base!AN305","v":false},{"$f":"Base!AO305","v":false},{"$f":"Base!AP305","v":false},{"$f":"Base!AQ305","v":false},{"$f":"Base!AR305","v":false},{"$f":"Base!AS305","v":false}]
[{"$f":"Base!B306","v":"Limit Raise Mastery - Life"},0,null,null,0,{"$f":"Base!U306","v":1},{"$f":"IF(AND(C317<>0,ISNUMBER(C317)),Base!V306*C317,IF(Base!V306=0,\"N\",\"Y\"))","v":"Y"},{"$f":"Base!W306","v":"Limit Riase - Life, Warrior or Scout"},null,null,null,null,null,0,false,false,{"$f":"AND(CharacterStatus = 0,Base!V306>0)","v":true},false,{"$f":"Base!X306","v":true},0,{"$f":"Base!Y306","v":false},{"$f":"Base!Z306","v":false},{"$f":"Base!AA306","v":false},null,{"$f":"Base!AB306","v":false},{"$f":"Base!AC306","v":false},{"$f":"Base!AD306","v":false},{"$f":"Base!AE306","v":false},{"$f":"Base!AF306","v":false},{"$f":"Base!AG306","v":false},{"$f":"Base!AH306","v":false},{"$f":"Base!AI306","v":false},{"$f":"Base!AJ306","v":false},{"$f":"Base!AK306","v":false},{"$f":"Base!AL306","v":false},{"$f":"Base!AM306","v":false},{"$f":"Base!AN306","v":false},{"$f":"Base!AO306","v":false},{"$f":"Base!AP306","v":false},{"$f":"Base!AQ306","v":false},{"$f":"Base!AR306","v":false},{"$f":"Base!AS306","v":false}]
[{"$f":"Base!B307","v":"Limit Raise Enhanced Mastery - Life"},0,null,null,0,{"$f":"Base!U307","v":1},{"$f":"IF(AND(C318<>0,ISNUMBER(C318)),Base!V307*C318,IF(Base!V307=0,\"N\",\"Y\"))","v":"Y"},{"$f":"Base!W307","v":"Limit Raise Mastery - Life, Warrior or Scout"},null,null,null,null,null,0,false,false,{"$f":"AND(CharacterStatus = 0,Base!V307>0)","v":true},false,{"$f":"Base!X307","v":true},0,{"$f":"Base!Y307","v":false},{"$f":"Base!Z307","v":false},{"$f":"Base!AA307","v":false},null,{"$f":"Base!AB307","v":false},{"$f":"Base!AC307","v":false},{"$f":"Base!AD307","v":false},{"$f":"Base!AE307","v":false},{"$f":"Base!AF307","v":false},{"$f":"Base!AG307","v":false},{"$f":"Base!AH307","v":false},{"$f":"Base!AI307","v":false},{"$f":"Base!AJ307","v":false},{"$f":"Base!AK307","v":false},{"$f":"Base!AL307","v":false},{"$f":"Base!AM307","v":false},{"$f":"Base!AN307","v":false},{"$f":"Base!AO307","v":false},{"$f":"Base!AP307","v":false},{"$f":"Base!AQ307","v":false},{"$f":"Base!AR307","v":false},{"$f":"Base!AS307","v":false}]
[{"$f":"Base!B308","v":"Limit Raise Superior Mastery - Life"},0,null,null,0,{"$f":"Base!U308","v":1},{"$f":"IF(AND(C319<>0,ISNUMBER(C319)),Base!V308*C319,IF(Base!V308=0,\"N\",\"Y\"))","v":"Y"},{"$f":"Base!W308","v":"Limit Raise Enhanced Mastery - Life, Warrior"},null,null,null,null,null,0,false,false,{"$f":"AND(CharacterStatus = 0,Base!V308>0)","v":true},false,{"$f":"Base!X308","v":true},0,{"$f":"Base!Y308","v":false},{"$f":"Base!Z308","v":false},{"$f":"Base!AA308","v":false},null,{"$f":"Base!AB308","v":false},{"$f":"Base!AC308","v":false},{"$f":"Base!AD308","v":false},{"$f":"Base!AE308","v":false},{"$f":"Base!AF308","v":false},{"$f":"Base!AG308","v":false},{"$f":"Base!AH308","v":false},{"$f":"Base!AI308","v":false},{"$f":"Base!AJ308","v":false},{"$f":"Base!AK308","v":false},{"$f":"Base!AL308","v":false},{"$f":"Base!AM308","v":false},{"$f":"Base!AN308","v":false},{"$f":"Base!AO308","v":false},{"$f":"Base!AP308","v":false},{"$f":"Base!AQ308","v":false},{"$f":"Base!AR308","v":false},{"$f":"Base!AS308","v":false}]
[{"$f":"Base!B309","v":"Nerve Strike Uses"},40,null,null,0,{"$f":"Base!U309","v":0},{"$f":"IF(AND(C320<>0,ISNUMBER(C320)),Base!V309*C320,IF(Base!V309=0,\"N\",\"Y\"))","v":"N"},{"$f":"Base!W309","v":"Nerve Strike"},null,null,null,null,null,0,false,false,{"$f":"AND(CharacterStatus = 0,Base!V309>0)","v":false},false,{"$f":"Base!X309","v":true},0,{"$f":"Base!Y309","v":false},{"$f":"Base!Z309","v":false},{"$f":"Base!AA309","v":false},null,{"$f":"Base!AB309","v":false},{"$f":"Base!AC309","v":false},{"$f":"Base!AD309","v":false},{"$f":"Base!AE309","v":false},{"$f":"Base!AF309","v":false},{"$f":"Base!AG309","v":false},{"$f":"Base!AH309","v":false},{"$f":"Base!AI309","v":false},{"$f":"Base!AJ309","v":false},{"$f":"Base!AK309","v":false},{"$f":"Base!AL309","v":false},{"$f":"Base!AM309","v":false},{"$f":"Base!AN309","v":false},{"$f":"Base!AO309","v":false},{"$f":"Base!AP309","v":false},{"$f":"Base!AQ309","v":false},{"$f":"Base!AR309","v":false},{"$f":"Base!AS309","v":false}]
[{"$f":"Base!B310","v":"Nerve Strike"},0,null,null,0,{"$f":"Base!U310","v":1},{"$f":"IF(AND(C321<>0,ISNUMBER(C321)),Base!V310*C321,IF(Base!V310=0,\"N\",\"Y\"))","v":"Y"},{"$f":"Base!W310","v":"Weapon Mastery"},null,null,null,null,null,0,false,false,{"$f":"AND(CharacterStatus = 0,Base!V310>0)","v":true},false,{"$f":"Base!X310","v":true},0,{"$f":"Base!Y310","v":false},{"$f":"Base!Z310","v":false},{"$f":"Base!AA310","v":false},null,{"$f":"Base!AB310","v":false},{"$f":"Base!AC310","v":false},{"$f":"Base!AD310","v":false},{"$f":"Base!AE310","v":false},{"$f":"Base!AF310","v":false},{"$f":"Base!AG310","v":false},{"$f":"Base!AH310","v":false},{"$f":"Base!AI310","v":false},{"$f":"Base!AJ310","v":false},{"$f":"Base!AK310","v":false},{"$f":"Base!AL310","v":false},{"$f":"Base!AM310","v":false},{"$f":"Base!AN310","v":false},{"$f":"Base!AO310","v":false},{"$f":"Base!AP310","v":false},{"$f":"Base!AQ310","v":false},{"$f":"Base!AR310","v":false},{"$f":"Base!AS310","v":false}]
[{"$f":"Base!B311","v":"Nerve Strike Mastery"},80,null,null,0,{"$f":"Base!U311","v":1},{"$f":"IF(AND(C322<>0,ISNUMBER(C322)),Base!V311*C322,IF(Base!V311=0,\"N\",\"Y\"))","v":"N"},{"$f":"Base!W311","v":"Nerve Strike, Weapon Enhanced Mastery"},null,null,null,null,null,0,false,false,{"$f":"AND(CharacterStatus = 0,Base!V311>0)","v":false},false,{"$f":"Base!X311","v":true},0,{"$f":"Base!Y311","v":false},{"$f":"Base!Z311","v":false},{"$f":"Base!AA311","v":false},null,{"$f":"Base!AB311","v":false},{"$f":"Base!AC311","v":false},{"$f":"Base!AD311","v":false},{"$f":"Base!AE311","v":false},{"$f":"Base!AF311","v":false},{"$f":"Base!AG311","v":false},{"$f":"Base!AH311","v":false},{"$f":"Base!AI311","v":false},{"$f":"Base!AJ311","v":false},{"$f":"Base!AK311","v":false},{"$f":"Base!AL311","v":false},{"$f":"Base!AM311","v":false},{"$f":"Base!AN311","v":false},{"$f":"Base!AO311","v":false},{"$f":"Base!AP311","v":false},{"$f":"Base!AQ311","v":false},{"$f":"Base!AR311","v":false},{"$f":"Base!AS311","v":false}]
[{"$f":"Base!B312","v":"Nerve Strike Enhanced Mastery"},120,null,null,0,{"$f":"Base!U312","v":1},{"$f":"IF(AND(C323<>0,ISNUMBER(C323)),Base!V312*C323,IF(Base!V312=0,\"N\",\"Y\"))","v":"Y"},{"$f":"Base!W312","v":"Nerve Strike Mastery, Weapon Attunement"},null,null,null,null,null,0,false,false,{"$f":"AND(CharacterStatus = 0,Base!V312>0)","v":true},false,{"$f":"Base!X312","v":true},0,{"$f":"Base!Y312","v":false},{"$f":"Base!Z312","v":false},{"$f":"Base!AA312","v":false},null,{"$f":"Base!AB312","v":false},{"$f":"Base!AC312","v":false},{"$f":"Base!AD312","v":false},{"$f":"Base!AE312","v":false},{"$f":"Base!AF312","v":false},{"$f":"Base!AG312","v":false},{"$f":"Base!AH312","v":false},{"$f":"Base!AI312","v":false},{"$f":"Base!AJ312","v":false},{"$f":"Base!AK312","v":false},{"$f":"Base!AL312","v":false},{"$f":"Base!AM312","v":false},{"$f":"Base!AN312","v":false},{"$f":"Base!AO312","v":false},{"$f":"Base!AP312","v":false},{"$f":"Base!AQ312","v":false},{"$f":"Base!AR312","v":false},{"$f":"Base!AS312","v":false}]
[{"$f":"Base!B313","v":"Nerve Strike Superior Mastery"},160,null,null,0,{"$f":"Base!U313","v":1},{"$f":"IF(AND(C324<>0,ISNUMBER(C324)),Base!V313*C324,IF(Base!V313=0,\"N\",\"Y\"))","v":"Y"},{"$f":"Base!W313","v":"Nerve Strike Enhanced Mastery"},null,null,null,null,null,0,false,false,{"$f":"AND(CharacterStatus = 0,Base!V313>0)","v":true},false,{"$f":"Base!X313","v":true},0,{"$f":"Base!Y313","v":false},{"$f":"Base!Z313","v":false},{"$f":"Base!AA313","v":false},null,{"$f":"Base!AB313","v":false},{"$f":"Base!AC313","v":false},{"$f":"Base!AD313","v":false},{"$f":"Base!AE313","v":false},{"$f":"Base!AF313","v":false},{"$f":"Base!AG313","v":false},{"$f":"Base!AH313","v":false},{"$f":"Base!AI313","v":false},{"$f":"Base!AJ313","v":false},{"$f":"Base!AK313","v":false},{"$f":"Base!AL313","v":false},{"$f":"Base!AM313","v":false},{"$f":"Base!AN313","v":false},{"$f":"Base!AO313","v":false},{"$f":"Base!AP313","v":false},{"$f":"Base!AQ313","v":false},{"$f":"Base!AR313","v":false},{"$f":"Base!AS313","v":false}]
[{"$f":"Base!B314","v":"Resist Bonebreak"},120,null,null,0,{"$f":"Base!U314","v":1},{"$f":"IF(AND(C325<>0,ISNUMBER(C325)),Base!V314*C325,IF(Base!V314=0,\"N\",\"Y\"))","v":"Y"},{"$f":"Base!W314","v":"Toughened Skin Mastery"},null,null,null,null,null,0,false,false,{"$f":"AND(CharacterStatus = 0,Base!V314>0)","v":true},false,{"$f":"Base!X314","v":true},0,{"$f":"Base!Y314","v":false},{"$f":"Base!Z314","v":false},{"$f":"Base!AA314","v":false},null,{"$f":"Base!AB314","v":false},{"$f":"Base!AC314","v":false},{"$f":"Base!AD314","v":false},{"$f":"Base!AE314","v":false},{"$f":"Base!AF314","v":false},{"$f":"Base!AG314","v":false},{"$f":"Base!AH314","v":false},{"$f":"Base!AI314","v":false},{"$f":"Base!AJ314","v":false},{"$f":"Base!AK314","v":false},{"$f":"Base!AL314","v":false},{"$f":"Base!AM314","v":false},{"$f":"Base!AN314","v":false},{"$f":"Base!AO314","v":false},{"$f":"Base!AP314","v":false},{"$f":"Base!AQ314","v":false},{"$f":"Base!AR314","v":false},{"$f":"Base!AS314","v":false}]
[{"$f":"Base!B315","v":"Resist Bonebreak Mastery"},160,null,null,0,{"$f":"Base!U315","v":1},{"$f":"IF(AND(C326<>0,ISNUMBER(C326)),Base!V315*C326,IF(Base!V315=0,\"N\",\"Y\"))","v":"N"},{"$f":"Base!W315","v":"Resist Bonebreak"},null,null,null,null,null,0,false,false,{"$f":"AND(CharacterStatus = 0,Base!V315>0)","v":false},false,{"$f":"Base!X315","v":true},0,{"$f":"Base!Y315","v":false},{"$f":"Base!Z315","v":false},{"$f":"Base!AA315","v":false},null,{"$f":"Base!AB315","v":false},{"$f":"Base!AC315","v":false},{"$f":"Base!AD315","v":false},{"$f":"Base!AE315","v":false},{"$f":"Base!AF315","v":false},{"$f":"Base!AG315","v":false},{"$f":"Base!AH315","v":false},{"$f":"Base!AI315","v":false},{"$f":"Base!AJ315","v":false},{"$f":"Base!AK315","v":false},{"$f":"Base!AL315","v":false},{"$f":"Base!AM315","v":false},{"$f":"Base!AN315","v":false},{"$f":"Base!AO315","v":false},{"$f":"Base!AP315","v":false},{"$f":"Base!AQ315","v":false},{"$f":"Base!AR315","v":false},{"$f":"Base!AS315","v":false}]
[{"$f":"Base!B316","v":"Resist Bonebreak Enhanced Mastery"},200,null,null,0,{"$f":"Base!U316","v":1},{"$f":"IF(AND(C327<>0,ISNUMBER(C327)),Base!V316*C327,IF(Base!V316=0,\"N\",\"Y\"))","v":"Y"},{"$f":"Base!W316","v":"Resist Bonebreak Mastery"},null,null,null,null,null,0,false,false,{"$f":"AND(CharacterStatus = 0,Base!V316>0)","v":true},false,{"$f":"Base!X316","v":true},0,{"$f":"Base!Y316","v":false},{"$f":"Base!Z316","v":false},{"$f":"Base!AA316","v":false},null,{"$f":"Base!AB316","v":false},{"$f":"Base!AC316","v":false},{"$f":"Base!AD316","v":false},{"$f":"Base!AE316","v":false},{"$f":"Base!AF316","v":false},{"$f":"Base!AG316","v":false},{"$f":"Base!AH316","v":false},{"$f":"Base!AI316","v":false},{"$f":"Base!AJ316","v":false},{"$f":"Base!AK316","v":false},{"$f":"Base!AL316","v":false},{"$f":"Base!AM316","v":false},{"$f":"Base!AN316","v":false},{"$f":"Base!AO316","v":false},{"$f":"Base!AP316","v":false},{"$f":"Base!AQ316","v":false},{"$f":"Base!AR316","v":false},{"$f":"Base!AS316","v":false}]
[{"$f":"Base!B317","v":"Resist Bonebreak Superior Mastery"},240,null,null,{"$f":"C328*B328","v":0},{"$f":"Base!U317","v":1},{"$f":"IF(AND(C328<>0,ISNUMBER(C328)),Base!V317*C328,IF(Base!V317=0,\"N\",\"Y\"))","v":"Y"},{"$f":"Base!W317","v":"Resist Bonebreak Enhanced Mastery"},null,null,null,null,null,0,false,false,{"$f":"AND(CharacterStatus = 0,Base!V317>0)","v":true},false,{"$f":"Base!X317","v":true},0,{"$f":"Base!Y317","v":false},{"$f":"Base!Z317","v":false},{"$f":"Base!AA317","v":false},null,{"$f":"Base!AB317","v":false},{"$f":"Base!AC317","v":false},{"$f":"Base!AD317","v":false},{"$f":"Base!AE317","v":false},{"$f":"Base!AF317","v":false},{"$f":"Base!AG317","v":false},{"$f":"Base!AH317","v":false},{"$f":"Base!AI317","v":false},{"$f":"Base!AJ317","v":false},{"$f":"Base!AK317","v":false},{"$f":"Base!AL317","v":false},{"$f":"Base!AM317","v":false},{"$f":"Base!AN317","v":false},{"$f":"Base!AO317","v":false},{"$f":"Base!AP317","v":false},{"$f":"Base!AQ317","v":false},{"$f":"Base!AR317","v":false},{"$f":"Base!AS317","v":false}]
[{"$f":"Base!B318","v":"Resist Disarm"},80,null,null,0,{"$f":"Base!U318","v":1},{"$f":"IF(AND(C329<>0,ISNUMBER(C329)),Base!V318*C329,IF(Base!V318=0,\"N\",\"Y\"))","v":"Y"},{"$f":"Base!W318","v":"Weapon Attunement"},null,null,null,null,null,0,false,false,{"$f":"AND(CharacterStatus = 0,Base!V318>0)","v":true},false,{"$f":"Base!X318","v":true},0,{"$f":"Base!Y318","v":false},{"$f":"Base!Z318","v":false},{"$f":"Base!AA318","v":false},null,{"$f":"Base!AB318","v":false},{"$f":"Base!AC318","v":false},{"$f":"Base!AD318","v":false},{"$f":"Base!AE318","v":false},{"$f":"Base!AF318","v":false},{"$f":"Base!AG318","v":false},{"$f":"Base!AH318","v":false},{"$f":"Base!AI318","v":false},{"$f":"Base!AJ318","v":false},{"$f":"Base!AK318","v":false},{"$f":"Base!AL318","v":false},{"$f":"Base!AM318","v":false},{"$f":"Base!AN318","v":false},{"$f":"Base!AO318","v":false},{"$f":"Base!AP318","v":false},{"$f":"Base!AQ318","v":false},{"$f":"Base!AR318","v":false},{"$f":"Base!AS318","v":false}]
[{"$f":"Base!B319","v":"Resist Disarm Mastery"},120,null,null,0,{"$f":"Base!U319","v":1},{"$f":"IF(AND(C330<>0,ISNUMBER(C330)),Base!V319*C330,IF(Base!V319=0,\"N\",\"Y\"))","v":"N"},{"$f":"Base!W319","v":"Resist Disarm"},null,null,null,null,null,0,false,false,{"$f":"AND(CharacterStatus = 0,Base!V319>0)","v":false},false,{"$f":"Base!X319","v":true},0,{"$f":"Base!Y319","v":false},{"$f":"Base!Z319","v":false},{"$f":"Base!AA319","v":false},null,{"$f":"Base!AB319","v":false},{"$f":"Base!AC319","v":false},{"$f":"Base!AD319","v":false},{"$f":"Base!AE319","v":false},{"$f":"Base!AF319","v":false},{"$f":"Base!AG319","v":false},{"$f":"Base!AH319","v":false},{"$f":"Base!AI319","v":false},{"$f":"Base!AJ319","v":false},{"$f":"Base!AK319","v":false},{"$f":"Base!AL319","v":false},{"$f":"Base!AM319","v":false},{"$f":"Base!AN319","v":false},{"$f":"Base!AO319","v":false},{"$f":"Base!AP319","v":false},{"$f":"Base!AQ319","v":false},{"$f":"Base!AR319","v":false},{"$f":"Base!AS319","v":false}]
[{"$f":"Base!B320","v":"Resist Disarm Enhanced Mastery"},160,null,null,0,{"$f":"Base!U320","v":1},{"$f":"IF(AND(C331<>0,ISNUMBER(C331)),Base!V320*C331,IF(Base!V320=0,\"N\",\"Y\"))","v":"Y"},{"$f":"Base!W320","v":"Resist Disarm Mastery"},null,null,null,null,null,0,false,false,{"$f":"AND(CharacterStatus = 0,Base!V320>0)","v":true},false,{"$f":"Base!X320","v":true},0,{"$f":"Base!Y320","v":false},{"$f":"Base!Z320","v":false},{"$f":"Base!AA320","v":false},null,{"$f":"Base!AB320","v":false},{"$f":"Base!AC320","v":false},{"$f":"Base!AD320","v":false},{"$f":"Base!AE320","v":false},{"$f":"Base!AF320","v":false},{"$f":"Base!AG320","v":false},{"$f":"Base!AH320","v":false},{"$f":"Base!AI320","v":false},{"$f":"Base!AJ320","v":false},{"$f":"Base!AK320","v":false},{"$f":"Base!AL320","v":false},{"$f":"Base!AM320","v":false},{"$f":"Base!AN320","v":false},{"$f":"Base!AO320","v":false},{"$f":"Base!AP320","v":false},{"$f":"Base!AQ320","v":false},{"$f":"Base!AR320","v":false},{"$f":"Base!AS320","v":false}]
[{"$f":"Base!B321","v":"Resist Disarm Superior Mastery"},200,null,null,0,{"$f":"Base!U321","v":1},{"$f":"IF(AND(C332<>0,ISNUMBER(C332)),Base!V321*C332,IF(Base!V321=0,\"N\",\"Y\"))","v":"Y"},{"$f":"Base!W321","v":"Resist Disarm Enhanced Mastery"},null,null,null,null,null,0,false,false,{"$f":"AND(CharacterStatus = 0,Base!V321>0)","v":true},false,{"$f":"Base!X321","v":true},0,{"$f":"Base!Y321","v":false},{"$f":"Base!Z321","v":false},{"$f":"Base!AA321","v":false},null,{"$f":"Base!AB321","v":false},{"$f":"Base!AC321","v":false},{"$f":"Base!AD321","v":false},{"$f":"Base!AE321","v":false},{"$f":"Base!AF321","v":false},{"$f":"Base!AG321","v":false},{"$f":"Base!AH321","v":false},{"$f":"Base!AI321","v":false},{"$f":"Base!AJ321","v":false},{"$f":"Base!AK321","v":false},{"$f":"Base!AL321","v":false},{"$f":"Base!AM321","v":false},{"$f":"Base!AN321","v":false},{"$f":"Base!AO321","v":false},{"$f":"Base!AP321","v":false},{"$f":"Base!AQ321","v":false},{"$f":"Base!AR321","v":false},{"$f":"Base!AS321","v":false}]
[{"$f":"Base!B322","v":"Resist Dismember"},120,null,null,0,{"$f":"Base!U322","v":1},{"$f":"IF(AND(C333<>0,ISNUMBER(C333)),Base!V322*C333,IF(Base!V322=0,\"N\",\"Y\"))","v":"Y"},{"$f":"Base!W322","v":"Toughened Skin Enhanced Mastery"},null,null,null,null,null,0,false,false,{"$f":"AND(CharacterStatus = 0,Base!V322>0)","v":true},false,{"$f":"Base!X322","v":true},0,{"$f":"Base!Y322","v":false},{"$f":"Base!Z322","v":false},{"$f":"Base!AA322","v":false},null,{"$f":"Base!AB322","v":false},{"$f":"Base!AC322","v":false},{"$f":"Base!AD322","v":false},{"$f":"Base!AE322","v":false},{"$f":"Base!AF322","v":false},{"$f":"Base!AG322","v":false},{"$f":"Base!AH322","v":false},{"$f":"Base!AI322","v":false},{"$f":"Base!AJ322","v":false},{"$f":"Base!AK322","v":false},{"$f":"Base!AL322","v":false},{"$f":"Base!AM322","v":false},{"$f":"Base!AN322","v":false},{"$f":"Base!AO322","v":false},{"$f":"Base!AP322","v":false},{"$f":"Base!AQ322","v":false},{"$f":"Base!AR322","v":false},{"$f":"Base!AS322","v":false}]
[{"$f":"Base!B323","v":"Resist Dismember Mastery"},160,null,null,0,{"$f":"Base!U323","v":1},{"$f":"IF(AND(C334<>0,ISNUMBER(C334)),Base!V323*C334,IF(Base!V323=0,\"N\",\"Y\"))","v":"N"},{"$f":"Base!W323","v":"Resist Dismember"},null,null,null,null,null,0,false,false,{"$f":"AND(CharacterStatus = 0,Base!V323>0)","v":false},false,{"$f":"Base!X323","v":true},0,{"$f":"Base!Y323","v":false},{"$f":"Base!Z323","v":false},{"$f":"Base!AA323","v":false},null,{"$f":"Base!AB323","v":false},{"$f":"Base!AC323","v":false},{"$f":"Base!AD323","v":false},{"$f":"Base!AE323","v":false},{"$f":"Base!AF323","v":false},{"$f":"Base!AG323","v":false},{"$f":"Base!AH323","v":false},{"$f":"Base!AI323","v":false},{"$f":"Base!AJ323","v":false},{"$f":"Base!AK323","v":false},{"$f":"Base!AL323","v":false},{"$f":"Base!AM323","v":false},{"$f":"Base!AN323","v":false},{"$f":"Base!AO323","v":false},{"$f":"Base!AP323","v":false},{"$f":"Base!AQ323","v":false},{"$f":"Base!AR323","v":false},{"$f":"Base!AS323","v":false}]
[{"$f":"Base!B324","v":"Resist Dismember Enhanced Mastery"},200,null,null,0,{"$f":"Base!U324","v":1},{"$f":"IF(AND(C335<>0,ISNUMBER(C335)),Base!V324*C335,IF(Base!V324=0,\"N\",\"Y\"))","v":"Y"},{"$f":"Base!W324","v":"Resist Dismember Mastery"},null,null,null,null,null,0,false,false,{"$f":"AND(CharacterStatus = 0,Base!V324>0)","v":true},false,{"$f":"Base!X324","v":true},0,{"$f":"Base!Y324","v":false},{"$f":"Base!Z324","v":false},{"$f":"Base!AA324","v":false},null,{"$f":"Base!AB324","v":false},{"$f":"Base!AC324","v":false},{"$f":"Base!AD324","v":false},{"$f":"Base!AE324","v":false},{"$f":"Base!AF324","v":false},{"$f":"Base!AG324","v":false},{"$f":"Base!AH324","v":false},{"$f":"Base!AI324","v":false},{"$f":"Base!AJ324","v":false},{"$f":"Base!AK324","v":false},{"$f":"Base!AL324","v":false},{"$f":"Base!AM324","v":false},{"$f":"Base!AN324","v":false},{"$f":"Base!AO324","v":false},{"$f":"Base!AP324","v":false},{"$f":"Base!AQ324","v":false},{"$f":"Base!AR324","v":false},{"$f":"Base!AS324","v":false}]
[{"$f":"Base!B325","v":"Resist Dismember Superior Mastery"},240,null,null,0,{"$f":"Base!U325","v":1},{"$f":"IF(AND(C336<>0,ISNUMBER(C336)),Base!V325*C336,IF(Base!V325=0,\"N\",\"Y\"))","v":"Y"},{"$f":"Base!W325","v":"Resist Dismember Enhanced Mastery"},null,null,null,null,null,0,false,false,{"$f":"AND(CharacterStatus = 0,Base!V325>0)","v":true},false,{"$f":"Base!X325","v":true},0,{"$f":"Base!Y325","v":false},{"$f":"Base!Z325","v":false},{"$f":"Base!AA325","v":false},null,{"$f":"Base!AB325","v":false},{"$f":"Base!AC325","v":false},{"$f":"Base!AD325","v":false},{"$f":"Base!AE325","v":false},{"$f":"Base!AF325","v":false},{"$f":"Base!AG325","v":false},{"$f":"Base!AH325","v":false},{"$f":"Base!AI325","v":false},{"$f":"Base!AJ325","v":false},{"$f":"Base!AK325","v":false},{"$f":"Base!AL325","v":false},{"$f":"Base!AM325","v":false},{"$f":"Base!AN325","v":false},{"$f":"Base!AO325","v":false},{"$f":"Base!AP325","v":false},{"$f":"Base!AQ325","v":false},{"$f":"Base!AR325","v":false},{"$f":"Base!AS325","v":false}]
[{"$f":"Base!B326","v":"Resist Knockback"},80,null,null,0,{"$f":"Base!U326","v":1},{"$f":"IF(AND(C337<>0,ISNUMBER(C337)),Base!V326*C337,IF(Base!V326=0,\"N\",\"Y\"))","v":"Y"},{"$f":"Base!W326","v":"Strength"},null,null,null,null,null,0,false,false,{"$f":"AND(CharacterStatus = 0,Base!V326>0)","v":true},false,{"$f":"Base!X326","v":true},0,{"$f":"Base!Y326","v":false},{"$f":"Base!Z326","v":false},{"$f":"Base!AA326","v":false},null,{"$f":"Base!AB326","v":false},{"$f":"Base!AC326","v":false},{"$f":"Base!AD326","v":false},{"$f":"Base!AE326","v":false},{"$f":"Base!AF326","v":false},{"$f":"Base!AG326","v":false},{"$f":"Base!AH326","v":false},{"$f":"Base!AI326","v":false},{"$f":"Base!AJ326","v":false},{"$f":"Base!AK326","v":false},{"$f":"Base!AL326","v":false},{"$f":"Base!AM326","v":false},{"$f":"Base!AN326","v":false},{"$f":"Base!AO326","v":false},{"$f":"Base!AP326","v":false},{"$f":"Base!AQ326","v":false},{"$f":"Base!AR326","v":false},{"$f":"Base!AS326","v":false}]
[{"$f":"Base!B327","v":"Resist Knockback Mastery"},120,null,null,0,{"$f":"Base!U327","v":1},{"$f":"IF(AND(C338<>0,ISNUMBER(C338)),Base!V327*C338,IF(Base!V327=0,\"N\",\"Y\"))","v":"N"},{"$f":"Base!W327","v":"Resist Knockback"},null,null,null,null,null,0,false,false,{"$f":"AND(CharacterStatus = 0,Base!V327>0)","v":false},false,{"$f":"Base!X327","v":true},0,{"$f":"Base!Y327","v":false},{"$f":"Base!Z327","v":false},{"$f":"Base!AA327","v":false},null,{"$f":"Base!AB327","v":false},{"$f":"Base!AC327","v":false},{"$f":"Base!AD327","v":false},{"$f":"Base!AE327","v":false},{"$f":"Base!AF327","v":false},{"$f":"Base!AG327","v":false},{"$f":"Base!AH327","v":false},{"$f":"Base!AI327","v":false},{"$f":"Base!AJ327","v":false},{"$f":"Base!AK327","v":false},{"$f":"Base!AL327","v":false},{"$f":"Base!AM327","v":false},{"$f":"Base!AN327","v":false},{"$f":"Base!AO327","v":false},{"$f":"Base!AP327","v":false},{"$f":"Base!AQ327","v":false},{"$f":"Base!AR327","v":false},{"$f":"Base!AS327","v":false}]
[{"$f":"Base!B328","v":"Resist Knockback Enhanced Mastery"},160,null,null,0,{"$f":"Base!U328","v":1},{"$f":"IF(AND(C339<>0,ISNUMBER(C339)),Base!V328*C339,IF(Base!V328=0,\"N\",\"Y\"))","v":"Y"},{"$f":"Base!W328","v":"Resist Knockback Mastery"},null,null,null,null,null,0,false,false,{"$f":"AND(CharacterStatus = 0,Base!V328>0)","v":true},false,{"$f":"Base!X328","v":true},0,{"$f":"Base!Y328","v":false},{"$f":"Base!Z328","v":false},{"$f":"Base!AA328","v":false},null,{"$f":"Base!AB328","v":false},{"$f":"Base!AC328","v":false},{"$f":"Base!AD328","v":false},{"$f":"Base!AE328","v":false},{"$f":"Base!AF328","v":false},{"$f":"Base!AG328","v":false},{"$f":"Base!AH328","v":false},{"$f":"Base!AI328","v":false},{"$f":"Base!AJ328","v":false},{"$f":"Base!AK328","v":false},{"$f":"Base!AL328","v":false},{"$f":"Base!AM328","v":false},{"$f":"Base!AN328","v":false},{"$f":"Base!AO328","v":false},{"$f":"Base!AP328","v":false},{"$f":"Base!AQ328","v":false},{"$f":"Base!AR328","v":false},{"$f":"Base!AS328","v":false}]
[{"$f":"Base!B329","v":"Resist Knockback Superior Mastery"},200,null,null,0,{"$f":"Base!U329","v":1},{"$f":"IF(AND(C340<>0,ISNUMBER(C340)),Base!V329*C340,IF(Base!V329=0,\"N\",\"Y\"))","v":"Y"},{"$f":"Base!W329","v":"Resist Knockback Enhanced Mastery"},null,null,null,null,null,0,false,false,{"$f":"AND(CharacterStatus = 0,Base!V329>0)","v":true},false,{"$f":"Base!X329","v":true},0,{"$f":"Base!Y329","v":false},{"$f":"Base!Z329","v":false},{"$f":"Base!AA329","v":false},null,{"$f":"Base!AB329","v":false},{"$f":"Base!AC329","v":false},{"$f":"Base!AD329","v":false},{"$f":"Base!AE329","v":false},{"$f":"Base!AF329","v":false},{"$f":"Base!AG329","v":false},{"$f":"Base!AH329","v":false},{"$f":"Base!AI329","v":false},{"$f":"Base!AJ329","v":false},{"$f":"Base!AK329","v":false},{"$f":"Base!AL329","v":false},{"$f":"Base!AM329","v":false},{"$f":"Base!AN329","v":false},{"$f":"Base!AO329","v":false},{"$f":"Base!AP329","v":false},{"$f":"Base!AQ329","v":false},{"$f":"Base!AR329","v":false},{"$f":"Base!AS329","v":false}]
[{"$f":"Base!B330","v":"Resist Knockdown"},80,null,null,0,{"$f":"Base!U330","v":1},{"$f":"IF(AND(C341<>0,ISNUMBER(C341)),Base!V330*C341,IF(Base!V330=0,\"N\",\"Y\"))","v":"Y"},{"$f":"Base!W330","v":"Double Strength"},null,null,null,null,null,0,false,false,{"$f":"AND(CharacterStatus = 0,Base!V330>0)","v":true},false,{"$f":"Base!X330","v":true},0,{"$f":"Base!Y330","v":false},{"$f":"Base!Z330","v":false},{"$f":"Base!AA330","v":false},null,{"$f":"Base!AB330","v":false},{"$f":"Base!AC330","v":false},{"$f":"Base!AD330","v":false},{"$f":"Base!AE330","v":false},{"$f":"Base!AF330","v":false},{"$f":"Base!AG330","v":false},{"$f":"Base!AH330","v":false},{"$f":"Base!AI330","v":false},{"$f":"Base!AJ330","v":false},{"$f":"Base!AK330","v":false},{"$f":"Base!AL330","v":false},{"$f":"Base!AM330","v":false},{"$f":"Base!AN330","v":false},{"$f":"Base!AO330","v":false},{"$f":"Base!AP330","v":false},{"$f":"Base!AQ330","v":false},{"$f":"Base!AR330","v":false},{"$f":"Base!AS330","v":false}]
[{"$f":"Base!B331","v":"Resist Knockdown Mastery"},120,null,null,0,{"$f":"Base!U331","v":1},{"$f":"IF(AND(C342<>0,ISNUMBER(C342)),Base!V331*C342,IF(Base!V331=0,\"N\",\"Y\"))","v":"N"},{"$f":"Base!W331","v":"Resist Knockdown"},null,null,null,null,null,0,false,false,{"$f":"AND(CharacterStatus = 0,Base!V331>0)","v":false},false,{"$f":"Base!X331","v":true},0,{"$f":"Base!Y331","v":false},{"$f":"Base!Z331","v":false},{"$f":"Base!AA331","v":false},null,{"$f":"Base!AB331","v":false},{"$f":"Base!AC331","v":false},{"$f":"Base!AD331","v":false},{"$f":"Base!AE331","v":false},{"$f":"Base!AF331","v":false},{"$f":"Base!AG331","v":false},{"$f":"Base!AH331","v":false},{"$f":"Base!AI331","v":false},{"$f":"Base!AJ331","v":false},{"$f":"Base!AK331","v":false},{"$f":"Base!AL331","v":false},{"$f":"Base!AM331","v":false},{"$f":"Base!AN331","v":false},{"$f":"Base!AO331","v":false},{"$f":"Base!AP331","v":false},{"$f":"Base!AQ331","v":false},{"$f":"Base!AR331","v":false},{"$f":"Base!AS331","v":false}]
[{"$f":"Base!B332","v":"Resist Knockdown Enhanced Mastery"},160,null,null,0,{"$f":"Base!U332","v":1},{"$f":"IF(AND(C343<>0,ISNUMBER(C343)),Base!V332*C343,IF(Base!V332=0,\"N\",\"Y\"))","v":"Y"},{"$f":"Base!W332","v":"Resist Knockdown Mastery"},null,null,null,null,null,0,false,false,{"$f":"AND(CharacterStatus = 0,Base!V332>0)","v":true},false,{"$f":"Base!X332","v":true},0,{"$f":"Base!Y332","v":false},{"$f":"Base!Z332","v":false},{"$f":"Base!AA332","v":false},null,{"$f":"Base!AB332","v":false},{"$f":"Base!AC332","v":false},{"$f":"Base!AD332","v":false},{"$f":"Base!AE332","v":false},{"$f":"Base!AF332","v":false},{"$f":"Base!AG332","v":false},{"$f":"Base!AH332","v":false},{"$f":"Base!AI332","v":false},{"$f":"Base!AJ332","v":false},{"$f":"Base!AK332","v":false},{"$f":"Base!AL332","v":false},{"$f":"Base!AM332","v":false},{"$f":"Base!AN332","v":false},{"$f":"Base!AO332","v":false},{"$f":"Base!AP332","v":false},{"$f":"Base!AQ332","v":false},{"$f":"Base!AR332","v":false},{"$f":"Base!AS332","v":false}]
[{"$f":"Base!B333","v":"Resist Knockdown Superior Mastery"},200,null,null,0,{"$f":"Base!U333","v":1},{"$f":"IF(AND(C344<>0,ISNUMBER(C344)),Base!V333*C344,IF(Base!V333=0,\"N\",\"Y\"))","v":"Y"},{"$f":"Base!W333","v":"Resist Knockdown Enhanced Mastery"},null,null,null,null,null,0,false,false,{"$f":"AND(CharacterStatus = 0,Base!V333>0)","v":true},false,{"$f":"Base!X333","v":true},0,{"$f":"Base!Y333","v":false},{"$f":"Base!Z333","v":false},{"$f":"Base!AA333","v":false},null,{"$f":"Base!AB333","v":false},{"$f":"Base!AC333","v":false},{"$f":"Base!AD333","v":false},{"$f":"Base!AE333","v":false},{"$f":"Base!AF333","v":false},{"$f":"Base!AG333","v":false},{"$f":"Base!AH333","v":false},{"$f":"Base!AI333","v":false},{"$f":"Base!AJ333","v":false},{"$f":"Base!AK333","v":false},{"$f":"Base!AL333","v":false},{"$f":"Base!AM333","v":false},{"$f":"Base!AN333","v":false},{"$f":"Base!AO333","v":false},{"$f":"Base!AP333","v":false},{"$f":"Base!AQ333","v":false},{"$f":"Base!AR333","v":false},{"$f":"Base!AS333","v":false}]
[{"$f":"Base!B334","v":"Resist Nerve Strike"},80,null,null,0,{"$f":"Base!U334","v":1},{"$f":"IF(AND(C345<>0,ISNUMBER(C345)),Base!V334*C345,IF(Base!V334=0,\"N\",\"Y\"))","v":"Y"},{"$f":"Base!W334","v":"Toughened Skin"},null,null,null,null,null,0,false,false,{"$f":"AND(CharacterStatus = 0,Base!V334>0)","v":true},false,{"$f":"Base!X334","v":true},0,{"$f":"Base!Y334","v":false},{"$f":"Base!Z334","v":false},{"$f":"Base!AA334","v":false},null,{"$f":"Base!AB334","v":false},{"$f":"Base!AC334","v":false},{"$f":"Base!AD334","v":false},{"$f":"Base!AE334","v":false},{"$f":"Base!AF334","v":false},{"$f":"Base!AG334","v":false},{"$f":"Base!AH334","v":false},{"$f":"Base!AI334","v":false},{"$f":"Base!AJ334","v":false},{"$f":"Base!AK334","v":false},{"$f":"Base!AL334","v":false},{"$f":"Base!AM334","v":false},{"$f":"Base!AN334","v":false},{"$f":"Base!AO334","v":false},{"$f":"Base!AP334","v":false},{"$f":"Base!AQ334","v":false},{"$f":"Base!AR334","v":false},{"$f":"Base!AS334","v":false}]
[{"$f":"Base!B335","v":"Resist Nerve Strike Mastery"},120,null,null,0,{"$f":"Base!U335","v":1},{"$f":"IF(AND(C346<>0,ISNUMBER(C346)),Base!V335*C346,IF(Base!V335=0,\"N\",\"Y\"))","v":"N"},{"$f":"Base!W335","v":"Resist Nerve Strike"},null,null,null,null,null,{"$f":"IF(OR(T346=1,NOT(C346=0),NOT(D346=0)),1,0)","v":0},{"$f":"NOT(OR(ISBLANK(C346),C346=0))","v":false},{"$f":"AND(F346<>\"N\",C346>F346)","v":false},{"$f":"AND(CharacterStatus = 0,Base!V335>0)","v":false},{"$f":"AND(CharacterStatus > 0,G346>0,G346<>\"N\")","v":false},{"$f":"Base!X335","v":true},0,{"$f":"Base!Y335","v":false},{"$f":"Base!Z335","v":false},{"$f":"Base!AA335","v":false},null,{"$f":"Base!AB335","v":false},{"$f":"Base!AC335","v":false},{"$f":"Base!AD335","v":false},{"$f":"Base!AE335","v":false},{"$f":"Base!AF335","v":false},{"$f":"Base!AG335","v":false},{"$f":"Base!AH335","v":false},{"$f":"Base!AI335","v":false},{"$f":"Base!AJ335","v":false},{"$f":"Base!AK335","v":false},{"$f":"Base!AL335","v":false},{"$f":"Base!AM335","v":false},{"$f":"Base!AN335","v":false},{"$f":"Base!AO335","v":false},{"$f":"Base!AP335","v":false},{"$f":"Base!AQ335","v":false},{"$f":"Base!AR335","v":false},{"$f":"Base!AS335","v":false}]
[{"$f":"Base!B336","v":"Resist Nerve Strike Enhanced Mastery"},160,null,null,0,{"$f":"Base!U336","v":1},{"$f":"IF(AND(C347<>0,ISNUMBER(C347)),Base!V336*C347,IF(Base!V336=0,\"N\",\"Y\"))","v":"Y"},{"$f":"Base!W336","v":"Resist Nerve Strike Mastery"},null,null,null,null,null,0,false,false,{"$f":"AND(CharacterStatus = 0,Base!V336>0)","v":true},false,{"$f":"Base!X336","v":true},0,{"$f":"Base!Y336","v":false},{"$f":"Base!Z336","v":false},{"$f":"Base!AA336","v":false},null,{"$f":"Base!AB336","v":false},{"$f":"Base!AC336","v":false},{"$f":"Base!AD336","v":false},{"$f":"Base!AE336","v":false},{"$f":"Base!AF336","v":false},{"$f":"Base!AG336","v":false},{"$f":"Base!AH336","v":false},{"$f":"Base!AI336","v":false},{"$f":"Base!AJ336","v":false},{"$f":"Base!AK336","v":false},{"$f":"Base!AL336","v":false},{"$f":"Base!AM336","v":false},{"$f":"Base!AN336","v":false},{"$f":"Base!AO336","v":false},{"$f":"Base!AP336","v":false},{"$f":"Base!AQ336","v":false},{"$f":"Base!AR336","v":false},{"$f":"Base!AS336","v":false}]
[{"$f":"Base!B337","v":"Resist Nerve Strike Superior Mastery"},200,null,null,0,{"$f":"Base!U337","v":1},{"$f":"IF(AND(C348<>0,ISNUMBER(C348)),Base!V337*C348,IF(Base!V337=0,\"N\",\"Y\"))","v":"Y"},{"$f":"Base!W337","v":"Resist Nerve Strike Enhanced Mastery"},null,null,null,null,null,0,false,false,{"$f":"AND(CharacterStatus = 0,Base!V337>0)","v":true},false,{"$f":"Base!X337","v":true},0,{"$f":"Base!Y337","v":false},{"$f":"Base!Z337","v":false},{"$f":"Base!AA337","v":false},null,{"$f":"Base!AB337","v":false},{"$f":"Base!AC337","v":false},{"$f":"Base!AD337","v":false},{"$f":"Base!AE337","v":false},{"$f":"Base!AF337","v":false},{"$f":"Base!AG337","v":false},{"$f":"Base!AH337","v":false},{"$f":"Base!AI337","v":false},{"$f":"Base!AJ337","v":false},{"$f":"Base!AK337","v":false},{"$f":"Base!AL337","v":false},{"$f":"Base!AM337","v":false},{"$f":"Base!AN337","v":false},{"$f":"Base!AO337","v":false},{"$f":"Base!AP337","v":false},{"$f":"Base!AQ337","v":false},{"$f":"Base!AR337","v":false},{"$f":"Base!AS337","v":false}]
[{"$f":"Base!B338","v":"Resist Shield Arm Bonebreak"},120,null,null,0,{"$f":"Base!U338","v":1},{"$f":"IF(AND(C349<>0,ISNUMBER(C349)),Base!V338*C349,IF(Base!V338=0,\"N\",\"Y\"))","v":"Y"},{"$f":"Base!W338","v":"Toughened Skin, Shield Skill"},null,null,null,null,null,0,false,false,{"$f":"AND(CharacterStatus = 0,Base!V338>0)","v":true},false,{"$f":"Base!X338","v":true},0,{"$f":"Base!Y338","v":false},{"$f":"Base!Z338","v":false},{"$f":"Base!AA338","v":false},null,{"$f":"Base!AB338","v":false},{"$f":"Base!AC338","v":false},{"$f":"Base!AD338","v":false},{"$f":"Base!AE338","v":false},{"$f":"Base!AF338","v":false},{"$f":"Base!AG338","v":false},{"$f":"Base!AH338","v":false},{"$f":"Base!AI338","v":false},{"$f":"Base!AJ338","v":false},{"$f":"Base!AK338","v":false},{"$f":"Base!AL338","v":false},{"$f":"Base!AM338","v":false},{"$f":"Base!AN338","v":false},{"$f":"Base!AO338","v":false},{"$f":"Base!AP338","v":false},{"$f":"Base!AQ338","v":false},{"$f":"Base!AR338","v":false},{"$f":"Base!AS338","v":false}]
[{"$f":"Base!B339","v":"Resist Shield Arm Bonebreak Mastery"},160,null,null,0,{"$f":"Base!U339","v":1},{"$f":"IF(AND(C350<>0,ISNUMBER(C350)),Base!V339*C350,IF(Base!V339=0,\"N\",\"Y\"))","v":"N"},{"$f":"Base!W339","v":"Resist Shield Arm Bonebreak"},null,null,null,null,null,0,false,false,{"$f":"AND(CharacterStatus = 0,Base!V339>0)","v":false},false,{"$f":"Base!X339","v":true},0,{"$f":"Base!Y339","v":false},{"$f":"Base!Z339","v":false},{"$f":"Base!AA339","v":false},null,{"$f":"Base!AB339","v":false},{"$f":"Base!AC339","v":false},{"$f":"Base!AD339","v":false},{"$f":"Base!AE339","v":false},{"$f":"Base!AF339","v":false},{"$f":"Base!AG339","v":false},{"$f":"Base!AH339","v":false},{"$f":"Base!AI339","v":false},{"$f":"Base!AJ339","v":false},{"$f":"Base!AK339","v":false},{"$f":"Base!AL339","v":false},{"$f":"Base!AM339","v":false},{"$f":"Base!AN339","v":false},{"$f":"Base!AO339","v":false},{"$f":"Base!AP339","v":false},{"$f":"Base!AQ339","v":false},{"$f":"Base!AR339","v":false},{"$f":"Base!AS339","v":false}]
[{"$f":"Base!B340","v":"Resist Shield Arm Bonebreak Enhanced Mastery"},200,null,null,0,{"$f":"Base!U340","v":1},{"$f":"IF(AND(C351<>0,ISNUMBER(C351)),Base!V340*C351,IF(Base!V340=0,\"N\",\"Y\"))","v":"Y"},{"$f":"Base!W340","v":"Resist Shield Arm Bonebreak Mastery"},null,null,null,null,null,0,false,false,{"$f":"AND(CharacterStatus = 0,Base!V340>0)","v":true},false,{"$f":"Base!X340","v":true},0,{"$f":"Base!Y340","v":false},{"$f":"Base!Z340","v":false},{"$f":"Base!AA340","v":false},null,{"$f":"Base!AB340","v":false},{"$f":"Base!AC340","v":false},{"$f":"Base!AD340","v":false},{"$f":"Base!AE340","v":false},{"$f":"Base!AF340","v":false},{"$f":"Base!AG340","v":false},{"$f":"Base!AH340","v":false},{"$f":"Base!AI340","v":false},{"$f":"Base!AJ340","v":false},{"$f":"Base!AK340","v":false},{"$f":"Base!AL340","v":false},{"$f":"Base!AM340","v":false},{"$f":"Base!AN340","v":false},{"$f":"Base!AO340","v":false},{"$f":"Base!AP340","v":false},{"$f":"Base!AQ340","v":false},{"$f":"Base!AR340","v":false},{"$f":"Base!AS340","v":false}]
[{"$f":"Base!B341","v":"Resist Shield Cleave"},120,null,null,0,{"$f":"Base!U341","v":1},{"$f":"IF(AND(C352<>0,ISNUMBER(C352)),Base!V341*C352,IF(Base!V341=0,\"N\",\"Y\"))","v":"Y"},{"$f":"Base!W341","v":"Shield Skill"},null,null,null,null,null,0,false,false,{"$f":"AND(CharacterStatus = 0,Base!V341>0)","v":true},false,{"$f":"Base!X341","v":true},0,{"$f":"Base!Y341","v":false},{"$f":"Base!Z341","v":false},{"$f":"Base!AA341","v":false},null,{"$f":"Base!AB341","v":false},{"$f":"Base!AC341","v":false},{"$f":"Base!AD341","v":false},{"$f":"Base!AE341","v":false},{"$f":"Base!AF341","v":false},{"$f":"Base!AG341","v":false},{"$f":"Base!AH341","v":false},{"$f":"Base!AI341","v":false},{"$f":"Base!AJ341","v":false},{"$f":"Base!AK341","v":false},{"$f":"Base!AL341","v":false},{"$f":"Base!AM341","v":false},{"$f":"Base!AN341","v":false},{"$f":"Base!AO341","v":false},{"$f":"Base!AP341","v":false},{"$f":"Base!AQ341","v":false},{"$f":"Base!AR341","v":false},{"$f":"Base!AS341","v":false}]
[{"$f":"Base!B342","v":"Resist Shield Cleave Mastery"},160,null,null,0,{"$f":"Base!U342","v":1},{"$f":"IF(AND(C353<>0,ISNUMBER(C353)),Base!V342*C353,IF(Base!V342=0,\"N\",\"Y\"))","v":"N"},{"$f":"Base!W342","v":"Resist Shield Cleave"},null,null,null,null,null,0,false,false,{"$f":"AND(CharacterStatus = 0,Base!V342>0)","v":false},false,{"$f":"Base!X342","v":true},0,{"$f":"Base!Y342","v":false},{"$f":"Base!Z342","v":false},{"$f":"Base!AA342","v":false},null,{"$f":"Base!AB342","v":false},{"$f":"Base!AC342","v":false},{"$f":"Base!AD342","v":false},{"$f":"Base!AE342","v":false},{"$f":"Base!AF342","v":false},{"$f":"Base!AG342","v":false},{"$f":"Base!AH342","v":false},{"$f":"Base!AI342","v":false},{"$f":"Base!AJ342","v":false},{"$f":"Base!AK342","v":false},{"$f":"Base!AL342","v":false},{"$f":"Base!AM342","v":false},{"$f":"Base!AN342","v":false},{"$f":"Base!AO342","v":false},{"$f":"Base!AP342","v":false},{"$f":"Base!AQ342","v":false},{"$f":"Base!AR342","v":false},{"$f":"Base!AS342","v":false}]
[{"$f":"Base!B343","v":"Resist Shield Cleave Enhanced Mastery"},200,null,null,0,{"$f":"Base!U343","v":1},{"$f":"IF(AND(C354<>0,ISNUMBER(C354)),Base!V343*C354,IF(Base!V343=0,\"N\",\"Y\"))","v":"Y"},{"$f":"Base!W343","v":"Resist Shield Cleave Mastery"},null,null,null,null,null,0,false,false,{"$f":"AND(CharacterStatus = 0,Base!V343>0)","v":true},false,{"$f":"Base!X343","v":true},0,{"$f":"Base!Y343","v":false},{"$f":"Base!Z343","v":false},{"$f":"Base!AA343","v":false},null,{"$f":"Base!AB343","v":false},{"$f":"Base!AC343","v":false},{"$f":"Base!AD343","v":false},{"$f":"Base!AE343","v":false},{"$f":"Base!AF343","v":false},{"$f":"Base!AG343","v":false},{"$f":"Base!AH343","v":false},{"$f":"Base!AI343","v":false},{"$f":"Base!AJ343","v":false},{"$f":"Base!AK343","v":false},{"$f":"Base!AL343","v":false},{"$f":"Base!AM343","v":false},{"$f":"Base!AN343","v":false},{"$f":"Base!AO343","v":false},{"$f":"Base!AP343","v":false},{"$f":"Base!AQ343","v":false},{"$f":"Base!AR343","v":false},{"$f":"Base!AS343","v":false}]
[{"$f":"Base!B344","v":"Resist Through Damage"},120,null,null,0,{"$f":"Base!U344","v":1},{"$f":"IF(AND(C355<>0,ISNUMBER(C355)),Base!V344*C355,IF(Base!V344=0,\"N\",\"Y\"))","v":"Y"},{"$f":"Base!W344","v":"Armour Proficiency"},null,null,null,null,null,0,false,false,{"$f":"AND(CharacterStatus = 0,Base!V344>0)","v":true},false,{"$f":"Base!X344","v":true},0,{"$f":"Base!Y344","v":false},{"$f":"Base!Z344","v":false},{"$f":"Base!AA344","v":false},null,{"$f":"Base!AB344","v":false},{"$f":"Base!AC344","v":false},{"$f":"Base!AD344","v":false},{"$f":"Base!AE344","v":false},{"$f":"Base!AF344","v":false},{"$f":"Base!AG344","v":false},{"$f":"Base!AH344","v":false},{"$f":"Base!AI344","v":false},{"$f":"Base!AJ344","v":false},{"$f":"Base!AK344","v":false},{"$f":"Base!AL344","v":false},{"$f":"Base!AM344","v":false},{"$f":"Base!AN344","v":false},{"$f":"Base!AO344","v":false},{"$f":"Base!AP344","v":false},{"$f":"Base!AQ344","v":false},{"$f":"Base!AR344","v":false},{"$f":"Base!AS344","v":false}]
[{"$f":"Base!B345","v":"Resist Through Damage Mastery"},160,null,null,0,{"$f":"Base!U345","v":1},{"$f":"IF(AND(C356<>0,ISNUMBER(C356)),Base!V345*C356,IF(Base!V345=0,\"N\",\"Y\"))","v":"N"},{"$f":"Base!W345","v":"Resist Shield Cleave Enhanced Mastery"},null,null,null,null,null,0,false,false,{"$f":"AND(CharacterStatus = 0,Base!V345>0)","v":false},false,{"$f":"Base!X345","v":true},0,{"$f":"Base!Y345","v":false},{"$f":"Base!Z345","v":false},{"$f":"Base!AA345","v":false},null,{"$f":"Base!AB345","v":false},{"$f":"Base!AC345","v":false},{"$f":"Base!AD345","v":false},{"$f":"Base!AE345","v":false},{"$f":"Base!AF345","v":false},{"$f":"Base!AG345","v":false},{"$f":"Base!AH345","v":false},{"$f":"Base!AI345","v":false},{"$f":"Base!AJ345","v":false},{"$f":"Base!AK345","v":false},{"$f":"Base!AL345","v":false},{"$f":"Base!AM345","v":false},{"$f":"Base!AN345","v":false},{"$f":"Base!AO345","v":false},{"$f":"Base!AP345","v":false},{"$f":"Base!AQ345","v":false},{"$f":"Base!AR345","v":false},{"$f":"Base!AS345","v":false}]
[{"$f":"Base!B346","v":"Resist Through Damage Enhanced Mastery"},200,null,null,0,{"$f":"Base!U346","v":1},{"$f":"IF(AND(C357<>0,ISNUMBER(C357)),Base!V346*C357,IF(Base!V346=0,\"N\",\"Y\"))","v":"Y"},{"$f":"Base!W346","v":"Resist Through Damage"},null,null,null,null,null,0,false,false,{"$f":"AND(CharacterStatus = 0,Base!V346>0)","v":true},false,{"$f":"Base!X346","v":true},0,{"$f":"Base!Y346","v":false},{"$f":"Base!Z346","v":false},{"$f":"Base!AA346","v":false},null,{"$f":"Base!AB346","v":false},{"$f":"Base!AC346","v":false},{"$f":"Base!AD346","v":false},{"$f":"Base!AE346","v":false},{"$f":"Base!AF346","v":false},{"$f":"Base!AG346","v":false},{"$f":"Base!AH346","v":false},{"$f":"Base!AI346","v":false},{"$f":"Base!AJ346","v":false},{"$f":"Base!AK346","v":false},{"$f":"Base!AL346","v":false},{"$f":"Base!AM346","v":false},{"$f":"Base!AN346","v":false},{"$f":"Base!AO346","v":false},{"$f":"Base!AP346","v":false},{"$f":"Base!AQ346","v":false},{"$f":"Base!AR346","v":false},{"$f":"Base!AS346","v":false}]
[{"$f":"Base!B347","v":"Shield Arm Bonebreak"},120,null,null,0,{"$f":"Base!U347","v":1},{"$f":"IF(AND(C358<>0,ISNUMBER(C358)),Base!V347*C358,IF(Base!V347=0,\"N\",\"Y\"))","v":"Y"},{"$f":"Base!W347","v":"Double Strength"},null,null,null,null,null,0,false,false,{"$f":"AND(CharacterStatus = 0,Base!V347>0)","v":true},false,{"$f":"Base!X347","v":true},0,{"$f":"Base!Y347","v":false},{"$f":"Base!Z347","v":false},{"$f":"Base!AA347","v":false},null,{"$f":"Base!AB347","v":false},{"$f":"Base!AC347","v":false},{"$f":"Base!AD347","v":false},{"$f":"Base!AE347","v":false},{"$f":"Base!AF347","v":false},{"$f":"Base!AG347","v":false},{"$f":"Base!AH347","v":false},{"$f":"Base!AI347","v":false},{"$f":"Base!AJ347","v":false},{"$f":"Base!AK347","v":false},{"$f":"Base!AL347","v":false},{"$f":"Base!AM347","v":false},{"$f":"Base!AN347","v":false},{"$f":"Base!AO347","v":false},{"$f":"Base!AP347","v":false},{"$f":"Base!AQ347","v":false},{"$f":"Base!AR347","v":false},{"$f":"Base!AS347","v":false}]
[{"$f":"Base!B348","v":"Shield Arm Bonebreak Mastery"},160,null,null,0,{"$f":"Base!U348","v":1},{"$f":"IF(AND(C359<>0,ISNUMBER(C359)),Base!V348*C359,IF(Base!V348=0,\"N\",\"Y\"))","v":"N"},{"$f":"Base!W348","v":"Shield Arm Bonebreak"},null,null,null,null,null,0,false,false,{"$f":"AND(CharacterStatus = 0,Base!V348>0)","v":false},false,{"$f":"Base!X348","v":true},0,{"$f":"Base!Y348","v":false},{"$f":"Base!Z348","v":false},{"$f":"Base!AA348","v":false},null,{"$f":"Base!AB348","v":false},{"$f":"Base!AC348","v":false},{"$f":"Base!AD348","v":false},{"$f":"Base!AE348","v":false},{"$f":"Base!AF348","v":false},{"$f":"Base!AG348","v":false},{"$f":"Base!AH348","v":false},{"$f":"Base!AI348","v":false},{"$f":"Base!AJ348","v":false},{"$f":"Base!AK348","v":false},{"$f":"Base!AL348","v":false},{"$f":"Base!AM348","v":false},{"$f":"Base!AN348","v":false},{"$f":"Base!AO348","v":false},{"$f":"Base!AP348","v":false},{"$f":"Base!AQ348","v":false},{"$f":"Base!AR348","v":false},{"$f":"Base!AS348","v":false}]
[{"$f":"Base!B349","v":"Shield Arm Bonebreak Enhanced Mastery"},200,null,null,0,{"$f":"Base!U349","v":1},{"$f":"IF(AND(C360<>0,ISNUMBER(C360)),Base!V349*C360,IF(Base!V349=0,\"N\",\"Y\"))","v":"Y"},{"$f":"Base!W349","v":"Shield Arm Bonebreak Mastery, Weapon Attunement"},null,null,null,null,null,0,false,false,{"$f":"AND(CharacterStatus = 0,Base!V349>0)","v":true},false,{"$f":"Base!X349","v":true},0,{"$f":"Base!Y349","v":false},{"$f":"Base!Z349","v":false},{"$f":"Base!AA349","v":false},null,{"$f":"Base!AB349","v":false},{"$f":"Base!AC349","v":false},{"$f":"Base!AD349","v":false},{"$f":"Base!AE349","v":false},{"$f":"Base!AF349","v":false},{"$f":"Base!AG349","v":false},{"$f":"Base!AH349","v":false},{"$f":"Base!AI349","v":false},{"$f":"Base!AJ349","v":false},{"$f":"Base!AK349","v":false},{"$f":"Base!AL349","v":false},{"$f":"Base!AM349","v":false},{"$f":"Base!AN349","v":false},{"$f":"Base!AO349","v":false},{"$f":"Base!AP349","v":false},{"$f":"Base!AQ349","v":false},{"$f":"Base!AR349","v":false},{"$f":"Base!AS349","v":false}]
[{"$f":"Base!B350","v":"Shield Cleave"},{"$f":"INDEX(points, ROW()-13,  CharacterTable)","v":120},null,null,0,{"$f":"Base!U350","v":1},{"$f":"IF(AND(C361<>0,ISNUMBER(C361)),Base!V350*C361,IF(Base!V350=0,\"N\",\"Y\"))","v":"Y"},{"$f":"Base!W350","v":"Double Handed Mastery"},null,null,null,null,null,0,false,false,{"$f":"AND(CharacterStatus = 0,Base!V350>0)","v":true},false,{"$f":"Base!X350","v":true},0,{"$f":"Base!Y350","v":false},{"$f":"Base!Z350","v":false},{"$f":"Base!AA350","v":false},null,{"$f":"Base!AB350","v":false},{"$f":"Base!AC350","v":false},{"$f":"Base!AD350","v":false},{"$f":"Base!AE350","v":false},{"$f":"Base!AF350","v":false},{"$f":"Base!AG350","v":false},{"$f":"Base!AH350","v":false},{"$f":"Base!AI350","v":false},{"$f":"Base!AJ350","v":false},{"$f":"Base!AK350","v":false},{"$f":"Base!AL350","v":false},{"$f":"Base!AM350","v":false},{"$f":"Base!AN350","v":false},{"$f":"Base!AO350","v":false},{"$f":"Base!AP350","v":false},{"$f":"Base!AQ350","v":false},{"$f":"Base!AR350","v":false},{"$f":"Base!AS350","v":false}]
[{"$f":"Base!B351","v":"Shield Cleave Mastery"},160,null,null,0,{"$f":"Base!U351","v":1},{"$f":"IF(AND(C362<>0,ISNUMBER(C362)),Base!V351*C362,IF(Base!V351=0,\"N\",\"Y\"))","v":"N"},{"$f":"Base!W351","v":"Shield Cleave, Strength"},null,null,null,null,null,0,false,false,{"$f":"AND(CharacterStatus = 0,Base!V351>0)","v":false},false,{"$f":"Base!X351","v":true},0,{"$f":"Base!Y351","v":false},{"$f":"Base!Z351","v":false},{"$f":"Base!AA351","v":false},null,{"$f":"Base!AB351","v":false},{"$f":"Base!AC351","v":false},{"$f":"Base!AD351","v":false},{"$f":"Base!AE351","v":false},{"$f":"Base!AF351","v":false},{"$f":"Base!AG351","v":false},{"$f":"Base!AH351","v":false},{"$f":"Base!AI351","v":false},{"$f":"Base!AJ351","v":false},{"$f":"Base!AK351","v":false},{"$f":"Base!AL351","v":false},{"$f":"Base!AM351","v":false},{"$f":"Base!AN351","v":false},{"$f":"Base!AO351","v":false},{"$f":"Base!AP351","v":false},{"$f":"Base!AQ351","v":false},{"$f":"Base!AR351","v":false},{"$f":"Base!AS351","v":false}]
[{"$f":"Base!B352","v":"Shield Cleave Enhanced Mastery"},200,null,null,0,{"$f":"Base!U352","v":1},{"$f":"IF(AND(C363<>0,ISNUMBER(C363)),Base!V352*C363,IF(Base!V352=0,\"N\",\"Y\"))","v":"Y"},{"$f":"Base!W352","v":"Shield Cleave Mastery, Weapon Attunement"},null,null,null,null,null,0,false,false,{"$f":"AND(CharacterStatus = 0,Base!V352>0)","v":true},false,{"$f":"Base!X352","v":true},0,{"$f":"Base!Y352","v":false},{"$f":"Base!Z352","v":false},{"$f":"Base!AA352","v":false},null,{"$f":"Base!AB352","v":false},{"$f":"Base!AC352","v":false},{"$f":"Base!AD352","v":false},{"$f":"Base!AE352","v":false},{"$f":"Base!AF352","v":false},{"$f":"Base!AG352","v":false},{"$f":"Base!AH352","v":false},{"$f":"Base!AI352","v":false},{"$f":"Base!AJ352","v":false},{"$f":"Base!AK352","v":false},{"$f":"Base!AL352","v":false},{"$f":"Base!AM352","v":false},{"$f":"Base!AN352","v":false},{"$f":"Base!AO352","v":false},{"$f":"Base!AP352","v":false},{"$f":"Base!AQ352","v":false},{"$f":"Base!AR352","v":false},{"$f":"Base!AS352","v":false}]
[{"$f":"Base!B353","v":"Shield Cleave Superior Mastery"},240,null,null,0,{"$f":"Base!U353","v":1},{"$f":"IF(AND(C364<>0,ISNUMBER(C364)),Base!V353*C364,IF(Base!V353=0,\"N\",\"Y\"))","v":"Y"},{"$f":"Base!W353","v":"Shield Cleave Enhanced Mastery"},null,null,null,null,null,0,false,false,{"$f":"AND(CharacterStatus = 0,Base!V353>0)","v":true},false,{"$f":"Base!X353","v":true},0,{"$f":"Base!Y353","v":false},{"$f":"Base!Z353","v":false},{"$f":"Base!AA353","v":false},null,{"$f":"Base!AB353","v":false},{"$f":"Base!AC353","v":false},{"$f":"Base!AD353","v":false},{"$f":"Base!AE353","v":false},{"$f":"Base!AF353","v":false},{"$f":"Base!AG353","v":false},{"$f":"Base!AH353","v":false},{"$f":"Base!AI353","v":false},{"$f":"Base!AJ353","v":false},{"$f":"Base!AK353","v":false},{"$f":"Base!AL353","v":false},{"$f":"Base!AM353","v":false},{"$f":"Base!AN353","v":false},{"$f":"Base!AO353","v":false},{"$f":"Base!AP353","v":false},{"$f":"Base!AQ353","v":false},{"$f":"Base!AR353","v":false},{"$f":"Base!AS353","v":false}]
[{"$f":"Base!B354","v":"Spiritual Warrior"},30,null,null,0,{"$f":"Base!U354","v":1},{"$f":"IF(AND(C365<>0,ISNUMBER(C365)),Base!V354*C365,IF(Base!V354=0,\"N\",\"Y\"))","v":"Y"},{"$f":"Base!W354","v":"90 Life, Armoured Dex Rank 1, Armour Proficiency, Weapon Mastery, Cast Rank 3 Invocations, 15 Power"},null,null,null,null,null,0,false,false,{"$f":"AND(CharacterStatus = 0,Base!V354>0)","v":true},false,{"$f":"Base!X354","v":false},0,{"$f":"Base!Y354","v":false},{"$f":"Base!Z354","v":false},{"$f":"Base!AA354","v":false},null,{"$f":"Base!AB354","v":false},{"$f":"Base!AC354","v":false},{"$f":"Base!AD354","v":false},{"$f":"Base!AE354","v":false},{"$f":"Base!AF354","v":false},{"$f":"Base!AG354","v":false},{"$f":"Base!AH354","v":false},{"$f":"Base!AI354","v":false},{"$f":"Base!AJ354","v":false},{"$f":"Base!AK354","v":false},{"$f":"Base!AL354","v":false},{"$f":"Base!AM354","v":false},{"$f":"Base!AN354","v":false},{"$f":"Base!AO354","v":false},{"$f":"Base!AP354","v":false},{"$f":"Base!AQ354","v":false},{"$f":"Base!AR354","v":false},{"$f":"Base!AS354","v":false}]
[{"$f":"Base!B355","v":"Spiritual Warrior Mastery"},60,null,null,0,{"$f":"Base!U355","v":1},{"$f":"IF(AND(C366<>0,ISNUMBER(C366)),Base!V355*C366,IF(Base!V355=0,\"N\",\"Y\"))","v":"Y"},{"$f":"Base!W355","v":"Spiritual Warrior, 120 Life, Armoured Dex Rank 2, Set Broken Bone, Armour Mastery, Enhanced Weapon Mastery, Cast Rank 5 Invocations, 25 Power, Read and Write Runes"},null,null,null,null,null,0,false,false,{"$f":"AND(CharacterStatus = 0,Base!V355>0)","v":true},false,{"$f":"Base!X355","v":true},0,{"$f":"Base!Y355","v":false},{"$f":"Base!Z355","v":false},{"$f":"Base!AA355","v":false},null,{"$f":"Base!AB355","v":false},{"$f":"Base!AC355","v":false},{"$f":"Base!AD355","v":false},{"$f":"Base!AE355","v":false},{"$f":"Base!AF355","v":false},{"$f":"Base!AG355","v":false},{"$f":"Base!AH355","v":false},{"$f":"Base!AI355","v":false},{"$f":"Base!AJ355","v":false},{"$f":"Base!AK355","v":false},{"$f":"Base!AL355","v":false},{"$f":"Base!AM355","v":false},{"$f":"Base!AN355","v":false},{"$f":"Base!AO355","v":false},{"$f":"Base!AP355","v":false},{"$f":"Base!AQ355","v":false},{"$f":"Base!AR355","v":false},{"$f":"Base!AS355","v":false}]
[{"$f":"Base!B356","v":"Spiritual Warrior Enhanced Mastery"},90,null,null,0,{"$f":"Base!U356","v":1},{"$f":"IF(AND(C367<>0,ISNUMBER(C367)),Base!V356*C367,IF(Base!V356=0,\"N\",\"Y\"))","v":"Y"},{"$f":"Base!W356","v":"Spiritual Warrior Mastery, 150 Life, Armoured Dex Rank 3, Field Medicine, Enhanced Armour Mastery, Weapon Attunement, Make Talisman"},null,null,null,null,null,0,false,false,{"$f":"AND(CharacterStatus = 0,Base!V356>0)","v":true},false,{"$f":"Base!X356","v":true},0,{"$f":"Base!Y356","v":false},{"$f":"Base!Z356","v":false},{"$f":"Base!AA356","v":false},null,{"$f":"Base!AB356","v":false},{"$f":"Base!AC356","v":false},{"$f":"Base!AD356","v":false},{"$f":"Base!AE356","v":false},{"$f":"Base!AF356","v":false},{"$f":"Base!AG356","v":false},{"$f":"Base!AH356","v":false},{"$f":"Base!AI356","v":false},{"$f":"Base!AJ356","v":false},{"$f":"Base!AK356","v":false},{"$f":"Base!AL356","v":false},{"$f":"Base!AM356","v":false},{"$f":"Base!AN356","v":false},{"$f":"Base!AO356","v":false},{"$f":"Base!AP356","v":false},{"$f":"Base!AQ356","v":false},{"$f":"Base!AR356","v":false},{"$f":"Base!AS356","v":false}]
[{"$f":"Base!B357","v":"Subdual"},40,null,null,0,{"$f":"Base!U357","v":1},{"$f":"IF(AND(C368<>0,ISNUMBER(C368)),Base!V357*C368,IF(Base!V357=0,\"N\",\"Y\"))","v":"N"},{"$f":"Base!W357","v":0},null,null,null,null,null,0,false,false,{"$f":"AND(CharacterStatus = 0,Base!V357>0)","v":false},false,{"$f":"Base!X357","v":false},0,{"$f":"Base!Y357","v":false},{"$f":"Base!Z357","v":false},{"$f":"Base!AA357","v":false},null,{"$f":"Base!AB357","v":false},{"$f":"Base!AC357","v":false},{"$f":"Base!AD357","v":false},{"$f":"Base!AE357","v":false},{"$f":"Base!AF357","v":false},{"$f":"Base!AG357","v":false},{"$f":"Base!AH357","v":false},{"$f":"Base!AI357","v":false},{"$f":"Base!AJ357","v":false},{"$f":"Base!AK357","v":false},{"$f":"Base!AL357","v":false},{"$f":"Base!AM357","v":false},{"$f":"Base!AN357","v":false},{"$f":"Base!AO357","v":false},{"$f":"Base!AP357","v":false},{"$f":"Base!AQ357","v":false},{"$f":"Base!AR357","v":false},{"$f":"Base!AS357","v":false}]
[{"$f":"Base!B358","v":"Subdual Mastery"},60,null,null,0,{"$f":"Base!U358","v":1},{"$f":"IF(AND(C369<>0,ISNUMBER(C369)),Base!V358*C369,IF(Base!V358=0,\"N\",\"Y\"))","v":"N"},{"$f":"Base!W358","v":"Subdual"},null,null,null,null,null,0,false,false,{"$f":"AND(CharacterStatus = 0,Base!V358>0)","v":false},false,{"$f":"Base!X358","v":true},{"$f":"IF(OR(U369,AND(V369,CharacterRank>=W369),AND(Y369,CharacterRank>=Z369),AND(AA369,CharacterRank>=AB369),AND(AC369,CharacterRank>=AD369),AND(AE369,CharacterRank>=AF369),AND(AG369,CharacterRank>=AH369),AND(AI369,CharacterRank>=AJ369),AND(AK369,CharacterRank>=AL369),AND(AM369,CharacterRank>=AN369),AND(AO369,CharacterRank>=AP369)),1,0)","v":0},{"$f":"Base!Y358","v":false},{"$f":"Base!Z358","v":false},{"$f":"Base!AA358","v":false},null,{"$f":"Base!AB358","v":false},{"$f":"Base!AC358","v":false},{"$f":"Base!AD358","v":false},{"$f":"Base!AE358","v":false},{"$f":"Base!AF358","v":false},{"$f":"Base!AG358","v":false},{"$f":"Base!AH358","v":false},{"$f":"Base!AI358","v":false},{"$f":"Base!AJ358","v":false},{"$f":"Base!AK358","v":false},{"$f":"Base!AL358","v":false},{"$f":"Base!AM358","v":false},{"$f":"Base!AN358","v":false},{"$f":"Base!AO358","v":false},{"$f":"Base!AP358","v":false},{"$f":"Base!AQ358","v":false},{"$f":"Base!AR358","v":false},{"$f":"Base!AS358","v":false}]
[{"$f":"Base!B359","v":"Subdual Enhanced Mastery"},80,null,null,0,{"$f":"Base!U359","v":1},{"$f":"IF(AND(C370<>0,ISNUMBER(C370)),Base!V359*C370,IF(Base!V359=0,\"N\",\"Y\"))","v":"N"},{"$f":"Base!W359","v":"Subdual Mastery"},null,null,null,null,null,0,false,false,{"$f":"AND(CharacterStatus = 0,Base!V359>0)","v":false},false,{"$f":"Base!X359","v":true},0,{"$f":"Base!Y359","v":false},{"$f":"Base!Z359","v":false},{"$f":"Base!AA359","v":false},null,{"$f":"Base!AB359","v":false},{"$f":"Base!AC359","v":false},{"$f":"Base!AD359","v":false},{"$f":"Base!AE359","v":false},{"$f":"Base!AF359","v":false},{"$f":"Base!AG359","v":false},{"$f":"Base!AH359","v":false},{"$f":"Base!AI359","v":false},{"$f":"Base!AJ359","v":false},{"$f":"Base!AK359","v":false},{"$f":"Base!AL359","v":false},{"$f":"Base!AM359","v":false},{"$f":"Base!AN359","v":false},{"$f":"Base!AO359","v":false},{"$f":"Base!AP359","v":false},{"$f":"Base!AQ359","v":false},{"$f":"Base!AR359","v":false},{"$f":"Base!AS359","v":false}]
[{"$f":"Base!B360","v":"Sunder"},160,null,null,0,{"$f":"Base!U360","v":1},{"$f":"IF(AND(C371<>0,ISNUMBER(C371)),Base!V360*C371,IF(Base!V360=0,\"N\",\"Y\"))","v":"Y"},{"$f":"Base!W360","v":"Double Strength, Weapon Attunement"},null,null,null,null,null,0,false,false,{"$f":"AND(CharacterStatus = 0,Base!V360>0)","v":true},false,{"$f":"Base!X360","v":true},0,{"$f":"Base!Y360","v":false},{"$f":"Base!Z360","v":false},{"$f":"Base!AA360","v":false},null,{"$f":"Base!AB360","v":false},{"$f":"Base!AC360","v":false},{"$f":"Base!AD360","v":false},{"$f":"Base!AE360","v":false},{"$f":"Base!AF360","v":false},{"$f":"Base!AG360","v":false},{"$f":"Base!AH360","v":false},{"$f":"Base!AI360","v":false},{"$f":"Base!AJ360","v":false},{"$f":"Base!AK360","v":false},{"$f":"Base!AL360","v":false},{"$f":"Base!AM360","v":false},{"$f":"Base!AN360","v":false},{"$f":"Base!AO360","v":false},{"$f":"Base!AP360","v":false},{"$f":"Base!AQ360","v":false},{"$f":"Base!AR360","v":false},{"$f":"Base!AS360","v":false}]
[{"$f":"Base!B361","v":"Sunder Mastery"},200,null,null,0,{"$f":"Base!U361","v":1},{"$f":"IF(AND(C372<>0,ISNUMBER(C372)),Base!V361*C372,IF(Base!V361=0,\"N\",\"Y\"))","v":"Y"},{"$f":"Base!W361","v":"Sunder"},null,null,null,null,null,0,false,false,{"$f":"AND(CharacterStatus = 0,Base!V361>0)","v":true},false,{"$f":"Base!X361","v":true},0,{"$f":"Base!Y361","v":false},{"$f":"Base!Z361","v":false},{"$f":"Base!AA361","v":false},null,{"$f":"Base!AB361","v":false},{"$f":"Base!AC361","v":false},{"$f":"Base!AD361","v":false},{"$f":"Base!AE361","v":false},{"$f":"Base!AF361","v":false},{"$f":"Base!AG361","v":false},{"$f":"Base!AH361","v":false},{"$f":"Base!AI361","v":false},{"$f":"Base!AJ361","v":false},{"$f":"Base!AK361","v":false},{"$f":"Base!AL361","v":false},{"$f":"Base!AM361","v":false},{"$f":"Base!AN361","v":false},{"$f":"Base!AO361","v":false},{"$f":"Base!AP361","v":false},{"$f":"Base!AQ361","v":false},{"$f":"Base!AR361","v":false},{"$f":"Base!AS361","v":false}]
[{"$f":"Base!B362","v":"Sunder Enhanced Mastery"},240,null,null,0,{"$f":"Base!U362","v":1},{"$f":"IF(AND(C373<>0,ISNUMBER(C373)),Base!V362*C373,IF(Base!V362=0,\"N\",\"Y\"))","v":"Y"},{"$f":"Base!W362","v":"Sunder Mastery"},null,null,null,null,null,0,false,false,{"$f":"AND(CharacterStatus = 0,Base!V362>0)","v":true},false,{"$f":"Base!X362","v":true},0,{"$f":"Base!Y362","v":false},{"$f":"Base!Z362","v":false},{"$f":"Base!AA362","v":false},null,{"$f":"Base!AB362","v":false},{"$f":"Base!AC362","v":false},{"$f":"Base!AD362","v":false},{"$f":"Base!AE362","v":false},{"$f":"Base!AF362","v":false},{"$f":"Base!AG362","v":false},{"$f":"Base!AH362","v":false},{"$f":"Base!AI362","v":false},{"$f":"Base!AJ362","v":false},{"$f":"Base!AK362","v":false},{"$f":"Base!AL362","v":false},{"$f":"Base!AM362","v":false},{"$f":"Base!AN362","v":false},{"$f":"Base!AO362","v":false},{"$f":"Base!AP362","v":false},{"$f":"Base!AQ362","v":false},{"$f":"Base!AR362","v":false},{"$f":"Base!AS362","v":false}]
[{"$f":"Base!B363","v":"Cast through Weapon"},0,null,null,0,{"$f":"Base!U363","v":1},{"$f":"IF(AND(C374<>0,ISNUMBER(C374)),Base!V363*C374,IF(Base!V363=0,\"N\",\"Y\"))","v":"Y"},{"$f":"Base!W363","v":"Able to cast spells or invocations 2 – 5"},null,null,null,null,null,0,false,false,{"$f":"AND(CharacterStatus = 0,Base!V363>0)","v":true},false,{"$f":"Base!X363","v":true},0,{"$f":"Base!Y363","v":false},{"$f":"Base!Z363","v":false},{"$f":"Base!AA363","v":false},null,{"$f":"Base!AB363","v":false},{"$f":"Base!AC363","v":false},{"$f":"Base!AD363","v":false},{"$f":"Base!AE363","v":false},{"$f":"Base!AF363","v":false},{"$f":"Base!AG363","v":false},{"$f":"Base!AH363","v":false},{"$f":"Base!AI363","v":false},{"$f":"Base!AJ363","v":false},{"$f":"Base!AK363","v":false},{"$f":"Base!AL363","v":false},{"$f":"Base!AM363","v":false},{"$f":"Base!AN363","v":false},{"$f":"Base!AO363","v":false},{"$f":"Base!AP363","v":false},{"$f":"Base!AQ363","v":false},{"$f":"Base!AR363","v":false},{"$f":"Base!AS363","v":false}]
[{"$f":"Base!B364","v":"Cast through Weapon Mastery"},0,null,null,0,{"$f":"Base!U364","v":1},{"$f":"IF(AND(C375<>0,ISNUMBER(C375)),Base!V364*C375,IF(Base!V364=0,\"N\",\"Y\"))","v":"Y"},{"$f":"Base!W364","v":"Cast Through Weapon"},null,null,null,null,null,0,false,false,{"$f":"AND(CharacterStatus = 0,Base!V364>0)","v":true},false,{"$f":"Base!X364","v":false},0,{"$f":"Base!Y364","v":false},{"$f":"Base!Z364","v":false},{"$f":"Base!AA364","v":false},null,{"$f":"Base!AB364","v":false},{"$f":"Base!AC364","v":false},{"$f":"Base!AD364","v":false},{"$f":"Base!AE364","v":false},{"$f":"Base!AF364","v":false},{"$f":"Base!AG364","v":false},{"$f":"Base!AH364","v":false},{"$f":"Base!AI364","v":false},{"$f":"Base!AJ364","v":false},{"$f":"Base!AK364","v":false},{"$f":"Base!AL364","v":false},{"$f":"Base!AM364","v":false},{"$f":"Base!AN364","v":false},{"$f":"Base!AO364","v":false},{"$f":"Base!AP364","v":false},{"$f":"Base!AQ364","v":false},{"$f":"Base!AR364","v":false},{"$f":"Base!AS364","v":false}]
[{"$f":"Base!B365","v":"Weapon Bond"},0,null,null,0,{"$f":"Base!U365","v":1},{"$f":"IF(AND(C376<>0,ISNUMBER(C376)),Base!V365*C376,IF(Base!V365=0,\"N\",\"Y\"))","v":"Y"},{"$f":"Base!W365","v":"Cast through Weapon Mastery"},null,null,null,null,null,0,false,false,{"$f":"AND(CharacterStatus = 0,Base!V365>0)","v":true},false,{"$f":"Base!X365","v":false},0,{"$f":"Base!Y365","v":false},{"$f":"Base!Z365","v":false},{"$f":"Base!AA365","v":false},null,{"$f":"Base!AB365","v":false},{"$f":"Base!AC365","v":false},{"$f":"Base!AD365","v":false},{"$f":"Base!AE365","v":false},{"$f":"Base!AF365","v":false},{"$f":"Base!AG365","v":false},{"$f":"Base!AH365","v":false},{"$f":"Base!AI365","v":false},{"$f":"Base!AJ365","v":false},{"$f":"Base!AK365","v":false},{"$f":"Base!AL365","v":false},{"$f":"Base!AM365","v":false},{"$f":"Base!AN365","v":false},{"$f":"Base!AO365","v":false},{"$f":"Base!AP365","v":false},{"$f":"Base!AQ365","v":false},{"$f":"Base!AR365","v":false},{"$f":"Base!AS365","v":false}]
[{"$f":"Base!B366","v":"Weapon Proficiency - Single handed (blunt and sharp)"},0,null,null,0,{"$f":"Base!U366","v":"N/A"},{"$f":"IF(AND(C377<>0,ISNUMBER(C377)),Base!V366*C377,IF(Base!V366=0,\"N\",\"Y\"))","v":"N"},{"$f":"Base!W366","v":"None"},null,null,null,null,null,1,false,false,{"$f":"AND(CharacterStatus = 0,Base!V366>0)","v":false},false,{"$f":"Base!X366","v":false},{"$f":"IF(OR(U377,AND(V377,CharacterRank>=W377),AND(Y377,CharacterRank>=Z377),AND(AA377,CharacterRank>=AB377),AND(AC377,CharacterRank>=AD377),AND(AE377,CharacterRank>=AF377),AND(AG377,CharacterRank>=AH377),AND(AI377,CharacterRank>=AJ377),AND(AK377,CharacterRank>=AL377),AND(AM377,CharacterRank>=AN377),AND(AO377,CharacterRank>=AP377)),1,0)","v":1},{"$f":"Base!Y366","v":true},{"$f":"Base!Z366","v":false},{"$f":"Base!AA366","v":false},null,{"$f":"Base!AB366","v":false},{"$f":"Base!AC366","v":false},{"$f":"Base!AD366","v":false},{"$f":"Base!AE366","v":false},{"$f":"Base!AF366","v":false},{"$f":"Base!AG366","v":false},{"$f":"Base!AH366","v":false},{"$f":"Base!AI366","v":false},{"$f":"Base!AJ366","v":false},{"$f":"Base!AK366","v":false},{"$f":"Base!AL366","v":false},{"$f":"Base!AM366","v":false},{"$f":"Base!AN366","v":false},{"$f":"Base!AO366","v":false},{"$f":"Base!AP366","v":false},{"$f":"Base!AQ366","v":false},{"$f":"Base!AR366","v":false},{"$f":"Base!AS366","v":false}]
[{"$f":"Base!B367","v":"Weapon Mastery - Single handed (blunt / sharp)"},27,null,null,0,{"$f":"Base!U367","v":2},{"$f":"IF(AND(C378<>0,ISNUMBER(C378)),Base!V367*C378,IF(Base!V367=0,\"N\",\"Y\"))","v":"N"},{"$f":"Base!W367","v":"None"},null,null,null,null,null,0,false,false,{"$f":"AND(CharacterStatus = 0,Base!V367>0)","v":false},false,{"$f":"Base!X367","v":false},0,{"$f":"Base!Y367","v":false},{"$f":"Base!Z367","v":false},{"$f":"Base!AA367","v":false},null,{"$f":"Base!AB367","v":false},{"$f":"Base!AC367","v":false},{"$f":"Base!AD367","v":false},{"$f":"Base!AE367","v":false},{"$f":"Base!AF367","v":false},{"$f":"Base!AG367","v":false},{"$f":"Base!AH367","v":false},{"$f":"Base!AI367","v":false},{"$f":"Base!AJ367","v":false},{"$f":"Base!AK367","v":false},{"$f":"Base!AL367","v":false},{"$f":"Base!AM367","v":false},{"$f":"Base!AN367","v":false},{"$f":"Base!AO367","v":false},{"$f":"Base!AP367","v":false},{"$f":"Base!AQ367","v":false},{"$f":"Base!AR367","v":false},{"$f":"Base!AS367","v":false}]
[{"$f":"Base!B368","v":"Weapon Enhanced Mastery - Single handed (blunt/sharp)"},81,null,null,0,{"$f":"Base!U368","v":2},{"$f":"IF(AND(C379<>0,ISNUMBER(C379)),Base!V368*C379,IF(Base!V368=0,\"N\",\"Y\"))","v":"N"},{"$f":"Base!W368","v":"Weapon Mastery - Single handed (blunt / sharp)"},null,null,null,null,null,0,false,false,{"$f":"AND(CharacterStatus = 0,Base!V368>0)","v":false},false,{"$f":"Base!X368","v":true},0,{"$f":"Base!Y368","v":false},{"$f":"Base!Z368","v":false},{"$f":"Base!AA368","v":false},null,{"$f":"Base!AB368","v":false},{"$f":"Base!AC368","v":false},{"$f":"Base!AD368","v":false},{"$f":"Base!AE368","v":false},{"$f":"Base!AF368","v":false},{"$f":"Base!AG368","v":false},{"$f":"Base!AH368","v":false},{"$f":"Base!AI368","v":false},{"$f":"Base!AJ368","v":false},{"$f":"Base!AK368","v":false},{"$f":"Base!AL368","v":false},{"$f":"Base!AM368","v":false},{"$f":"Base!AN368","v":false},{"$f":"Base!AO368","v":false},{"$f":"Base!AP368","v":false},{"$f":"Base!AQ368","v":false},{"$f":"Base!AR368","v":false},{"$f":"Base!AS368","v":false}]
[{"$f":"Base!B369","v":"Dagger Proficiency"},2,null,null,0,{"$f":"Base!U369","v":1},{"$f":"IF(AND(C380<>0,ISNUMBER(C380)),Base!V369*C380,IF(Base!V369=0,\"N\",\"Y\"))","v":"N"},{"$f":"Base!W369","v":"None"},null,null,null,null,null,0,false,false,{"$f":"AND(CharacterStatus = 0,Base!V369>0)","v":false},false,{"$f":"Base!X369","v":false},0,{"$f":"Base!Y369","v":false},{"$f":"Base!Z369","v":false},{"$f":"Base!AA369","v":false},null,{"$f":"Base!AB369","v":false},{"$f":"Base!AC369","v":false},{"$f":"Base!AD369","v":false},{"$f":"Base!AE369","v":false},{"$f":"Base!AF369","v":false},{"$f":"Base!AG369","v":false},{"$f":"Base!AH369","v":false},{"$f":"Base!AI369","v":false},{"$f":"Base!AJ369","v":false},{"$f":"Base!AK369","v":false},{"$f":"Base!AL369","v":false},{"$f":"Base!AM369","v":false},{"$f":"Base!AN369","v":false},{"$f":"Base!AO369","v":false},{"$f":"Base!AP369","v":false},{"$f":"Base!AQ369","v":false},{"$f":"Base!AR369","v":false},{"$f":"Base!AS369","v":false}]
[{"$f":"Base!B370","v":"Dagger Mastery"},12,null,null,0,{"$f":"Base!U370","v":1},{"$f":"IF(AND(C381<>0,ISNUMBER(C381)),Base!V370*C381,IF(Base!V370=0,\"N\",\"Y\"))","v":"N"},{"$f":"Base!W370","v":"Dagger Proficiency"},null,null,null,null,null,0,false,false,{"$f":"AND(CharacterStatus = 0,Base!V370>0)","v":false},false,{"$f":"Base!X370","v":true},0,{"$f":"Base!Y370","v":false},{"$f":"Base!Z370","v":false},{"$f":"Base!AA370","v":false},null,{"$f":"Base!AB370","v":false},{"$f":"Base!AC370","v":false},{"$f":"Base!AD370","v":false},{"$f":"Base!AE370","v":false},{"$f":"Base!AF370","v":false},{"$f":"Base!AG370","v":false},{"$f":"Base!AH370","v":false},{"$f":"Base!AI370","v":false},{"$f":"Base!AJ370","v":false},{"$f":"Base!AK370","v":false},{"$f":"Base!AL370","v":false},{"$f":"Base!AM370","v":false},{"$f":"Base!AN370","v":false},{"$f":"Base!AO370","v":false},{"$f":"Base!AP370","v":false},{"$f":"Base!AQ370","v":false},{"$f":"Base!AR370","v":false},{"$f":"Base!AS370","v":false}]
[{"$f":"Base!B371","v":"Dagger Enhanced Mastery"},36,null,null,0,{"$f":"Base!U371","v":1},{"$f":"IF(AND(C382<>0,ISNUMBER(C382)),Base!V371*C382,IF(Base!V371=0,\"N\",\"Y\"))","v":"N"},{"$f":"Base!W371","v":"Dagger Mastery"},null,null,null,null,null,0,false,false,{"$f":"AND(CharacterStatus = 0,Base!V371>0)","v":false},false,{"$f":"Base!X371","v":true},0,{"$f":"Base!Y371","v":false},{"$f":"Base!Z371","v":false},{"$f":"Base!AA371","v":false},null,{"$f":"Base!AB371","v":false},{"$f":"Base!AC371","v":false},{"$f":"Base!AD371","v":false},{"$f":"Base!AE371","v":false},{"$f":"Base!AF371","v":false},{"$f":"Base!AG371","v":false},{"$f":"Base!AH371","v":false},{"$f":"Base!AI371","v":false},{"$f":"Base!AJ371","v":false},{"$f":"Base!AK371","v":false},{"$f":"Base!AL371","v":false},{"$f":"Base!AM371","v":false},{"$f":"Base!AN371","v":false},{"$f":"Base!AO371","v":false},{"$f":"Base!AP371","v":false},{"$f":"Base!AQ371","v":false},{"$f":"Base!AR371","v":false},{"$f":"Base!AS371","v":false}]
[{"$f":"Base!B372","v":"Weapon Proficiency - Double handed (blunt and sharp)"},27,null,null,0,{"$f":"Base!U372","v":2},{"$f":"IF(AND(C383<>0,ISNUMBER(C383)),Base!V372*C383,IF(Base!V372=0,\"N\",\"Y\"))","v":"N"},{"$f":"Base!W372","v":"None"},null,null,null,null,null,1,false,false,{"$f":"AND(CharacterStatus = 0,Base!V372>0)","v":false},false,{"$f":"Base!X372","v":false},1,{"$f":"Base!Y372","v":true},{"$f":"Base!Z372","v":false},{"$f":"Base!AA372","v":false},null,{"$f":"Base!AB372","v":false},{"$f":"Base!AC372","v":false},{"$f":"Base!AD372","v":false},{"$f":"Base!AE372","v":false},{"$f":"Base!AF372","v":false},{"$f":"Base!AG372","v":false},{"$f":"Base!AH372","v":false},{"$f":"Base!AI372","v":false},{"$f":"Base!AJ372","v":false},{"$f":"Base!AK372","v":false},{"$f":"Base!AL372","v":false},{"$f":"Base!AM372","v":false},{"$f":"Base!AN372","v":false},{"$f":"Base!AO372","v":false},{"$f":"Base!AP372","v":false},{"$f":"Base!AQ372","v":false},{"$f":"Base!AR372","v":false},{"$f":"Base!AS372","v":false}]
[{"$f":"Base!B373","v":"Weapon Mastery - Double handed (blunt / sharp)"},54,null,null,0,{"$f":"Base!U373","v":2},{"$f":"IF(AND(C384<>0,ISNUMBER(C384)),Base!V373*C384,IF(Base!V373=0,\"N\",\"Y\"))","v":"N"},{"$f":"Base!W373","v":"Weapon Proficiency - Double handed (blunt and sharp)"},null,null,null,null,null,0,false,false,{"$f":"AND(CharacterStatus = 0,Base!V373>0)","v":false},false,{"$f":"Base!X373","v":true},0,{"$f":"Base!Y373","v":false},{"$f":"Base!Z373","v":false},{"$f":"Base!AA373","v":false},null,{"$f":"Base!AB373","v":false},{"$f":"Base!AC373","v":false},{"$f":"Base!AD373","v":false},{"$f":"Base!AE373","v":false},{"$f":"Base!AF373","v":false},{"$f":"Base!AG373","v":false},{"$f":"Base!AH373","v":false},{"$f":"Base!AI373","v":false},{"$f":"Base!AJ373","v":false},{"$f":"Base!AK373","v":false},{"$f":"Base!AL373","v":false},{"$f":"Base!AM373","v":false},{"$f":"Base!AN373","v":false},{"$f":"Base!AO373","v":false},{"$f":"Base!AP373","v":false},{"$f":"Base!AQ373","v":false},{"$f":"Base!AR373","v":false},{"$f":"Base!AS373","v":false}]
[{"$f":"Base!B374","v":"Weapon Enhanced Mastery - Double handed (blunt/sharp)"},108,null,null,0,{"$f":"Base!U374","v":2},{"$f":"IF(AND(C385<>0,ISNUMBER(C385)),Base!V374*C385,IF(Base!V374=0,\"N\",\"Y\"))","v":"N"},{"$f":"Base!W374","v":"Weapon Mastery - Double handed (blunt / sharp)"},null,null,null,null,null,0,false,false,{"$f":"AND(CharacterStatus = 0,Base!V374>0)","v":false},false,{"$f":"Base!X374","v":true},0,{"$f":"Base!Y374","v":false},{"$f":"Base!Z374","v":false},{"$f":"Base!AA374","v":false},null,{"$f":"Base!AB374","v":false},{"$f":"Base!AC374","v":false},{"$f":"Base!AD374","v":false},{"$f":"Base!AE374","v":false},{"$f":"Base!AF374","v":false},{"$f":"Base!AG374","v":false},{"$f":"Base!AH374","v":false},{"$f":"Base!AI374","v":false},{"$f":"Base!AJ374","v":false},{"$f":"Base!AK374","v":false},{"$f":"Base!AL374","v":false},{"$f":"Base!AM374","v":false},{"$f":"Base!AN374","v":false},{"$f":"Base!AO374","v":false},{"$f":"Base!AP374","v":false},{"$f":"Base!AQ374","v":false},{"$f":"Base!AR374","v":false},{"$f":"Base!AS374","v":false}]
[{"$f":"Base!B375","v":"Weapon Attunement (single sharp/blunt; double sharp/blunt; dagger)"},50,null,null,0,{"$f":"Base!U375","v":6},{"$f":"IF(AND(C386<>0,ISNUMBER(C386)),Base!V375*C386,IF(Base!V375=0,\"N\",\"Y\"))","v":"Y"},{"$f":"Base!W375","v":"Enhanced Mastery of a Dagger,  or Weapon Enhanced Mastery (either)"},null,null,null,null,null,0,false,false,{"$f":"AND(CharacterStatus = 0,Base!V375>0)","v":true},false,{"$f":"Base!X375","v":true},0,{"$f":"Base!Y375","v":false},{"$f":"Base!Z375","v":false},{"$f":"Base!AA375","v":false},null,{"$f":"Base!AB375","v":false},{"$f":"Base!AC375","v":false},{"$f":"Base!AD375","v":false},{"$f":"Base!AE375","v":false},{"$f":"Base!AF375","v":false},{"$f":"Base!AG375","v":false},{"$f":"Base!AH375","v":false},{"$f":"Base!AI375","v":false},{"$f":"Base!AJ375","v":false},{"$f":"Base!AK375","v":false},{"$f":"Base!AL375","v":false},{"$f":"Base!AM375","v":false},{"$f":"Base!AN375","v":false},{"$f":"Base!AO375","v":false},{"$f":"Base!AP375","v":false},{"$f":"Base!AQ375","v":false},{"$f":"Base!AR375","v":false},{"$f":"Base!AS375","v":false}]
[{"$f":"Base!B376","v":"Class Upgrade - Class Secondary to Primary"},0,null,null,0,{"$f":"Base!U376","v":1},{"$f":"IF(AND(C387<>0,ISNUMBER(C387)),Base!V376*C387,IF(Base!V376=0,\"N\",\"Y\"))","v":"N"},{"$f":"Base!W376","v":"HQ Ability"},null,null,null,null,null,0,false,false,{"$f":"AND(CharacterStatus = 0,Base!V376>0)","v":false},false,{"$f":"Base!X376","v":false},0,{"$f":"Base!Y376","v":false},{"$f":"Base!Z376","v":false},{"$f":"Base!AA376","v":false},null,{"$f":"Base!AB376","v":false},{"$f":"Base!AC376","v":false},{"$f":"Base!AD376","v":false},{"$f":"Base!AE376","v":false},{"$f":"Base!AF376","v":false},{"$f":"Base!AG376","v":false},{"$f":"Base!AH376","v":false},{"$f":"Base!AI376","v":false},{"$f":"Base!AJ376","v":false},{"$f":"Base!AK376","v":false},{"$f":"Base!AL376","v":false},{"$f":"Base!AM376","v":false},{"$f":"Base!AN376","v":false},{"$f":"Base!AO376","v":false},{"$f":"Base!AP376","v":false},{"$f":"Base!AQ376","v":false},{"$f":"Base!AR376","v":false},{"$f":"Base!AS376","v":false}]
[{"$f":"Base!B377","v":"Class Upgrade - Class Secondary 2 to Primary "},0,null,null,0,{"$f":"Base!U377","v":1},{"$f":"IF(AND(C388<>0,ISNUMBER(C388)),Base!V377*C388,IF(Base!V377=0,\"N\",\"Y\"))","v":"N"},{"$f":"Base!W377","v":"HQ Ability"},null,null,null,null,null,0,false,false,{"$f":"AND(CharacterStatus = 0,Base!V377>0)","v":false},false,{"$f":"Base!X377","v":false},0,{"$f":"Base!Y377","v":false},{"$f":"Base!Z377","v":false},{"$f":"Base!AA377","v":false},null,{"$f":"Base!AB377","v":false},{"$f":"Base!AC377","v":false},{"$f":"Base!AD377","v":false},{"$f":"Base!AE377","v":false},{"$f":"Base!AF377","v":false},{"$f":"Base!AG377","v":false},{"$f":"Base!AH377","v":false},{"$f":"Base!AI377","v":false},{"$f":"Base!AJ377","v":false},{"$f":"Base!AK377","v":false},{"$f":"Base!AL377","v":false},{"$f":"Base!AM377","v":false},{"$f":"Base!AN377","v":false},{"$f":"Base!AO377","v":false},{"$f":"Base!AP377","v":false},{"$f":"Base!AQ377","v":false},{"$f":"Base!AR377","v":false},{"$f":"Base!AS377","v":false}]
[{"$f":"Base!B378","v":"Class Upgrade - Class Secondary 3 to Primary"},0,null,null,0,{"$f":"Base!U378","v":1},{"$f":"IF(AND(C389<>0,ISNUMBER(C389)),Base!V378*C389,IF(Base!V378=0,\"N\",\"Y\"))","v":"N"},{"$f":"Base!W378","v":"HQ Ability"},null,null,null,null,null,0,false,false,{"$f":"AND(CharacterStatus = 0,Base!V378>0)","v":false},false,{"$f":"Base!X378","v":false},0,{"$f":"Base!Y378","v":false},{"$f":"Base!Z378","v":false},{"$f":"Base!AA378","v":false},null,{"$f":"Base!AB378","v":false},{"$f":"Base!AC378","v":false},{"$f":"Base!AD378","v":false},{"$f":"Base!AE378","v":false},{"$f":"Base!AF378","v":false},{"$f":"Base!AG378","v":false},{"$f":"Base!AH378","v":false},{"$f":"Base!AI378","v":false},{"$f":"Base!AJ378","v":false},{"$f":"Base!AK378","v":false},{"$f":"Base!AL378","v":false},{"$f":"Base!AM378","v":false},{"$f":"Base!AN378","v":false},{"$f":"Base!AO378","v":false},{"$f":"Base!AP378","v":false},{"$f":"Base!AQ378","v":false},{"$f":"Base!AR378","v":false},{"$f":"Base!AS378","v":false}]
[{"$f":"Base!B379","v":"Class Upgrade - Class Secondary 4 to Primary"},0,null,null,0,{"$f":"Base!U379","v":1},{"$f":"IF(AND(C390<>0,ISNUMBER(C390)),Base!V379*C390,IF(Base!V379=0,\"N\",\"Y\"))","v":"N"},{"$f":"Base!W379","v":"HQ Ability"},null,null,null,null,null,0,false,false,{"$f":"AND(CharacterStatus = 0,Base!V379>0)","v":false},false,{"$f":"Base!X379","v":false},0,{"$f":"Base!Y379","v":false},{"$f":"Base!Z379","v":false},{"$f":"Base!AA379","v":false},null,{"$f":"Base!AB379","v":false},{"$f":"Base!AC379","v":false},{"$f":"Base!AD379","v":false},{"$f":"Base!AE379","v":false},{"$f":"Base!AF379","v":false},{"$f":"Base!AG379","v":false},{"$f":"Base!AH379","v":false},{"$f":"Base!AI379","v":false},{"$f":"Base!AJ379","v":false},{"$f":"Base!AK379","v":false},{"$f":"Base!AL379","v":false},{"$f":"Base!AM379","v":false},{"$f":"Base!AN379","v":false},{"$f":"Base!AO379","v":false},{"$f":"Base!AP379","v":false},{"$f":"Base!AQ379","v":false},{"$f":"Base!AR379","v":false},{"$f":"Base!AS379","v":false}]
[{"$f":"Base!B380","v":"Class Upgrade - Class Secondary 5 to Primary"},0,null,null,0,{"$f":"Base!U380","v":1},{"$f":"IF(AND(C391<>0,ISNUMBER(C391)),Base!V380*C391,IF(Base!V380=0,\"N\",\"Y\"))","v":"N"},{"$f":"Base!W380","v":"HQ Ability"},null,null,null,null,null,0,false,false,{"$f":"AND(CharacterStatus = 0,Base!V380>0)","v":false},false,{"$f":"Base!X380","v":false},0,{"$f":"Base!Y380","v":false},{"$f":"Base!Z380","v":false},{"$f":"Base!AA380","v":false},null,{"$f":"Base!AB380","v":false},{"$f":"Base!AC380","v":false},{"$f":"Base!AD380","v":false},{"$f":"Base!AE380","v":false},{"$f":"Base!AF380","v":false},{"$f":"Base!AG380","v":false},{"$f":"Base!AH380","v":false},{"$f":"Base!AI380","v":false},{"$f":"Base!AJ380","v":false},{"$f":"Base!AK380","v":false},{"$f":"Base!AL380","v":false},{"$f":"Base!AM380","v":false},{"$f":"Base!AN380","v":false},{"$f":"Base!AO380","v":false},{"$f":"Base!AP380","v":false},{"$f":"Base!AQ380","v":false},{"$f":"Base!AR380","v":false},{"$f":"Base!AS380","v":false}]
[{"$f":"Base!B381","v":"Class Upgrade - Class Secondary 6 to Primary"},0,null,null,{"$f":"C392*B392","v":0},{"$f":"Base!U381","v":1},{"$f":"IF(AND(C392<>0,ISNUMBER(C392)),Base!V381*C392,IF(Base!V381=0,\"N\",\"Y\"))","v":"N"},{"$f":"Base!W381","v":"HQ Ability"},null,null,null,null,null,0,false,false,{"$f":"AND(CharacterStatus = 0,Base!V381>0)","v":false},false,{"$f":"Base!X381","v":false},0,{"$f":"Base!Y381","v":false},{"$f":"Base!Z381","v":false},{"$f":"Base!AA381","v":false},null,{"$f":"Base!AB381","v":false},{"$f":"Base!AC381","v":false},{"$f":"Base!AD381","v":false},{"$f":"Base!AE381","v":false},{"$f":"Base!AF381","v":false},{"$f":"Base!AG381","v":false},{"$f":"Base!AH381","v":false},{"$f":"Base!AI381","v":false},{"$f":"Base!AJ381","v":false},{"$f":"Base!AK381","v":false},{"$f":"Base!AL381","v":false},{"$f":"Base!AM381","v":false},{"$f":"Base!AN381","v":false},{"$f":"Base!AO381","v":false},{"$f":"Base!AP381","v":false},{"$f":"Base!AQ381","v":false},{"$f":"Base!AR381","v":false},{"$f":"Base!AS381","v":false}]
[{"$f":"Base!B382","v":"Class Upgrade - Class Secondary 7 to Primary"},0,null,null,0,{"$f":"Base!U382","v":1},{"$f":"IF(AND(C393<>0,ISNUMBER(C393)),Base!V382*C393,IF(Base!V382=0,\"N\",\"Y\"))","v":"N"},{"$f":"Base!W382","v":"HQ Ability"},null,null,null,null,null,0,false,false,{"$f":"AND(CharacterStatus = 0,Base!V382>0)","v":false},false,{"$f":"Base!X382","v":false},0,{"$f":"Base!Y382","v":false},{"$f":"Base!Z382","v":false},{"$f":"Base!AA382","v":false},null,{"$f":"Base!AB382","v":false},{"$f":"Base!AC382","v":false},{"$f":"Base!AD382","v":false},{"$f":"Base!AE382","v":false},{"$f":"Base!AF382","v":false},{"$f":"Base!AG382","v":false},{"$f":"Base!AH382","v":false},{"$f":"Base!AI382","v":false},{"$f":"Base!AJ382","v":false},{"$f":"Base!AK382","v":false},{"$f":"Base!AL382","v":false},{"$f":"Base!AM382","v":false},{"$f":"Base!AN382","v":false},{"$f":"Base!AO382","v":false},{"$f":"Base!AP382","v":false},{"$f":"Base!AQ382","v":false},{"$f":"Base!AR382","v":false},{"$f":"Base!AS382","v":false}]
[{"$f":"Base!B383","v":"Guild Upgrade - Additional Class Secondary to Primary"},0,null,null,0,{"$f":"Base!U383","v":1},{"$f":"IF(AND(C394<>0,ISNUMBER(C394)),Base!V383*C394,IF(Base!V383=0,\"N\",\"Y\"))","v":"N"},{"$f":"Base!W383","v":"HQ Ability"},null,null,null,null,null,0,false,false,{"$f":"AND(CharacterStatus = 0,Base!V383>0)","v":false},false,{"$f":"Base!X383","v":false},0,{"$f":"Base!Y383","v":false},{"$f":"Base!Z383","v":false},{"$f":"Base!AA383","v":false},null,{"$f":"Base!AB383","v":false},{"$f":"Base!AC383","v":false},{"$f":"Base!AD383","v":false},{"$f":"Base!AE383","v":false},{"$f":"Base!AF383","v":false},{"$f":"Base!AG383","v":false},{"$f":"Base!AH383","v":false},{"$f":"Base!AI383","v":false},{"$f":"Base!AJ383","v":false},{"$f":"Base!AK383","v":false},{"$f":"Base!AL383","v":false},{"$f":"Base!AM383","v":false},{"$f":"Base!AN383","v":false},{"$f":"Base!AO383","v":false},{"$f":"Base!AP383","v":false},{"$f":"Base!AQ383","v":false},{"$f":"Base!AR383","v":false},{"$f":"Base!AS383","v":false}]
[{"$f":"Base!B384","v":"Guild Upgrade - Additional Class 2 Secondary to Primary"},0,null,null,0,{"$f":"Base!U384","v":1},{"$f":"IF(AND(C395<>0,ISNUMBER(C395)),Base!V384*C395,IF(Base!V384=0,\"N\",\"Y\"))","v":"N"},{"$f":"Base!W384","v":"HQ Ability"},null,null,null,null,null,0,false,false,{"$f":"AND(CharacterStatus = 0,Base!V384>0)","v":false},false,{"$f":"Base!X384","v":false},0,{"$f":"Base!Y384","v":false},{"$f":"Base!Z384","v":false},{"$f":"Base!AA384","v":false},null,{"$f":"Base!AB384","v":false},{"$f":"Base!AC384","v":false},{"$f":"Base!AD384","v":false},{"$f":"Base!AE384","v":false},{"$f":"Base!AF384","v":false},{"$f":"Base!AG384","v":false},{"$f":"Base!AH384","v":false},{"$f":"Base!AI384","v":false},{"$f":"Base!AJ384","v":false},{"$f":"Base!AK384","v":false},{"$f":"Base!AL384","v":false},{"$f":"Base!AM384","v":false},{"$f":"Base!AN384","v":false},{"$f":"Base!AO384","v":false},{"$f":"Base!AP384","v":false},{"$f":"Base!AQ384","v":false},{"$f":"Base!AR384","v":false},{"$f":"Base!AS384","v":false}]
[{"$f":"Base!B385","v":"Has Purple Magic "},0,null,null,0,{"$f":"Base!U385","v":1},{"$f":"IF(AND(C396<>0,ISNUMBER(C396)),Base!V385*C396,IF(Base!V385=0,\"N\",\"Y\"))","v":"N"},{"$f":"Base!W385","v":"Primary in all 8 Magic Guilds and has Wizardry"},null,null,null,null,null,0,false,false,{"$f":"AND(CharacterStatus = 0,Base!V385>0)","v":false},false,{"$f":"Base!X385","v":true},{"$f":"IF(OR(U396,AND(V396,CharacterRank>=W396),AND(Y396,CharacterRank>=Z396),AND(AA396,CharacterRank>=AB396),AND(AC396,CharacterRank>=AD396),AND(AE396,CharacterRank>=AF396),AND(AG396,CharacterRank>=AH396),AND(AI396,CharacterRank>=AJ396),AND(AK396,CharacterRank>=AL396),AND(AM396,CharacterRank>=AN396),AND(AO396,CharacterRank>=AP396)),1,0)","v":0},{"$f":"Base!Y385","v":false},{"$f":"Base!Z385","v":false},{"$f":"Base!AA385","v":false},null,{"$f":"Base!AB385","v":false},{"$f":"Base!AC385","v":false},{"$f":"Base!AD385","v":false},{"$f":"Base!AE385","v":false},{"$f":"Base!AF385","v":false},{"$f":"Base!AG385","v":false},{"$f":"Base!AH385","v":false},{"$f":"Base!AI385","v":false},{"$f":"Base!AJ385","v":false},{"$f":"Base!AK385","v":false},{"$f":"Base!AL385","v":false},{"$f":"Base!AM385","v":false},{"$f":"Base!AN385","v":false},{"$f":"Base!AO385","v":false},{"$f":"Base!AP385","v":false},{"$f":"Base!AQ385","v":false},{"$f":"Base!AR385","v":false},{"$f":"Base!AS385","v":false}]
[{"$f":"Base!B386","v":"Is Dedicated"},0,null,null,0,{"$f":"Base!U386","v":1},{"$f":"IF(AND(C397<>0,ISNUMBER(C397)),Base!V386*C397,IF(Base!V386=0,\"N\",\"Y\"))","v":"N"},{"$f":"Base!W386","v":"Mage Class, Has access to only one Colour of Magic in Wizardry and Sorcery"},null,null,null,null,null,0,false,false,{"$f":"AND(CharacterStatus = 0,Base!V386>0)","v":false},false,{"$f":"Base!X386","v":true},{"$f":"IF(OR(U397,AND(V397,CharacterRank>=W397),AND(Y397,CharacterRank>=Z397),AND(AA397,CharacterRank>=AB397),AND(AC397,CharacterRank>=AD397),AND(AE397,CharacterRank>=AF397),AND(AG397,CharacterRank>=AH397),AND(AI397,CharacterRank>=AJ397),AND(AK397,CharacterRank>=AL397),AND(AM397,CharacterRank>=AN397),AND(AO397,CharacterRank>=AP397)),1,0)","v":0},{"$f":"Base!Y386","v":false},{"$f":"Base!Z386","v":false},{"$f":"Base!AA386","v":false},null,{"$f":"Base!AB386","v":false},{"$f":"Base!AC386","v":false},{"$f":"Base!AD386","v":false},{"$f":"Base!AE386","v":false},{"$f":"Base!AF386","v":false},{"$f":"Base!AG386","v":false},{"$f":"Base!AH386","v":false},{"$f":"Base!AI386","v":false},{"$f":"Base!AJ386","v":false},{"$f":"Base!AK386","v":false},{"$f":"Base!AL386","v":false},{"$f":"Base!AM386","v":false},{"$f":"Base!AN386","v":false},{"$f":"Base!AO386","v":false},{"$f":"Base!AP386","v":false},{"$f":"Base!AQ386","v":false},{"$f":"Base!AR386","v":false},{"$f":"Base!AS386","v":false}]
[]
[]
[]
[]
[]
[]
[]
[]
[]
[]
[{"$f":"Base!B397","v":0}]

{"sheet":"Magic","index":3,"n_rows":426,"n_cols":19,"rows_kept":426,"cut":false,"hidden":false,"merged":[]}
[null,"Spells to Show",null,"Spell Slots Out  ","Level 1"]
[null,4,null,null,"Level 2"]
[null,null,null,null,"Level 3"]
[null,"Spells 1-8 Available",{"$f":"3 * SUM('The Character'!C142:D142)","v":0},null,"Level 4"]
[null,"Spells 1-8 Known",{"$f":"SUMIF(StatusGroupingCount, \"1-8\", SpellBought)","v":0},null,"Level 5",null,null,null,null,null,null,null,null,null,null,null,null,null,"10x Repulsion, Dispel 5, 6x Freeze"]
[null,"Spells 9 Available",{"$f":"2 * SUM('The Character'!C143:D143)","v":0},null,"Level 6",null,null,"1=none",null,"1=none",null,null,null,null,null,null,null,null,"Wizards Dispel"]
[null,"Spells 9 Known",{"$f":"SUMIF(StatusGroupingCount, \"9\", SpellBought)","v":0},null,"Level 7",null,null,"2= mage ",null,"2=sorc secondary",null,null,null,null,null,null,null,null,"Thunderclap, Frostbite"]
[null,"Spells 10 Available",{"$f":"SUM('The Character'!C144:D144)","v":0},null,"Level 8",null,null,"3=wiz secondary",null,"3= sorc primary",null,null,null,null,null,null,null,null,"Dispel x2"]
[null,"Spells 10 Known",{"$f":"SUMIF(StatusGroupingCount, \"10\", SpellBought)","v":0},null,"Level 9",null,null,"4=wiz primary",null,null,null,null,null,null,null,null,null,null,"Master of Winds, Vessel of Light, Sorcerors Dispel, Frostweaver"]
[null,null,null,null,"Level 10",null,null,null,null,null,null,"Avail","known","Pre Req","Known / avail",null,null,null,"Shield of Air, Walk on Air, Hoarfrost, Frozen Storm, Sorcerors Dispel"]
["Colour","Spell Name","Requires","Bought",null,null,"Specialist Archer Avaiable","Wizard Level Required","Your Wizard Leve","Sorcerer Level Required","Your Sorcerer Level","Wiz/Sorc Avail","Known","Prerequisit Spells are OK","Known and/or Avialable","Status Grouping",null,"Primary Status Count"]
["Black","Weakness",null,null,null,null,{"$f":"IF(OR(ArcherSpecialistMageGuild1=9,ArcherSpecialistMageGuild2=9),TRUE,FALSE)","v":false},4,{"$f":"SUM(IF(WizardBlack,3,0),IF(PrimaryBlack,1,0),IF(OR(ArcherSpecialistMageGuild1=9,ArcherSpecialistMageGuild2=9),1,0))","v":0},99,{"$f":"SUM(IF(SorcerorBlack,2,0),IF(PrimaryBlack,1,0),IF(ArcherSpecialistSorcerorSchool=9,1,0))","v":0},{"$f":"AND(WizardBlack=TRUE, IF(I12 >= H12, TRUE, IF(K12 >= J12, TRUE, FALSE)))","v":false},{"$f":"IF(D12>0, TRUE, FALSE)","v":false},{"$f":"IF(ISBLANK(C12), TRUE, IF(OFFSET($A$11, MATCH($C12, SpellNames, 0), 3) > 0, TRUE, FALSE))","v":true},{"$f":"OR(G12,M12,AND(L12,N12))","v":false},null,null,{"$f":"IF(PrimaryGuildNumber=9,Q12,\"\")","v":""}]
["Black","Weakness 6","Weakness",null,null,null,false,4,0,99,0,false,{"$f":"IF(D13>0, TRUE, FALSE)","v":false},{"$f":"IF(ISBLANK(C13), TRUE, IF(OFFSET($A$11, MATCH($C13, SpellNames, 0), 3) > 0, TRUE, FALSE))","v":false},{"$f":"OR(G13,M13,AND(L13,N13))","v":false},"1-8",null,""]
["Black","Weakness Store 6","Weakness 6",null,null,null,false,4,0,99,0,false,false,false,false,"1-8",null,""]
["Black","Weakness Store 7","Weakness Store 6",null,null,null,false,4,0,99,0,false,false,false,false,"1-8",null,""]
["Black","Weakness Store 8","Weakness Store 7",null,null,null,false,4,0,99,0,false,false,false,false,"1-8",null,""]
["Black","Mass Weakness 8","Weakness 6",null,null,null,false,4,0,99,0,false,false,false,false,"1-8",null,""]
["Black","Hand of Darkness 7","Weakness 6",null,null,null,false,4,0,99,0,false,false,false,false,"1-8",null,""]
["Black","Hand of Darkness 8","Hand of Darkness 7",null,null,null,false,4,0,99,0,false,false,false,false,"1-8",null,""]
["Black","Blindness 1 to 5",null,null,null,null,{"$f":"IF(OR(ArcherSpecialistMageGuild1=9,ArcherSpecialistMageGuild2=9),TRUE,FALSE)","v":false},3,0,99,0,false,false,{"$f":"IF(ISBLANK(C20), TRUE, IF(OFFSET($A$11, MATCH($C20, SpellNames, 0), 3) > 0, TRUE, FALSE))","v":true},false,"1-8",null,""]
["Black","Blindness 6","Blindness 1 to 5",null,null,null,false,3,0,99,0,false,false,false,false,"1-8",null,""]
["Black","Blindness 7","Blindness 6",null,null,null,false,3,0,99,0,false,false,false,false,"1-8",null,""]
["Black","Blindness 8","Blindness 7",null,null,null,false,3,0,99,0,false,false,false,false,"1-8",null,""]
["Black","Blindness 9","Blindness 8",null,null,null,false,99,0,3,0,false,false,false,false,9,null,""]
["Black","Blindness 10","Blindness 9",null,null,null,false,99,0,3,0,{"$f":"AND(WizardBlack=TRUE, IF(I25 >= H25, TRUE, IF(K25 >= J25, TRUE, FALSE)))","v":false},{"$f":"IF(D25>0, TRUE, FALSE)","v":false},{"$f":"IF(ISBLANK(C25), TRUE, IF(OFFSET($A$11, MATCH($C25, SpellNames, 0), 3) > 0, TRUE, FALSE))","v":false},false,10,null,{"$f":"IF(PrimaryGuildNumber=9,Q25,\"\")","v":""}]
["Black","Strength Stealer 9",null,null,null,null,false,99,0,3,0,false,{"$f":"IF(D26>0, TRUE, FALSE)","v":false},{"$f":"IF(ISBLANK(C26), TRUE, IF(OFFSET($A$11, MATCH($C26, SpellNames, 0), 3) > 0, TRUE, FALSE))","v":true},false,"9",null,""]
["Black","Strength Stealer 10","Strength Stealer 9",null,null,null,false,99,0,3,0,false,{"$f":"IF(D27>0, TRUE, FALSE)","v":false},{"$f":"IF(ISBLANK(C27), TRUE, IF(OFFSET($A$11, MATCH($C27, SpellNames, 0), 3) > 0, TRUE, FALSE))","v":false},false,"10",null,""]
["Black","Dark Bolt 6",null,null,null,null,false,3,0,99,0,false,false,true,false,"1-8",null,""]
["Black","Dark Bolt 7","Dark Bolt 6",null,null,null,false,3,0,99,0,false,false,false,false,"1-8",null,""]
["Black","Dark Bolt 8","Dark Bolt 7",null,null,null,false,3,0,99,0,false,false,false,false,"1-8",null,""]
["Black","Dark Skin 6",null,null,null,null,false,3,0,99,0,false,false,{"$f":"IF(ISBLANK(C31), TRUE, OFFSET($A$11,MATCH(C31,SpellNames,0),1))","v":true},false,"1-8",null,""]
["Black","Dark Skin 7","Dark Skin 6",null,null,null,false,3,0,99,0,false,false,{"$f":"IF(ISBLANK(C32), TRUE, IF(OFFSET($A$11, MATCH($C32, SpellNames, 0), 3) > 0, TRUE, FALSE))","v":false},false,"1-8",null,""]
["Black","Dark Skin 8","Dark Skin 7",null,null,null,false,3,0,99,0,false,{"$f":"IF(D33>0, TRUE, FALSE)","v":false},{"$f":"IF(ISBLANK(C33), TRUE, IF(OFFSET($A$11, MATCH($C33, SpellNames, 0), 3) > 0, TRUE, FALSE))","v":false},false,"1-8",null,""]
["Black","Dark Skin 9","Dark Skin 8",null,null,null,false,99,0,2,0,false,{"$f":"IF(D34>0, TRUE, FALSE)","v":false},{"$f":"IF(ISBLANK(C34), TRUE, IF(OFFSET($A$11, MATCH($C34, SpellNames, 0), 3) > 0, TRUE, FALSE))","v":false},false,"9",null,""]
["Black","Dark Skin 10","Dark Skin 9",null,null,null,false,99,0,2,0,false,{"$f":"IF(D35>0, TRUE, FALSE)","v":false},{"$f":"IF(ISBLANK(C35), TRUE, IF(OFFSET($A$11, MATCH($C35, SpellNames, 0), 3) > 0, TRUE, FALSE))","v":false},false,"10",null,""]
["Black","Armour of Darkenss 9",null,null,null,null,false,99,0,2,0,false,{"$f":"IF(D36>0, TRUE, FALSE)","v":false},{"$f":"IF(ISBLANK(C36), TRUE, IF(OFFSET($A$11, MATCH($C36, SpellNames, 0), 3) > 0, TRUE, FALSE))","v":true},false,"9",null,""]
["Black","Armour of Darkenss 10","Armour of Darkenss 9",null,null,null,false,99,0,2,0,false,{"$f":"IF(D37>0, TRUE, FALSE)","v":false},{"$f":"IF(ISBLANK(C37), TRUE, IF(OFFSET($A$11, MATCH($C37, SpellNames, 0), 3) > 0, TRUE, FALSE))","v":false},false,"10",null,""]
["Black","Dark Store 6",null,null,null,null,false,3,0,99,0,false,false,true,false,"1-8",null,""]
["Black","Dark Store 7","Dark Store 6",null,null,null,false,3,0,99,0,false,false,false,false,"1-8",null,""]
["Black","Dark Store 8","Dark Store 7",null,null,null,false,3,0,99,0,false,false,false,false,"1-8",null,""]
["Black","Dark Shield 8",null,null,null,null,false,4,0,99,0,false,false,true,false,"1-8",null,""]
["Black","Embody Elemental of Darkness 6",null,null,null,null,false,4,0,99,0,false,false,true,false,"1-8",null,""]
["Black","Embody Elemental of Darkness 7","Embody Elemental of Darkness 6",null,null,null,false,4,0,99,0,false,false,false,false,"1-8",null,""]
["Black","Embody Elemental of Darkness 8","Embody Elemental of Darkness 7",null,null,null,false,4,0,99,0,false,false,false,false,"1-8",null,""]
["Black","Afinity to Darkness 9",null,null,null,null,false,99,0,3,0,false,false,true,false,"9",null,""]
["Black","Afinity to Darkness 10","Afinity to Darkness 9",null,null,null,false,99,0,3,0,false,false,false,false,"10",null,""]
["Black","Sight Stealer 9",null,null,null,null,false,99,0,2,0,false,false,true,false,"9",null,""]
["Black","Sight Stealer 10","Sight Stealer 9",null,null,null,false,99,0,2,0,false,false,false,false,"10",null,""]
["Blue","Repulsion",null,null,null,null,{"$f":"IF(OR(ArcherSpecialistMageGuild1=10,ArcherSpecialistMageGuild2=10),TRUE,FALSE)","v":false},4,{"$f":"SUM(IF(WizardBlue,3,0),IF(PrimaryBlue,1,0),IF(OR(ArcherSpecialistMageGuild1=10,ArcherSpecialistMageGuild2=10),1,0))","v":0},99,{"$f":"SUM(IF(SorcerorBlue,2,0),IF(PrimaryBlue,1,0),IF(ArcherSpecialistSorcerorSchool=10,1,0))","v":0},{"$f":"AND(WizardBlue=TRUE, IF(I49 >= H49, TRUE, IF(K49 >= J49, TRUE, FALSE)))","v":false},false,true,false,null,null,{"$f":"IF(PrimaryGuildNumber=10,Q49,\"\")","v":""}]
["Blue","Repulsion Store 6","Repulsion",null,null,null,false,4,0,99,0,false,{"$f":"IF(D50>0, TRUE, FALSE)","v":false},{"$f":"IF(ISBLANK(C50), TRUE, IF(OFFSET($A$11, MATCH($C50, SpellNames, 0), 3) > 0, TRUE, FALSE))","v":false},false,"1-8",null,""]
["Blue","Repulsion Store 7","Repulsion Store 6",null,null,null,false,4,0,99,0,false,{"$f":"IF(D51>0, TRUE, FALSE)","v":false},false,false,"1-8",null,""]
["Blue","Repulsion Store 8","Repulsion Store 7",null,null,null,false,4,0,99,0,false,{"$f":"IF(D52>0, TRUE, FALSE)","v":false},false,false,"1-8",null,""]
["Blue","Clear Skies 6",null,null,null,null,false,4,0,99,0,{"$f":"AND(WizardBlue=TRUE, IF(I53 >= H53, TRUE, IF(K53 >= J53, TRUE, FALSE)))","v":false},{"$f":"IF(D53>0, TRUE, FALSE)","v":false},true,false,"1-8"]
["Blue","Clear Skies 7","Clear Skies 6",null,null,null,false,4,0,99,0,false,false,false,false,"1-8"]
["Blue","Clear Skies 8","Clear Skies 7",null,null,null,false,4,0,99,0,false,false,false,false,"1-8"]
["Blue","Dumbness 1 to 5",null,null,null,null,{"$f":"IF(OR(ArcherSpecialistMageGuild1=10,ArcherSpecialistMageGuild2=10),TRUE,FALSE)","v":false},3,0,99,0,false,false,true,false,"1-8",null,""]
["Blue","Dumbness 6","Dumbness 1 to 5",null,null,null,false,3,0,99,0,false,{"$f":"IF(D57>0, TRUE, FALSE)","v":false},{"$f":"IF(ISBLANK(C57), TRUE, IF(OFFSET($A$11, MATCH($C57, SpellNames, 0), 3) > 0, TRUE, FALSE))","v":false},false,"1-8",null,""]
["Blue","Dumbness 7","Dumbness 6",null,null,null,false,3,0,99,0,false,false,false,false,"1-8",null,""]
["Blue","Dumbness 8","Dumbness 7",null,null,null,false,3,0,99,0,false,false,false,false,"1-8",null,""]
["Blue","Dumbness 9","Dumbness 8",null,null,null,false,99,0,3,0,{"$f":"AND(WizardBlue=TRUE, IF(I60 >= H60, TRUE, IF(K60 >= J60, TRUE, FALSE)))","v":false},false,false,false,"1-8",null,{"$f":"IF(PrimaryGuildNumber=10,Q60,\"\")","v":""}]
["Blue","Dumbness 10","Dumbness 9",null,null,null,false,99,0,3,0,false,false,false,false,"1-8",null,""]
["Blue","Blink 10","Teleport 9",null,null,null,{"$f":"FALSE","v":false},99,0,3,0,false,false,false,false,10]
["Blue","Teleport 1 to 5",null,null,null,null,false,3,0,99,0,false,false,true,false,"1-8",null,""]
["Blue","Teleport 6","Teleport 1 to 5",null,null,null,false,3,0,99,0,false,false,{"$f":"IF(ISBLANK(C64), TRUE, IF(OFFSET($A$11, MATCH($C64, SpellNames, 0), 3) > 0, TRUE, FALSE))","v":false},false,"1-8",null,""]
["Blue","Teleport 7","Teleport 6",null,null,null,false,3,0,99,0,false,false,{"$f":"IF(ISBLANK(C65), TRUE, IF(OFFSET($A$11, MATCH($C65, SpellNames, 0), 3) > 0, TRUE, FALSE))","v":false},false,"1-8",null,""]
["Blue","Teleport 8","Teleport 7",null,null,null,false,3,0,99,0,false,false,{"$f":"IF(ISBLANK(C66), TRUE, IF(OFFSET($A$11, MATCH($C66, SpellNames, 0), 3) > 0, TRUE, FALSE))","v":false},false,"1-8",null,""]
["Blue","Teleport 9","Teleport 8",null,null,null,false,99,0,3,0,false,false,{"$f":"IF(ISBLANK(C67), TRUE, IF(OFFSET($A$11, MATCH($C67, SpellNames, 0), 3) > 0, TRUE, FALSE))","v":false},false,"9",null,""]
["Blue","Teleport 10","Teleport 9",null,null,null,false,99,0,3,0,false,false,{"$f":"IF(E68>0, TRUE, FALSE)","v":false},false,"10",null,""]
["Blue","Teleport Ward 6",null,null,null,null,false,3,0,99,0,false,false,{"$f":"IF(E69>0, TRUE, FALSE)","v":false},false,"1-8"]
["Blue","Teleport Ward 7","Teleport Ward 6",null,null,null,false,3,0,99,0,false,false,{"$f":"IF(E70>0, TRUE, FALSE)","v":false},false,"1-8"]
["Blue","Teleport Ward 8","Teleport Ward 7",null,null,null,false,3,0,99,0,false,false,{"$f":"IF(E71>0, TRUE, FALSE)","v":false},false,"1-8"]
["Blue","Forced Teleport 8","Teleport 8",null,null,null,false,4,0,99,0,false,false,{"$f":"IF(E72>0, TRUE, FALSE)","v":false},false,"1-8"]
["Blue","Air Wall 6",null,null,null,null,false,3,0,99,0,false,false,true,false,"1-8",null,""]
["Blue","Air Wall 7","Air Wall 6",null,null,null,false,3,0,99,0,false,false,false,false,"1-8",null,""]
["Blue","Air Wall 8","Air Wall 7",null,null,null,false,3,0,99,0,false,false,false,false,"1-8",null,""]
["Blue","Shield of Air 6",null,null,null,null,false,3,0,99,0,false,false,true,false,"1-8",null,""]
["Blue","Shield of Air 7","Shield of Air 6",null,null,null,false,3,0,99,0,false,false,false,{"$f":"OR(G77,M77,AND(L77,N77))","v":false},"1-8",null,""]
["Blue","Shield of Air 8","Shield of Air 7",null,null,null,false,3,0,99,0,false,false,false,false,"1-8",null,""]
["Blue","Shield of Air 9","Shield of Air 8",null,null,null,false,99,0,2,0,false,{"$f":"IF(D79>0, TRUE, FALSE)","v":false},{"$f":"IF(ISBLANK(C79), TRUE, IF(OFFSET($A$11, MATCH($C79, SpellNames, 0), 3) > 0, TRUE, FALSE))","v":false},false,"9",null,""]
["Blue","Shield of Air 10","Shield of Air 9",null,null,null,false,99,0,2,0,false,{"$f":"IF(D80>0, TRUE, FALSE)","v":false},{"$f":"IF(ISBLANK(C80), TRUE, IF(OFFSET($A$11, MATCH($C80, SpellNames, 0), 3) > 0, TRUE, FALSE))","v":false},false,"10",null,""]
["Blue","Sleep 6",null,null,null,null,false,3,{"$f":"SUM(IF(WizardBlue,3,0),IF(PrimaryBlue,1,0),IF(OR(ArcherSpecialistMageGuild1=10,ArcherSpecialistMageGuild2=10),1,0))","v":0},99,{"$f":"SUM(IF(SorcerorBlue,2,0),IF(PrimaryBlue,1,0),IF(ArcherSpecialistSorcerorSchool=10,1,0))","v":0},false,{"$f":"IF(D81>0, TRUE, FALSE)","v":false},{"$f":"IF(ISBLANK(C81), TRUE, IF(OFFSET($A$11, MATCH($C81, SpellNames, 0), 3) > 0, TRUE, FALSE))","v":true},false,"1-8",null,""]
["Blue","Sleep 7","Sleep 6",null,null,null,false,3,0,99,0,false,false,false,false,"1-8",null,""]
["Blue","Sleep 8","Sleep 7",null,null,null,false,3,0,99,0,false,false,false,false,"1-8",null,""]
["Blue","Sleep 9","Sleep 8",null,null,null,false,99,0,3,0,{"$f":"AND(WizardBlue=TRUE, IF(I84 >= H84, TRUE, IF(K84 >= J84, TRUE, FALSE)))","v":false},{"$f":"IF(D84>0, TRUE, FALSE)","v":false},{"$f":"IF(ISBLANK(C84), TRUE, IF(OFFSET($A$11, MATCH($C84, SpellNames, 0), 3) > 0, TRUE, FALSE))","v":false},false,"1-8",null,{"$f":"IF(PrimaryGuildNumber=10,Q84,\"\")","v":""}]
["Blue","Sleep 10","Sleep 9",null,null,null,false,99,0,3,0,false,false,false,false,"1-8",null,""]
["Blue","Sleep Store 6",null,null,null,null,false,3,0,99,0,false,false,true,false,"1-8",null,""]
["Blue","Sleep Store 7","Sleep Store 6",null,null,null,false,3,0,99,0,false,false,false,false,"1-8",null,""]
["Blue","Sleep Store 8","Sleep Store 7",null,null,null,false,3,0,99,0,false,false,false,false,"1-8",null,""]
["Blue","Embody Air Elemental 6",null,null,null,null,false,4,0,99,0,false,{"$f":"IF(D89>0, TRUE, FALSE)","v":false},{"$f":"IF(ISBLANK(C89), TRUE, IF(OFFSET($A$11, MATCH($C89, SpellNames, 0), 3) > 0, TRUE, FALSE))","v":true},false,"1-8",null,""]
["Blue","Embody Air Elemental 7","Embody Air Elemental 6",null,null,null,false,4,0,99,0,false,{"$f":"IF(D90>0, TRUE, FALSE)","v":false},{"$f":"IF(ISBLANK(C90), TRUE, IF(OFFSET($A$11, MATCH($C90, SpellNames, 0), 3) > 0, TRUE, FALSE))","v":false},false,"1-8",null,""]
["Blue","Embody Air Elemental 8","Embody Air Elemental 7",null,null,null,false,4,0,99,0,false,false,false,false,"1-8",null,""]
["Blue","Thunderclap 7",null,null,null,null,false,4,0,99,0,false,{"$f":"IF(D92>0, TRUE, FALSE)","v":false},true,false,"1-8",null,""]
["Blue","Whirlwind 6",null,null,null,null,false,4,0,99,0,false,false,true,false,"1-8",null,""]
["Blue","Whirlwind 7","Whirlwind 6",null,null,null,false,4,0,99,0,false,false,false,false,"1-8",null,""]
["Blue","Whirlwind 8","Whirlwind 7",null,null,null,false,4,0,99,0,false,false,false,false,"1-8",null,""]
["Blue","Whispering Wind 8",null,null,null,null,false,4,0,99,0,false,false,true,false,"1-8",null,""]
["Blue","Affinity to Air 9",null,null,null,null,false,99,0,3,0,false,false,true,false,"9",null,""]
["Blue","Affinity to Air 10","Affinity to Air 9",null,null,null,false,99,0,3,0,false,false,{"$f":"IF(ISBLANK(C98), TRUE, IF(OFFSET($A$11, MATCH($C98, SpellNames, 0), 3) > 0, TRUE, FALSE))","v":false},false,"10",null,""]
["Blue","Master of Winds 9",null,null,null,null,false,99,0,3,0,false,false,true,false,"9",null,""]
["Blue","Master of Winds 10","Master of Winds 9",null,null,null,false,99,0,3,0,false,false,false,false,"10",null,""]
["Blue","Shield of the Hurricane 9",null,null,null,null,false,99,0,2,0,false,false,true,false,"9",null,""]
["Blue","Shield of the Hurricane 10","Shield of the Hurricane 9",null,null,null,false,99,0,2,0,false,false,false,false,"10",null,""]
["Blue","Walk on Air 6",null,null,null,null,false,4,0,99,0,false,{"$f":"IF(D103>0, TRUE, FALSE)","v":false},{"$f":"IF(ISBLANK(C103), TRUE, IF(OFFSET($A$11, MATCH($C103, SpellNames, 0), 3) > 0, TRUE, FALSE))","v":true},false,"1-8",null,""]
["Blue","Walk on Air 7","Walk on Air 6",null,null,null,false,4,0,99,0,false,{"$f":"IF(D104>0, TRUE, FALSE)","v":false},{"$f":"IF(ISBLANK(C104), TRUE, IF(OFFSET($A$11, MATCH($C104, SpellNames, 0), 3) > 0, TRUE, FALSE))","v":false},false,"1-8",null,""]
["Blue","Walk on Air 8","Walk on Air 7",null,null,null,false,4,0,99,0,false,{"$f":"IF(D105>0, TRUE, FALSE)","v":false},{"$f":"IF(ISBLANK(C105), TRUE, IF(OFFSET($A$11, MATCH($C105, SpellNames, 0), 3) > 0, TRUE, FALSE))","v":false},false,"1-8",null,""]
["Blue","Walk on Air 9","Walk on Air 8",null,null,null,false,99,0,3,0,false,false,false,false,"9",null,""]
["Blue","Walk on Air 10","Walk on Air 9",null,null,null,false,99,0,3,0,false,false,false,false,"10",null,""]
["Brown","Weld",null,null,null,null,{"$f":"IF(OR(ArcherSpecialistMageGuild1=11,ArcherSpecialistMageGuild2=11),TRUE,FALSE)","v":false},4,{"$f":"SUM(IF(WizardBrown,3,0),IF(PrimaryBrown,1,0),IF(OR(ArcherSpecialistMageGuild1=11,ArcherSpecialistMageGuild2=11),1,0))","v":0},99,{"$f":"SUM(IF(SorcerorBrown,2,0),IF(PrimaryBrown,1,0),IF(ArcherSpecialistSorcerorSchool=11,1,0))","v":0},{"$f":"AND(WizardBrown=TRUE, IF(I108 >= H108, TRUE, IF(K108 >= J108, TRUE, FALSE)))","v":false},false,true,false,null,null,{"$f":"IF(PrimaryGuildNumber=11,Q108,\"\")","v":""}]
["Brown","Mass Weld 8","Weld",null,null,null,false,4,0,99,0,false,{"$f":"IF(D109>0, TRUE, FALSE)","v":false},{"$f":"IF(ISBLANK(C109), TRUE, IF(OFFSET($A$11, MATCH($C109, SpellNames, 0), 3) > 0, TRUE, FALSE))","v":false},false,"1-8",null,""]
["Brown","Mass Bind 6",null,null,null,null,false,4,0,99,0,false,{"$f":"IF(D110>0, TRUE, FALSE)","v":false},{"$f":"IF(ISBLANK(C110), TRUE, IF(OFFSET($A$11, MATCH($C110, SpellNames, 0), 3) > 0, TRUE, FALSE))","v":true},false,"1-8",null,""]
["Brown","Magic Missile 6",null,null,null,null,false,3,0,99,0,false,false,true,false,"1-8",null,""]
["Brown","Magic Missile 7","Magic Missile 6",null,null,null,false,3,0,99,0,false,false,false,false,"1-8",null,""]
["Brown","Magic Missile 8","Magic Missile 7",null,null,null,false,3,0,99,0,false,false,false,false,"1-8",null,""]
["Brown","Magic Missile Store 6",null,null,null,null,false,3,0,99,0,false,false,true,false,"1-8",null,""]
["Brown","Magic Missile Store 7","Magic Missile Store 6",null,null,null,false,3,0,99,0,false,false,false,false,"1-8",null,""]
["Brown","Magic Missile Store 8","Magic Missile Store 7",null,null,null,false,3,0,99,0,false,false,false,false,"1-8",null,""]
["Brown","Sanctuary of Earth 1 to 5",null,null,null,null,false,4,0,99,0,false,{"$f":"IF(D117>0, TRUE, FALSE)","v":false},{"$f":"IF(ISBLANK(C117), TRUE, IF(OFFSET($A$11, MATCH($C117, SpellNames, 0), 3) > 0, TRUE, FALSE))","v":true},false,"1-8",null,""]
["Brown","Santuary of Earth 6","Sanctuary of Earth 1 to 5",null,null,null,false,4,0,99,0,false,false,false,false,"1-8",null,""]
["Brown","Santuary of Earth 7","Santuary of Earth 6",null,null,null,false,4,0,99,0,false,false,false,false,"1-8",null,""]
["Brown","Santuary of Earth 8","Santuary of Earth 7",null,null,null,false,4,0,99,0,false,false,false,false,"1-8",null,""]
["Brown","Protection from Earthquake 4, 5",null,null,null,null,false,3,0,99,0,false,{"$f":"IF(D121>0, TRUE, FALSE)","v":false},{"$f":"IF(ISBLANK(C121), TRUE, IF(OFFSET($A$11, MATCH($C121, SpellNames, 0), 3) > 0, TRUE, FALSE))","v":true},false,"1-8",null,""]
["Brown","Earthquake 8",null,null,null,null,false,3,0,99,0,false,false,true,false,"1-8",null,""]
["Brown","Embody Earth Elemental 6",null,null,null,null,false,4,0,99,0,false,false,true,false,"1-8",null,""]
["Brown","Embody Earth Elemental 7","Embody Earth Elemental 6",null,null,null,false,4,0,99,0,false,false,false,false,"1-8",null,""]
["Brown","Embody Earth Elemental 8","Embody Earth Elemental 7",null,null,null,false,4,0,99,0,false,false,false,false,"1-8",null,""]
["Brown","Entrapment 6",null,null,null,null,false,4,0,99,0,false,false,true,false,"1-8",null,""]
["Brown","Entrapment 7","Entrapment 6",null,null,null,false,4,0,99,0,false,false,false,false,"1-8",null,""]
["Brown","Entombment 9",null,null,null,null,false,99,0,3,0,false,{"$f":"IF(D128>0, TRUE, FALSE)","v":false},{"$f":"IF(ISBLANK(C128), TRUE, IF(OFFSET($A$11, MATCH($C128, SpellNames, 0), 3) > 0, TRUE, FALSE))","v":true},false,"9",null,""]
["Brown","Entombment 10","Entombment 9",null,null,null,false,99,0,3,0,false,{"$f":"IF(D129>0, TRUE, FALSE)","v":false},{"$f":"IF(ISBLANK(C129), TRUE, IF(OFFSET($A$11, MATCH($C129, SpellNames, 0), 3) > 0, TRUE, FALSE))","v":false},false,"10",null,""]
["Brown","Rock Skin 7",null,null,null,null,false,4,0,99,0,false,false,true,false,"1-8",null,""]
["Brown","Affinity to Earth 9",null,null,null,null,false,99,0,3,0,false,false,true,false,"9",null,""]
["Brown","Affinity to Earth 10","Affinity to Earth 9",null,null,null,false,99,0,3,0,false,false,false,false,"10",null,""]
["Brown","Assault of Stone 9",null,null,null,null,false,99,0,2,0,false,false,true,false,"9",null,""]
["Brown","Assault of Stone 10","Assault of Stone 9",null,null,null,false,99,0,2,0,false,false,false,false,"10",null,""]
["Brown","Bastion of Earth 9",null,null,null,null,false,99,0,2,0,false,false,true,false,"9",null,""]
["Brown","Bastion of Earth 10","Bastion of Earth 9",null,null,null,false,99,0,2,0,false,false,false,false,"10",null,""]
["Brown","Stone Form 6",null,null,null,null,false,3,0,99,0,false,{"$f":"IF(D137>0, TRUE, FALSE)","v":false},{"$f":"IF(ISBLANK(C137), TRUE, IF(OFFSET($A$11, MATCH($C137, SpellNames, 0), 3) > 0, TRUE, FALSE))","v":true},false,"1-8",null,""]
["Brown","Stone Form 7","Stone Form 6",null,null,null,false,3,0,99,0,false,{"$f":"IF(D138>0, TRUE, FALSE)","v":false},{"$f":"IF(ISBLANK(C138), TRUE, IF(OFFSET($A$11, MATCH($C138, SpellNames, 0), 3) > 0, TRUE, FALSE))","v":false},false,"1-8",null,""]
["Brown","Stone Form 8","Stone Form 7",null,null,null,false,3,0,99,0,false,{"$f":"IF(D139>0, TRUE, FALSE)","v":false},{"$f":"IF(ISBLANK(C139), TRUE, IF(OFFSET($A$11, MATCH($C139, SpellNames, 0), 3) > 0, TRUE, FALSE))","v":false},false,"1-8",null,""]
["Brown","Stone Form 9","Stone Form 8",null,null,null,false,99,0,2,0,false,false,false,false,"9",null,""]
["Brown","Stone Form 10","Stone Form 9",null,null,null,false,99,0,2,0,false,false,false,{"$f":"OR(G141,M141,AND(L141,N141))","v":false},"10",null,""]
["Brown","Stone Crafter 9",null,null,null,null,false,99,0,2,0,false,false,true,false,"9",null,""]
["Brown","Stone Crafter 10","Stone Crafter 9",null,null,null,false,99,0,2,0,false,false,false,false,"10",null,""]
["Green","Slow",null,null,null,null,{"$f":"IF(OR(ArcherSpecialistMageGuild1=12,ArcherSpecialistMageGuild2=12),TRUE,FALSE)","v":false},4,{"$f":"SUM(IF(WizardGreen,3,0),IF(PrimaryGreen,1,0),IF(OR(ArcherSpecialistMageGuild1=12,ArcherSpecialistMageGuild2=12),1,0))","v":0},99,{"$f":"SUM(IF(SorcerorGreen,2,0),IF(PrimaryGreen,1,0),IF(ArcherSpecialistSorcerorSchool=12,1,0))","v":0},{"$f":"AND(WizardGreen=TRUE, IF(I144 >= H144, TRUE, IF(K144 >= J144, TRUE, FALSE)))","v":false},false,true,false,null,null,{"$f":"IF(PrimaryGuildNumber=12,Q144,\"\")","v":""}]
["Green","Slow 6","Slow",null,null,null,false,4,0,99,0,false,{"$f":"IF(D145>0, TRUE, FALSE)","v":false},{"$f":"IF(ISBLANK(C145), TRUE, IF(OFFSET($A$11, MATCH($C145, SpellNames, 0), 3) > 0, TRUE, FALSE))","v":false},false,"1-8",null,""]
["Green","Slow Store 6","Slow 6",null,null,null,false,4,0,99,0,false,{"$f":"IF(D146>0, TRUE, FALSE)","v":false},{"$f":"IF(ISBLANK(C146), TRUE, IF(OFFSET($A$11, MATCH($C146, SpellNames, 0), 3) > 0, TRUE, FALSE))","v":false},false,"1-8",null,""]
["Green","Slow Store 7","Slow Store 6",null,null,null,false,4,0,99,0,false,{"$f":"IF(D147>0, TRUE, FALSE)","v":false},{"$f":"IF(ISBLANK(C147), TRUE, IF(OFFSET($A$11, MATCH($C147, SpellNames, 0), 3) > 0, TRUE, FALSE))","v":false},false,"1-8",null,""]
["Green","Slow Store 8","Slow Store 7",null,null,null,false,4,0,99,0,false,{"$f":"IF(D148>0, TRUE, FALSE)","v":false},{"$f":"IF(ISBLANK(C148), TRUE, IF(OFFSET($A$11, MATCH($C148, SpellNames, 0), 3) > 0, TRUE, FALSE))","v":false},false,"1-8",null,""]
["Green","Mass Slow 8","Slow 6",null,null,null,false,4,0,99,0,false,{"$f":"IF(D149>0, TRUE, FALSE)","v":false},{"$f":"IF(ISBLANK(C149), TRUE, IF(OFFSET($A$11, MATCH($C149, SpellNames, 0), 3) > 0, TRUE, FALSE))","v":false},false,"1-8",null,""]
["Green","Mass Slip",null,null,null,null,false,3,0,99,0,false,false,true,false,"1-8",null,""]
["Green","Recall 6",null,null,null,null,false,3,0,99,0,false,false,true,false,"1-8",null,""]
["Green","Recall 7","Recall 6",null,null,null,false,3,0,99,0,false,false,false,false,"1-8",null,""]
["Green","Recall 8","Recall 7",null,null,null,false,3,0,99,0,false,{"$f":"IF(D153>0, TRUE, FALSE)","v":false},false,false,"1-8",null,""]
["Green","Recall 9","Recall 8",null,null,null,false,99,0,3,0,false,{"$f":"IF(D154>0, TRUE, FALSE)","v":false},{"$f":"IF(ISBLANK(C154), TRUE, IF(OFFSET($A$11, MATCH($C154, SpellNames, 0), 3) > 0, TRUE, FALSE))","v":false},false,"9",null,""]
["Green","Recall 10","Recall 9",null,null,null,false,99,0,3,0,false,{"$f":"IF(D155>0, TRUE, FALSE)","v":false},{"$f":"IF(ISBLANK(C155), TRUE, IF(OFFSET($A$11, MATCH($C155, SpellNames, 0), 3) > 0, TRUE, FALSE))","v":false},false,"10",null,""]
["Green","Spell Store 6",null,null,null,null,false,3,0,99,0,false,false,true,false,"1-8",null,""]
["Green","Spell Store 7","Spell Store 6",null,null,null,false,3,0,99,0,false,false,false,false,"1-8",null,""]
["Green","Spell Store 8","Spell Store 7",null,null,null,false,3,0,99,0,false,false,false,false,"1-8",null,""]
["Green","Enchant Spell Store 6",null,null,null,null,false,3,0,99,0,false,{"$f":"IF(D159>0, TRUE, FALSE)","v":false},{"$f":"IF(ISBLANK(C159), TRUE, IF(OFFSET($A$11, MATCH($C159, SpellNames, 0), 3) > 0, TRUE, FALSE))","v":true},false,"1-8",null,""]
["Green","Enchant Spell Store 7","Enchant Spell Store 6",null,null,null,false,3,0,99,0,false,{"$f":"IF(D160>0, TRUE, FALSE)","v":false},{"$f":"IF(ISBLANK(C160), TRUE, IF(OFFSET($A$11, MATCH($C160, SpellNames, 0), 3) > 0, TRUE, FALSE))","v":false},false,"1-8",null,""]
["Green","Enchant Spell Store 8","Enchant Spell Store 7",null,null,null,false,3,0,99,0,false,{"$f":"IF(D161>0, TRUE, FALSE)","v":false},{"$f":"IF(ISBLANK(C161), TRUE, IF(OFFSET($A$11, MATCH($C161, SpellNames, 0), 3) > 0, TRUE, FALSE))","v":false},false,"1-8",null,""]
["Green","Wizard's Gift 6",null,null,null,null,false,3,0,99,0,false,false,true,false,"1-8",null,""]
["Green","Wizard's Gift 7","Wizard's Gift 6",null,null,null,false,3,0,99,0,false,false,false,false,"1-8",null,""]
["Green","Wizard's Gift 8","Wizard's Gift 7",null,null,null,false,3,0,99,0,false,false,false,false,"1-8",null,""]
["Green","Guided by the Stars 10","Sorcerer's Store 10",null,null,null,false,99,0,99,0,{"$f":"AND(WizardGreen=TRUE, IF(I165 >= H165, TRUE, IF(K165 >= J165, TRUE, FALSE)))","v":false},{"$f":"IF(D165>0, TRUE, FALSE)","v":false},{"$f":"IF(ISBLANK(C165), TRUE, IF(OFFSET($A$11, MATCH($C165, SpellNames, 0), 3) > 0, TRUE, FALSE))","v":false},false,10]
["Green","Identify 6",null,null,null,null,false,4,0,99,0,false,false,{"$f":"IF(ISBLANK(C166), TRUE, IF(OFFSET($A$11, MATCH($C166, SpellNames, 0), 3) > 0, TRUE, FALSE))","v":true},false,"1-8",null,""]
["Green","Identify 7","Identify 6",null,null,null,false,4,0,99,0,false,false,false,false,"1-8",null,""]
["Green","Identify 8","Identify 7",null,null,null,false,4,0,99,0,false,false,false,false,"1-8",null,""]
["Green","Embody Water Elemental 6",null,null,null,null,false,4,0,99,0,false,{"$f":"IF(D169>0, TRUE, FALSE)","v":false},{"$f":"IF(ISBLANK(C169), TRUE, IF(OFFSET($A$11, MATCH($C169, SpellNames, 0), 3) > 0, TRUE, FALSE))","v":true},false,"1-8",null,""]
["Green","Embody Water Elemental 7","Embody Water Elemental 6",null,null,null,false,4,0,99,0,false,false,false,false,"1-8",null,""]
["Green","Embody Water Elemental 8","Embody Water Elemental 7",null,null,null,false,4,0,99,0,false,{"$f":"IF(D171>0, TRUE, FALSE)","v":false},{"$f":"IF(ISBLANK(C171), TRUE, IF(OFFSET($A$11, MATCH($C171, SpellNames, 0), 3) > 0, TRUE, FALSE))","v":false},false,"1-8",null,""]
["Green","Vanish Animate 6",null,null,null,null,false,4,0,99,0,false,false,true,false,"1-8",null,""]
["Green","Vanish Animate 7","Vanish Animate 6",null,null,null,false,4,0,99,0,false,false,false,false,"1-8",null,""]
["Green","Vanish Animate 8","Vanish Animate 7",null,null,null,false,4,0,99,0,false,false,false,false,"1-8",null,""]
["Green","Vanish Inanimate 6",null,null,null,null,false,4,0,99,0,false,false,true,false,"1-8",null,""]
["Green","Vanish Inanimate 7","Vanish Inanimate 6",null,null,null,false,4,0,99,0,false,false,false,false,"1-8",null,""]
["Green","Vanish Inanimate 8","Vanish Inanimate 7",null,null,null,false,4,0,99,0,false,false,false,false,"1-8",null,""]
["Green","Affinity to Water 9",null,null,null,null,false,99,0,3,0,false,false,true,false,"9",null,""]
["Green","Affinity to Water 10","Affinity to Water 9",null,null,null,false,99,0,3,0,false,false,false,false,"10",null,""]
["Green","Contingency 6",null,null,null,null,false,4,0,99,0,false,{"$f":"IF(D180>0, TRUE, FALSE)","v":false},{"$f":"IF(ISBLANK(C180), TRUE, IF(OFFSET($A$11, MATCH($C180, SpellNames, 0), 3) > 0, TRUE, FALSE))","v":true},false,"1-8",null,""]
["Green","Contingency 7","Contingency 6",null,null,null,false,4,0,99,0,false,{"$f":"IF(D181>0, TRUE, FALSE)","v":false},{"$f":"IF(ISBLANK(C181), TRUE, IF(OFFSET($A$11, MATCH($C181, SpellNames, 0), 3) > 0, TRUE, FALSE))","v":false},false,"1-8",null,""]
["Green","Contingency 8","Contingency 7",null,null,null,false,4,0,99,0,false,{"$f":"IF(D182>0, TRUE, FALSE)","v":false},{"$f":"IF(ISBLANK(C182), TRUE, IF(OFFSET($A$11, MATCH($C182, SpellNames, 0), 3) > 0, TRUE, FALSE))","v":false},false,"1-8",null,""]
["Green","Contingency 9","Contingency 8",null,null,null,false,99,0,3,0,false,false,false,false,"9",null,""]
["Green","Contingency 10","Contingency 9",null,null,null,false,99,0,3,0,false,false,false,false,"10",null,""]
["Green","Sorcerer's Store 9",null,null,null,null,false,99,0,2,0,false,false,true,false,"9",null,""]
["Green","Sorcerer's Store 10","Sorcerer's Store 9",null,null,null,false,99,0,2,0,false,false,false,false,"10",null,""]
["Green","Sorcerer's Gift 9",null,null,null,null,false,99,0,2,0,false,false,true,false,"9",null,""]
["Green","Sorcerer's Gift 10","Sorcerer's Gift 9",null,null,null,false,99,0,2,0,false,false,false,false,"10",null,""]
["Green","Sorcerer's Memonic 9",null,null,null,null,false,99,0,2,0,false,false,true,false,"9",null,""]
["Green","Sorcerer's Memonic 10","Sorcerer's Memonic 9",null,null,null,false,99,0,2,0,false,false,false,false,"10",null,""]
["Grey","Cast in Armour",null,null,null,null,{"$f":"IF(ISERROR(IF(OR(Variables!$F$27, Variables!$F$28)=Magic!A191,TRUE,FALSE)),FALSE,IF(OR(Variables!$F$27, Variables!$F$28)=Magic!A191,TRUE,FALSE))","v":false},4,{"$f":"SUM(IF(WizardGrey,3,0),IF(PrimaryGrey,1,0),IF(OR(ArcherSpecialistMageGuild1=13,ArcherSpecialistMageGuild2=13),1,0))","v":0},99,{"$f":"SUM(IF(SorcerorGrey,2,0),IF(PrimaryGrey,1,0),IF(ArcherSpecialistSorcerorSchool=13,1,0))","v":0},{"$f":"AND(WizardGrey=TRUE, IF(I191 >= H191, TRUE, IF(K191 >= J191, TRUE, FALSE)))","v":false},false,{"$f":"IF(ISBLANK(C191), TRUE, IF(OFFSET($A$11, MATCH($C191, SpellNames, 0), 3) > 0, TRUE, FALSE))","v":true},false,null,null,{"$f":"IF(PrimaryGuildNumber=13,Q191,\"\")","v":""}]
["Grey","Shield 2, 4",null,null,null,null,false,3,0,99,0,false,false,true,false,"1-8",null,""]
["Grey","Warlocks Blade 2, 4",null,null,null,null,false,3,0,99,0,false,false,true,false,"1-8",null,""]
["Grey","Combat Readiness 6",null,null,null,null,false,3,0,99,0,false,false,true,false,"1-8",null,""]
["Grey","Combat Readiness 7","Combat Readiness 6",null,null,null,false,3,0,99,0,false,false,false,false,"1-8",null,""]
["Grey","Combat Readiness 8","Combat Readiness 7",null,null,null,false,3,0,99,0,false,false,false,false,"1-8",null,""]
["Grey","Peerless Combatant 9",null,null,null,null,false,99,0,3,0,false,{"$f":"IF(D197>0, TRUE, FALSE)","v":false},{"$f":"IF(ISBLANK(C197), TRUE, IF(OFFSET($A$11, MATCH($C197, SpellNames, 0), 3) > 0, TRUE, FALSE))","v":true},false,"9",null,""]
["Grey","Peerless Combatant 10","Peerless Combatant 9",null,null,null,false,99,0,3,0,false,{"$f":"IF(D198>0, TRUE, FALSE)","v":false},{"$f":"IF(ISBLANK(C198), TRUE, IF(OFFSET($A$11, MATCH($C198, SpellNames, 0), 3) > 0, TRUE, FALSE))","v":false},false,"10",null,""]
["Grey","Double Strength 6",null,null,null,null,false,3,0,99,0,false,false,true,false,"1-8",null,""]
["Grey","Double Strength 7","Double Strength 6",null,null,null,false,3,0,99,0,false,false,false,false,"1-8",null,""]
["Grey","Endurance 6",null,null,null,null,false,3,0,99,0,false,false,true,false,"1-8",null,""]
["Grey","Endurance 7","Endurance 6",null,null,null,false,3,0,99,0,false,false,false,false,"1-8",null,""]
["Grey","Endurance 8","Endurance 7",null,null,null,false,3,0,99,0,false,false,false,false,"1-8",null,""]
["Grey","Mass Endurance 6",null,null,null,null,false,4,0,99,0,false,{"$f":"IF(D204>0, TRUE, FALSE)","v":false},{"$f":"IF(ISBLANK(C204), TRUE, IF(OFFSET($A$11, MATCH($C204, SpellNames, 0), 3) > 0, TRUE, FALSE))","v":true},false,"1-8",null,""]
["Grey","Mass Endurance 7","Mass Endurance 6",null,null,null,false,4,0,99,0,false,false,false,{"$f":"OR(G205,M205,AND(L205,N205))","v":false},"1-8",null,""]
["Grey","Mass Endurance 8","Mass Endurance 7",null,null,null,false,4,0,99,0,false,false,false,false,"1-8",null,""]
["Grey","Mass Endurance 9","Mass Endurance 8",null,null,null,false,99,0,3,0,false,false,false,false,"9",null,""]
["Grey","Mass Endurance 10","Mass Endurance 9",null,null,null,false,99,0,3,0,false,false,false,false,"10",null,""]
["Grey","Enduring Vigor 9",null,null,null,null,false,99,0,3,0,false,false,true,false,"9",null,""]
["Grey","Enduring Vigor 10","Enduring Vigor 9",null,null,null,false,99,0,3,0,false,false,false,false,"10",null,""]
["Grey","Protection from Weakness 6",null,null,null,null,false,3,0,99,0,false,false,true,false,"1-8",null,""]
["Grey","Protection from Weakness 7","Protection from Weakness 6",null,null,null,false,3,0,99,0,false,false,false,false,"1-8",null,""]
["Grey","Protection from Weakness 8","Protection from Weakness 7",null,null,null,false,3,0,99,0,false,false,false,false,"1-8",null,""]
["Grey","Weapon Proficiency 6",null,null,null,null,false,3,0,99,0,false,false,true,false,"1-8",null,""]
["Grey","Weapon Proficiency 7","Weapon Proficiency 6",null,null,null,false,3,0,99,0,false,false,false,false,"1-8",null,""]
["Grey","Weapon Proficiency 8","Weapon Proficiency 7",null,null,null,false,3,0,99,0,false,false,false,false,"1-8",null,""]
["Grey","Embody Steel Elemental 6",null,null,null,null,false,4,0,99,0,false,{"$f":"IF(D217>0, TRUE, FALSE)","v":false},{"$f":"IF(ISBLANK(C217), TRUE, IF(OFFSET($A$11, MATCH($C217, SpellNames, 0), 3) > 0, TRUE, FALSE))","v":true},false,"1-8",null,""]
["Grey","Embody Steel Elemental 7","Embody Steel Elemental 6",null,null,null,false,4,0,99,0,false,false,false,false,"1-8",null,""]
["Grey","Embody Steel Elemental 8","Embody Steel Elemental 7",null,null,null,false,4,0,99,0,false,{"$f":"IF(D219>0, TRUE, FALSE)","v":false},{"$f":"IF(ISBLANK(C219), TRUE, IF(OFFSET($A$11, MATCH($C219, SpellNames, 0), 3) > 0, TRUE, FALSE))","v":false},false,"1-8",null,""]
["Grey","Continuous Casting 6",null,null,null,null,false,4,0,99,0,false,false,true,false,"1-8",null,""]
["Grey","Continuous Casting 7","Continuous Casting 6",null,null,null,false,4,0,99,0,false,false,false,false,"1-8",null,""]
["Grey","Continuous Casting 8","Continuous Casting 7",null,null,null,false,4,0,99,0,false,false,false,false,"1-8",null,""]
["Grey","Affinty to Steel 9",null,null,null,null,false,99,0,3,0,false,{"$f":"IF(D223>0, TRUE, FALSE)","v":false},{"$f":"IF(ISBLANK(C223), TRUE, IF(OFFSET($A$11, MATCH($C223, SpellNames, 0), 3) > 0, TRUE, FALSE))","v":true},false,"9",null,""]
["Grey","Affinity to Steel 10","Affinty to Steel 9",null,null,null,false,99,0,3,0,false,{"$f":"IF(D224>0, TRUE, FALSE)","v":false},{"$f":"IF(ISBLANK(C224), TRUE, IF(OFFSET($A$11, MATCH($C224, SpellNames, 0), 3) > 0, TRUE, FALSE))","v":false},false,"10",null,""]
["Grey","Blade Ward 9",null,null,null,null,false,99,0,3,0,false,{"$f":"IF(D225>0, TRUE, FALSE)","v":false},{"$f":"IF(ISBLANK(C225), TRUE, IF(OFFSET($A$11, MATCH($C225, SpellNames, 0), 3) > 0, TRUE, FALSE))","v":true},false,"9",null,""]
["Grey","Protection from Battle Magic 6",null,null,null,null,false,4,0,99,0,false,false,true,false,"1-8",null,""]
["Grey","Protection from Battle Magic 7","Protection from Battle Magic 6",null,null,null,false,4,0,99,0,false,false,false,false,"1-8",null,""]
["Grey","Protection from Battle Magic 8","Protection from Battle Magic 7",null,null,null,false,4,0,99,0,false,false,false,false,"1-8",null,""]
["Grey","Shield of Steel 6",null,null,null,null,false,4,0,99,0,false,false,true,false,"1-8",null,""]
["Grey","Shield of Steel 7","Shield of Steel 6",null,null,null,false,4,0,99,0,false,{"$f":"IF(D230>0, TRUE, FALSE)","v":false},false,false,"1-8",null,""]
["Grey","Shield of Steel 8","Shield of Steel 7",null,null,null,false,4,0,99,0,false,false,false,false,"1-8",null,""]
["Grey","Plate on Plate 7 ",null,null,null,null,false,4,0,99,0,false,false,true,false,"1-8",null,""]
["Grey","Plate on Plate 8","Plate on Plate 7 ",null,null,null,false,4,0,99,0,false,{"$f":"IF(D233>0, TRUE, FALSE)","v":false},{"$f":"IF(ISBLANK(C233), TRUE, IF(OFFSET($A$11, MATCH($C233, SpellNames, 0), 3) > 0, TRUE, FALSE))","v":false},false,"1-8",null,{"$f":"IF(PrimaryGuildNumber=13,Q233,\"\")","v":""}]
["Grey","Perfect Steel 9 ",null,null,null,null,false,99,0,2,0,false,false,true,false,"9",null,""]
["Grey","Resilience 10 ",null,null,null,null,false,99,0,2,0,false,false,true,false,"10",null,""]
["Grey","Warlock's Armoury 9",null,null,null,null,false,99,0,2,0,false,false,true,false,"9",null,""]
["Grey","Warlock's Armoury 10","Warlock's Armoury 9",null,null,null,false,99,0,2,0,false,false,{"$f":"IF(ISBLANK(C237), TRUE, IF(OFFSET($A$11, MATCH($C237, SpellNames, 0), 3) > 0, TRUE, FALSE))","v":false},false,"10",null,""]
["Red","Magma Blade",null,null,null,null,{"$f":"IF(OR(ArcherSpecialistMageGuild1=13,ArcherSpecialistMageGuild2=13),TRUE,FALSE)","v":false},4,{"$f":"SUM(IF(WizardRed,3,0),IF(PrimaryRed,1,0),IF(OR(ArcherSpecialistMageGuild1=14,ArcherSpecialistMageGuild2=14),1,0))","v":0},99,{"$f":"SUM(IF(SorcerorRed,2,0),IF(PrimaryRed,1,0),IF(ArcherSpecialistSorcerorSchool=14,1,0))","v":0},{"$f":"AND(WizardRed=TRUE, IF(I238 >= H238, TRUE, IF(K238 >= J238, TRUE, FALSE)))","v":false},false,true,false,null,null,{"$f":"IF(PrimaryGuildNumber=14,Q238,\"\")","v":""}]
["Red","Flame Blade 6",null,null,null,null,false,3,0,99,0,false,{"$f":"IF(D239>0, TRUE, FALSE)","v":false},{"$f":"IF(ISBLANK(C239), TRUE, IF(OFFSET($A$11, MATCH($C239, SpellNames, 0), 3) > 0, TRUE, FALSE))","v":true},false,"1-8",null,""]
["Red","Flame Blade 7","Flame Blade 6",null,null,null,false,3,0,99,0,false,false,false,false,"1-8",null,""]
["Red","Flame Blade 8","Flame Blade 7",null,null,null,false,3,0,99,0,false,false,false,false,"1-8",null,""]
["Red","Flame Blade 9","Flame Blade 8",null,null,null,false,99,0,3,0,false,false,false,false,"9",null,""]
["Red","Flame Blade 10","Flame Blade 9",null,null,null,false,99,0,3,0,false,false,false,false,"10",null,""]
["Red","Burning Blade 4 to 5",null,null,null,null,{"$f":"IF(OR(ArcherSpecialistMageGuild1=13,ArcherSpecialistMageGuild2=13),TRUE,FALSE)","v":false},4,0,99,0,false,false,true,false,"1-8",null,""]
["Red","Burning Blade 6","Burning Blade 4 to 5",null,null,null,false,4,0,99,0,false,false,false,false,"1-8",null,""]
["Red","Burning Blade 7","Burning Blade 6",null,null,null,false,4,0,99,0,false,false,false,false,"1-8",null,""]
["Red","Burning Blade 8","Burning Blade 7",null,null,null,false,4,0,99,0,false,false,false,false,"1-8",null,""]
["Red","Blade Bond 5",null,null,null,null,{"$f":"IF(OR(ArcherSpecialistMageGuild1=13,ArcherSpecialistMageGuild2=13),TRUE,FALSE)","v":false},4,0,99,0,false,false,true,false,"1-8",null,""]
["Red","Blade Bond 6","Blade Bond 5",null,null,null,false,4,0,99,0,false,{"$f":"IF(D249>0, TRUE, FALSE)","v":false},{"$f":"IF(ISBLANK(C249), TRUE, IF(OFFSET($A$11, MATCH($C249, SpellNames, 0), 3) > 0, TRUE, FALSE))","v":false},false,"1-8",null,""]
["Red","Blade Bond 7","Blade Bond 6",null,null,null,false,4,0,99,0,false,{"$f":"IF(D250>0, TRUE, FALSE)","v":false},{"$f":"IF(ISBLANK(C250), TRUE, IF(OFFSET($A$11, MATCH($C250, SpellNames, 0), 3) > 0, TRUE, FALSE))","v":false},false,"1-8",null,""]
["Red","Blade Bond 8","Blade Bond 7",null,null,null,false,4,0,99,0,false,{"$f":"IF(D251>0, TRUE, FALSE)","v":false},{"$f":"IF(ISBLANK(C251), TRUE, IF(OFFSET($A$11, MATCH($C251, SpellNames, 0), 3) > 0, TRUE, FALSE))","v":false},false,"1-8",null,""]
["Red","Blade Ward 9",null,null,null,null,false,99,0,3,0,false,{"$f":"IF(D252>0, TRUE, FALSE)","v":false},{"$f":"IF(ISBLANK(C252), TRUE, IF(OFFSET($A$11, MATCH($C252, SpellNames, 0), 3) > 0, TRUE, FALSE))","v":true},false,"9",null,""]
["Red","Fire Brand 1  to  5",null,null,null,null,false,3,0,99,0,false,false,true,false,"1-8",null,""]
["Red","Embody Elemental of Fire 6",null,null,null,null,false,4,0,99,0,false,{"$f":"IF(D254>0, TRUE, FALSE)","v":false},{"$f":"IF(ISBLANK(C254), TRUE, IF(OFFSET($A$11, MATCH($C254, SpellNames, 0), 3) > 0, TRUE, FALSE))","v":true},false,"1-8",null,""]
["Red","Embody Elemental of Fire 7","Embody Elemental of Fire 6",null,null,null,false,4,0,99,0,false,false,false,false,"1-8",null,""]
["Red","Embody Elemental of Fire 8","Embody Elemental of Fire 7",null,null,null,false,4,0,99,0,false,{"$f":"IF(D256>0, TRUE, FALSE)","v":false},{"$f":"IF(ISBLANK(C256), TRUE, IF(OFFSET($A$11, MATCH($C256, SpellNames, 0), 3) > 0, TRUE, FALSE))","v":false},false,"1-8",null,""]
["Red","Bolt Store 6",null,null,null,null,false,3,0,99,0,false,false,true,false,"1-8",null,""]
["Red","Bolt Store 7","Bolt Store 6",null,null,null,false,3,0,99,0,false,false,false,false,"1-8",null,""]
["Red","Bolt Store 8","Bolt Store 7",null,null,null,false,3,0,99,0,false,false,false,false,"1-8",null,""]
["Red","Fire Bolt 6",null,null,null,null,false,3,0,99,0,false,false,true,false,"1-8",null,""]
["Red","Fire Bolt 7","Fire Bolt 6",null,null,null,false,3,0,99,0,false,false,false,false,"1-8",null,""]
["Red","Fire Bolt 8","Fire Bolt 7",null,null,null,false,3,0,99,0,false,false,false,false,"1-8",null,""]
["Red","Fire Skin 6",null,null,null,null,false,3,0,99,0,false,false,true,false,"1-8",null,""]
["Red","Fire Skin 7","Fire Skin 6",null,null,null,false,3,0,99,0,false,false,false,false,"1-8",null,""]
["Red","Fire Skin 8","Fire Skin 7",null,null,null,false,3,0,99,0,false,false,false,false,"1-8",null,""]
["Red","Fire Skin 9","Fire Skin 8",null,null,null,false,99,0,2,0,false,{"$f":"IF(D266>0, TRUE, FALSE)","v":false},{"$f":"IF(ISBLANK(C266), TRUE, IF(OFFSET($A$11, MATCH($C266, SpellNames, 0), 3) > 0, TRUE, FALSE))","v":false},false,"9",null,""]
["Red","Fire Skin 10","Fire Skin 9",null,null,null,false,99,0,2,0,false,{"$f":"IF(D267>0, TRUE, FALSE)","v":false},{"$f":"IF(ISBLANK(C267), TRUE, IF(OFFSET($A$11, MATCH($C267, SpellNames, 0), 3) > 0, TRUE, FALSE))","v":false},false,"10",null,""]
["Red","Meltdown 6",null,null,null,null,false,4,0,99,0,false,{"$f":"IF(D268>0, TRUE, FALSE)","v":false},{"$f":"IF(ISBLANK(C268), TRUE, IF(OFFSET($A$11, MATCH($C268, SpellNames, 0), 3) > 0, TRUE, FALSE))","v":true},false,"1-8",null,""]
["Red","Meltdown 7","Meltdown 6",null,null,null,false,4,0,99,0,false,{"$f":"IF(D269>0, TRUE, FALSE)","v":false},{"$f":"IF(ISBLANK(C269), TRUE, IF(OFFSET($A$11, MATCH($C269, SpellNames, 0), 3) > 0, TRUE, FALSE))","v":false},{"$f":"OR(G269,M269,AND(L269,N269))","v":false},"1-8",null,""]
["Red","Finger of Flame 5",null,null,null,null,false,4,0,99,0,{"$f":"AND(WizardRed=TRUE, IF(I270 >= H270, TRUE, IF(K270 >= J270, TRUE, FALSE)))","v":false},{"$f":"IF(D270>0, TRUE, FALSE)","v":false},{"$f":"IF(ISBLANK(C270), TRUE, IF(OFFSET($A$11, MATCH($C270, SpellNames, 0), 3) > 0, TRUE, FALSE))","v":true},false,"1-8",null,{"$f":"IF(PrimaryGuildNumber=14,Q270,\"\")","v":""}]
["Red","Finger of Flame 6","Finger of Flame 5",null,null,null,false,4,0,99,0,false,false,false,false,"1-8",null,""]
["Red","Finger of Flame 7","Finger of Flame 6",null,null,null,false,4,0,99,0,false,false,false,false,"1-8",null,""]
["Red","Finger of Flame 8","Finger of Flame 7",null,null,null,false,4,0,99,0,false,false,false,false,"1-8",null,""]
["Red","Pillar of Flame 6",null,null,null,null,false,4,{"$f":"IF(IsDedicated,SUM(IF(WizardRed,3,0),IF(PrimaryRed,1,0)),0)","v":0},99,{"$f":"IF(IsDedicated,SUM(IF(SorcerorRed,2,0),IF(PrimaryRed,1,0)),0)","v":0},{"$f":"AND(WizardRed=TRUE, IF(I274 >= H274, TRUE, IF(K274 >= J274, TRUE, FALSE)))","v":false},{"$f":"IF(D274>0, TRUE, FALSE)","v":false},{"$f":"IF(ISBLANK(C274), TRUE, IF(OFFSET($A$11, MATCH($C274, SpellNames, 0), 3) > 0, TRUE, FALSE))","v":true},false]
["Red","Pillar of Flame 7","Pillar of Flame 6",null,null,null,false,4,{"$f":"IF(IsDedicated,SUM(IF(WizardRed,3,0),IF(PrimaryRed,1,0)),0)","v":0},99,{"$f":"IF(IsDedicated,SUM(IF(SorcerorRed,2,0),IF(PrimaryRed,1,0)),0)","v":0},false,false,false,false]
["Red","Pillar of Flame 8","Pillar of Flame 7",null,null,null,false,4,{"$f":"IF(IsDedicated,SUM(IF(WizardRed,3,0),IF(PrimaryRed,1,0)),0)","v":0},99,{"$f":"IF(IsDedicated,SUM(IF(SorcerorRed,2,0),IF(PrimaryRed,1,0)),0)","v":0},false,false,false,false]
["Red","Pillar of Flame 9","Pillar of Flame 8",null,null,null,false,99,{"$f":"IF(IsDedicated,SUM(IF(WizardRed,3,0),IF(PrimaryRed,1,0)),0)","v":0},3,{"$f":"IF(IsDedicated,SUM(IF(SorcerorRed,2,0),IF(PrimaryRed,1,0)),0)","v":0},{"$f":"AND(WizardRed=TRUE, IF(I277 >= H277, TRUE, IF(K277 >= J277, TRUE, FALSE)))","v":false},{"$f":"IF(D277>0, TRUE, FALSE)","v":false},{"$f":"IF(ISBLANK(C277), TRUE, IF(OFFSET($A$11, MATCH($C277, SpellNames, 0), 3) > 0, TRUE, FALSE))","v":false},false]
["Red","Pillar of Flame 10","Pillar of Flame 9",null,null,null,false,99,{"$f":"IF(IsDedicated,SUM(IF(WizardRed,3,0),IF(PrimaryRed,1,0)),0)","v":0},3,{"$f":"IF(IsDedicated,SUM(IF(SorcerorRed,2,0),IF(PrimaryRed,1,0)),0)","v":0},false,false,false,false]
["Red","Furious Fire 5",null,null,null,null,false,4,{"$f":"SUM(IF(WizardRed,3,0),IF(PrimaryRed,1,0),IF(OR(ArcherSpecialistMageGuild1=14,ArcherSpecialistMageGuild2=14),1,0))","v":0},99,{"$f":"SUM(IF(SorcerorRed,2,0),IF(PrimaryRed,1,0),IF(ArcherSpecialistSorcerorSchool=14,1,0))","v":0},false,false,true,false,"1-8",null,""]
["Red","Furious Fire 6","Furious Fire 5",null,null,null,false,4,0,99,0,false,{"$f":"IF(D280>0, TRUE, FALSE)","v":false},{"$f":"IF(ISBLANK(C280), TRUE, IF(OFFSET($A$11, MATCH($C280, SpellNames, 0), 3) > 0, TRUE, FALSE))","v":false},false,"1-8",null,""]
["Red","Furious Fire 7","Furious Fire 6",null,null,null,false,4,0,99,0,false,{"$f":"IF(D281>0, TRUE, FALSE)","v":false},{"$f":"IF(ISBLANK(C281), TRUE, IF(OFFSET($A$11, MATCH($C281, SpellNames, 0), 3) > 0, TRUE, FALSE))","v":false},false,"1-8",null,""]
["Red","Furious Fire 8","Furious Fire 7",null,null,null,false,4,0,99,0,false,{"$f":"IF(D282>0, TRUE, FALSE)","v":false},{"$f":"IF(ISBLANK(C282), TRUE, IF(OFFSET($A$11, MATCH($C282, SpellNames, 0), 3) > 0, TRUE, FALSE))","v":false},false,"1-8",null,""]
["Red","Flame Store 6",null,null,null,null,false,3,0,99,0,false,false,true,false,"1-8",null,""]
["Red","Flame Store 7","Flame Store 6",null,null,null,false,3,0,99,0,false,false,false,false,"1-8",null,""]
["Red","Flame Store 8","Flame Store 7",null,null,null,false,3,0,99,0,false,false,false,false,"1-8",null,""]
["Red","Affinity to Fire 9",null,null,null,null,false,99,0,3,0,false,false,true,false,"9",null,""]
["Red","Affinity to Fire 10","Affinity to Fire 9",null,null,null,false,99,0,3,0,false,false,false,false,"10",null,""]
["Red","Flame Shaper 9",null,null,null,null,false,99,0,2,0,false,false,true,false,"9",null,""]
["Red","Flame Shaper 10","Flame Shaper 9",null,null,null,false,99,0,2,0,false,false,false,false,"10",null,""]
["Red","Inner Fire 9",null,null,null,null,false,99,0,2,0,false,false,true,false,"9",null,""]
["Red","Inner Fire 10","Inner Fire 9",null,null,null,false,99,0,2,0,false,false,false,false,"10",null,""]
["Red","Fusillade of Flame 9",null,null,null,null,false,99,0,2,0,false,false,true,false,"9",null,""]
["Red","Fusillade of Flame 10","Fusillade of Flame 9",null,null,null,false,99,0,2,0,false,false,false,false,"10",null,""]
["White","Freeze 4, 5",null,null,null,null,{"$f":"IF(OR(ArcherSpecialistMageGuild1=14,ArcherSpecialistMageGuild2=14),TRUE,FALSE)","v":false},4,{"$f":"SUM(IF(WizardWhite,3,0),IF(PrimaryWhite,1,0),IF(OR(ArcherSpecialistMageGuild1=15,ArcherSpecialistMageGuild2=15),1,0))","v":0},99,{"$f":"SUM(IF(SorcerorWhite,2,0),IF(PrimaryWhite,1,0),IF(ArcherSpecialistSorcerorSchool=15,1,0))","v":0},{"$f":"AND(WizardWhite=TRUE, IF(I294 >= H294, TRUE, IF(K294 >= J294, TRUE, FALSE)))","v":false},false,true,false,null,null,{"$f":"IF(PrimaryGuildNumber=15,Q294,\"\")","v":""}]
["White","Deep Freeze 5",null,null,null,null,{"$f":"IF(OR(ArcherSpecialistMageGuild1=14,ArcherSpecialistMageGuild2=14),TRUE,FALSE)","v":false},3,0,99,0,{"$f":"AND(WizardWhite=TRUE, IF(I295 >= H295, TRUE, IF(K295 >= J295, TRUE, FALSE)))","v":false},{"$f":"IF(D295>0, TRUE, FALSE)","v":false},{"$f":"IF(ISBLANK(C295), TRUE, IF(OFFSET($A$11, MATCH($C295, SpellNames, 0), 3) > 0, TRUE, FALSE))","v":true},false,"1-8"]
["White","Mass Freeze 8",null,null,null,null,false,4,0,99,0,false,{"$f":"IF(D296>0, TRUE, FALSE)","v":false},{"$f":"IF(ISBLANK(C296), TRUE, IF(OFFSET($A$11, MATCH($C296, SpellNames, 0), 3) > 0, TRUE, FALSE))","v":true},false,"1-8",null,""]
["White","Mass Flash 5",null,null,null,null,{"$f":"IF(OR(ArcherSpecialistMageGuild1=14,ArcherSpecialistMageGuild2=14),TRUE,FALSE)","v":false},3,0,99,0,false,{"$f":"IF(D297>0, TRUE, FALSE)","v":false},{"$f":"IF(ISBLANK(C297), TRUE, IF(OFFSET($A$11, MATCH($C297, SpellNames, 0), 3) > 0, TRUE, FALSE))","v":true},false,"1-8",null,""]
["White","Fumble 4, 5",null,null,null,null,{"$f":"IF(OR(ArcherSpecialistMageGuild1=14,ArcherSpecialistMageGuild2=14),TRUE,FALSE)","v":false},3,0,99,0,false,false,true,false,"1-8",null,""]
["White","Mass Fumble 7","Fumble 4, 5",null,null,null,false,3,0,99,0,false,{"$f":"IF(D299>0, TRUE, FALSE)","v":false},{"$f":"IF(ISBLANK(C299), TRUE, IF(OFFSET($A$11, MATCH($C299, SpellNames, 0), 3) > 0, TRUE, FALSE))","v":false},false,"1-8",null,""]
["White","Staff of Ice 3",null,null,null,null,false,3,0,99,0,false,false,true,false,"1-8",null,""]
["White","Staff of Ice 6",null,null,null,null,false,3,0,99,0,false,{"$f":"IF(D301>0, TRUE, FALSE)","v":false},{"$f":"IF(ISBLANK(C301), TRUE, IF(OFFSET($A$11, MATCH($C301, SpellNames, 0), 3) > 0, TRUE, FALSE))","v":true},false,"1-8",null,""]
["White","Staff of Ice 7",null,null,null,null,false,3,0,99,0,false,{"$f":"IF(D302>0, TRUE, FALSE)","v":false},{"$f":"IF(ISBLANK(C302), TRUE, IF(OFFSET($A$11, MATCH($C302, SpellNames, 0), 3) > 0, TRUE, FALSE))","v":true},false,"1-8",null,""]
["White","Staff of Ice 8",null,null,null,null,false,3,0,99,0,false,{"$f":"IF(D303>0, TRUE, FALSE)","v":false},{"$f":"IF(ISBLANK(C303), TRUE, IF(OFFSET($A$11, MATCH($C303, SpellNames, 0), 3) > 0, TRUE, FALSE))","v":true},false,"1-8",null,""]
["White","Clear Sight 6",null,null,null,null,false,3,0,99,0,false,false,true,false,"1-8",null,""]
["White","Clear Sight 7","Clear Sight 6",null,null,null,false,3,0,99,0,false,false,false,false,"1-8",null,""]
["White","Ice Javelin 6",null,null,null,null,false,3,0,99,0,false,false,true,false,"1-8",null,""]
["White","Ice Javelin 7","Ice Javelin 6",null,null,null,false,3,0,99,0,false,false,false,false,"1-8",null,""]
["White","Ice Javelin 8","Ice Javelin 7",null,null,null,false,3,0,99,0,false,false,false,false,"1-8",null,""]
["White","Staff of Ice 6",null,null,null,null,false,3,0,99,0,false,{"$f":"IF(D309>0, TRUE, FALSE)","v":false},true,false,"1-8",null,""]
["White","Staff of Ice 7","Staff of Ice 6",null,null,null,false,3,0,99,0,false,false,false,false,"1-8",null,""]
["White","Staff of Ice 8","Staff of Ice 7",null,null,null,false,3,0,99,0,false,false,false,false,"1-8",null,""]
["White","Cone of Cold 6",null,null,null,null,false,3,0,99,0,false,false,true,false,"1-8",null,""]
["White","Cone of Cold 7","Cone of Cold 6",null,null,null,false,3,0,99,0,false,false,false,false,"1-8",null,""]
["White","Cone of Cold 8","Cone of Cold 7",null,null,null,false,3,0,99,0,false,false,false,false,"1-8",null,""]
["White","Cryostasis 6","Freeze 4, 5",null,null,null,false,4,0,99,0,false,false,false,false,"1-8",null,""]
["White","Cryostasis 7","Cryostasis 6",null,null,null,false,4,0,99,0,false,false,false,false,"1-8",null,""]
["White","Frostbite 6",null,null,null,null,false,4,0,99,0,false,false,{"$f":"IF(ISBLANK(C317), TRUE, IF(OFFSET($A$11, MATCH($C317, SpellNames, 0), 3) > 0, TRUE, FALSE))","v":true},false,"1-8",null,""]
["White","Frostbite 7","Frostbite 6",null,null,null,false,4,0,99,0,false,false,false,false,"1-8",null,""]
["White","Ice Store 6",null,null,null,null,false,3,0,99,0,false,false,true,false,"1-8",null,""]
["White","Ice Store 7","Ice Store 6",null,null,null,false,3,0,99,0,false,false,false,false,"1-8",null,""]
["White","Ice Store 8","Ice Store 7",null,null,null,false,3,0,99,0,false,false,false,false,"1-8",null,""]
["White","Immunity to Cold 6",null,null,null,null,false,4,0,99,0,false,false,true,false,"1-8",null,""]
["White","Immunity to Cold 7","Immunity to Cold 6",null,null,null,false,4,0,99,0,false,false,false,false,"1-8",null,""]
["White","Immunity to Cold 8","Immunity to Cold 7",null,null,null,false,4,0,99,0,false,false,false,false,"1-8",null,""]
["White","Hoarfrost 9",null,null,null,null,false,99,0,3,0,false,false,true,false,"9",null,""]
["White","Hoarfrost 10","Hoarfrost 9",null,null,null,false,99,0,3,0,false,false,false,false,"10",null,""]
["White","Affinity to Light 9",null,null,null,null,false,99,0,3,0,false,{"$f":"IF(D327>0, TRUE, FALSE)","v":false},{"$f":"IF(ISBLANK(C327), TRUE, IF(OFFSET($A$11, MATCH($C327, SpellNames, 0), 3) > 0, TRUE, FALSE))","v":true},false,"9",null,{"$f":"IF(PrimaryGuildNumber=15,Q327,\"\")","v":""}]
["White","Affinity to Light 10","Affinity to Light 9",null,null,null,false,99,0,3,0,false,{"$f":"IF(D328>0, TRUE, FALSE)","v":false},{"$f":"IF(ISBLANK(C328), TRUE, IF(OFFSET($A$11, MATCH($C328, SpellNames, 0), 3) > 0, TRUE, FALSE))","v":false},false,10,null,""]
["White","Vessel of Light 9",null,null,null,null,false,99,0,2,0,false,false,true,false,"9",null,""]
["White","Vessel of Light 10","Vessel of Light 9",null,null,null,false,99,0,2,0,false,false,false,false,"10",null,""]
["White","Embody Elemental of Ice 6",null,null,null,null,false,4,0,99,0,false,false,true,false,"1-8",null,""]
["White","Embody Elemental of Ice 7","Embody Elemental of Ice 6",null,null,null,false,4,0,99,0,false,false,false,false,"1-8",null,""]
["White","Embody Elemental of Ice 8","Embody Elemental of Ice 7",null,null,null,false,4,0,99,0,false,{"$f":"IF(D333>0, TRUE, FALSE)","v":false},{"$f":"IF(ISBLANK(C333), TRUE, IF(OFFSET($A$11, MATCH($C333, SpellNames, 0), 3) > 0, TRUE, FALSE))","v":false},{"$f":"OR(G333,M333,AND(L333,N333))","v":false},"1-8",null,""]
["White","Frost Weaver 9",null,null,null,null,false,99,0,3,0,false,false,true,false,"9",null,""]
["White","Frost Weaver 10","Frost Weaver 9",null,null,null,false,99,0,3,0,false,false,false,false,"10",null,""]
["White","Frozen Storm 9",null,null,null,null,false,99,0,2,0,false,false,true,false,"9",null,""]
["White","Frozen Storm 10","Frozen Storm 9",null,null,null,false,99,0,2,0,false,false,false,false,"10",null,""]
["Yellow","Forked Grasp 5",null,null,null,null,{"$f":"IF(OR(ArcherSpecialistMageGuild1=15,ArcherSpecialistMageGuild2=15),TRUE,FALSE)","v":false},4,{"$f":"SUM(IF(WizardYellow,3,0),IF(PrimaryYellow,1,0),IF(OR(ArcherSpecialistMageGuild1=16,ArcherSpecialistMageGuild2=16),1,0))","v":0},99,{"$f":"SUM(IF(SorcerorYellow,2,0),IF(PrimaryYellow,1,0),IF(ArcherSpecialistSorcerorSchool=16,1,0))","v":0},{"$f":"AND(WizardYellow=TRUE, IF(I338 >= H338, TRUE, IF(K338 >= J338, TRUE, FALSE)))","v":false},false,true,false,null,null,""]
["Yellow","Forked Grasp 6","Forked Grasp 5",null,null,null,false,4,0,99,0,false,{"$f":"IF(D339>0, TRUE, FALSE)","v":false},{"$f":"IF(ISBLANK(C339), TRUE, IF(OFFSET($A$11, MATCH($C339, SpellNames, 0), 3) > 0, TRUE, FALSE))","v":false},false,"1-8",null,""]
["Yellow","Forked Grasp 7","Forked Grasp 6",null,null,null,false,4,0,99,0,false,{"$f":"IF(D340>0, TRUE, FALSE)","v":false},{"$f":"IF(ISBLANK(C340), TRUE, IF(OFFSET($A$11, MATCH($C340, SpellNames, 0), 3) > 0, TRUE, FALSE))","v":false},false,"1-8",null,""]
["Yellow","Forked Grasp 8","Forked Grasp 7",null,null,null,false,4,0,99,0,false,{"$f":"IF(D341>0, TRUE, FALSE)","v":false},{"$f":"IF(ISBLANK(C341), TRUE, IF(OFFSET($A$11, MATCH($C341, SpellNames, 0), 3) > 0, TRUE, FALSE))","v":false},false,"1-8",null,""]
["Yellow","Lightning Bolt 6",null,null,null,null,false,3,0,99,0,false,false,true,false,"1-8",null,""]
["Yellow","Lightning Bolt 7","Lightning Bolt 6",null,null,null,false,3,0,99,0,false,false,false,false,"1-8",null,""]
["Yellow","Lightning Bolt 8","Lightning Bolt 7",null,null,null,false,3,0,99,0,false,false,false,false,"1-8",null,""]
["Yellow","Static Field 6",null,null,null,null,false,4,0,99,0,false,{"$f":"IF(D345>0, TRUE, FALSE)","v":false},{"$f":"IF(ISBLANK(C345), TRUE, IF(OFFSET($A$11, MATCH($C345, SpellNames, 0), 3) > 0, TRUE, FALSE))","v":true},false,"1-8",null,""]
["Yellow","Static Field 7","Static Field 6",null,null,null,false,4,0,99,0,false,{"$f":"IF(D346>0, TRUE, FALSE)","v":false},{"$f":"IF(ISBLANK(C346), TRUE, IF(OFFSET($A$11, MATCH($C346, SpellNames, 0), 3) > 0, TRUE, FALSE))","v":false},false,"1-8",null,""]
["Yellow","Static Field 8","Static Field 7",null,null,null,false,4,0,99,0,false,{"$f":"IF(D347>0, TRUE, FALSE)","v":false},{"$f":"IF(ISBLANK(C347), TRUE, IF(OFFSET($A$11, MATCH($C347, SpellNames, 0), 3) > 0, TRUE, FALSE))","v":false},false,"1-8",null,""]
["Yellow","Static Field 9","Static Field 8",null,null,null,false,99,0,3,0,false,{"$f":"IF(D348>0, TRUE, FALSE)","v":false},{"$f":"IF(ISBLANK(C348), TRUE, IF(OFFSET($A$11, MATCH($C348, SpellNames, 0), 3) > 0, TRUE, FALSE))","v":false},false,9,null,{"$f":"IF(PrimaryGuildNumber=15,Q348,\"\")","v":""}]
["Yellow","Static Field 10","Static Field 9",null,null,null,false,99,0,3,0,false,{"$f":"IF(D349>0, TRUE, FALSE)","v":false},{"$f":"IF(ISBLANK(C349), TRUE, IF(OFFSET($A$11, MATCH($C349, SpellNames, 0), 3) > 0, TRUE, FALSE))","v":false},false,10,null,""]
["Yellow","Mass Static Field 6",null,null,null,null,false,3,0,99,0,false,{"$f":"IF(D350>0, TRUE, FALSE)","v":false},{"$f":"IF(ISBLANK(C350), TRUE, IF(OFFSET($A$11, MATCH($C350, SpellNames, 0), 3) > 0, TRUE, FALSE))","v":true},false,"1-8",null,""]
["Yellow","Mass Static Field 7","Mass Static Field 6",null,null,null,false,3,0,99,0,false,false,false,false,"1-8",null,""]
["Yellow","Mass Static Field 8","Mass Static Field 7",null,null,null,false,3,0,99,0,false,false,false,false,"1-8",null,""]
["Yellow","Radial Static Field 6",null,null,null,null,false,3,0,99,0,false,false,true,false,"1-8",null,""]
["Yellow","Radial Static Field 7","Radial Static Field 6",null,null,null,false,3,0,99,0,false,false,false,false,"1-8",null,""]
["Yellow","Radial Static Field 8","Radial Static Field 7",null,null,null,false,3,0,99,0,false,false,false,false,"1-8",null,""]
["Yellow","Radial Static Field 9",null,null,null,null,false,99,0,3,0,false,{"$f":"IF(D356>0, TRUE, FALSE)","v":false},{"$f":"IF(ISBLANK(C356), TRUE, IF(OFFSET($A$11, MATCH($C356, SpellNames, 0), 3) > 0, TRUE, FALSE))","v":true},false,"9",null,""]
["Yellow","Radial Static Field 10","Radial Static Field 9",null,null,null,false,99,0,3,0,false,{"$f":"IF(D357>0, TRUE, FALSE)","v":false},{"$f":"IF(ISBLANK(C357), TRUE, IF(OFFSET($A$11, MATCH($C357, SpellNames, 0), 3) > 0, TRUE, FALSE))","v":false},false,"10",null,""]
["Yellow","Shocking Grasp 6",null,null,null,null,false,3,0,99,0,false,false,true,false,"1-8",null,""]
["Yellow","Shocking Grasp 7","Shocking Grasp 6",null,null,null,false,3,0,99,0,false,false,false,false,"1-8",null,""]
["Yellow","Shocking Grasp 8","Shocking Grasp 7",null,null,null,false,3,0,99,0,false,false,false,false,"1-8",null,""]
["Yellow","Chain Lightning 6",null,null,null,null,false,4,0,99,0,false,{"$f":"IF(D361>0, TRUE, FALSE)","v":false},{"$f":"IF(ISBLANK(C361), TRUE, IF(OFFSET($A$11, MATCH($C361, SpellNames, 0), 3) > 0, TRUE, FALSE))","v":true},false,"1-8",null,{"$f":"IF(PrimaryGuildNumber=15,Q361,\"\")","v":""}]
["Yellow","Chain Lightning 7","Chain Lightning 6",null,null,null,false,4,0,99,0,false,{"$f":"IF(D362>0, TRUE, FALSE)","v":false},{"$f":"IF(ISBLANK(C362), TRUE, IF(OFFSET($A$11, MATCH($C362, SpellNames, 0), 3) > 0, TRUE, FALSE))","v":false},false,"1-8",null,{"$f":"IF(PrimaryGuildNumber=15,Q362,\"\")","v":""}]
["Yellow","Chain Lightning 8","Chain Lightning 7",null,null,null,false,4,0,99,0,false,{"$f":"IF(D363>0, TRUE, FALSE)","v":false},{"$f":"IF(ISBLANK(C363), TRUE, IF(OFFSET($A$11, MATCH($C363, SpellNames, 0), 3) > 0, TRUE, FALSE))","v":false},false,"1-8",null,{"$f":"IF(PrimaryGuildNumber=15,Q363,\"\")","v":""}]
["Yellow","Chain Lightning 9","Chain Lightning 8",null,null,null,false,99,0,2,0,false,{"$f":"IF(D364>0, TRUE, FALSE)","v":false},{"$f":"IF(ISBLANK(C364), TRUE, IF(OFFSET($A$11, MATCH($C364, SpellNames, 0), 3) > 0, TRUE, FALSE))","v":false},false,"9",null,{"$f":"IF(PrimaryGuildNumber=15,Q364,\"\")","v":""}]
["Yellow","Chain Lightning 10","Chain Lightning 9",null,null,null,false,99,0,2,0,false,{"$f":"IF(D365>0, TRUE, FALSE)","v":false},{"$f":"IF(ISBLANK(C365), TRUE, IF(OFFSET($A$11, MATCH($C365, SpellNames, 0), 3) > 0, TRUE, FALSE))","v":false},false,"10",null,{"$f":"IF(PrimaryGuildNumber=15,Q365,\"\")","v":""}]
["Yellow","Charge Animate 6",null,null,null,null,false,4,0,99,0,false,false,true,false,"1-8",null,""]
["Yellow","Charge Animate 7","Charge Animate 6",null,null,null,false,4,0,99,0,false,false,false,false,"1-8",null,""]
["Yellow","Charge Animate 8","Charge Animate 7",null,null,null,false,4,0,99,0,false,false,false,false,"1-8",null,""]
["Yellow","Charge Self 9",null,null,null,null,false,99,0,2,0,false,{"$f":"IF(D369>0, TRUE, FALSE)","v":false},{"$f":"IF(ISBLANK(C369), TRUE, IF(OFFSET($A$11, MATCH($C369, SpellNames, 0), 3) > 0, TRUE, FALSE))","v":true},false,"9",null,{"$f":"IF(PrimaryGuildNumber=15,Q369,\"\")","v":""}]
["Yellow","Charge Self 10","Charge Self 9",null,null,null,false,99,{"$f":"SUM(IF(WizardYellow,3,0),IF(PrimaryYellow,1,0),IF(OR(ArcherSpecialistMageGuild1=16,ArcherSpecialistMageGuild2=16),1,0))","v":0},2,{"$f":"SUM(IF(SorcerorYellow,2,0),IF(PrimaryYellow,1,0),IF(ArcherSpecialistSorcerorSchool=16,1,0))","v":0},{"$f":"AND(WizardYellow=TRUE, IF(I370 >= H370, TRUE, IF(K370 >= J370, TRUE, FALSE)))","v":false},{"$f":"IF(D370>0, TRUE, FALSE)","v":false},{"$f":"IF(ISBLANK(C370), TRUE, IF(OFFSET($A$11, MATCH($C370, SpellNames, 0), 3) > 0, TRUE, FALSE))","v":false},false,"10",null,""]
["Yellow","Electify Weapon 6",null,null,null,null,false,3,0,99,0,false,{"$f":"IF(D371>0, TRUE, FALSE)","v":false},{"$f":"IF(ISBLANK(C371), TRUE, IF(OFFSET($A$11, MATCH($C371, SpellNames, 0), 3) > 0, TRUE, FALSE))","v":true},false,"1-8",null,""]
["Yellow","Electify Weapon 7","Electify Weapon 6",null,null,null,false,3,0,99,0,false,{"$f":"IF(D372>0, TRUE, FALSE)","v":false},{"$f":"IF(ISBLANK(C372), TRUE, IF(OFFSET($A$11, MATCH($C372, SpellNames, 0), 3) > 0, TRUE, FALSE))","v":false},false,"1-8",null,""]
["Yellow","Electify Weapon 8","Electify Weapon 7",null,null,null,false,3,0,99,0,false,{"$f":"IF(D373>0, TRUE, FALSE)","v":false},{"$f":"IF(ISBLANK(C373), TRUE, IF(OFFSET($A$11, MATCH($C373, SpellNames, 0), 3) > 0, TRUE, FALSE))","v":false},false,"1-8",null,""]
["Yellow","Lightning Store 6",null,null,null,null,false,3,0,99,0,false,false,true,false,"1-8",null,""]
["Yellow","Lightning Store 7","Lightning Store 6",null,null,null,false,3,0,99,0,false,false,false,false,"1-8",null,""]
["Yellow","Lightning Store 8","Lightning Store 7",null,null,null,false,3,0,99,0,false,false,false,false,"1-8",null,""]
["Yellow","Stun 6",null,null,null,null,false,4,0,99,0,false,false,true,false,"1-8",null,""]
["Yellow","Stun 7","Stun 6",null,null,null,false,4,0,99,0,false,false,false,false,"1-8",null,""]
["Yellow","Stun Store 9","Stun 6",null,null,null,false,99,0,3,0,false,{"$f":"IF(D379>0, TRUE, FALSE)","v":false},{"$f":"IF(ISBLANK(C379), TRUE, IF(OFFSET($A$11, MATCH($C379, SpellNames, 0), 3) > 0, TRUE, FALSE))","v":false},false,9,null,""]
["Yellow","Stun Store 10","Stun 7",null,null,null,false,99,0,3,0,false,false,false,false,10,null,""]
["Yellow","Affinity to Storms 9",null,null,null,null,false,99,0,3,0,false,false,true,false,"9",null,""]
["Yellow","Affinity to Storms 10","Affinity to Storms 9",null,null,null,false,99,0,3,0,false,false,false,false,"10",null,""]
["Yellow","Storm Caller 9",null,null,null,null,false,99,0,3,0,false,{"$f":"IF(D383>0, TRUE, FALSE)","v":false},true,false,"9",null,""]
["Yellow","Storm Caller 10","Storm Caller 9",null,null,null,false,99,0,3,0,false,false,false,false,"10",null,""]
["Yellow","Tempest 9",null,null,null,null,false,99,0,2,0,false,false,true,false,"9",null,""]
["Yellow","Tempest 10","Tempest 9",null,null,null,false,99,0,2,0,false,false,false,false,"10",null,""]
["Yellow","Embody Elemental of Lightning 6",null,null,null,null,false,4,0,99,0,false,{"$f":"IF(D387>0, TRUE, FALSE)","v":false},{"$f":"IF(ISBLANK(C387), TRUE, IF(OFFSET($A$11, MATCH($C387, SpellNames, 0), 3) > 0, TRUE, FALSE))","v":true},false,"1-8",null,""]
["Yellow","Embody Elemental of Lightning 7","Embody Elemental of Lightning 6",null,null,null,false,4,0,99,0,false,false,false,false,"1-8",null,""]
["Yellow","Embody Elemental of Lightning 8","Embody Elemental of Lightning 7",null,null,null,false,4,0,99,0,false,false,false,false,"1-8",null,""]
["All","Dispel Magic 6",null,null,null,null,false,3,{"$f":"SUM(IF(HasWizardry,3,0), IF(OR(PrimaryBlack, PrimaryBlue, PrimaryBrown, PrimaryGreen, PrimaryGrey, PrimaryRed, PrimaryWhite, PrimaryYellow),1,0))","v":0},99,{"$f":"SUM(IF(HasSorcery,2,0), IF(OR(PrimaryBlack, PrimaryBlue, PrimaryBrown, PrimaryGreen, PrimaryGrey, PrimaryRed, PrimaryWhite, PrimaryYellow),1,0))","v":0},{"$f":"IF(I390 >= H390, TRUE, IF(K390 >= J390, TRUE, FALSE))","v":false},false,true,false]
["All","Dispel Magic 7","Dispel Magic 6",null,null,null,false,3,0,99,0,false,false,false,false]
["All","Dispel Magic 8","Dispel Magic 7",null,null,null,false,3,0,99,0,false,false,false,false]
["All","Wizards Dispel 6",null,null,null,null,false,4,0,99,0,{"$f":"IF(I393 >= H393, TRUE, IF(K393 >= J393, TRUE, FALSE))","v":false},{"$f":"IF(D393>0, TRUE, FALSE)","v":false},{"$f":"IF(ISBLANK(C393), TRUE, IF(OFFSET($A$11, MATCH($C393, SpellNames, 0), 3) > 0, TRUE, FALSE))","v":true},false,null,null,{"$f":"IF(PrimaryGuildNumber=9,Q393,\"\")","v":""}]
["All","Sorcerers Dispel 9",null,null,null,null,false,99,0,3,0,{"$f":"IF(I394 >= H394, TRUE, IF(K394 >= J394, TRUE, FALSE))","v":false},{"$f":"IF(D394>0, TRUE, FALSE)","v":false},{"$f":"IF(ISBLANK(C394), TRUE, IF(OFFSET($A$11, MATCH($C394, SpellNames, 0), 3) > 0, TRUE, FALSE))","v":true},false,null,null,{"$f":"IF(PrimaryGuildNumber=9,Q394,\"\")","v":""}]
["All","Sorcerers Dispel 10","Sorcerers Dispel 9",null,null,null,false,99,0,3,0,false,false,false,false]
["Purple","Affinity to Magic 9",null,null,null,null,false,4,{"$f":" IF(IsPurpleMagic,4,0)","v":0},3,{"$f":" IF(AND(HasSorcery, PrimaryBlack, PrimaryBlue, PrimaryBrown, PrimaryGreen, PrimaryGrey, PrimaryRed, PrimaryWhite, PrimaryYellow),3,0)","v":0},false,false,true,false,9]
["Purple","Affinity to Magic 10","Affinity to Magic 9",null,null,null,false,4,0,3,0,false,false,{"$f":"IF(ISBLANK(C397), TRUE, IF(OFFSET($A$11, MATCH($C397, SpellNames, 0), 3) > 0, TRUE, FALSE))","v":false},{"$f":"OR(G397,M397,AND(L397,N397))","v":false},10]
["Purple","Elemental Vessel 5",null,null,null,null,false,4,0,3,0,false,false,true,false,"1-8"]
["Purple","Elemental Vessel 8","Elemental Vessel 5",null,null,null,false,4,0,3,0,false,false,false,false,"1-8"]
["Purple","Mana Suppression 1-5",null,null,null,null,false,4,0,3,0,false,false,true,false,"1-8"]
["Purple","Mana Suppression 6","Mana Suppression 1-5",null,null,null,false,4,0,3,0,false,false,false,false,"1-8"]
["Purple","Mana Suppression 7","Mana Suppression 6",null,null,null,false,4,0,3,0,false,false,false,false,"1-8"]
["Purple","Mana Suppression 8","Mana Suppression 7",null,null,null,false,4,0,3,0,false,false,false,false,"1-8"]
["Purple","Mana Suppression 9","Mana Suppression 8",null,null,null,false,4,0,3,0,false,false,false,false,9]
["Purple","Mana Suppression 10","Mana Suppression 9",null,null,null,false,4,0,3,0,false,false,false,false,10]
["Purple","Permanency 10",null,null,null,null,false,4,0,3,0,false,false,true,false,10]
["Purple","Spell Extension 1-5",null,null,null,null,false,4,0,3,0,false,false,true,false,"1-8"]
["Purple","Spell Extension 6","Spell Extension 1-5",null,null,null,false,4,0,3,0,false,false,false,false,"1-8"]
["Purple","Spell Extension 7","Spell Extension 6",null,null,null,false,4,0,3,0,false,false,false,false,"1-8"]
["Purple","Spell Extension 8","Spell Extension 7",null,null,null,false,4,0,3,0,false,false,false,false,"1-8"]
["Purple","Spell Extension 9","Spell Extension 8",null,null,null,false,4,0,3,0,false,false,false,false,9]
["Purple","Spell Extension 10","Spell Extension 9",null,null,null,false,4,0,3,0,false,false,false,false,10]
["Purple","Spell Guard 1-5",null,null,null,null,false,4,0,3,0,false,false,true,false,"1-8"]
["Purple","Spell Guard 6","Spell Guard 1-5",null,null,null,false,4,0,3,0,false,false,false,false,"1-8"]
["Purple","Spell Guard 7","Spell Guard 6",null,null,null,false,4,0,3,0,false,false,false,false,"1-8"]
["Purple","Spell Guard 8","Spell Guard 7",null,null,null,false,4,0,3,0,false,false,false,false,"1-8"]
["Purple","Spell Guard 9","Spell Guard 8",null,null,null,false,4,0,3,0,false,false,false,false,9]
["Purple","Spell Guard 10","Spell Guard 9",null,null,null,false,4,0,3,0,false,false,false,false,10]
["Generalist","Flashing Blade 5",null,null,null,null,false,4,{"$f":" IF(AND(PrimaryRed,PrimaryWhite,IsGeneralist),4,0)","v":0},99,0,false,false,true,false,"1-8"]
["Generalist","Flashing Blade 5",null,null,null,null,false,4,{"$f":" IF(AND(PrimaryBlack,PrimaryWhite,IsGeneralist),4,0)","v":0},99,0,{"$f":"IF(I420 >= H420, TRUE, IF(K420 >= J420, TRUE, FALSE))","v":false},{"$f":"IF(D420>0, TRUE, FALSE)","v":false},{"$f":"IF(ISBLANK(C420), TRUE, IF(OFFSET($A$11, MATCH($C420, SpellNames, 0), 3) > 0, TRUE, FALSE))","v":true},false,"1-8"]
["Generalist","Quicksand 5",null,null,null,null,false,4,{"$f":" IF(AND(PrimaryBrown,PrimaryGreen,IsGeneralist),4,0)","v":0},99,0,false,false,true,false,"1-8"]
["Generalist","Grounding 5",null,null,null,null,false,4,{"$f":" IF(AND(PrimaryGrey,PrimaryYellow,IsGeneralist),4,0)","v":0},99,0,{"$f":"IF(I422 >= H422, TRUE, IF(K422 >= J422, TRUE, FALSE))","v":false},{"$f":"IF(D422>0, TRUE, FALSE)","v":false},{"$f":"IF(ISBLANK(C422), TRUE, IF(OFFSET($A$11, MATCH($C422, SpellNames, 0), 3) > 0, TRUE, FALSE))","v":true},false,"1-8"]
["Generalist","Grounding 5",null,null,null,null,false,4,{"$f":" IF(AND(PrimaryGrey,PrimaryBrown,IsGeneralist),4,0)","v":0},99,0,false,false,true,false,"1-8"]
["Generalist","Permafrost 5",null,null,null,null,false,4,{"$f":" IF(AND(PrimaryBrown,PrimaryWhite,IsGeneralist),4,0)","v":0},99,0,false,false,true,false,"1-8"]
["Generalist","Burning Hands 5",null,null,null,null,false,4,{"$f":" IF(AND(PrimaryRed,PrimaryYellow,IsGeneralist),4,0)","v":0},99,0,false,false,true,false,"1-8"]
["Generalist","Blinding Bolt 5",null,null,null,null,false,4,{"$f":" IF(AND(PrimaryRed,PrimaryWhite,IsGeneralist),4,0)","v":0},99,0,false,false,true,false,"1-8"]

{"sheet":"Power","index":4,"n_rows":531,"n_cols":14,"rows_kept":531,"cut":false,"hidden":false,"merged":[[2,1,2,2],[4,1,4,2],[5,1,5,2],[3,1,3,3],[13,8,13,11],[7,1,7,2],[8,1,8,2],[9,1,9,2],[6,1,6,2]]}
[null,"Invocations to Show"]
[null,4,1]
[null,"Total Status for 1-8 Invocations",null,{"$f":"SUM('The Character'!C235:D235)","v":0},null,null,null,"1 = none"]
[null,null,null,null,null,null,null,"2 = Lay Secondary"]
[null,"Total Invocations 1-8 Available",null,{"$f":"3 * PriestStatusTotal","v":0},null,null,null,"3 = Lay Primary"]
[null,"Total Invocations 1-8 Known",null,{"$f":"SUMIF(InvocationStatusCount, \"1-8\", InvocationBought)","v":0},null,null,null,"4 = Ritual Secondary"]
[null,"Total Invocations 9 Available",null,{"$f":"2 * SUM('The Character'!C236:D236)","v":0},null,null,null,"5 = Ritual Primary"]
[null,"Total Invocations 9 Spent",null,{"$f":"SUMIF(InvocationStatusCount, \"9\", InvocationBought)","v":0},null,null,null,"6 = Cosmic Secondary"]
[null,"Total Invocations 10 Available",null,{"$f":"SUM('The Character'!C237:D237)","v":0},null,null,null,"7 = Cosmic Primary"]
[null,"Total Invocations 10 Spent",null,{"$f":"SUMIF(InvocationStatusCount, \"10\", InvocationBought)","v":0}]
[]
[]
[]
[null,null,null,null,null,null,null,null,"Headings used in VB Modules > Module1"]
[null,null,null,null,null,null,null,null,"All Invocations","Known ","Available","Known/ Avaiable"]
["Sect","Spell Name","Requires","Bought",null,"Priest Level Required","Your Priest Level","Primary Only?","Priest Available - Level / PrimSec","Known","Prerequisits Known","Known and/or Available","Status Grouping","IsPrimary"]
["Brethren","Arm of Might 6",null,null,null,5,{"$f":"SUM(IF(PrimaryBrethren,1,0),IF(GuildBrethren,2,0),IF(HighPriestBrethren,2,0),IF(PriestBrethren,2,0),IF(ArcherSpecialistHighPreistSect=27,2,0))","v":0},{"$f":"TRUE","v":true},{"$f":"IF(G17 >= F17,IF(ISODD(BrethrenPriestLevel),TRUE,IF(H17=FALSE,TRUE,FALSE)), FALSE)","v":false},{"$f":"IF(D17>0, TRUE, FALSE)","v":false},{"$f":"IF(ISBLANK($C17),TRUE,IF(INDEX(BrethrenPreReq,MATCH($C17,BrethrenInvocationNames,0),3)=1,TRUE,FALSE))","v":true},{"$f":"OR(J17,(AND(G17>=F17,K17,(IF(H17,N17,TRUE)))))","v":false},"1-8",{"$f":"PrimaryBrethren","v":false}]
["Brethren","Arm of Might 7","Arm of Might 6",null,null,5,0,{"$f":"TRUE","v":true},false,false,false,{"$f":"OR(J18,(AND(G18>=F18,K18,(IF(H18,N18,TRUE)))))","v":false},"1-8",false]
["Brethren","Arm of Might 8","Arm of Might 7",null,null,5,0,{"$f":"TRUE","v":true},false,false,false,false,"1-8",false]
["Brethren","Arm of Might 9","Arm of Might 8",null,null,7,0,{"$f":"TRUE","v":true},false,false,false,false,"9",false]
["Brethren","Attract Good 6",null,null,null,5,0,{"$f":"TRUE","v":true},false,{"$f":"IF(D21>0, TRUE, FALSE)","v":false},true,false,"1-8",false]
["Brethren","Banish Good Spirit 7",null,null,null,5,0,{"$f":"TRUE","v":true},false,{"$f":"IF(D22>0, TRUE, FALSE)","v":false},true,false,"1-8",false]
["Brethren","Banish Good Spirit 9","Banish Good Spirit 7",null,null,7,0,{"$f":"TRUE","v":true},false,{"$f":"IF(D23>0, TRUE, FALSE)","v":false},false,false,"9",false]
["Brethren","Blight 6",null,null,null,5,0,{"$f":"TRUE","v":true},false,false,true,false,"1-8",false]
["Brethren","Blight 7","Blight 6",null,null,5,0,{"$f":"TRUE","v":true},false,false,false,false,"1-8",false]
["Brethren","Blight 8","Blight 7",null,null,5,0,{"$f":"TRUE","v":true},false,false,false,false,"1-8",false]
["Brethren","Blight 9","Blight 8",null,null,7,0,{"$f":"TRUE","v":true},false,false,false,false,"9",false]
["Brethren","Cause Mortal 6",null,null,null,4,0,{"$f":"FALSE","v":false},false,false,true,false,"1-8",false]
["Brethren","Cause Mortal 7","Cause Mortal 6",null,null,4,0,{"$f":"FALSE","v":false},false,false,false,false,"1-8",false]
["Brethren","Cause Mortal 8","Cause Mortal 7",null,null,4,0,{"$f":"FALSE","v":false},false,false,false,false,"1-8",false]
["Brethren","Cause Mortal 9","Cause Mortal 8",null,null,6,0,{"$f":"FALSE","v":false},false,false,false,false,"9",false]
["Brethren","Destroy Spiritual Protection 7",null,null,null,5,0,{"$f":"TRUE","v":true},false,false,true,false,"1-8",false]
["Brethren","Favour of Ushaz 6",null,null,null,5,0,{"$f":"TRUE","v":true},false,false,true,false,"1-8",false]
["Brethren","Favour of Ushaz 7","Favour of Ushaz 6",null,null,5,0,{"$f":"TRUE","v":true},false,false,false,false,"1-8",false]
["Brethren","Favour of Ushaz 8","Favour of Ushaz 7",null,null,5,0,{"$f":"TRUE","v":true},false,false,false,false,"1-8",false]
["Brethren","Power Drain (R) 3  to  5",null,null,null,2,0,{"$f":"FALSE","v":false},false,false,true,false,"1-8",false]
["Brethren","Power Drain 6",null,null,null,4,0,{"$f":"FALSE","v":false},false,false,true,false,"1-8",false]
["Brethren","Power Drain 7","Power Drain 6",null,null,4,0,{"$f":"FALSE","v":false},false,false,false,false,"1-8",false]
["Brethren","Power Drain 8","Power Drain 7",null,null,4,0,{"$f":"FALSE","v":false},false,false,false,false,"1-8",false]
["Brethren","Shroud of Ushaz 7",null,null,null,4,0,{"$f":"FALSE","v":false},false,false,true,false,"1-8",false]
["Brethren","Shroud of Ushaz 9","Shroud of Ushaz 7",null,null,6,0,{"$f":"FALSE","v":false},false,false,false,false,"9",false]
["Brethren","Shroud of Ushaz 10","Shroud of Ushaz 9",null,null,7,0,{"$f":"TRUE","v":true},false,false,false,false,"10",false]
["Brethren","Spiritual Barrier 8",null,null,null,5,0,{"$f":"TRUE","v":true},false,false,true,false,"1-8",false]
["Brethren","Touch of Evil 6",null,null,null,4,0,{"$f":"FALSE","v":false},false,false,true,false,"1-8",false]
["Brethren","Greater Curse 8",null,null,null,4,0,{"$f":"FALSE","v":false},false,false,true,false,"1-8",false]
["Brethren","Curse 9","Greater Curse 8",null,null,6,0,{"$f":"FALSE","v":false},false,{"$f":"IF(D46>0, TRUE, FALSE)","v":false},false,false,"9",false]
["Brethren","Curse Pact 10","Curse 9",null,null,7,0,{"$f":"TRUE","v":true},false,false,false,false,"10",false]
["Brethren","Fear Pact 9",null,null,null,6,0,{"$f":"FALSE","v":false},false,false,true,false,"9",false]
["Brethren","Might of Ushaz 9","Weapon of Woe 8",null,null,7,0,{"$f":"TRUE","v":true},false,false,false,false,"9",false]
["Brethren","Might of Ushaz 10","Might of Ushaz 9",null,null,7,0,{"$f":"TRUE","v":true},false,false,false,false,"10",false]
["Brethren","Unhallowed Ground 9",null,null,null,6,0,{"$f":"FALSE","v":false},false,false,true,false,"9",false]
["Brethren","Weapon of Woe 6",null,null,null,4,0,{"$f":"FALSE","v":false},false,false,true,false,"1-8",false]
["Brethren","Weapon of Woe 7","Weapon of Woe 6",null,null,4,0,{"$f":"FALSE","v":false},false,false,false,false,"1-8",false]
["Brethren","Weapon of Woe 8","Weapon of Woe 7",null,null,4,0,{"$f":"FALSE","v":false},false,false,false,false,"1-8",false]
["Brethren","Weapon of Woe 9","Weapon of Woe 8",null,null,7,0,{"$f":"TRUE","v":true},false,false,false,false,"9",false]
["Dark Path","Beguilement 1  to  5",null,null,null,3,{"$f":"SUM(IF(PrimaryDarlPath,1,0),IF(GuildDarkPath,2,0),IF(HighPriestDarkPath,2,0),IF(PriestDarkPath,2,0),IF(ArcherSpecialistHighPreistSect=25,2,0))","v":0},{"$f":"TRUE","v":true},{"$f":"IF(G56 >= F56,IF(ISODD(DarkPathPriestLevel),TRUE,IF(H56=FALSE,TRUE,FALSE)), FALSE)","v":false},false,{"$f":"IF(ISBLANK($C56),TRUE,IF(INDEX(DarkPathPreReq,MATCH($C56,DarkPathInvocationNames,0),3)=1,TRUE,FALSE))","v":true},false,"1-8",{"$f":"PrimaryDarlPath","v":false}]
["Dark Path","Beguilement 6","Beguilement 1  to  5",null,null,5,0,{"$f":"TRUE","v":true},false,false,false,false,"1-8",false]
["Dark Path","Beguilement 7","Beguilement 6",null,null,5,0,{"$f":"TRUE","v":true},false,false,false,false,"1-8",false]
["Dark Path","Beguilement 8","Beguilement 7",null,null,5,0,{"$f":"TRUE","v":true},false,false,false,false,"1-8",false]
["Dark Path","Power Drain (R) 3  to  5",null,null,null,2,0,{"$f":"FALSE","v":false},false,false,true,false,"1-8",false]
["Dark Path","Power Drain 6",null,null,null,4,0,{"$f":"FALSE","v":false},false,false,true,false,"1-8",false]
["Dark Path","Power Drain 7","Power Drain 6",null,null,4,0,{"$f":"FALSE","v":false},false,false,false,false,"1-8",false]
["Dark Path","Power Drain 8","Power Drain 7",null,null,4,0,{"$f":"FALSE","v":false},false,false,false,false,"1-8",false]
["Dark Path","Power Drain Range 6","Power Drain (R) 3  to  5",null,null,4,0,{"$f":"FALSE","v":false},false,false,false,false,"1-8",false]
["Dark Path","Power Drain Range 7","Power Drain Range 6",null,null,4,0,{"$f":"FALSE","v":false},false,false,false,false,"1-8",false]
["Dark Path","Power Drain Range 8","Power Drain Range 7",null,null,4,0,{"$f":"FALSE","v":false},false,false,false,false,"1-8",false]
["Dark Path","Cause Mortal 6",null,null,null,4,0,{"$f":"FALSE","v":false},false,false,true,false,"1-8",false]
["Dark Path","Cause Mortal 7","Cause Mortal 6",null,null,4,0,{"$f":"FALSE","v":false},false,false,false,false,"1-8",false]
["Dark Path","Cause Mortal 8","Cause Mortal 7",null,null,4,0,{"$f":"FALSE","v":false},false,false,false,false,"1-8",false]
["Dark Path","Cause Mortal 9","Cause Mortal 8",null,null,6,0,{"$f":"FALSE","v":false},false,false,false,false,"9",false]
["Dark Path","Feeblemind 8",null,null,null,5,0,{"$f":"TRUE","v":true},false,false,true,false,"1-8",false]
["Dark Path","Fear Pact 9",null,null,null,6,{"$f":"SUM(IF(PrimaryHumacti,1,0),IF(GuildHumacti,2,0),IF(HighPriestHumacti,2,0),IF(PriestHumacti,2,0),IF(ArcherSpecialistHighPreistSect=27,2,0))","v":0},{"$f":"FALSE","v":false},false,{"$f":"IF(D72>0, TRUE, FALSE)","v":false},true,{"$f":"OR(J72,(AND(G72>=F72,K72,(IF(H72,N72,TRUE)))))","v":false},"9",false]
["Dark Path","Greater Curse 8",null,null,null,4,0,{"$f":"FALSE","v":false},false,false,true,false,"1-8",false]
["Dark Path","Curse 9","Greater Curse 8",null,null,6,0,{"$f":"FALSE","v":false},false,{"$f":"IF(D74>0, TRUE, FALSE)","v":false},false,false,"9",false]
["Dark Path","Mass Curse 8",null,null,null,4,0,{"$f":"FALSE","v":false},false,false,true,false,"1-8",false]
["Dark Path","Inflict Pain 6",null,null,null,5,0,{"$f":"TRUE","v":true},false,false,true,false,"1-8",false]
["Dark Path","Possession 8 ",null,null,null,5,0,{"$f":"TRUE","v":true},false,false,true,false,"1-8",false]
["Dark Path","Power Steal 6",null,null,null,4,0,{"$f":"FALSE","v":false},false,false,true,false,"1-8",false]
["Dark Path","Power Steal 7","Power Steal 6",null,null,4,0,{"$f":"FALSE","v":false},false,false,false,false,"1-8",false]
["Dark Path","Power Steal 8","Power Steal 7",null,null,4,0,{"$f":"FALSE","v":false},false,false,false,false,"1-8",false]
["Dark Path","Power Steal 9","Power Steal 8",null,null,7,0,{"$f":"TRUE","v":true},false,false,false,false,"9",false]
["Dark Path","Shroud of Ushaz 7 ",null,null,null,4,0,{"$f":"FALSE","v":false},false,false,true,false,"1-8",false]
["Dark Path","Shroud of Ushaz 9","Shroud of Ushaz 7 ",null,null,6,0,{"$f":"FALSE","v":false},false,false,false,{"$f":"OR(J83,(AND(G83>=F83,K83,(IF(H83,N83,TRUE)))))","v":false},"9",false]
["Dark Path","Shroud of Ushaz 10","Shroud of Ushaz 9",null,null,7,0,{"$f":"TRUE","v":true},false,false,false,false,"10",false]
["Dark Path","Touch of Evil 6 ",null,null,null,4,0,{"$f":"FALSE","v":false},false,false,true,false,"1-8",false]
["Dark Path","Forked Tongue 9","Beguilement 8",null,null,7,0,{"$f":"TRUE","v":true},false,false,false,false,"9",false]
["Dark Path","Forked Tongue 10","Forked Tongue 9",null,null,7,0,{"$f":"TRUE","v":true},false,false,false,false,"10",false]
["Dark Path","Spiritual Barrier 8",null,null,null,5,0,{"$f":"FALSE","v":false},false,{"$f":"IF(D88>0, TRUE, FALSE)","v":false},true,false,"1-8",false]
["Dark Path","Spiritual Barrier 9","Spiritual Barrier 8",null,null,7,0,{"$f":"FALSE","v":false},false,false,false,false,"9",false]
["Dark Path","Unhallowed Ground 9",null,null,null,6,0,{"$f":"FALSE","v":false},false,false,true,false,"9",false]
["Dark Path","Weapon of Woe 6",null,null,null,4,0,{"$f":"FALSE","v":false},false,false,true,false,"1-8",false]
["Dark Path","Weapon of Woe 7","Weapon of Woe 6",null,null,4,0,{"$f":"FALSE","v":false},false,false,false,false,"1-8",false]
["Dark Path","Weapon of Woe 8","Weapon of Woe 7",null,null,4,0,{"$f":"FALSE","v":false},false,false,false,false,"1-8",false]
["Dark Path","Weapon of Woe 9","Weapon of Woe 8",null,null,7,0,{"$f":"TRUE","v":true},false,false,false,false,"9",false]
["Reaper","Life Steal 5",null,null,null,5,{"$f":"SUM(IF(PrimaryReaper,1,0),IF(GuildReaper,2,0),IF(HighPriestReaper,2,0),IF(PriestReaper,2,0),IF(ArcherSpecialistHighPreistSect=28,2,0),IF(ArcherSpecialistHighPreistSect=28,2,0))","v":0},{"$f":"TRUE","v":true},{"$f":"IF(G95 >= F95,IF(ISODD(ReaperPriestLevel),TRUE,IF(H95=FALSE,TRUE,FALSE)), FALSE)","v":false},{"$f":"IF(D95>0, TRUE, FALSE)","v":false},{"$f":"IF(ISBLANK($C95),TRUE,IF(INDEX(ReaperPereReq,MATCH($C95,ReaperInvocationNames,0),3)=1,TRUE,FALSE))","v":true},false,"1-8",{"$f":"PrimaryReaper","v":false}]
["Reaper","Life Steal 6","Life Steal 5",null,null,5,0,{"$f":"TRUE","v":true},false,false,false,false,"1-8",false]
["Reaper","Life Steal 7","Life Steal 6",null,null,5,0,{"$f":"TRUE","v":true},false,false,false,false,"1-8",false]
["Reaper","Life Steal 8","Life Steal 7",null,null,5,0,{"$f":"TRUE","v":true},false,false,false,false,"1-8",false]
["Reaper","Cause Disease 7",null,null,null,4,0,{"$f":"FALSE","v":false},false,false,true,false,"1-8",false]
["Reaper","Cause Disease 9","Cause Disease 7",null,null,7,0,{"$f":"TRUE","v":true},false,false,false,false,"9",false]
["Reaper","Cause Mortal 6",null,null,null,4,0,{"$f":"FALSE","v":false},false,false,true,false,"1-8",false]
["Reaper","Cause Mortal 7","Cause Mortal 6",null,null,4,0,{"$f":"FALSE","v":false},false,false,false,false,"1-8",false]
["Reaper","Cause Mortal 8","Cause Mortal 7",null,null,4,0,{"$f":"FALSE","v":false},false,false,false,false,"1-8",false]
["Reaper","Cause Mortal 9","Cause Mortal 8",null,null,6,0,{"$f":"FALSE","v":false},false,false,false,false,"9",false]
["Reaper","Cause Mortal 10","Cause Mortal 9",null,null,6,0,{"$f":"FALSE","v":false},false,false,false,false,"10",false]
["Reaper","Power Drain 6",null,null,null,4,0,{"$f":"FALSE","v":false},false,false,true,false,"1-8",false]
["Reaper","Power Drain 7","Power Drain 6",null,null,4,0,{"$f":"FALSE","v":false},false,false,false,false,"1-8",false]
["Reaper","Power Drain 8","Power Drain 7",null,null,4,0,{"$f":"FALSE","v":false},false,false,false,false,"1-8",false]
["Reaper","Power Steal 6",null,null,null,4,0,{"$f":"FALSE","v":false},false,false,true,false,"1-8",false]
["Reaper","Power Steal 7","Power Steal 6",null,null,4,0,{"$f":"FALSE","v":false},false,false,false,false,"1-8",false]
["Reaper","Power Steal 8","Power Steal 7",null,null,4,0,{"$f":"FALSE","v":false},false,false,false,false,"1-8",false]
["Reaper","Power Steal 9","Power Steal 8",null,null,7,0,{"$f":"TRUE","v":true},false,false,false,false,"9",false]
["Reaper","Spiritual Barrier 8",null,null,null,5,0,{"$f":"TRUE","v":true},false,false,true,false,"1-8",false]
["Reaper","Inflict Pain 6",null,null,null,5,0,{"$f":"TRUE","v":true},false,false,true,false,"1-8",false]
["Reaper","Spirit Wrack 8","Inflict Pain 6",null,null,5,0,{"$f":"TRUE","v":true},false,false,false,false,"1-8",false]
["Reaper","Touch of Evil 6",null,null,null,4,0,{"$f":"FALSE","v":false},false,false,true,false,"1-8",false]
["Reaper","Touch of Evil 8","Touch of Evil 6",null,null,5,0,{"$f":"TRUE","v":true},false,false,false,false,"1-8",false]
["Reaper","Death Pact 10",null,null,null,7,0,{"$f":"TRUE","v":true},false,false,true,false,"10",false]
["Reaper","Master of Pain 9","Spirit Wrack 8",null,null,7,0,{"$f":"TRUE","v":true},false,false,false,false,"9",false]
["Reaper","Master of Pain 10","Master of Pain 9",null,null,7,0,{"$f":"TRUE","v":true},false,false,false,false,"10",false]
["Reaper","Shroud of Ushaz 7",null,null,null,4,0,{"$f":"FALSE","v":false},false,false,true,false,"1-8",false]
["Reaper","Shroud of Ushaz 9","Shroud of Ushaz 7",null,null,6,0,{"$f":"FALSE","v":false},false,false,false,false,"9",false]
["Reaper","Shroud of Ushaz 10","Shroud of Ushaz 9",null,null,7,0,{"$f":"TRUE","v":true},false,false,false,false,"10",false]
["Reaper","Unhallowed Ground 9",null,null,null,6,0,{"$f":"FALSE","v":false},false,false,true,false,"9",false]
["Dark Seers","Beguilement 1  to  5",null,null,null,5,{"$f":"SUM(IF(PrimarySeer,1,0),IF(GuildSeer,2,0),IF(HighPriestSeer,2,0),IF(PriestSeer,2,0),IF(ArcherSpecialistHighPreistSect=26,2,0))","v":0},{"$f":"TRUE","v":true},{"$f":"IF(G125 >= F125,IF(ISODD(DarkSeersPriestLevel),TRUE,IF(H125=FALSE,TRUE,FALSE)), FALSE)","v":false},false,{"$f":"IF(ISBLANK($C125),TRUE,IF(INDEX(SeerPreReq,MATCH($C125,DarkSeerInvocationNames,0),3)=1,TRUE,FALSE))","v":true},false,"1-8",{"$f":"PrimarySeer","v":false}]
["Dark Seers","Beguilement 6","Beguilement 1  to  5",null,null,5,0,{"$f":"TRUE","v":true},false,false,false,false,"1-8",false]
["Dark Seers","Beguilement 7","Beguilement 6",null,null,5,0,{"$f":"TRUE","v":true},false,false,false,false,"1-8",false]
["Dark Seers","Beguilement 8","Beguilement 7",null,null,5,0,{"$f":"TRUE","v":true},false,false,false,false,"1-8",false]
["Dark Seers","Eyes of the Seer 2, 4",null,null,null,2,0,{"$f":"FALSE","v":false},false,false,true,false,"1-8",false]
["Dark Seers","Eyes of the Seer 6","Eyes of the Seer 2, 4",null,null,5,0,{"$f":"TRUE","v":true},false,false,false,false,"1-8",false]
["Dark Seers","Eyes of the Seer 8","Eyes of the Seer 6",null,null,5,0,{"$f":"TRUE","v":true},false,false,false,false,"1-8",false]
["Dark Seers","Eyes of the Master 9","Eyes of the Seer 8",null,null,7,0,{"$f":"TRUE","v":true},{"$f":"IF(G132 >= F132,IF(ISODD(DarkSeersPriestLevel),TRUE,IF(H132=FALSE,TRUE,FALSE)), FALSE)","v":false},{"$f":"IF(D132>0, TRUE, FALSE)","v":false},false,false,"9",false]
["Dark Seers","Eyes of the Master 10","Eyes of the Master 9",null,null,7,0,{"$f":"TRUE","v":true},{"$f":"IF(G133 >= F133,IF(ISODD(DarkSeersPriestLevel),TRUE,IF(H133=FALSE,TRUE,FALSE)), FALSE)","v":false},{"$f":"IF(D133>0, TRUE, FALSE)","v":false},false,false,"10",false]
["Dark Seers","Terror 5",null,null,null,5,0,{"$f":"TRUE","v":true},false,false,true,false,"1-8",false]
["Dark Seers","Terror 6","Terror 5",null,null,5,0,{"$f":"TRUE","v":true},false,false,false,false,"1-8",false]
["Dark Seers","Commune 2, 5",null,null,null,2,0,{"$f":"FALSE","v":false},false,false,true,false,"1-8",false]
["Dark Seers","Commune 6","Commune 2, 5",null,null,4,0,{"$f":"FALSE","v":false},false,false,false,false,"1-8",false]
["Dark Seers","Commune 7","Commune 6",null,null,4,0,{"$f":"FALSE","v":false},false,false,false,false,"1-8",false]
["Dark Seers","Commune 8","Commune 7",null,null,5,0,{"$f":"TRUE","v":true},false,false,false,false,"1-8",false]
["Dark Seers","Concealment 6",null,null,null,5,0,{"$f":"TRUE","v":true},false,false,true,false,"1-8",false]
["Dark Seers","Concealment 7","Concealment 6",null,null,5,0,{"$f":"TRUE","v":true},false,false,false,false,"1-8",false]
["Dark Seers","Concealment 8","Concealment 7",null,null,5,0,{"$f":"TRUE","v":true},false,false,false,false,"1-8",false]
["Dark Seers","Concealment 9","Concealment 8",null,null,7,0,{"$f":"TRUE","v":true},false,false,false,false,"9",false]
["Dark Seers","Greater Curse 8",null,null,null,4,0,{"$f":"FALSE","v":false},false,false,true,false,"1-8",false]
["Dark Seers","Feeblemind 8",null,null,null,5,0,{"$f":"TRUE","v":true},{"$f":"IF(G145 >= F145,IF(ISODD(DarkSeersPriestLevel),TRUE,IF(H145=FALSE,TRUE,FALSE)), FALSE)","v":false},{"$f":"IF(D145>0, TRUE, FALSE)","v":false},true,false,"1-8",false]
["Dark Seers","Mass Curse 8 ",null,null,null,4,0,{"$f":"FALSE","v":false},false,false,true,false,"1-8",false]
["Dark Seers","Insight 2",null,null,null,5,0,{"$f":"TRUE","v":true},{"$f":"IF(G147 >= F147,IF(ISODD(DarkSeersPriestLevel),TRUE,IF(H147=FALSE,TRUE,FALSE)), FALSE)","v":false},{"$f":"IF(D147>0, TRUE, FALSE)","v":false},true,{"$f":"OR(J147,(AND(G147>=F147,K147,(IF(H147,N147,TRUE)))))","v":false},"1-8",false]
["Dark Seers","Insight 4","Insight 2",null,null,5,0,{"$f":"TRUE","v":true},false,false,false,false,"1-8",false]
["Dark Seers","Insight 6","Insight 4",null,null,5,0,{"$f":"TRUE","v":true},false,false,false,false,"1-8",false]
["Dark Seers","Insight 8","Insight 6",null,null,5,0,{"$f":"TRUE","v":true},false,false,false,false,"1-8",false]
["Dark Seers","Insight 10","Insight 8",null,null,5,0,{"$f":"TRUE","v":true},false,false,false,false,10,false]
["Dark Seers","Interrogate 6",null,null,null,5,0,{"$f":"TRUE","v":true},false,false,true,false,"1-8",false]
["Dark Seers","Interrogate 7","Interrogate 6",null,null,5,0,{"$f":"TRUE","v":true},false,false,false,false,"1-8",false]
["Dark Seers","Interrogate 8","Interrogate 7",null,null,5,0,{"$f":"TRUE","v":true},false,false,false,false,"1-8",false]
["Dark Seers","Paranoia 6 ",null,null,null,5,0,{"$f":"TRUE","v":true},false,false,true,false,"1-8",false]
["Dark Seers","Possession 8 ",null,null,null,5,0,{"$f":"TRUE","v":true},false,false,true,false,"1-8",false]
["Dark Seers","Power Drain 6",null,null,null,4,{"$f":"SUM(IF(PrimarySeer,1,0),IF(GuildSeer,2,0),IF(HighPriestSeer,2,0),IF(PriestSeer,2,0),IF(ArcherSpecialistHighPreistSect=26,2,0))","v":0},{"$f":"FALSE","v":false},false,false,true,false,"1-8",{"$f":"PrimarySeer","v":false}]
["Dark Seers","Power Drain 7","Power Drain 6",null,null,4,0,{"$f":"FALSE","v":false},false,false,false,false,"1-8",false]
["Dark Seers","Power Drain 8","Power Drain 7",null,null,4,0,{"$f":"FALSE","v":false},false,false,false,false,"1-8",false]
["Dark Seers","Power Drain (R) 3  to  5",null,null,null,2,0,{"$f":"FALSE","v":false},{"$f":"IF(G160 >= F160,IF(ISODD(DarkSeersPriestLevel),TRUE,IF(H160=FALSE,TRUE,FALSE)), FALSE)","v":false},false,{"$f":"IF(ISBLANK($C160),TRUE,IF(INDEX(SeerPreReq,MATCH($C160,DarkSeerInvocationNames,0),3)=1,TRUE,FALSE))","v":true},false,"1-8",false]
["Dark Seers","Power Drain Range 6",null,null,null,4,0,{"$f":"FALSE","v":false},false,false,true,false,"1-8",false]
["Dark Seers","Power Drain Range 7","Power Drain Range 6",null,null,4,0,{"$f":"FALSE","v":false},false,false,false,false,"1-8",false]
["Dark Seers","Power Drain Range 8","Power Drain Range 7",null,null,4,0,{"$f":"FALSE","v":false},false,false,false,false,"1-8",false]
["Dark Seers","Power Steal 6",null,null,null,4,0,{"$f":"FALSE","v":false},false,false,true,false,"1-8",false]
["Dark Seers","Power Steal 7","Power Steal 6",null,null,4,0,{"$f":"FALSE","v":false},false,{"$f":"IF(D165>0, TRUE, FALSE)","v":false},false,false,"1-8",false]
["Dark Seers","Power Steal 8","Power Steal 7",null,null,4,0,{"$f":"FALSE","v":false},false,false,false,false,"1-8",false]
["Dark Seers","Power Steal 9","Power Steal 8",null,null,7,0,{"$f":"TRUE","v":true},false,false,false,false,"9",false]
["Dark Seers","Susceptibility 7",null,null,null,4,0,{"$f":"FALSE","v":false},false,false,true,false,"1-8",false]
["Dark Seers","Suspend Invocation 8",null,null,null,4,0,{"$f":"FALSE","v":false},false,false,true,false,"1-8",false]
["Dark Seers","Vision 6",null,null,null,5,0,{"$f":"TRUE","v":true},false,false,true,false,"1-8",false]
["Dark Seers","Shroud of Ushaz 7",null,null,null,4,0,{"$f":"FALSE","v":false},false,false,true,false,"1-8",false]
["Dark Seers","Shroud of Ushaz 9","Shroud of Ushaz 7",null,null,6,0,{"$f":"FALSE","v":false},false,false,false,false,"9",false]
["Dark Seers","Shroud of Ushaz 10","Shroud of Ushaz 9",null,null,7,0,{"$f":"TRUE","v":true},false,false,false,false,"10",false]
["Dark Seers","Unhallowed Ground 9",null,null,null,6,0,{"$f":"FALSE","v":false},false,false,true,false,"9",false]
["Dark Seers","Withhold Power 6",null,null,null,5,0,{"$f":"TRUE","v":true},false,false,true,false,"1-8",false]
["Dark Seers","Withhold Power 7","Withhold Power 6",null,null,5,0,{"$f":"TRUE","v":true},false,false,false,false,"1-8",false]
["Dark Seers","Withhold Power 8","Withhold Power 7",null,null,5,0,{"$f":"TRUE","v":true},false,false,false,false,"1-8",false]
["Dark Seers","Withhold Power 9","Withhold Power 8",null,null,7,0,{"$f":"TRUE","v":true},false,false,false,false,"9",false]
["Druid","Bark Skin 1  to  5",null,null,null,2,{"$f":"SUM(IF(PrimaryDruid,1,0),IF(GuildDruid,2,0),IF(HighPriestDruid,2,0),IF(PriestDruid,2,0),IF(ArcherSpecialistHighPreistSect=24,2,0))","v":0},{"$f":"FALSE","v":false},{"$f":"IF(G179 >= F179,IF(ISODD(DruidPriestLevel),TRUE,IF(H179=FALSE,TRUE,FALSE)), FALSE)","v":false},false,{"$f":"IF(ISBLANK($C179),TRUE,IF(INDEX(DruidPreReq,MATCH($C179,DruidInvocationNames,0),3)=1,TRUE,FALSE))","v":true},false,"1-8",{"$f":"PrimaryDruid","v":false}]
["Druid","Bark Skin 6","Bark Skin 1  to  5",null,null,4,0,{"$f":"FALSE","v":false},false,false,false,false,"1-8",false]
["Druid","Bark Skin 7","Bark Skin 6",null,null,4,0,{"$f":"FALSE","v":false},false,false,false,false,"1-8",false]
["Druid","Bark Skin 8","Bark Skin 7",null,null,4,0,{"$f":"FALSE","v":false},false,false,false,false,"1-8",false]
["Druid","Bark Skin 9","Bark Skin 8",null,null,6,0,{"$f":"FALSE","v":false},false,false,false,false,"9",false]
["Druid","Bark Skin 10","Bark Skin 9",null,null,6,0,{"$f":"FALSE","v":false},{"$f":"IF(G184 >= F184,IF(ISODD(DruidPriestLevel),TRUE,IF(H184=FALSE,TRUE,FALSE)), FALSE)","v":false},{"$f":"IF(D184>0, TRUE, FALSE)","v":false},false,false,"10",false]
["Druid","Cure 2  to  5",null,null,null,4,0,{"$f":"FALSE","v":false},false,false,true,false,"1-8",false]
["Druid","Cure Wounds 6","Cure 2  to  5",null,null,4,0,{"$f":"FALSE","v":false},false,false,false,false,"1-8",false]
["Druid","Cure Wounds 7","Cure Wounds 6",null,null,4,0,{"$f":"FALSE","v":false},false,false,false,false,"1-8",false]
["Druid","Cure Wounds 8","Cure Wounds 7",null,null,4,0,{"$f":"FALSE","v":false},false,false,false,false,"1-8",false]
["Druid","Entangle 2, 4",null,null,null,2,0,{"$f":"FALSE","v":false},false,false,true,false,"1-8",false]
["Druid","Ensnare 7","Entangle 2, 4",null,null,5,0,{"$f":"TRUE","v":true},false,false,false,false,"1-8",false]
["Druid","Ensnare 8","Ensnare 7",null,null,5,0,{"$f":"TRUE","v":true},false,false,false,false,"1-8",false]
["Druid","Ensnare 9","Ensnare 8",null,null,7,0,{"$f":"TRUE","v":true},false,false,false,false,"9",false]
["Druid","Mass Entangle 6","Entangle 2, 4",null,null,5,0,{"$f":"TRUE","v":true},false,false,false,false,"1-8",false]
["Druid","Mass Trip 5","Trip 1, 2",null,null,3,0,{"$f":"TRUE","v":true},false,false,false,false,"1-8",false]
["Druid","Obscurement 1, 3, 5",null,null,null,3,0,{"$f":"TRUE","v":true},false,false,true,false,"1-8",false]
["Druid","Obscurement 7",null,null,null,5,0,{"$f":"TRUE","v":true},false,false,true,false,"1-8",false]
["Druid","Obscurement 9","Obscurement 7",null,null,7,0,{"$f":"TRUE","v":true},false,false,false,false,"9",false]
["Druid","Neutralise Poison 4",null,null,null,2,0,{"$f":"FALSE","v":false},false,false,true,false,"1-8",false]
["Druid","Neutralise Poison 7","Neutralise Poison 4",null,null,4,0,{"$f":"FALSE","v":false},{"$f":"IF(G199 >= F199,IF(ISODD(DruidPriestLevel),TRUE,IF(H199=FALSE,TRUE,FALSE)), FALSE)","v":false},{"$f":"IF(D199>0, TRUE, FALSE)","v":false},false,false,"1-8",false]
["Druid","Poison 5",null,null,null,3,0,{"$f":"TRUE","v":true},{"$f":"IF(G200 >= F200,IF(ISODD(DruidPriestLevel),TRUE,IF(H200=FALSE,TRUE,FALSE)), FALSE)","v":false},{"$f":"IF(D200>0, TRUE, FALSE)","v":false},true,false,"1-8",false]
["Druid","Poison 6","Poison 6",null,null,5,0,{"$f":"TRUE","v":true},{"$f":"IF(G201 >= F201,IF(ISODD(DruidPriestLevel),TRUE,IF(H201=FALSE,TRUE,FALSE)), FALSE)","v":false},{"$f":"IF(D201>0, TRUE, FALSE)","v":false},false,false,"1-8",false]
["Druid","Poison 7","Poison 7",null,null,5,0,{"$f":"TRUE","v":true},{"$f":"IF(G202 >= F202,IF(ISODD(DruidPriestLevel),TRUE,IF(H202=FALSE,TRUE,FALSE)), FALSE)","v":false},{"$f":"IF(D202>0, TRUE, FALSE)","v":false},false,false,"1-8",false]
["Druid","Poison 8","Poison 8",null,null,5,0,{"$f":"TRUE","v":true},false,false,false,false,"1-8",false]
["Druid","Protectionfrom Poison 8",null,null,null,5,0,{"$f":"TRUE","v":true},{"$f":"IF(G204 >= F204,IF(ISODD(DruidPriestLevel),TRUE,IF(H204=FALSE,TRUE,FALSE)), FALSE)","v":false},{"$f":"IF(D204>0, TRUE, FALSE)","v":false},true,false,"1-8",false]
["Druid","Regenerate 5",null,null,null,3,0,{"$f":"TRUE","v":true},false,false,true,false,"1-8",false]
["Druid","Speed Heal 4",null,null,null,3,0,{"$f":"TRUE","v":true},false,false,true,false,"1-8",false]
["Druid","Trip 1, 2",null,null,null,2,0,{"$f":"FALSE","v":false},false,false,true,false,"1-8",false]
["Druid","Goodberry 6",null,null,null,5,0,{"$f":"TRUE","v":true},false,false,true,false,"1-8",false]
["Druid","Goodberry 7","Goodberry 6",null,null,5,0,{"$f":"TRUE","v":true},false,false,false,false,"1-8",false]
["Druid","Goodberry 8","Goodberry 7",null,null,5,0,{"$f":"TRUE","v":true},false,false,false,false,"1-8",false]
["Druid","Goodberry 9","Goodberry 8",null,null,7,{"$f":"SUM(IF(PrimaryDruid,1,0),IF(GuildDruid,2,0),IF(HighPriestDruid,2,0),IF(PriestDruid,2,0),IF(ArcherSpecialistHighPreistSect=24,2,0))","v":0},{"$f":"TRUE","v":true},false,false,false,{"$f":"OR(J211,(AND(G211>=F211,K211,(IF(H211,N211,TRUE)))))","v":false},"9",{"$f":"PrimaryDruid","v":false}]
["Druid","Goodberry 10","Goodberry 9",null,null,7,0,{"$f":"TRUE","v":true},false,false,false,false,"10",false]
["Druid","Stinging Bite 5",null,null,null,5,0,{"$f":"TRUE","v":true},{"$f":"IF(G213 >= F213,IF(ISODD(DruidPriestLevel),TRUE,IF(H213=FALSE,TRUE,FALSE)), FALSE)","v":false},{"$f":"IF(D213>0, TRUE, FALSE)","v":false},true,false,"1-8",false]
["Druid","Totem 6",null,null,null,5,0,{"$f":"TRUE","v":true},false,false,true,false,"1-8",false]
["Druid","Transmute Weapons to Wood 8",null,null,null,5,0,{"$f":"TRUE","v":true},false,false,true,false,"1-8",false]
["Druid","Turn Wood 6",null,null,null,5,0,{"$f":"TRUE","v":true},false,false,true,false,"1-8",false]
["Druid","Turn Wood 7","Turn Wood 6",null,null,5,0,{"$f":"TRUE","v":true},{"$f":"IF(G217 >= F217,IF(ISODD(DruidPriestLevel),TRUE,IF(H217=FALSE,TRUE,FALSE)), FALSE)","v":false},{"$f":"IF(D217>0, TRUE, FALSE)","v":false},false,false,"1-8",false]
["Druid","Turn Wood 8","Turn Wood 7",null,null,5,0,{"$f":"TRUE","v":true},false,false,false,false,"1-8",false]
["Druid","Warp Shield 6",null,null,null,4,0,{"$f":"FALSE","v":false},false,false,true,false,"1-8",false]
["Druid","Hierophant's Defence 9",null,null,null,6,0,{"$f":"FALSE","v":false},{"$f":"IF(G220 >= F220,IF(ISODD(DruidPriestLevel),TRUE,IF(H220=FALSE,TRUE,FALSE)), FALSE)","v":false},{"$f":"IF(D220>0, TRUE, FALSE)","v":false},true,false,"9",false]
["Druid","Hierophant's Defence 10","Hierophant's Defence 9",null,null,6,0,{"$f":"FALSE","v":false},{"$f":"IF(G221 >= F221,IF(ISODD(DruidPriestLevel),TRUE,IF(H221=FALSE,TRUE,FALSE)), FALSE)","v":false},{"$f":"IF(D221>0, TRUE, FALSE)","v":false},false,false,"10",false]
["Druid","Hierophant's Protection 9",null,null,null,6,0,{"$f":"FALSE","v":false},false,false,true,false,"9",false]
["Druid","Hierophant's Protection 10","Hierophant's Protection 9",null,null,6,0,{"$f":"FALSE","v":false},false,false,false,false,"10",false]
["Druid","Sanctify Grove 9",null,null,null,6,0,{"$f":"FALSE","v":false},false,false,true,false,"9",false]
["Druid","Shillelagh 6",null,null,null,5,0,{"$f":"TRUE","v":true},{"$f":"IF(G225 >= F225,IF(ISODD(DruidPriestLevel),TRUE,IF(H225=FALSE,TRUE,FALSE)), FALSE)","v":false},{"$f":"IF(D225>0, TRUE, FALSE)","v":false},{"$f":"IF(ISBLANK($C225),TRUE,IF(INDEX(DruidPreReq,MATCH($C225,DruidInvocationNames,0),3)=1,TRUE,FALSE))","v":true},false,"1-8",false]
["Druid","Shillelagh 7","Shillelagh 6",null,null,5,0,{"$f":"TRUE","v":true},{"$f":"IF(G226 >= F226,IF(ISODD(DruidPriestLevel),TRUE,IF(H226=FALSE,TRUE,FALSE)), FALSE)","v":false},{"$f":"IF(D226>0, TRUE, FALSE)","v":false},{"$f":"IF(ISBLANK($C226),TRUE,IF(INDEX(DruidPreReq,MATCH($C226,DruidInvocationNames,0),3)=1,TRUE,FALSE))","v":false},false,"1-8",false]
["Druid","Shillelagh 8","Shillelagh 7",null,null,5,0,{"$f":"TRUE","v":true},{"$f":"IF(G227 >= F227,IF(ISODD(DruidPriestLevel),TRUE,IF(H227=FALSE,TRUE,FALSE)), FALSE)","v":false},{"$f":"IF(D227>0, TRUE, FALSE)","v":false},{"$f":"IF(ISBLANK($C227),TRUE,IF(INDEX(DruidPreReq,MATCH($C227,DruidInvocationNames,0),3)=1,TRUE,FALSE))","v":false},false,"1-8",false]
["Druid","Shillelagh 9","Shillelagh 8",null,null,7,0,{"$f":"TRUE","v":true},false,false,false,false,"9",false]
["Gauntlet","Cure Wounds 2  to  5",null,null,null,2,{"$f":"SUM(IF(PrimaryGauntlet,1,0),IF(GuildGauntlet,2,0),IF(HighPriestGauntlet,2,0),IF(PriestGauntlet,2,0),IF(ArcherSpecialistHighPreistSect=23,2,0))","v":0},{"$f":"FALSE","v":false},{"$f":"IF(G229 >= F229,IF(ISODD(GauntletPriestLevel),TRUE,IF(H229=FALSE,TRUE,FALSE)), FALSE)","v":false},false,{"$f":"IF(ISBLANK($C229),TRUE,IF(INDEX(GauntletPreReq,MATCH($C229,GauntletInvocationNames,0),3)=1,TRUE,FALSE))","v":true},false,"1-8",{"$f":"PrimaryGauntlet","v":false}]
["Gauntlet","Cure Wounds 6","Cure Wounds 2  to  5",null,null,4,0,{"$f":"FALSE","v":false},false,{"$f":"IF(D230>0, TRUE, FALSE)","v":false},false,false,"1-8",false]
["Gauntlet","Cure Wounds 7","Cure Wounds 6",null,null,4,0,{"$f":"FALSE","v":false},false,false,false,false,"1-8",false]
["Gauntlet","Cure Wounds 8","Cure Wounds 7",null,null,4,0,{"$f":"FALSE","v":false},false,false,false,false,"1-8",false]
["Gauntlet","Enduring Spirit 5",null,null,null,3,0,{"$f":"TRUE","v":true},false,false,true,false,"1-8",false]
["Gauntlet","Enduring Spirit 6 ","Enduring Spirit 5",null,null,5,0,{"$f":"TRUE","v":true},false,false,false,false,"1-8",false]
["Gauntlet","Arm of Might 6",null,null,null,5,0,{"$f":"TRUE","v":true},false,false,true,false,"1-8",false]
["Gauntlet","Arm of Might 7","Arm of Might 6",null,null,5,0,{"$f":"TRUE","v":true},false,false,false,false,"1-8",false]
["Gauntlet","Arm of Might 8","Arm of Might 7",null,null,5,0,{"$f":"TRUE","v":true},false,false,false,false,"1-8",false]
["Gauntlet","Arm of Might 9","Arm of Might 8",null,null,7,0,{"$f":"TRUE","v":true},false,false,false,false,"9",false]
["Gauntlet","Bone Break 8",null,null,null,5,0,{"$f":"TRUE","v":true},{"$f":"IF(G239 >= F239,IF(ISODD(GauntletPriestLevel),TRUE,IF(H239=FALSE,TRUE,FALSE)), FALSE)","v":false},{"$f":"IF(D239>0, TRUE, FALSE)","v":false},true,false,"1-8",false]
["Gauntlet","Enhanced Reflexes 6",null,null,null,4,0,{"$f":"FALSE","v":false},false,false,true,false,"1-8",false]
["Gauntlet","Enhanced Reflexes 7","Enhanced Reflexes 6",null,null,4,0,{"$f":"FALSE","v":false},false,false,false,false,"1-8",false]
["Gauntlet","Enhanced Reflexes 8","Enhanced Reflexes 7",null,null,4,0,{"$f":"FALSE","v":false},false,false,false,false,"1-8",false]
["Gauntlet","Enhanced Reflexes 9","Enhanced Reflexes 8",null,null,7,0,{"$f":"TRUE","v":true},false,false,false,false,"9",false]
["Gauntlet","Enhanced Reflexes 10","Enhanced Reflexes 9",null,null,7,0,{"$f":"TRUE","v":true},false,false,false,false,"10",false]
["Gauntlet","Master of Reflexes 9","Enhanced Reflexes 9",null,null,7,0,{"$f":"TRUE","v":true},{"$f":"IF(G245 >= F245,IF(ISODD(GauntletPriestLevel),TRUE,IF(H245=FALSE,TRUE,FALSE)), FALSE)","v":false},{"$f":"IF(D245>0, TRUE, FALSE)","v":false},false,false,"9",false]
["Gauntlet","Master of Reflexes 10","Enhanced Reflexes 10",null,null,7,0,{"$f":"TRUE","v":true},false,false,false,false,"10",false]
["Gauntlet","Halt 6",null,null,null,4,0,{"$f":"FALSE","v":false},false,false,true,false,"1-8",false]
["Gauntlet","Halt 7","Halt 6",null,null,4,0,{"$f":"FALSE","v":false},false,false,false,false,"1-8",false]
["Gauntlet","Halt 8","Halt 7",null,null,4,0,{"$f":"FALSE","v":false},false,false,false,false,"1-8",false]
["Gauntlet","Halt 10","Halt 8",null,null,6,0,{"$f":"FALSE","v":false},{"$f":"IF(G250 >= F250,IF(ISODD(GauntletPriestLevel),TRUE,IF(H250=FALSE,TRUE,FALSE)), FALSE)","v":false},{"$f":"IF(D250>0, TRUE, FALSE)","v":false},false,false,10,false]
["Gauntlet","Hammer Hand 6",null,null,null,4,0,{"$f":"FALSE","v":false},false,false,true,false,"1-8",false]
["Gauntlet","Hammer Hand 7","Hammer Hand 6",null,null,4,0,{"$f":"FALSE","v":false},false,false,false,false,"1-8",false]
["Gauntlet","Hammer Hand 8","Hammer Hand 7",null,null,4,0,{"$f":"FALSE","v":false},false,false,false,false,"1-8",false]
["Gauntlet","Hammer Hand 9","Hammer Hand 8",null,null,6,0,{"$f":"FALSE","v":false},false,false,false,false,"9",false]
["Gauntlet","Hammer Hand 10","Hammer Hand 9",null,null,6,0,{"$f":"FALSE","v":false},false,false,false,false,"10",false]
["Gauntlet","Fear Pact 9",null,null,null,6,0,{"$f":"FALSE","v":false},false,false,true,false,"9",false]
["Gauntlet","Power Blows 6",null,null,null,5,0,{"$f":"TRUE","v":true},false,false,true,false,"1-8",false]
["Gauntlet","Power Blows 7","Power Blows 6",null,null,5,0,{"$f":"TRUE","v":true},false,false,false,false,"1-8",false]
["Gauntlet","Power Blows 8","Power Blows 7",null,null,5,0,{"$f":"TRUE","v":true},false,false,false,false,"1-8",false]
["Gauntlet","Power Hammer 6",null,null,null,4,{"$f":"SUM(IF(PrimaryGauntlet,1,0),IF(GuildGauntlet,2,0),IF(HighPriestGauntlet,2,0),IF(PriestGauntlet,2,0),IF(ArcherSpecialistHighPreistSect=23,2,0))","v":0},{"$f":"FALSE","v":false},false,false,true,false,"1-8",{"$f":"PrimaryGauntlet","v":false}]
["Gauntlet","Power Hammer 7","Power Hammer 6",null,null,4,0,{"$f":"FALSE","v":false},false,false,false,false,"1-8",false]
["Gauntlet","Power Hammer 8","Power Hammer 7",null,null,4,0,{"$f":"FALSE","v":false},false,false,false,false,"1-8",false]
["Gauntlet","Power Hammer 9","Power Hammer 8",null,null,7,0,{"$f":"TRUE","v":true},false,false,false,false,"9",false]
["Gauntlet","Power Hammer 10","Power Hammer 9",null,null,7,0,{"$f":"TRUE","v":true},false,false,false,false,"10",false]
["Gauntlet","Power Weapon 6",null,null,null,4,0,{"$f":"FALSE","v":false},false,false,true,false,"1-8",false]
["Gauntlet","Power Weapon 7","Power Weapon 6",null,null,4,0,{"$f":"FALSE","v":false},false,false,false,false,"1-8",false]
["Gauntlet","Power Weapon 8","Power Weapon 7",null,null,4,0,{"$f":"FALSE","v":false},false,false,false,false,"1-8",false]
["Gauntlet","Power Weapon 9","Power Weapon 8",null,null,6,0,{"$f":"FALSE","v":false},false,false,false,false,"9",false]
["Gauntlet","Balanced Ground 9",null,null,null,6,0,{"$f":"FALSE","v":false},false,false,true,false,"9",false]
["Gauntlet","Assault of the Valley 9",null,null,null,7,0,{"$f":"TRUE","v":true},false,false,true,false,"9",false]
["Gauntlet","Assault of the Valley 10","Assault of the Valley 9",null,null,7,0,{"$f":"TRUE","v":true},false,false,false,false,"10",false]
["Gauntlet","Power of the Gauntlet 9",null,null,null,7,0,{"$f":"TRUE","v":true},false,false,true,false,"9",false]
["Gauntlet","Power of the Gauntlet 10","Power of the Gauntlet 9",null,null,7,0,{"$f":"TRUE","v":true},false,false,false,false,"10",false]
["Gauntlet","Spiritual Balance 7",null,null,null,5,0,{"$f":"TRUE","v":true},{"$f":"IF(G274 >= F274,IF(ISODD(GauntletPriestLevel),TRUE,IF(H274=FALSE,TRUE,FALSE)), FALSE)","v":false},{"$f":"IF(D274>0, TRUE, FALSE)","v":false},true,{"$f":"OR(J274,(AND(G274>=F274,K274,(IF(H274,N274,TRUE)))))","v":false},"1-8",false]
["Gauntlet","Spiritual Balance 8","Spiritual Balance 7",null,null,5,0,{"$f":"TRUE","v":true},false,false,false,false,"1-8",false]
["Gauntlet","Spiritual Balance 9","Spiritual Balance 8",null,null,7,0,{"$f":"TRUE","v":true},false,false,false,false,"9",false]
["Grey Path","Control Undead 5",null,null,null,2,{"$f":"SUM(IF(PrimaryGreyPath,1,0),IF(GuildGreyPath,2,0),IF(HighPriestGreyPath,2,0),IF(PriestGreyPath,2,0),IF(ArcherSpecialistHighPreistSect=21,2,0))","v":0},{"$f":"FALSE","v":false},{"$f":"IF(G277 >= F277,IF(ISODD(GreyPathPriestLevel),TRUE,IF(H277=FALSE,TRUE,FALSE)), FALSE)","v":false},false,{"$f":"IF(ISBLANK($C277),TRUE,IF(INDEX(GreyPathPreReq,MATCH($C277,GreyPathInvocationNames,0),3)=1,TRUE,FALSE))","v":true},false,"1-8",{"$f":"PrimaryGreyPath","v":false}]
["Grey Path","Control Undead 8","Control Undead 5",null,null,4,0,{"$f":"FALSE","v":false},false,false,false,false,"1-8",false]
["Grey Path","Control Undead 9","Control Undead 8",null,null,7,0,{"$f":"TRUE","v":true},false,false,false,false,"9",false]
["Grey Path","Cure Wounds 2  to  5",null,null,null,2,0,{"$f":"FALSE","v":false},false,false,true,false,"1-8",false]
["Grey Path","Cure Wounds 6","Cure Wounds 2  to  5",null,null,4,0,{"$f":"FALSE","v":false},false,false,false,false,"1-8",false]
["Grey Path","Cure Wounds 7","Cure Wounds 6",null,null,4,0,{"$f":"FALSE","v":false},false,false,false,false,"1-8",false]
["Grey Path","Cure Wounds 8","Cure Wounds 7",null,null,4,0,{"$f":"FALSE","v":false},false,false,false,false,"1-8",false]
["Grey Path","Cure Wounds 9","Cure Wounds 8",null,null,7,0,{"$f":"TRUE","v":true},false,false,false,false,"9",false]
["Grey Path","Attract Good 6",null,null,null,5,0,{"$f":"TRUE","v":true},false,false,true,false,"1-8",false]
["Grey Path","Attract Evil 6",null,null,null,5,0,{"$f":"TRUE","v":true},{"$f":"IF(G286 >= F286,IF(ISODD(GreyPathPriestLevel),TRUE,IF(H286=FALSE,TRUE,FALSE)), FALSE)","v":false},{"$f":"IF(D286>0, TRUE, FALSE)","v":false},true,false,"1-8",false]
["Grey Path","Enhanced Reflexes 6",null,null,null,4,0,{"$f":"FALSE","v":false},false,false,true,false,"1-8",false]
["Grey Path","Enhanced Reflexes 7","Enhanced Reflexes 6",null,null,4,0,{"$f":"FALSE","v":false},false,false,false,false,"1-8",false]
["Grey Path","Enhanced Reflexes 8","Enhanced Reflexes 7",null,null,4,0,{"$f":"FALSE","v":false},false,false,false,false,"1-8",false]
["Grey Path","Enhanced Reflexes 9","Enhanced Reflexes 8",null,null,7,0,{"$f":"FALSE","v":false},false,false,false,false,"9",false]
["Grey Path","Enhanced Reflexes 10","Enhanced Reflexes 9",null,null,7,0,{"$f":"FALSE","v":false},{"$f":"IF(G291 >= F291,IF(ISODD(GreyPathPriestLevel),TRUE,IF(H291=FALSE,TRUE,FALSE)), FALSE)","v":false},{"$f":"IF(D291>0, TRUE, FALSE)","v":false},false,false,"10",false]
["Grey Path","Master of Reflexes 9","Enhanced Reflexes 9",null,null,7,0,{"$f":"FALSE","v":false},{"$f":"IF(G292 >= F292,IF(ISODD(GreyPathPriestLevel),TRUE,IF(H292=FALSE,TRUE,FALSE)), FALSE)","v":false},{"$f":"IF(D292>0, TRUE, FALSE)","v":false},false,false,"9",false]
["Grey Path","Master of Reflexes 10","Enhanced Reflexes 10",null,null,7,0,{"$f":"FALSE","v":false},{"$f":"IF(G293 >= F293,IF(ISODD(GreyPathPriestLevel),TRUE,IF(H293=FALSE,TRUE,FALSE)), FALSE)","v":false},{"$f":"IF(D293>0, TRUE, FALSE)","v":false},false,false,"10",false]
["Grey Path","Halt 6",null,null,null,4,0,{"$f":"FALSE","v":false},false,false,true,false,"1-8",false]
["Grey Path","Halt 7","Halt 6",null,null,4,0,{"$f":"FALSE","v":false},false,false,false,false,"1-8",false]
["Grey Path","Halt 8","Halt 7",null,null,4,0,{"$f":"FALSE","v":false},false,false,false,false,"1-8",false]
["Grey Path","Halt 10","Halt 8",null,null,6,0,{"$f":"FALSE","v":false},{"$f":"IF(G297 >= F297,IF(ISODD(GreyPathPriestLevel),TRUE,IF(H297=FALSE,TRUE,FALSE)), FALSE)","v":false},{"$f":"IF(D297>0, TRUE, FALSE)","v":false},false,false,10,false]
["Grey Path","Power Hammer 6",null,null,null,4,0,{"$f":"FALSE","v":false},false,false,true,false,"1-8",false]
["Grey Path","Power Hammer 7","Power Hammer 6",null,null,4,0,{"$f":"FALSE","v":false},false,false,false,false,"1-8",false]
["Grey Path","Power Hammer 8","Power Hammer 7",null,null,4,0,{"$f":"FALSE","v":false},false,false,false,false,"1-8",false]
["Grey Path","Power Hammer 9","Power Hammer 8",null,null,7,0,{"$f":"TRUE","v":true},{"$f":"IF(G301 >= F301,IF(ISODD(GreyPathPriestLevel),TRUE,IF(H301=FALSE,TRUE,FALSE)), FALSE)","v":false},{"$f":"IF(D301>0, TRUE, FALSE)","v":false},false,false,"9",false]
["Grey Path","Power Hammer 10","Power Hammer 9",null,null,7,0,{"$f":"TRUE","v":true},false,false,false,false,"10",false]
["Grey Path","Power Meld 6",null,null,null,4,0,{"$f":"FALSE","v":false},false,false,true,false,"1-8",false]
["Grey Path","Power Meld 7","Power Meld 6",null,null,4,0,{"$f":"FALSE","v":false},false,{"$f":"IF(D304>0, TRUE, FALSE)","v":false},false,false,"1-8",false]
["Grey Path","Power Meld 8","Power Meld 7",null,null,4,0,{"$f":"FALSE","v":false},false,false,false,false,"1-8",false]
["Grey Path","Power Meld 9","Power Meld 8",null,null,7,0,{"$f":"TRUE","v":true},false,false,false,false,"9",false]
["Grey Path","Power Weapon 6",null,null,null,4,0,{"$f":"FALSE","v":false},false,false,true,false,"1-8",false]
["Grey Path","Power Weapon 7","Power Weapon 6",null,null,4,0,{"$f":"FALSE","v":false},false,false,false,false,"1-8",false]
["Grey Path","Power Weapon 8","Power Weapon 7",null,null,4,0,{"$f":"FALSE","v":false},false,false,false,false,"1-8",false]
["Grey Path","Speed Meditation 6 ",null,null,null,4,0,{"$f":"FALSE","v":false},false,false,true,false,"1-8",false]
["Grey Path","Balanced Ground 9",null,null,null,6,0,{"$f":"FALSE","v":false},false,false,true,false,"9",false]
["Grey Path","Master of the Spheres 9",null,null,null,7,0,{"$f":"TRUE","v":true},false,false,true,false,"9",false]
["Grey Path","Master of the Spheres 10","Master of the Spheres 9",null,null,7,0,{"$f":"TRUE","v":true},false,false,false,false,"10",false]
["Grey Path","Spiritual Balance 7",null,null,null,5,0,{"$f":"TRUE","v":true},{"$f":"IF(G314 >= F314,IF(ISODD(GreyPathPriestLevel),TRUE,IF(H314=FALSE,TRUE,FALSE)), FALSE)","v":false},{"$f":"IF(D314>0, TRUE, FALSE)","v":false},true,false,"1-8",false]
["Grey Path","Spiritual Balance 8","Spiritual Balance 7",null,null,5,0,{"$f":"TRUE","v":true},false,false,false,false,"1-8",false]
["Grey Path","Spiritual Balance 9","Spiritual Balance 8",null,null,7,0,{"$f":"TRUE","v":true},false,false,false,false,"9",false]
["Grey Path","Voice of Command 9","Halt 8",null,null,7,0,{"$f":"TRUE","v":true},false,false,false,false,"9",false]
["Warden","Commune 2, 5",null,null,null,2,{"$f":"SUM(IF(PrimaryWarden,1,0),IF(GuildWarden,2,0),IF(HighPriestWarden,2,0),IF(PriestWarden,2,0),IF(ArcherSpecialistHighPreistSect=22,2,0))","v":0},{"$f":"FALSE","v":false},{"$f":"IF(G318 >= F318,IF(ISODD(WardenPriestLevel),TRUE,IF(H318=FALSE,TRUE,FALSE)), FALSE)","v":false},{"$f":"IF(D318>0, TRUE, FALSE)","v":false},{"$f":"IF(ISBLANK($C318),TRUE,IF(INDEX(WardenPreReq,MATCH($C318,WardenInvocationNames,0),3)=1,TRUE,FALSE))","v":true},false,"1-8",{"$f":"PrimaryWarden","v":false}]
["Warden","Commune 6","Commune 2, 5",null,null,4,0,{"$f":"FALSE","v":false},false,false,false,false,"1-8",false]
["Warden","Commune 7","Commune 6",null,null,4,0,{"$f":"FALSE","v":false},false,false,false,false,"1-8",false]
["Warden","Commune 8","Commune 7",null,null,5,0,{"$f":"TRUE","v":true},false,false,false,false,"1-8",false]
["Warden","Control Undead 5",null,null,null,2,0,{"$f":"FALSE","v":false},false,false,true,false,"1-8",false]
["Warden","Control Undead 8","Control Undead 5",null,null,4,0,{"$f":"FALSE","v":false},false,false,false,false,"1-8",false]
["Warden","Control Undead 9","Control Undead 8",null,null,7,0,{"$f":"TRUE","v":true},false,false,false,false,"9",false]
["Warden","Cure Wounds 2  to  5",null,null,null,2,0,{"$f":"FALSE","v":false},false,false,true,false,"1-8",false]
["Warden","Cure Wounds 6","Cure Wounds 2  to  5",null,null,4,0,{"$f":"FALSE","v":false},false,false,false,false,"1-8",false]
["Warden","Cure Wounds 7","Cure Wounds 6",null,null,4,0,{"$f":"FALSE","v":false},false,false,false,false,"1-8",false]
["Warden","Cure Wounds 8","Cure Wounds 7",null,null,4,0,{"$f":"FALSE","v":false},false,false,false,false,"1-8",false]
["Warden","Cure Wounds 9","Cure Wounds 8",null,null,7,0,{"$f":"FALSE","v":false},false,false,false,false,"9",false]
["Warden","Enhanced Reflexes 6",null,null,null,4,0,{"$f":"FALSE","v":false},false,false,true,false,"1-8",false]
["Warden","Enhanced Reflexes 7","Enhanced Reflexes 6",null,null,4,0,{"$f":"FALSE","v":false},false,false,false,false,"1-8",false]
["Warden","Enhanced Reflexes 8","Enhanced Reflexes 7",null,null,4,0,{"$f":"FALSE","v":false},false,false,false,false,"1-8",false]
["Warden","Enhanced Reflexes 9","Enhanced Reflexes 8",null,null,7,0,{"$f":"FALSE","v":false},false,false,false,false,"9",false]
["Warden","Enhanced Reflexes 10","Enhanced Reflexes 9",null,null,7,0,{"$f":"FALSE","v":false},false,false,false,false,"10",false]
["Warden","Master of Reflexes 9","Enhanced Reflexes 9",null,null,7,0,{"$f":"FALSE","v":false},{"$f":"IF(G335 >= F335,IF(ISODD(WardenPriestLevel),TRUE,IF(H335=FALSE,TRUE,FALSE)), FALSE)","v":false},{"$f":"IF(D335>0, TRUE, FALSE)","v":false},false,false,"9",false]
["Warden","Master of Reflexes 10","Enhanced Reflexes 10",null,null,7,0,{"$f":"FALSE","v":false},false,false,false,false,"10",false]
["Warden","Guardian Spirit 6",null,null,null,4,0,{"$f":"FALSE","v":false},false,false,true,{"$f":"OR(J337,(AND(G337>=F337,K337,(IF(H337,N337,TRUE)))))","v":false},"1-8",false]
["Warden","Guardian Spirit 7","Guardian Spirit 6",null,null,4,0,{"$f":"FALSE","v":false},false,false,false,false,"1-8",false]
["Warden","Guardian Spirit 8","Guardian Spirit 7",null,null,4,0,{"$f":"FALSE","v":false},false,false,false,false,"1-8",false]
["Warden","Guardian Spirit 9","Guardian Spirit 8",null,null,5,0,{"$f":"TRUE","v":true},false,false,false,false,"9",false]
["Warden","Guardian Spirit 10","Guardian Spirit 9",null,null,7,0,{"$f":"TRUE","v":true},false,false,false,false,"10",false]
["Warden","Halt 6",null,null,null,4,0,{"$f":"FALSE","v":false},false,false,true,false,"1-8",false]
["Warden","Halt 7","Halt 6",null,null,4,0,{"$f":"FALSE","v":false},false,false,false,false,"1-8",false]
["Warden","Halt 8","Halt 7",null,null,4,0,{"$f":"FALSE","v":false},false,false,false,false,"1-8",false]
["Warden","Halt 10","Halt 8",null,null,6,0,{"$f":"FALSE","v":false},{"$f":"IF(G345 >= F345,IF(ISODD(WardenPriestLevel),TRUE,IF(H345=FALSE,TRUE,FALSE)), FALSE)","v":false},{"$f":"IF(D345>0, TRUE, FALSE)","v":false},false,false,10,false]
["Warden","Wardens Defence 9","Ward 8",null,null,7,0,{"$f":"TRUE","v":true},false,false,false,false,"9",false]
["Warden","Wardens Defence 10","Wardens Defence 9",null,null,7,0,{"$f":"TRUE","v":true},{"$f":"IF(G347 >= F347,IF(ISODD(WardenPriestLevel),TRUE,IF(H347=FALSE,TRUE,FALSE)), FALSE)","v":false},false,false,false,"10",false]
["Warden","Ward 1 - 5",null,null,null,3,0,{"$f":"TRUE","v":true},false,false,true,false,"1-8",false]
["Warden","Ward 6","Ward 1 - 5",null,null,5,0,{"$f":"TRUE","v":true},{"$f":"IF(G349 >= F349,IF(ISODD(WardenPriestLevel),TRUE,IF(H349=FALSE,TRUE,FALSE)), FALSE)","v":false},false,false,false,"1-8",false]
["Warden","Ward 7","Ward 6",null,null,5,0,{"$f":"TRUE","v":true},false,false,false,false,"1-8",false]
["Warden","Ward 8","Ward 7",null,null,5,0,{"$f":"TRUE","v":true},{"$f":"IF(G351 >= F351,IF(ISODD(WardenPriestLevel),TRUE,IF(H351=FALSE,TRUE,FALSE)), FALSE)","v":false},false,false,false,"1-8",false]
["Warden","Traverse Ward 7",null,null,null,5,0,{"$f":"TRUE","v":true},{"$f":"IF(G352 >= F352,IF(ISODD(WardenPriestLevel),TRUE,IF(H352=FALSE,TRUE,FALSE)), FALSE)","v":false},false,true,false,"1-8",false]
["Warden","Traverse Ward 8","Traverse Ward 7",null,null,5,0,{"$f":"TRUE","v":true},{"$f":"IF(G353 >= F353,IF(ISODD(WardenPriestLevel),TRUE,IF(H353=FALSE,TRUE,FALSE)), FALSE)","v":false},false,false,false,"1-8",false]
["Warden","Speed Meditation 6",null,null,null,4,0,{"$f":"FALSE","v":false},false,false,true,false,"1-8",false]
["Warden","Instant Meditation 7","Speed Meditation 6",null,null,4,0,{"$f":"FALSE","v":false},false,false,false,false,"1-8",false]
["Warden","Instant Meditation 8","Instant Meditation 7",null,null,4,0,{"$f":"FALSE","v":false},false,false,false,false,"1-8",false]
["Warden","Instant Meditation 9","Instant Meditation 8",null,null,7,0,{"$f":"TRUE","v":true},false,false,false,false,"9",false]
["Warden","Instant Meditation 10","Instant Meditation 9",null,null,7,0,{"$f":"TRUE","v":true},false,false,false,false,"10",false]
["Warden","Spiritual Balance 7",null,null,null,5,0,{"$f":"TRUE","v":true},false,false,true,false,"1-8",false]
["Warden","Spiritual Balance 8","Spiritual Balance 7",null,null,5,0,{"$f":"TRUE","v":true},false,false,false,false,"1-8",false]
["Warden","Spiritual Balance 9","Spiritual Balance 8",null,null,7,0,{"$f":"TRUE","v":true},false,false,false,false,"9",false]
["Warden","Balanced Ground 9",null,null,null,6,0,{"$f":"FALSE","v":false},false,false,true,false,"9",false]
["Warden","Voice of Command 9","Halt 8",null,null,7,0,{"$f":"TRUE","v":true},false,false,false,false,"9",false]
["Hospitaler","Befriend 1  to  5",null,null,null,3,{"$f":"SUM(IF(PrimaryHospitaler,1,0),IF(GuildHospitaler,2,0),IF(HighPriestHospitaler,2,0),IF(PriestHospitaler,2,0),IF(ArcherSpecialistHighPreistSect=18,2,0))","v":0},{"$f":"TRUE","v":true},{"$f":"IF(G364 >= F364,IF(ISODD(HospitalerPriestLevel),TRUE,IF(H364=FALSE,TRUE,FALSE)), FALSE)","v":false},false,{"$f":"IF(ISBLANK($C364),TRUE,IF(INDEX(HospitalerPreReq,MATCH($C364,HospitalerInvocationNames,0),3)=1,TRUE,FALSE))","v":true},false,"1-8",{"$f":"PrimaryHospitaler","v":false}]
["Hospitaler","Befriend 6","Befriend 1  to  5",null,null,5,0,{"$f":"TRUE","v":true},false,false,false,false,"1-8",false]
["Hospitaler","Befriend 7","Befriend 6",null,null,5,0,{"$f":"TRUE","v":true},false,false,false,false,"1-8",false]
["Hospitaler","Befriend 8","Befriend 7",null,null,5,0,{"$f":"TRUE","v":true},false,false,false,false,"1-8",false]
["Hospitaler","Courage 3, 5",null,null,null,2,0,{"$f":"FALSE","v":false},false,false,true,false,"1-8",false]
["Hospitaler","Remove Paralysis 4",null,null,null,2,0,{"$f":"FALSE","v":false},{"$f":"IF(G369 >= F369,IF(ISODD(HospitalerPriestLevel),TRUE,IF(H369=FALSE,TRUE,FALSE)), FALSE)","v":false},{"$f":"IF(D369>0, TRUE, FALSE)","v":false},true,false,"1-8",false]
["Hospitaler","Cure Blindness 4",null,null,null,2,0,{"$f":"FALSE","v":false},false,false,true,false,"1-8",false]
["Hospitaler","Neutralise Poison 4",null,null,null,2,0,{"$f":"FALSE","v":false},false,false,true,false,"1-8",false]
["Hospitaler","Neutralise Poison 7",null,null,null,4,0,{"$f":"FALSE","v":false},false,false,true,false,"1-8",false]
["Hospitaler","Protection from Bleeding 3",null,null,null,3,0,{"$f":"TRUE","v":true},false,false,true,false,"1-8",false]
["Hospitaler","Aura of Serenity 7",null,null,null,5,0,{"$f":"TRUE","v":true},false,false,true,false,"1-8",false]
["Hospitaler","Cure Disease 7",null,null,null,4,0,{"$f":"FALSE","v":false},false,false,true,false,"1-8",false]
["Hospitaler","Cure Disease 9","Cure Disease 7",null,null,7,0,{"$f":"TRUE","v":true},false,false,false,false,"9",false]
["Hospitaler","Cure Mortal Wounds 6",null,null,null,5,0,{"$f":"TRUE","v":true},false,false,true,false,"1-8",false]
["Hospitaler","Cure Mortal Wounds 9","Cure Mortal Wounds 9",null,null,7,0,{"$f":"TRUE","v":true},false,false,false,false,9,false]
["Hospitaler","Cure Mortal Wounds 10","Cure Mortal Wounds 10",null,null,7,0,{"$f":"TRUE","v":true},{"$f":"IF(G379 >= F379,IF(ISODD(HospitalerPriestLevel),TRUE,IF(H379=FALSE,TRUE,FALSE)), FALSE)","v":false},{"$f":"IF(D379>0, TRUE, FALSE)","v":false},false,false,10,false]
["Hospitaler","Invoke Sphere 8",null,null,null,5,0,{"$f":"TRUE","v":true},false,false,true,false,"1-8",false]
["Hospitaler","Mass Cure 6",null,null,null,5,0,{"$f":"TRUE","v":true},false,false,true,false,"1-8",false]
["Hospitaler","Mass Cure 7","Mass Cure 6",null,null,5,0,{"$f":"TRUE","v":true},false,false,false,false,"1-8",false]
["Hospitaler","Mass Cure 8","Mass Cure 7",null,null,5,0,{"$f":"TRUE","v":true},false,false,false,false,"1-8",false]
["Hospitaler","Mass Cure 9","Mass Cure 8",null,null,7,0,{"$f":"TRUE","v":true},false,false,false,false,"9",false]
["Hospitaler","Mass Cure 10","Mass Cure 9",null,null,7,0,{"$f":"TRUE","v":true},false,false,false,false,"10",false]
["Hospitaler","Regenerate 7",null,null,null,4,0,{"$f":"FALSE","v":false},false,false,true,false,"1-8",false]
["Hospitaler","Field Surgery 9",null,null,null,7,0,{"$f":"TRUE","v":true},false,false,true,false,"9",false]
["Hospitaler","Hallowed Ground 9",null,null,null,6,0,{"$f":"FALSE","v":false},false,false,true,false,"9",false]
["Hospitaler","Heal 6",null,null,null,4,0,{"$f":"FALSE","v":false},false,false,true,false,"1-8",false]
["Hospitaler","Heal 9","Heal 6",null,null,6,0,{"$f":"FALSE","v":false},false,false,false,false,"9",false]
["Hospitaler","Heal 10","Heal 6",null,null,7,0,{"$f":"TRUE","v":true},false,false,false,false,"10",false]
["Hospitaler","Mass Heal 9 ","Heal 6",null,null,7,0,{"$f":"TRUE","v":true},false,false,false,false,"9",false]
["Hospitaler","Healing Hands 9","Heal 6",null,null,7,0,{"$f":"TRUE","v":true},false,false,false,false,"9",false]
["Hospitaler","Martyr's Touch 5",null,null,null,3,0,{"$f":"TRUE","v":true},false,false,true,false,"1-8",false]
["Hospitaler","Martyr's Touch 8",null,null,null,5,0,{"$f":"TRUE","v":true},false,false,true,false,"1-8",false]
["Hospitaler","Martyr's Touch 9","Martyr's Touch 8",null,null,7,0,{"$f":"TRUE","v":true},false,false,false,false,"9",false]
["Hospitaler","Unshackle Spirit 6",null,null,null,4,0,{"$f":"FALSE","v":false},false,false,true,false,"1-8",false]
["Hospitaler","Unshackle Spirit 9",null,null,null,7,0,{"$f":"TRUE","v":true},false,false,true,false,"9",false]
["Humacti","Aid of Humact 4",null,null,null,2,{"$f":"SUM(IF(PrimaryHumacti,1,0),IF(GuildHumacti,2,0),IF(HighPriestHumacti,2,0),IF(PriestHumacti,2,0),IF(ArcherSpecialistHighPreistSect=19,2,0))","v":0},{"$f":"FALSE","v":false},{"$f":"IF(G399 >= F399,IF(ISODD(HumactiPriestLevel),TRUE,IF(H399=FALSE,TRUE,FALSE)), FALSE)","v":false},false,{"$f":"IF(ISBLANK($C399),TRUE,IF(INDEX(HumactiPreReq,MATCH($C399,HumactiInvocationNames,0),3)=1,TRUE,FALSE))","v":true},false,"1-8",{"$f":"PrimaryHumacti","v":false}]
["Humacti","Aid of Humact 6",null,null,null,4,0,{"$f":"FALSE","v":false},false,false,true,{"$f":"OR(J400,(AND(G400>=F400,K400,(IF(H400,N400,TRUE)))))","v":false},"1-8",false]
["Humacti","Aid of Humact 7","Aid of Humact 6",null,null,4,0,{"$f":"FALSE","v":false},false,false,false,false,"1-8",false]
["Humacti","Aid of Humact 8","Aid of Humact 7",null,null,4,0,{"$f":"FALSE","v":false},false,false,false,false,"1-8",false]
["Humacti","Aid of Humact 9","Aid of Humact 8",null,null,7,0,{"$f":"TRUE","v":true},false,false,false,false,"9",false]
["Humacti","Aid of Humact 10","Aid of Humact 9",null,null,7,0,{"$f":"TRUE","v":true},false,false,false,false,"10",false]
["Humacti","Humact's Sanction 4",null,null,null,3,0,{"$f":"TRUE","v":true},false,false,true,false,"1-8",false]
["Humacti","Humact's Sanction 8",null,null,null,5,0,{"$f":"TRUE","v":true},false,false,true,false,"1-8",false]
["Humacti","Burial",null,null,null,3,0,{"$f":"TRUE","v":true},{"$f":"IF(G407 >= F407,IF(ISODD(HumactiPriestLevel),TRUE,IF(H407=FALSE,TRUE,FALSE)), FALSE)","v":false},{"$f":"IF(D407>0, TRUE, FALSE)","v":false},true,false,"1-8",false]
["Humacti","Protection Vs. Disease 1, 3, 5",null,null,null,2,0,{"$f":"FALSE","v":false},false,false,true,false,"1-8",false]
["Humacti","Protection Vs. Disease 7","Protection Vs. Disease 1, 3, 5",null,null,4,0,{"$f":"FALSE","v":false},{"$f":"IF(G409 >= F409,IF(ISODD(HumactiPriestLevel),TRUE,IF(H409=FALSE,TRUE,FALSE)), FALSE)","v":false},{"$f":"IF(D409>0, TRUE, FALSE)","v":false},{"$f":"IF(ISBLANK($C409),TRUE,IF(INDEX(HumactiPreReq,MATCH($C409,HumactiInvocationNames,0),3)=1,TRUE,FALSE))","v":false},false,"1-8",false]
["Humacti","Protection Vs. Undead 1  to  5",null,null,null,2,0,{"$f":"FALSE","v":false},false,false,true,false,"1-8",false]
["Humacti","Protection Vs. Undead 6","Protection Vs. Undead 1  to  5",null,null,4,0,{"$f":"FALSE","v":false},false,false,false,false,"1-8",false]
["Humacti","Protection Vs. Undead 7","Protection Vs. Undead 6",null,null,4,0,{"$f":"FALSE","v":false},false,{"$f":"IF(D412>0, TRUE, FALSE)","v":false},false,false,"1-8",false]
["Humacti","Protection Vs. Undead 8","Protection Vs. Undead 7",null,null,4,0,{"$f":"FALSE","v":false},false,false,false,false,"1-8",false]
["Humacti","Mass Protection vs. Undead 9","Protection Vs. Undead 8",null,null,6,0,{"$f":"FALSE","v":false},false,false,false,false,"9",false]
["Humacti","Mass Protection vs. Undead 10","Mass Protection vs. Undead 9",null,null,6,0,{"$f":"FALSE","v":false},false,false,false,false,"10",false]
["Humacti","Remove Paralysis Range 4",null,null,null,3,0,{"$f":"TRUE","v":true},false,false,true,false,"1-8",false]
["Humacti","Mass Remove Paralysis 7",null,null,null,5,0,{"$f":"TRUE","v":true},false,false,true,false,"1-8",false]
["Humacti","Repel Undead 5",null,null,null,3,0,{"$f":"TRUE","v":true},false,false,true,false,"1-8",false]
["Humacti","Mass Repel Undead 8","Repel Undead 5",null,null,5,0,{"$f":"TRUE","v":true},false,false,false,false,"1-8",false]
["Humacti","Bless 6",null,null,null,4,0,{"$f":"FALSE","v":false},false,false,true,false,"1-8",false]
["Humacti","Bless 7","Bless 6",null,null,4,0,{"$f":"FALSE","v":false},false,false,false,false,"1-8",false]
["Humacti","Bless 8","Bless 7",null,null,4,0,{"$f":"FALSE","v":false},false,false,false,false,"1-8",false]
["Humacti","Cure Disease 7",null,null,null,4,0,{"$f":"FALSE","v":false},false,false,true,false,"1-8",false]
["Humacti","Cure Disease 9","Cure Disease 7",null,null,7,0,{"$f":"TRUE","v":true},{"$f":"IF(G424 >= F424,IF(ISODD(HumactiPriestLevel),TRUE,IF(H424=FALSE,TRUE,FALSE)), FALSE)","v":false},{"$f":"IF(D424>0, TRUE, FALSE)","v":false},false,false,"9",false]
["Humacti","Dismiss Undead 5",null,null,null,2,0,{"$f":"FALSE","v":false},false,false,true,false,"1-8",false]
["Humacti","Dismiss Undead 8","Dismiss Undead 5",null,null,4,0,{"$f":"FALSE","v":false},false,false,false,false,"1-8",false]
["Humacti","Dismiss Undead 9","Dismiss Undead 8",null,null,7,0,{"$f":"TRUE","v":true},false,false,false,false,"9",false]
["Humacti","Dismiss Undead 10","Dismiss Undead 9",null,null,7,0,{"$f":"TRUE","v":true},false,false,false,false,"10",false]
["Humacti","Hand of Humact 6",null,null,null,5,0,{"$f":"TRUE","v":true},false,false,true,false,"1-8",false]
["Humacti","Hand of Humact 7","Hand of Humact 6",null,null,5,0,{"$f":"TRUE","v":true},false,false,false,false,"1-8",false]
["Humacti","Hand of Humact 8","Hand of Humact 7",null,null,5,{"$f":"SUM(IF(PrimaryHumacti,1,0),IF(GuildHumacti,2,0),IF(HighPriestHumacti,2,0),IF(PriestHumacti,2,0),IF(ArcherSpecialistHighPreistSect=19,2,0))","v":0},{"$f":"TRUE","v":true},{"$f":"IF(G431 >= F431,IF(ISODD(HumactiPriestLevel),TRUE,IF(H431=FALSE,TRUE,FALSE)), FALSE)","v":false},false,{"$f":"IF(ISBLANK($C431),TRUE,IF(INDEX(HumactiPreReq,MATCH($C431,HumactiInvocationNames,0),3)=1,TRUE,FALSE))","v":false},false,"1-8",{"$f":"PrimaryHumacti","v":false}]
["Humacti","Heal 6",null,null,null,4,0,{"$f":"FALSE","v":false},false,false,true,false,"1-8",false]
["Humacti","Heal 9","Heal 6",null,null,6,0,{"$f":"FALSE","v":false},false,false,false,false,"9",false]
["Humacti","Heal 10","Heal 9",null,null,7,0,{"$f":"TRUE","v":true},{"$f":"IF(G434 >= F434,IF(ISODD(HumactiPriestLevel),TRUE,IF(H434=FALSE,TRUE,FALSE)), FALSE)","v":false},{"$f":"IF(D434>0, TRUE, FALSE)","v":false},false,false,"10",false]
["Humacti","Invoke Sphere 8",null,null,null,4,0,{"$f":"FALSE","v":false},false,false,true,false,"1-8",false]
["Humacti","Protection Vs. Fear 8",null,null,null,4,0,{"$f":"FALSE","v":false},false,false,true,false,"1-8",false]
["Humacti","Protection Vs. Paralysis 8",null,null,null,5,0,{"$f":"TRUE","v":true},false,false,true,false,"1-8",false]
["Humacti","Unshackle Spirit 6",null,null,null,4,0,{"$f":"FALSE","v":false},false,false,true,false,"1-8",false]
["Humacti","Hallowed Ground 9",null,null,null,6,0,{"$f":"FALSE","v":false},false,false,true,false,"9",false]
["Humacti","Humact's Guardian 9","Protection Vs. Undead 8",null,null,6,0,{"$f":"FALSE","v":false},false,false,false,false,"9",false]
["Humacti","Humact's Guardian 10","Humact's Guardian 9",null,null,6,0,{"$f":"FALSE","v":false},false,false,false,false,"10",false]
["Humacti","Personal Blessing 9","Bless 8",null,null,7,0,{"$f":"TRUE","v":true},false,false,false,false,"9",false]
["Humacti","Personal Blessing 10","Personal Blessing 9",null,null,7,0,{"$f":"TRUE","v":true},false,false,false,false,"10",false]
["Humacti","Weapon of Disruption 6",null,null,null,4,0,{"$f":"FALSE","v":false},false,false,true,false,"1-8",false]
["Humacti","Weapon of Disruption 7","Weapon of Disruption 6",null,null,4,0,{"$f":"FALSE","v":false},false,false,false,false,"1-8",false]
["Humacti","Weapon of Disruption 8","Weapon of Disruption 7",null,null,4,0,{"$f":"FALSE","v":false},false,false,false,false,"1-8",false]
["Humacti","Weapon of Disruption 9",null,null,null,7,0,{"$f":"TRUE","v":true},false,false,true,false,"9",false]
["Micheline","Courage 3, 5",null,null,null,2,{"$f":"SUM(IF(PrimaryMicheline,1,0),IF(GuildMicheline,2,0),IF(HighPriestMIcheline,2,0),IF(PriestMicheline,2,0),IF(ArcherSpecialistHighPreistSect=20,2,0))","v":0},{"$f":"FALSE","v":false},{"$f":"IF(G448 >= F448,IF(ISODD(MichelinePriestLevel),TRUE,IF(H448=FALSE,TRUE,FALSE)), FALSE)","v":false},false,{"$f":"IF(ISBLANK($C448),TRUE,IF(INDEX(MichelinePreReq,MATCH($C448,MichelineInvocationNames,0),3)=1,TRUE,FALSE))","v":true},false,"1-8",{"$f":"PrimaryMicheline","v":false}]
["Micheline","Protection Vs. Curse 4",null,null,null,3,0,{"$f":"TRUE","v":true},false,false,true,false,"1-8",false]
["Micheline","Protection Vs. Curse 8","Protection Vs. Curse 4",null,null,5,0,{"$f":"TRUE","v":true},false,false,false,false,"1-8",false]
["Micheline","Protection Vs. Evil 1  to  5",null,null,null,2,0,{"$f":"FALSE","v":false},false,false,true,false,"1-8",false]
["Micheline","Protection Vs. Evil 6","Protection Vs. Evil 1  to  5",null,null,4,0,{"$f":"FALSE","v":false},false,false,false,false,"1-8",false]
["Micheline","Protection Vs. Evil 7","Protection Vs. Evil 6",null,null,4,0,{"$f":"FALSE","v":false},false,false,false,false,"1-8",false]
["Micheline","Protection Vs. Evil 8","Protection Vs. Evil 7",null,null,4,0,{"$f":"FALSE","v":false},false,false,false,false,"1-8",false]
["Micheline","Mass Protection vs. Evil 9","Protection Vs. Evil 8",null,null,6,0,{"$f":"FALSE","v":false},false,false,false,false,"9",false]
["Micheline","Mass Protection vs. Evil 10","Mass Protection vs. Evil 9",null,null,6,0,{"$f":"FALSE","v":false},false,false,false,false,"10",false]
["Micheline","Remove Blight 5",null,null,null,2,0,{"$f":"FALSE","v":false},false,false,true,false,"1-8",false]
["Micheline","Repel Evil 5",null,null,null,2,0,{"$f":"FALSE","v":false},false,false,true,false,"1-8",false]
["Micheline","Mass Repel Evil 8","Repel Evil 5",null,null,5,0,{"$f":"TRUE","v":true},false,false,false,false,"1-8",false]
["Micheline","Attract Evil 6",null,null,null,5,0,{"$f":"TRUE","v":true},{"$f":"IF(G460 >= F460,IF(ISODD(MichelinePriestLevel),TRUE,IF(H460=FALSE,TRUE,FALSE)), FALSE)","v":false},{"$f":"IF(D460>0, TRUE, FALSE)","v":false},true,false,"1-8",false]
["Micheline","Arm of Justice 6",null,null,null,5,0,{"$f":"TRUE","v":true},false,false,true,false,"1-8",false]
["Micheline","Arm of Justice 7","Arm of Justice 6",null,null,5,0,{"$f":"TRUE","v":true},false,false,false,false,"1-8",false]
["Micheline","Arm of Justice 8","Arm of Justice 7",null,null,5,0,{"$f":"TRUE","v":true},false,false,false,false,"1-8",false]
["Micheline","Arm of Justice 9","Arm of Justice 8",null,null,7,0,{"$f":"TRUE","v":true},false,false,false,{"$f":"OR(J464,(AND(G464>=F464,K464,(IF(H464,N464,TRUE)))))","v":false},"9",false]
["Micheline","Bless 6",null,null,null,4,0,{"$f":"FALSE","v":false},false,false,true,false,"1-8",false]
["Micheline","Bless 7","Bless 6",null,null,4,0,{"$f":"FALSE","v":false},false,{"$f":"IF(D466>0, TRUE, FALSE)","v":false},false,false,"1-8",false]
["Micheline","Bless 8","Bless 7",null,null,4,0,{"$f":"FALSE","v":false},false,false,false,false,"1-8",false]
["Micheline","Personal Blessing 9","Bless 8",null,null,7,0,{"$f":"TRUE","v":true},false,false,false,false,"9",false]
["Micheline","Personal Blessing 10","Personal Blessing 9",null,null,7,0,{"$f":"TRUE","v":true},false,false,false,false,"10",false]
["Micheline","Heal 6",null,null,null,4,0,{"$f":"FALSE","v":false},false,false,true,false,"1-8",false]
["Micheline","Heal 9","Heal 6",null,null,6,0,{"$f":"FALSE","v":false},false,false,false,false,"9",false]
["Micheline","Heal 10","Heal 9",null,null,7,0,{"$f":"TRUE","v":true},{"$f":"IF(G472 >= F472,IF(ISODD(MichelinePriestLevel),TRUE,IF(H472=FALSE,TRUE,FALSE)), FALSE)","v":false},{"$f":"IF(D472>0, TRUE, FALSE)","v":false},false,false,"10",false]
["Micheline","Invoke Sphere 8",null,null,null,5,0,{"$f":"TRUE","v":true},false,false,true,false,"1-8",false]
["Micheline","Power Weapon 6",null,null,null,4,0,{"$f":"FALSE","v":false},false,false,true,false,"1-8",false]
["Micheline","Power Weapon 7","Power Weapon 6",null,null,4,0,{"$f":"FALSE","v":false},false,false,false,false,"1-8",false]
["Micheline","Power Weapon 8","Power Weapon 7",null,null,4,0,{"$f":"FALSE","v":false},false,false,false,false,"1-8",false]
["Micheline","Protection Vs. Fear 8",null,null,null,4,0,{"$f":"FALSE","v":false},false,false,true,false,"1-8",false]
["Micheline","Protection Vs. Death 6",null,null,null,4,0,{"$f":"FALSE","v":false},{"$f":"IF(G478 >= F478,IF(ISODD(MichelinePriestLevel),TRUE,IF(H478=FALSE,TRUE,FALSE)), FALSE)","v":false},false,{"$f":"IF(ISBLANK($C478),TRUE,IF(INDEX(MichelinePreReq,MATCH($C478,MichelineInvocationNames,0),3)=1,TRUE,FALSE))","v":true},false,"1-8",false]
["Micheline","Protection Vs. Death 8","Protection Vs. Death 6",null,null,5,0,{"$f":"TRUE","v":true},false,false,false,false,"1-8",false]
["Micheline","Remove Curse 8",null,null,null,4,0,{"$f":"FALSE","v":false},false,false,true,false,"1-8",false]
["Micheline","Remove Curse 9","Remove Curse 8",null,null,7,0,{"$f":"TRUE","v":true},false,false,false,false,"9",false]
["Micheline","Strength of Michel 6",null,null,null,5,0,{"$f":"TRUE","v":true},false,false,true,false,"1-8",false]
["Micheline","Strength of Michel 7","Strength of Michel 6",null,null,5,0,{"$f":"TRUE","v":true},false,false,false,false,"1-8",false]
["Micheline","Strength of Michel 8","Strength of Michel 7",null,null,5,0,{"$f":"TRUE","v":true},false,false,false,false,"1-8",false]
["Micheline","Strength of Michel 9","Strength of Michel 8",null,null,7,0,{"$f":"TRUE","v":true},false,false,false,false,"9",false]
["Micheline","Strength of Michel 10","Strength of Michel 9",null,null,7,0,{"$f":"TRUE","v":true},false,false,false,false,"10",false]
["Micheline","Cosmic Defence 9","Protection Vs. Evil 8",null,null,6,0,{"$f":"FALSE","v":false},false,false,false,false,"9",false]
["Micheline","Cosmic Defence 10","Cosmic Defence 9",null,null,6,0,{"$f":"FALSE","v":false},false,false,false,false,"10",false]
["Micheline","Hallowed Ground 9",null,null,null,6,0,{"$f":"FALSE","v":false},false,false,true,false,"9",false]
["Micheline","Summon Good Spirit 5",null,null,null,2,0,{"$f":"FALSE","v":false},false,false,true,false,"1-8",false]
["Micheline","Summon Good Spirit 6","Summon Good Spirit 5",null,null,4,0,{"$f":"FALSE","v":false},false,false,false,false,"1-8",false]
["Micheline","Summon Good Spirit 9 ","Summon Good Spirit 6",null,null,7,0,{"$f":"TRUE","v":true},false,false,false,false,"9",false]
["White Path","Courage 3, 5",null,null,null,2,{"$f":"SUM(IF(PrimaryWhitePath,1,0),IF(GuildWhitePath,2,0),IF(HighPriestWhitePath,2,0),IF(PriestWhitePath,2,0),IF(ArcherSpecialistHighPreistSect=17,2,0))","v":0},{"$f":"FALSE","v":false},{"$f":"IF(G493 >= F493,IF(ISODD(WhitePathPriestLevel),TRUE,IF(H493=FALSE,TRUE,FALSE)), FALSE)","v":false},{"$f":"IF(D493>0, TRUE, FALSE)","v":false},{"$f":"IF(ISBLANK($C493),TRUE,IF(INDEX(WhitePathPreReq,MATCH($C493,WhitePathInvocationNames,0),3)=1,TRUE,FALSE))","v":true},false,"1-8",{"$f":"PrimaryWhitePath","v":false}]
["White Path","Cure Blindness 4",null,null,null,2,0,{"$f":"FALSE","v":false},false,false,true,false,"1-8",false]
["White Path","Dismiss Undead 5",null,null,null,2,0,{"$f":"FALSE","v":false},false,false,true,false,"1-8",false]
["White Path","Dismiss Undead 8","Dismiss Undead 5",null,null,4,0,{"$f":"FALSE","v":false},false,false,false,false,"1-8",false]
["White Path","Power Gift 2  to  5",null,null,null,2,0,{"$f":"FALSE","v":false},false,false,true,false,"1-8",false]
["White Path","Power Gift Range 5",null,null,null,3,0,{"$f":"TRUE","v":true},false,false,true,false,"1-8",false]
["White Path","Power Gift 6","Power Gift 2  to  5",null,null,4,0,{"$f":"FALSE","v":false},false,false,false,false,"1-8",false]
["White Path","Power Gift 7","Power Gift 6",null,null,4,0,{"$f":"FALSE","v":false},false,false,false,false,"1-8",false]
["White Path","Power Gift 8","Power Gift 7",null,null,4,0,{"$f":"FALSE","v":false},false,false,false,false,"1-8",false]
["White Path","Power Gift 9","Power Gift 8",null,null,7,0,{"$f":"TRUE","v":true},false,false,false,false,"9",false]
["White Path","Protection Vs. Disease 1, 3, 5",null,null,null,3,0,{"$f":"TRUE","v":true},false,false,true,false,"1-8",false]
["White Path","Protection Vs. Disease 7","Protection Vs. Disease 1, 3, 5",null,null,5,0,{"$f":"TRUE","v":true},false,false,false,false,"1-8",false]
["White Path","Cure Disease 7",null,null,null,4,0,{"$f":"FALSE","v":false},false,false,true,false,"1-8",false]
["White Path","Cure Disease 9","Cure Disease 7",null,null,6,0,{"$f":"FALSE","v":false},false,{"$f":"IF(D506>0, TRUE, FALSE)","v":false},false,false,"9",false]
["White Path","Bless 6",null,null,null,4,0,{"$f":"FALSE","v":false},false,false,true,false,"1-8",false]
["White Path","Bless 7","Bless 6",null,null,4,0,{"$f":"FALSE","v":false},false,false,false,false,"1-8",false]
["White Path","Bless 8","Bless 7",null,null,4,0,{"$f":"FALSE","v":false},false,false,false,false,"1-8",false]
["White Path","Mass Bless 9","Bless 8",null,null,7,0,{"$f":"TRUE","v":true},false,false,false,false,"9",false]
["White Path","Mass Bless 10","Mass Bless 9",null,null,7,0,{"$f":"TRUE","v":true},false,false,false,false,"10",false]
["White Path","Personal Bless 9","Bless 8",null,null,7,0,{"$f":"TRUE","v":true},false,false,false,false,"9",false]
["White Path","Personal Bless 10","Personal Bless 9",null,null,7,0,{"$f":"TRUE","v":true},false,false,false,false,"10",false]
["White Path","Cosmic Blessing 9","Bless 8",null,null,6,0,{"$f":"FALSE","v":false},false,false,false,false,"9",false]
["White Path","Cosmic Blessing 10","Cosmic Blessing 9",null,null,6,0,{"$f":"FALSE","v":false},false,false,false,false,"10",false]
["White Path","Dismiss Undead 5",null,null,null,2,0,{"$f":"FALSE","v":false},false,false,true,false,"1-8",false]
["White Path","Dismiss Undead 8","Dismiss Undead 8",null,null,4,0,{"$f":"FALSE","v":false},false,false,false,false,"1-8",false]
["White Path","Heal 6",null,null,null,4,0,{"$f":"FALSE","v":false},false,false,true,false,"1-8",false]
["White Path","Heal 9","Heal 6",null,null,6,0,{"$f":"FALSE","v":false},false,false,false,false,"9",false]
["White Path","Heal 10","Heal 10",null,null,7,0,{"$f":"TRUE","v":true},{"$f":"IF(G520 >= F520,IF(ISODD(WhitePathPriestLevel),TRUE,IF(H520=FALSE,TRUE,FALSE)), FALSE)","v":false},{"$f":"IF(D520>0, TRUE, FALSE)","v":false},false,false,"10",false]
["White Path","Invoke Sphere 8",null,null,null,4,0,{"$f":"FALSE","v":false},false,false,true,false,"1-8",false]
["White Path","Power Weapon 6",null,null,null,4,0,{"$f":"FALSE","v":false},false,false,true,false,"1-8",false]
["White Path","Power Weapon 7","Power Weapon 6",null,null,4,0,{"$f":"FALSE","v":false},false,false,false,false,"1-8",false]
["White Path","Power Weapon 8","Power Weapon 7",null,null,4,0,{"$f":"FALSE","v":false},false,false,false,false,"1-8",false]
["White Path","Power Weapon 9","Power Weapon 8",null,null,7,0,{"$f":"TRUE","v":true},false,false,false,false,"9",false]
["White Path","Protection Vs. Fear 8",null,null,null,4,0,{"$f":"FALSE","v":false},false,false,true,false,"1-8",false]
["White Path","Protection Vs. Poison 8",null,null,null,5,0,{"$f":"TRUE","v":true},false,false,true,false,"1-8",false]
["White Path","Protection Vs. Blindness 8",null,null,null,5,0,{"$f":"TRUE","v":true},{"$f":"IF(G528 >= F528,IF(ISODD(WhitePathPriestLevel),TRUE,IF(H528=FALSE,TRUE,FALSE)), FALSE)","v":false},{"$f":"IF(D528>0, TRUE, FALSE)","v":false},true,{"$f":"OR(J528,(AND(G528>=F528,K528,(IF(H528,N528,TRUE)))))","v":false},"1-8",false]
["White Path","Remove Curse 8",null,null,null,4,0,{"$f":"FALSE","v":false},false,false,true,false,"1-8",false]
["White Path","Unshackle Spirit 6",null,null,null,5,0,{"$f":"TRUE","v":true},false,false,true,false,"1-8",false]
["White Path","Hallowed Ground 9",null,null,null,6,0,{"$f":"FALSE","v":false},false,false,true,false,"9",false]

{"sheet":"Armour","index":5,"n_rows":32,"n_cols":12,"rows_kept":32,"cut":false,"hidden":false,"merged":[[31,0,31,1],[22,0,22,1],[23,0,23,1],[19,0,19,1],[30,0,30,1],[26,0,26,1],[20,0,20,1],[21,0,21,1],[29,0,29,1],[27,0,27,1],[28,0,28,1],[18,0,18,2],[24,0,24,1],[25,0,25,1],[1,0,1,6],[1,8,1,11],[2,8,2,10],[3,8,3,10],[4,8,4,10],[9,0,9,6],[5,0,5,6]]}
[]
["Permanent and Worn Armour Class, include Boons & HQA's ",null,null,null,null,null,null,null,"Standard Armour Values"]
[null,"Physical","Power","Evil","Undead","Magic","Dexterity",null,"Non Metal Armour",null,null,6]
["Armour",null,null,null,null,null,null,null,"Metal Armour",null,null,10]
[null,null,null,null,null,null,null,null,"Superior (per plus)",null,null,"+1"]
["Long Duration Magic Skins"]
[null,"Physical",null,null,null,"Magic"]
["Armour"]
[]
["Long Duration Spells or Invocations"]
[null,"Physical","Power","Evil","Undead","Magic","Dexterity"]
["Armour"]
[]
[]
[]
[]
[]
[]
["Unusual Conditions"]
["Perm Life Drained",null,0]
["Perm Power Drained",null,0]
["L1 Slots Drained",null,0]
["L2 Slots Drained",null,0]
["L3 Slots Drained",null,0]
["L4 Slots Drained",null,0]
["L5 Slots Drained",null,0]
["L6 Slots Drained",null,0]
["L7 Slots Drained",null,0]
["L8 Slots Drained",null,0]
["L9 Slots Drained",null,0]
["L10 Slots Drained",null,0]
["Has Psionics",null,0,"Note this is only available as a HQ ability. 1 = Acolyte, 2 = Priest"]

{"sheet":"Battleboard","index":6,"n_rows":127,"n_cols":50,"rows_kept":127,"cut":false,"hidden":false,"merged":[[45,25,46,51],[47,25,48,51],[49,25,50,51],[51,25,52,51],[53,25,54,51],[55,25,56,51],[57,25,58,51],[38,0,39,23],[32,0,33,23],[39,25,40,51],[41,25,42,51],[43,25,44,51],[42,0,43,23],[44,0,45,23],[46,0,47,23],[48,0,49,23],[50,0,51,23],[52,0,53,23],[54,0,55,23],[56,0,57,23],[0,40,1,41],[0,24,1,29],[0,42,1,49],[0,34,1,39],[0,30,1,32],[3,25,4,27],[3,28,4,31],[16,35,17,38],[25,25,26,51],[20,25,21,34],[22,25,23,34],[27,25,28,51],[22,48,23,51],[22,39,23,47],[0,50,1,51],[3,49,4,51],[3,32,4,34],[3,44,4,46],[3,47,4,48],[18,0,19,23],[20,0,21,23],[22,0,23,23],[18,48,19,51],[20,48,21,51],[18,39,19,47],[20,39,21,47],[3,39,4,43],[18,35,19,38],[20,35,21,38],[22,35,23,38],[5,6,6,8],[5,9,6,11],[5,4,6,5],[8,20,9,23],[10,4,11,11],[87,38,88,42],[96,31,97,33],[96,34,97,35],[87,43,88,51],[81,25,82,29],[79,38,80,42],[5,28,6,51],[5,25,6,27],[16,46,17,47],[7,28,8,51],[16,39,17,45],[11,28,12,51],[7,25,14,27],[9,28,10,51],[13,28,14,51],[16,48,17,51],[73,25,74,29],[75,25,76,29],[69,25,70,29],[31,25,32,51],[33,25,34,51],[35,25,36,51],[37,25,38,51],[29,25,30,51],[81,38,82,42],[81,43,82,51],[89,25,90,29],[89,30,90,37],[89,38,90,42],[89,43,90,51],[3,35,4,38],[98,25,99,51],[69,38,70,42],[83,25,84,29],[83,30,84,37],[83,38,84,42],[83,43,84,51],[73,43,74,51],[71,30,72,37],[71,38,72,42],[96,42,97,43],[96,36,97,37],[85,25,86,29],[85,30,86,37],[85,38,86,42],[85,43,86,51],[87,25,88,29],[87,30,88,37],[114,25,115,28],[114,32,115,34],[114,29,115,31],[100,25,101,51],[102,25,103,51],[107,28,108,51],[114,38,115,41],[114,42,115,44],[111,25,112,27],[114,45,115,48],[10,16,17,19],[10,20,17,23],[14,4,15,11],[8,4,9,11],[10,12,17,15],[16,33,17,34],[16,25,17,32],[18,25,19,34],[5,18,6,20],[5,15,6,17],[12,4,13,11],[5,12,6,14],[5,21,6,23],[0,0,1,3],[0,20,1,23],[40,0,41,23],[16,0,17,11],[8,0,9,3],[10,0,15,3],[0,4,1,19],[3,18,4,20],[3,21,4,23],[3,15,4,17],[3,0,4,3],[3,12,4,14],[24,0,25,23],[26,0,27,23],[28,0,29,23],[30,0,31,23],[3,4,4,5],[3,6,4,8],[3,9,4,11],[5,0,6,3],[8,12,9,15],[8,16,9,19],[34,0,35,23],[36,0,37,23],[124,43,125,51],[96,38,97,41],[96,25,97,27],[96,44,97,48],[96,49,97,51],[96,28,97,30],[116,25,117,51],[87,5,88,23],[124,38,125,42],[124,25,125,29],[124,30,125,37],[89,5,90,23],[91,18,92,23],[91,5,92,12],[118,25,119,51],[120,25,121,51],[105,25,106,27],[105,28,106,51],[111,28,112,51],[114,49,115,51],[109,28,110,51],[109,25,110,27],[107,25,108,27],[114,35,115,37],[89,0,90,0],[91,1,92,2],[91,13,92,13],[91,14,92,15],[91,16,92,17],[87,1,88,2],[81,1,82,23],[85,3,86,4],[87,3,88,4],[91,3,92,4],[89,1,90,2],[89,3,90,4],[85,1,86,2],[91,0,92,0],[85,5,86,23],[81,30,82,37],[79,1,80,2],[79,3,80,4],[83,1,84,23],[85,0,86,0],[87,0,88,0],[79,25,80,29],[79,30,80,37],[77,1,78,2],[77,3,78,4],[77,0,78,0],[77,5,78,23],[79,0,80,0],[79,5,80,23],[79,43,80,51],[71,3,72,4],[75,3,76,4],[73,0,74,0],[71,1,72,2],[73,1,74,2],[75,5,76,23],[71,5,72,23],[75,1,76,2],[75,0,76,0],[73,5,74,23],[71,0,72,0],[75,30,76,37],[77,30,78,37],[73,38,74,42],[75,38,76,42],[71,43,72,51],[77,43,78,51],[75,43,76,51],[77,25,78,29],[71,25,72,29],[77,38,78,42],[69,30,70,37],[59,25,60,51],[61,25,62,51],[63,25,64,51],[65,25,66,51],[69,43,70,51],[73,30,74,37],[73,3,74,4],[69,0,70,2],[69,6,70,8],[69,5,70,5],[69,3,70,4],[69,9,70,13],[69,14,70,16],[69,17,70,20],[69,21,70,23],[58,0,59,23],[60,0,61,23],[62,0,63,23],[64,0,65,23]]}
["Character",null,null,null,{"$f":"IF(ISBLANK(CharacterName),\"\",CharacterName)","v":""},null,null,null,null,null,null,null,null,null,null,null,null,null,null,null,{"$f":"IF(Kingsman, \"Kingsman\", \"\")","v":""},null,null,null,{"$f":"CharacterTableName","v":"Human Mage"},null,null,null,null,null,{"$f":"TotalPoints & \"pts\"","v":"0pts"},null,null,null,"Res Chances",null,null,null,null,null,{"$f":"4-Deaths+IF(Kingsman,1,0)+IncreasedSpiritStrength","v":4},null,"Deaths on Event"]
[]
[]
[null,null,null,null,"Physical",null,{"$f":"IF(UnArmDex>ArmDex, \"U.Dex\", \"A.Dex\")","v":"A.Dex"},null,null,"Power",null,null,"Evil",null,null,"Undead",null,null,"Magic",null,null,"Hits",null,null,null,"Power",null,null,{"$f":"TotalPower","v":5},null,null,null,"Self",null,null,null,null,null,null,"Talisman",null,null,null,null,{"$f":"IF(MakeTalisman,TotalPower-AJ4,\"NO\")","v":"NO"},null,null,"Med",null,{"$f":"IF(Meditate, \"\", \"N/A\")","v":"N/A"}]
[]
["Armour",null,null,null,{"$f":"(MAX(IF(ACPermPhys>0,SUM(ACPermPhys+ArmourSkillLevel+ToughenedSkinAC+ACTempPhys),0),ACPhysFromSkin+ToughenedSkinAC+ACTempPhys)&IF(OR(ACPermDex>0, ACTempDex>0,UnArmDex>0,ArmDex>0),\"  /  \"&IF(OR(ACPermPhys>0,ACPhysFromSkin>0),(MAX(IF(ACPermPhys>0,SUM(ACPermPhys+ArmourSkillLevel+ToughenedSkinAC+ACTempPhys+ArmDex+BonusDex),0),ACPhysFromSkin+ToughenedSkinAC+ACTempPhys+ArmDex+BonusDex)),IF(UnArmDex>0,SUM(UnArmDex,ToughenedSkinAC,ACTempPhys,BonusDex),IF(ArmDex>0,SUM(ArmDex, BonusDex, ToughenedSkinAC,ACTempPhys),\"\"))),\"\"))","v":"0"},null,{"$f":"(BiggestDex)+BonusDex","v":0},null,null,{"$f":"( SUM(ACPermPower,ACTempPower)+ToughenedSkinPAC) & IF(BiggestDex+BonusDex>0,\"  /  \" & (SUM(ACPermPower,ACTempPower)+BiggestDex+BonusDex+ToughenedSkinPAC), \"\")","v":"0"},null,null,{"$f":"(SUM(ACPermEvil,ACTempEvil,ACPermPower,ACTempPower,ToughenedSkinPAC))","v":0},null,null,{"$f":"(SUM(ACPermUndead,ACTempUndead,ACPermPower,ACTempPower,ToughenedSkinPAC)) & IF(BiggestDex+BonusDex>0,\"  /  \" & (SUM(ACPermUndead,ACTempUndead,ACPermPower,ACTempPower)+BiggestDex+BonusDex+ToughenedSkinPAC), \"\")","v":"0"},null,null,{"$f":"(SUM(ACPermMagic,ACTempMagic,ACMagicFromSkin)+ToughenedSkinMAC)&IF(BiggestDex+BonusDex>0,\"  /  \"&IF(OR(ArmDex,ACPermDex,ACTempDex),SUM(ACPermMagic,ACTempMagic,ACMagicFromSkin,ArmDex,BonusDex,ToughenedSkinMAC),IF(ACMagicFromSkin>0,(SUM(ACTempMagic,ACPermMagic,ACMagicFromSkin,ToughenedSkinMAC)),(SUM(UnArmDex+BonusDex,ACTempMagic,ACPermMagic,ToughenedSkinMAC)))),\"\")","v":"0"},null,null,{"$f":"TotalLife/3","v":14},null,null,null,"Out"]
[]
[]
["Life",null,null,null,{"$f":"\"Awareness: \" & (CombatAwarenessSkill * 4)","v":"Awareness: 0"},null,null,null,null,null,null,null,"Physical",null,null,null,"Power",null,null,null,"Magic"]
[]
[{"$f":"TotalLife","v":42}]
[]
[]
[]
[]
[]
[null,null,null,null,null,null,null,null,null,null,null,null,null,null,null,null,null,null,null,null,null,null,null,null,null,null,null,null,null,null,null,null,null,"Effect",null,"Expires",null,null,null,null,null,null,null,null,null,null,"Effect",null,"Expires"]
[]
[]
[]
[]
[]
[]
[]
[]
[null,null,null,null,null,null,null,null,null,null,null,null,null,null,null,null,null,null,null,null,null,null,null,null,null,"Powers, Skills, Abilities, Items etc"]
[]
[]
[]
[]
[]
[]
[]
[]
[]
[]
[]
[]
[]
[]
[]
[]
[]
[]
[]
[]
[]
[]
[]
[]
[]
[]
[]
[]
[]
[]
[]
[]
[]
[]
[]
[]
[]
[]
[]
[]
[]
[]
[]
["Magic",null,null,"Out",null,"Focus",{"$f":"IF(MakeFocus,\"YES\",\"NO\")","v":"NO"},null,null,"Mnemonic",null,null,null,null,{"$f":"IF(MnemonicEnhancer, \"\", \"N/A\")","v":"N/A"},null,null,"Regain",null,null,null,{"$f":"IF(MnemonicEnhancer,IF(MnemonicManaRegained>=(TotalMana+Total_Level1_Slots),\"ALL\",MnemonicManaRegained),\"N/A\")","v":"N/A"},null,null,null,"Knockback",null,null,null,null,{"$f":"IF(ISERROR(VLOOKUP(Z70,WarriorSkillsAndResists,KnockbackSkillLvl+2,FALSE)),\" \",(VLOOKUP(Z70,WarriorSkillsAndResists,KnockbackSkillLvl+2,FALSE)))","v":" "},null,null,null,null,null,null,null,"Disarm",null,null,null,null,{"$f":"IF(ISERROR(VLOOKUP(AM70,WarriorSkillsAndResists,DisarmSkillLvl+2,FALSE)),\" \",(VLOOKUP(AM70,WarriorSkillsAndResists,DisarmSkillLvl+2,FALSE)))","v":" "}]
[]
[1,{"$f":"Total_Level1_Slots","v":0},null,{"$f":"Variables!E$150","v":0},null,null,null,null,null,null,null,null,null,null,null,null,null,null,null,null,null,null,null,null,null,"Knockdown",null,null,null,null,{"$f":"IF(ISERROR(VLOOKUP(Z72,WarriorSkillsAndResists,KnockdownSkillLvl+2,FALSE)),\" \",(VLOOKUP(Z72,WarriorSkillsAndResists,KnockdownSkillLvl+2,FALSE)))","v":" "},null,null,null,null,null,null,null,"Nerve Strike",null,null,null,null,{"$f":"IF(ISERROR(VLOOKUP(AM72,WarriorSkillsAndResists,NerveStrikeSkillLvl+2,FALSE)),\" \",(VLOOKUP(AM72,WarriorSkillsAndResists,NerveStrikeSkillLvl+2,FALSE)))","v":" "}]
[]
[2,{"$f":"_Lvl02","v":0},null,{"$f":"Variables!E$151","v":0},null,null,null,null,null,null,null,null,null,null,null,null,null,null,null,null,null,null,null,null,null,"Dismember",null,null,null,null,{"$f":"IF(ISERROR(VLOOKUP(Z74,WarriorSkillsAndResists,DismemberSkillLvl+2,FALSE)),\" \",(VLOOKUP(Z74,WarriorSkillsAndResists,DismemberSkillLvl+2,FALSE)))","v":" "},null,null,null,null,null,null,null,"Bone Break",null,null,null,null,{"$f":"IF(ISERROR(VLOOKUP(AM74,WarriorSkillsAndResists,BoneBreakSkillLvl+2,FALSE)),\" \",(VLOOKUP(AM74,WarriorSkillsAndResists,BoneBreakSkillLvl+2,FALSE)))","v":" "}]
[]
[3,{"$f":"_Lvl03","v":0},null,{"$f":"Variables!E$152","v":0},null,null,null,null,null,null,null,null,null,null,null,null,null,null,null,null,null,null,null,null,null,"Shield Cleave",null,null,null,null,{"$f":"IF(ISERROR(VLOOKUP(Z76,WarriorSkillsAndResists,ShieldCleaveSkillLvl+2,FALSE)),\" \",(VLOOKUP(Z76,WarriorSkillsAndResists,ShieldCleaveSkillLvl+2,FALSE)))","v":" "},null,null,null,null,null,null,null,"Shield Arm BB",null,null,null,null,{"$f":"IF(ISERROR(VLOOKUP(AM76,WarriorSkillsAndResists,ShieldArmBoneBreakSkillLvl+2,FALSE)),\" \",(VLOOKUP(AM76,WarriorSkillsAndResists,ShieldArmBoneBreakSkillLvl+2,FALSE)))","v":" "}]
[]
[4,{"$f":"_Lvl04","v":0},null,{"$f":"Variables!E$153","v":0},null,null,null,null,null,null,null,null,null,null,null,null,null,null,null,null,null,null,null,null,null,"Hold The Line",null,null,null,null,{"$f":"IF(ISERROR(VLOOKUP(Z78,WarriorSkillsAndResists,HoldTheLineSkillLvl+2,FALSE)),\" \",(VLOOKUP(Z78,WarriorSkillsAndResists,HoldTheLineSkillLvl+2,FALSE)))","v":" "},null,null,null,null,null,null,null,"Never",null,null,null,null,{"$f":"IF(ISERROR(VLOOKUP(AM78,WarriorSkillsAndResists,NeverSkillLvl+2,FALSE)),\" \",(VLOOKUP(AM78,WarriorSkillsAndResists,NeverSkillLvl+2,FALSE)))","v":" "}]
[]
[5,{"$f":"_Lvl05","v":0},null,{"$f":"Variables!E$154","v":0},null,null,null,null,null,null,null,null,null,null,null,null,null,null,null,null,null,null,null,null,null,"Resist Knockback",null,null,null,null,{"$f":"IF(ISERROR(VLOOKUP(Z80,WarriorSkillsAndResists,ResistKnockbackSkillLvl+2,FALSE)),\" \",(VLOOKUP(Z80,WarriorSkillsAndResists,ResistKnockbackSkillLvl+2,FALSE)))","v":" "},null,null,null,null,null,null,null,"Res Disarm",null,null,null,null,{"$f":"IF(ISERROR(VLOOKUP(AM80,WarriorSkillsAndResists,ResistDisarmSkillLvl+2,FALSE)),\" \",(VLOOKUP(AM80,WarriorSkillsAndResists,ResistDisarmSkillLvl+2,FALSE)))","v":" "}]
[]
[null,null,null,null,null,null,null,null,null,null,null,null,null,null,null,null,null,null,null,null,null,null,null,null,null,"Res Knockdown",null,null,null,null,{"$f":"IF(ISERROR(VLOOKUP(Z82,WarriorSkillsAndResists,ResistKnockdownSkillLvl+2,FALSE)),\" \",(VLOOKUP(Z82,WarriorSkillsAndResists,ResistKnockdownSkillLvl+2,FALSE)))","v":" "},null,null,null,null,null,null,null,"Res Nerve Strike",null,null,null,null,{"$f":"IF(ISERROR(VLOOKUP(AM82,WarriorSkillsAndResists,ResistNerveStrikeSkillLvl+2,FALSE)),\" \",(VLOOKUP(AM82,WarriorSkillsAndResists,ResistNerveStrikeSkillLvl+2,FALSE)))","v":" "}]
[]
[null,null,null,null,null,null,null,null,null,null,null,null,null,null,null,null,null,null,null,null,null,null,null,null,null,"Res Dismember",null,null,null,null,{"$f":"IF(ISERROR(VLOOKUP(Z84,WarriorSkillsAndResists,ResistDismemberSkillLvl+2,FALSE)),\" \",(VLOOKUP(Z84,WarriorSkillsAndResists,ResistDismemberSkillLvl+2,FALSE)))","v":" "},null,null,null,null,null,null,null,"Res Bone Break",null,null,null,null,{"$f":"IF(ISERROR(VLOOKUP(AM84,WarriorSkillsAndResists,ResistBoneBreakSkillLvl+2,FALSE)),\" \",(VLOOKUP(AM84,WarriorSkillsAndResists,ResistBoneBreakSkillLvl+2,FALSE)))","v":" "}]
[]
[6,{"$f":"_Lvl06","v":0},null,{"$f":"Variables!E$155","v":0},null,null,null,null,null,null,null,null,null,null,null,null,null,null,null,null,null,null,null,null,null,"Res Shield Cleave",null,null,null,null,{"$f":"IF(ISERROR(VLOOKUP(Z86,WarriorSkillsAndResists,ResistShieldCleaveSkillLvl+2,FALSE)),\" \",(VLOOKUP(Z86,WarriorSkillsAndResists,ResistShieldCleaveSkillLvl+2,FALSE)))","v":" "},null,null,null,null,null,null,null,"Res SA BB",null,null,null,null,{"$f":"IF(ISERROR(VLOOKUP(AM86,WarriorSkillsAndResists,ResistShieldArmBoneBreakSkillLvl+2,FALSE)),\" \",(VLOOKUP(AM86,WarriorSkillsAndResists,ResistShieldArmBoneBreakSkillLvl+2,FALSE)))","v":" "}]
[]
[7,{"$f":"_Lvl07","v":0},null,{"$f":"Variables!E$156","v":0},null,null,null,null,null,null,null,null,null,null,null,null,null,null,null,null,null,null,null,null,null,"Res Through",null,null,null,null,{"$f":"IF(ISERROR(VLOOKUP(Z88,WarriorSkillsAndResists,ResistThroughSkillLvl+2,FALSE)),\" \",(VLOOKUP(Z88,WarriorSkillsAndResists,ResistThroughSkillLvl+2,FALSE)))","v":" "},null,null,null,null,null,null,null,"Sunder",null,null,null,null,{"$f":"IF(ISERROR(VLOOKUP(AM88,WarriorSkillsAndResists,SunderSkillLevel+2,FALSE)),\" \",(VLOOKUP(AM88,WarriorSkillsAndResists,SunderSkillLevel+2,FALSE)))","v":" "}]
[]
[8,{"$f":"_Lvl08","v":0},null,{"$f":"Variables!E$157","v":0},null,null,null,null,null,null,null,null,null,null,null,null,null,null,null,null,null,null,null,null,null,"Knockback Shot",null,null,null,null,{"$f":"IF(ISERROR(VLOOKUP(Z90,WarriorSkillsAndResists,ArcherKnockback+2,FALSE)),\" \",(VLOOKUP(Z90,WarriorSkillsAndResists,ArcherKnockback+2,FALSE)))","v":" "},null,null,null,null,null,null,null,"Nerve Strike Shot",null,null,null,null,{"$f":"IF(ISERROR(VLOOKUP(AM90,WarriorSkillsAndResists,NerveStrikeShotSkillLvl+2,FALSE)),\" \",(VLOOKUP(AM90,WarriorSkillsAndResists,NerveStrikeShotSkillLvl+2,FALSE)))","v":" "}]
[]
[9,{"$f":"_Lvl09","v":0},null,{"$f":"Variables!E$158","v":0},null,null,null,null,null,null,null,null,null,10,{"$f":"_Lvl10","v":0},null,{"$f":"Variables!E$159","v":0}]
[]
[]
[]
[]
[null,null,null,null,null,null,null,null,null,null,null,null,null,null,null,null,null,null,null,null,null,null,null,null,null,"Ki",null,null,{"$f":"KiPoints","v":0},null,null,"Ki Focus",null,null,{"$f":"IF(FocusKivsMagicLvl=\"No\",FocusKivsMagicLvl,FocusKivsMagicLvl &\"M\")","v":"No"},null,{"$f":"IF(FocusKivsPowerLvl=\"No\",FocusKivsPowerLvl,FocusKivsPowerLvl &\"P\")","v":"No"},null,"Meditate Ki",null,null,null,{"$f":"IF(KiMed, \"\", \"N/A\")","v":"N/A"},null,"Forearm Parry",null,null,null,null,{"$f":"ForearmParryRank","v":"N/A"}]
[]
[]
[]
[]
[]
[]
[]
[]
[null,null,null,null,null,null,null,null,null,null,null,null,null,null,null,null,null,null,null,null,null,null,null,null,null,"Adrenal"]
[]
[null,null,null,null,null,null,null,null,null,null,null,null,null,null,null,null,null,null,null,null,null,null,null,null,null,{"$f":"AdrenalPoints","v":0}]
[]
[null,null,null,null,null,null,null,null,null,null,null,null,null,null,null,null,null,null,null,null,null,null,null,null,null,"Med"]
[]
[null,null,null,null,null,null,null,null,null,null,null,null,null,null,null,null,null,null,null,null,null,null,null,null,null,{"$f":"IF(AdrenalMed, \"\", \"N/A\")","v":"N/A"}]
[]
[]
[null,null,null,null,null,null,null,null,null,null,null,null,null,null,null,null,null,null,null,null,null,null,null,null,null,"Psi",null,null,null,{"$f":"PsionicPoints","v":0},null,null,"Self",null,null,null,null,null,"Talisman",null,null,null,{"$f":"IF(MakePsionicTalisman,PsionicPoints-AJ115,\"NO\")","v":"NO"},null,null,"Meditate",null,null,null,{"$f":"IF(PsionicMeditate, \"\", \"N/A\")","v":"N/A"}]
[]
[]
[]
[]
[]
[]
[]
[]
[]
[null,null,null,null,null,null,null,null,null,null,null,null,null,null,null,null,null,null,null,null,null,null,null,null,null,{"$f":"$Z$127","v":"Res Knockdown"},null,null,null,null,{"$f":"$AE$127","v":"3 per Section"},null,null,null,null,null,null,null,{"$f":"$AM$127","v":" "},null,null,null,null,{"$f":"$AR$127","v":" "}]
[]
[null,null,null,null,null,null,null,null,null,null,null,null,null,null,null,null,null,null,null,null,null,null,null,null,null,"Res Knockdown",null,null,null,null,"3 per Section",null,null,null,null,null,null,null," ",null,null,null,null," "]

{"sheet":"Notes","index":7,"n_rows":0,"n_cols":0,"rows_kept":0,"cut":false,"hidden":false,"merged":[]}

{"sheet":"Base","index":8,"n_rows":386,"n_cols":104,"rows_kept":386,"cut":false,"hidden":true,"merged":[]}
[null,"This is the skill points table, a 0 means xero points cost, so probably costs status","Human","Human","Human","Human","Human","Human","Elven","Elven","Elven","Elven","Elven","Elven","Half-Orc","Half-Orc","Half-Orc","Half-Orc","Half-Orc","Half-Orc","Max","Status ","This table shows the skills and their availablility, and at what \"Rank\"",null,"Low Level Skill","Primary Guild Skill","Primary Rank Available","Secondary Guild Skill","Secondary Rank Available","Secondary 2 Guild Skill","Secondary 2 Rank Available","Secondary 3 Guild Skill","Secondary 3 Rank Available","Secondary 4 Guild Skill","Secondary 4 Rank Available","Secondary 5 Guild Skill","Secondary 5 Rank Available","Secondary 6 Guild Skill","Secondary 6 Rank Available","Secondary7  Guild Skill","Secondary 7 Rank Available","Add. Class 2ndry Guild Skill","Add. Class 2ndry Rank Available","Tertiary Guild Skill","Tertiary Rank Available","This is SkillMatrixPrimary",null,null,null,null,null,"DARKER COLOURED CELLS MEAN THAT THERE IS A FORMULA WITHIN THEM",null,null,null,null,null,null,null,null,null,null,null,null,null,null,null,null,null,null,null,null,null,null,"AtA","This is SkillMatrixSecondary",null,null,null,null,null,null,"DARKER COLOURED CELLS MEAN THAT THERE IS A FORMULA WITHIN THEM"]
[null,null,"Warrior","Scout","Acolyte Good","Acolyte Neutral","Acolyte Evil","Mage","Warrior","Scout","Acolyte Good","Acolyte Neutral","Acolyte Evil","Mage","Warrior","Scout","Acolyte Good","Acolyte Neutral","Acolyte Evil","Mage","Picks","Cost",null,"Pre-Requisites Not Met",null,null,null,null,null,null,null,null,null,null,null,null,null,null,null,null,null,null,null,null,null,"Sentinel","Reaver","Barbarian","Paladin","Skirmisher","Monk","Assassin","Archer","Black School","Blue School","Brown School","Green School","Grey School","Red School","White School","Yellow School","White Path","Hospitaller","Humacti","Michelene"," Grey Path","Warden","Gauntlet","Druid","Dark Path","Seer","Brethren","Reaper","None",null,"Sentinel","Reaver","Barbarian","Paladin","Skirmisher","Monk","Assassin","Archer","Black School","Blue School","Brown School","Green School","Grey School","Red School","White School","Yellow School","White Path","Hospitaller","Humacti","Michelene"," Grey Path","Warden","Gauntlet","Druid","Dark Path","Seer","Brethren","Reaper","None"]
["Adrenal","Adrenal Dexterity rank 1",4,4,4,4,4,0,0,0,0,0,0,0,6,6,6,6,6,0,1,null,"Use Adrenals to same Rank or higher",{"$f":"NOT(AdrenalUseRank>=1)","v":true},{"$f":"FALSE","v":false},{"$f":"IF(AA3=FALSE,FALSE,TRUE)","v":false},{"$f":"VLOOKUP(INDEX(SkillMatrixPrimary,ROW()-2,PrimaryGuildNumber),SkillRankLookupTable,2,1)","v":false},{"$f":"IF(AC3=FALSE,FALSE,TRUE)","v":false},{"$f":"IF(HasHQAClassUpgrade,VLOOKUP(INDEX(SkillMatrixPrimary,ROW()-2,SecondaryGuildNumber),SkillRankLookupTable,2,1),VLOOKUP(INDEX(SkillMatrixSecondary,ROW()-2,SecondaryGuildNumber),SkillRankLookupTable,2,1))","v":false},{"$f":"IF(AE3=FALSE,FALSE,TRUE)","v":false},{"$f":"IF(HasHQAClass2Upgrade,VLOOKUP(INDEX(SkillMatrixPrimary,ROW()-2,Secondary2GuildNumber),SkillRankLookupTable,2,1),VLOOKUP(INDEX(SkillMatrixSecondary,ROW()-2,Secondary2GuildNumber),SkillRankLookupTable,2,1))","v":false},{"$f":"IF(AG3=FALSE,FALSE,TRUE)","v":false},{"$f":"IF(HasHQAClass3Upgrade,VLOOKUP(INDEX(SkillMatrixPrimary,ROW()-2,Secondary3GuildNumber),SkillRankLookupTable,2,1),VLOOKUP(INDEX(SkillMatrixSecondary,ROW()-2,Secondary3GuildNumber),SkillRankLookupTable,2,1))","v":false},{"$f":"IF(AI3=FALSE,FALSE,TRUE)","v":false},{"$f":"IF(HasHQAClass4Upgrade,VLOOKUP(INDEX(SkillMatrixPrimary,ROW()-2,Secondary4GuildNumber),SkillRankLookupTable,2,1),VLOOKUP(INDEX(SkillMatrixSecondary,ROW()-2,Secondary4GuildNumber),SkillRankLookupTable,2,1))","v":false},{"$f":"IF(AK3=FALSE,FALSE,TRUE)","v":false},{"$f":"IF(HasHQAClass5Upgrade,VLOOKUP(INDEX(SkillMatrixPrimary,ROW()-2,Secondary5GuildNumber),SkillRankLookupTable,2,1),VLOOKUP(INDEX(SkillMatrixSecondary,ROW()-2,Secondary5GuildNumber),SkillRankLookupTable,2,1))","v":false},{"$f":"IF(AM3=FALSE,FALSE,TRUE)","v":false},{"$f":"IF(HasHQAClass6Upgrade,VLOOKUP(INDEX(SkillMatrixPrimary,ROW()-2,Secondary6GuildNumber),SkillRankLookupTable,2,1),VLOOKUP(INDEX(SkillMatrixSecondary,ROW()-2,Secondary6GuildNumber),SkillRankLookupTable,2,1))","v":false},{"$f":"IF(AO3=FALSE,FALSE,TRUE)","v":false},{"$f":"IF(HasHQAClass7Upgrade,VLOOKUP(INDEX(SkillMatrixPrimary,ROW()-2,Secondary7GuildNumber),SkillRankLookupTable,2,1),VLOOKUP(INDEX(SkillMatrixSecondary,ROW()-2,Secondary7GuildNumber),SkillRankLookupTable,2,1))","v":false},{"$f":"IF(AQ3=FALSE,FALSE,TRUE)","v":false},{"$f":"IF(HasHQAGuildUpgrade,VLOOKUP(INDEX(SkillMatrixPrimary,ROW()-2,AdditionalClassSecondaryGuildNumber),SkillRankLookupTable,2,1),VLOOKUP(INDEX(SkillMatrixSecondary,ROW()-2,AdditionalClassSecondaryGuildNumber),SkillRankLookupTable,2,1))","v":false},{"$f":"IF(AS3=FALSE,FALSE,TRUE)","v":false},{"$f":"IF(HasHQAGuild2Upgrade,VLOOKUP(INDEX(SkillMatrixPrimary,ROW()-2,JoATGuildNumber),SkillRankLookupTable,2,1),VLOOKUP(INDEX(SkillMatrixSecondary,ROW()-2,JoATGuildNumber),SkillRankLookupTable,2,1))","v":false},0,0,1,0,0,0,0,0,0,0,0,0,0,0,0,0,0,0,0,0,0,0,0,0,0,0,0,0,null,null,0,0,20,0,0,0,0,0,0,0,0,0,0,0,0,0,0,0,0,0,0,0,0,0,0,0,0,0]
["Adrenal","Adrenal Dexterity rank 2",4,4,4,4,4,0,0,0,0,0,0,0,6,6,6,6,6,0,1,null,"Use Adrenals to same Rank or higher",{"$f":"NOT(AdrenalUseRank>=2)","v":true},{"$f":"FALSE","v":false},false,false,false,false,false,false,{"$f":"IF(AG4=FALSE,FALSE,TRUE)","v":false},false,false,false,{"$f":"IF(AK4=FALSE,FALSE,TRUE)","v":false},false,{"$f":"IF(AM4=FALSE,FALSE,TRUE)","v":false},false,{"$f":"IF(AO4=FALSE,FALSE,TRUE)","v":false},false,false,false,false,false,0,0,1,0,0,0,0,0,0,0,0,0,0,0,0,0,0,0,0,0,0,0,0,0,0,0,0,0,null,null,0,0,20,0,0,0,0,0,0,0,0,0,0,0,0,0,0,0,0,0,0,0,0,0,0,0,0,0]
["Adrenal","Adrenal Dexterity rank 3",4,4,4,4,4,0,0,0,0,0,0,0,6,6,6,6,6,0,1,null,"Use Adrenals to same Rank or higher",{"$f":"NOT(AdrenalUseRank>=3)","v":true},{"$f":"FALSE","v":false},false,false,false,false,false,false,false,false,false,false,false,false,false,false,false,false,false,false,false,false,0,0,1,0,0,0,0,0,0,0,0,0,0,0,0,0,0,0,0,0,0,0,0,0,0,0,0,0,null,null,0,0,20,0,0,0,0,0,0,0,0,0,0,0,0,0,0,0,0,0,0,0,0,0,0,0,0,0]
["Adrenal","Adrenal Dexterity rank 4",4,4,4,4,4,0,0,0,0,0,0,0,6,6,6,6,6,0,1,null,"Use Adrenals to same Rank or higher",{"$f":"NOT(AdrenalUseRank>=4)","v":true},{"$f":"FALSE","v":false},false,false,false,false,false,false,false,false,false,false,false,false,false,false,false,false,false,false,false,false,0,0,1,0,0,0,0,0,0,0,0,0,0,0,0,0,0,0,0,0,0,0,0,0,0,0,0,0,null,null,0,0,20,0,0,0,0,0,0,0,0,0,0,0,0,0,0,0,0,0,0,0,0,0,0,0,0,0]
["Adrenal","Adrenal Dexterity rank 5",4,4,4,4,4,0,0,0,0,0,0,0,6,6,6,6,6,0,1,null,"Use Adrenals to same Rank or higher",{"$f":"NOT(AdrenalUseRank>=5)","v":true},{"$f":"FALSE","v":false},false,false,false,false,false,false,false,false,false,false,false,false,false,false,false,false,false,false,false,false,0,0,1,0,0,0,0,0,0,0,0,0,0,0,0,0,0,0,0,0,0,0,0,0,0,0,0,0,null,null,0,0,20,0,0,0,0,0,0,0,0,0,0,0,0,0,0,0,0,0,0,0,0,0,0,0,0,0]
["Adrenal","Adrenal Dexterity rank 6",4,4,4,4,4,0,0,0,0,0,0,0,6,6,6,6,6,0,1,null,"Use Adrenals to same Rank or higher",{"$f":"NOT(AdrenalUseRank>=6)","v":true},{"$f":"FALSE","v":false},false,false,false,false,false,false,false,false,false,false,false,false,false,false,false,false,false,false,false,false,0,0,1,0,0,0,0,0,0,0,0,0,0,0,0,0,0,0,0,0,0,0,0,0,0,0,0,0,null,null,0,0,64,0,0,0,0,0,0,0,0,0,0,0,0,0,0,0,0,0,0,0,0,0,0,0,0,0]
["Adrenal","Adrenal Dexterity rank 7",4,4,4,4,4,0,0,0,0,0,0,0,6,6,6,6,6,0,1,null,"Use Adrenals to same Rank or higher",{"$f":"NOT(AdrenalUseRank>=7)","v":true},{"$f":"FALSE","v":false},false,false,false,false,false,false,false,false,false,false,false,false,false,false,false,false,false,false,false,false,0,0,1,0,0,0,0,0,0,0,0,0,0,0,0,0,0,0,0,0,0,0,0,0,0,0,0,0,null,null,0,0,64,0,0,0,0,0,0,0,0,0,0,0,0,0,0,0,0,0,0,0,0,0,0,0,0,0]
["Adrenal","Adrenal Dexterity rank 8",4,4,4,4,4,0,0,0,0,0,0,0,6,6,6,6,6,0,1,null,"Use Adrenals to same Rank or higher",{"$f":"NOT(AdrenalUseRank>=8)","v":true},{"$f":"FALSE","v":false},false,false,false,false,false,false,false,false,false,false,false,false,false,false,false,false,false,false,false,false,0,0,1,0,0,0,0,0,0,0,0,0,0,0,0,0,0,0,0,0,0,0,0,0,0,0,0,0,null,null,0,0,64,0,0,0,0,0,0,0,0,0,0,0,0,0,0,0,0,0,0,0,0,0,0,0,0,0]
["Adrenal","Adrenal Resist Fear rank 2",8,8,8,8,8,0,0,0,0,0,0,0,10,10,10,10,10,0,1,null,"Use Adrenals to  Rank 2",{"$f":"NOT(AdrenalUseRank>=2)","v":true},{"$f":"FALSE","v":false},false,false,false,false,false,false,false,false,false,false,false,false,false,false,false,false,false,false,false,false,0,0,1,0,0,0,0,0,0,0,0,0,0,0,0,0,0,0,0,0,0,0,0,0,0,0,0,0,null,null,0,0,20,0,0,0,0,0,0,0,0,0,0,0,0,0,0,0,0,0,0,0,0,0,0,0,0,0]
["Adrenal","Adrenal Resist Immobility rank 3",8,8,8,8,8,0,0,0,0,0,0,0,10,10,10,10,10,0,1,null,"Use Adrenals to  Rank 3",{"$f":"NOT(AdrenalUseRank>=3)","v":true},{"$f":"FALSE","v":false},false,false,false,false,false,false,false,false,false,false,false,false,false,false,false,false,false,false,false,false,0,0,1,0,0,0,0,0,0,0,0,0,0,0,0,0,0,0,0,0,0,0,0,0,0,0,0,0,null,null,0,0,20,0,0,0,0,0,0,0,0,0,0,0,0,0,0,0,0,0,0,0,0,0,0,0,0,0]
["Adrenal","Adrenal Resist Pain rank 4",8,8,8,8,8,0,0,0,0,0,0,0,10,10,10,10,10,0,1,null,"Use Adrenals to  Rank 4",{"$f":"NOT(AdrenalUseRank>=4)","v":true},{"$f":"FALSE","v":false},false,false,false,false,false,false,false,false,false,false,false,false,false,false,false,false,false,false,false,false,0,0,1,0,0,0,0,0,0,0,0,0,0,0,0,0,0,0,0,0,0,0,0,0,0,0,0,0,null,null,0,0,20,0,0,0,0,0,0,0,0,0,0,0,0,0,0,0,0,0,0,0,0,0,0,0,0,0]
["Adrenal","Adrenal Strength rank 1",8,8,8,8,8,0,0,0,0,0,0,0,10,10,10,10,10,0,1,null,"Use Adrenals to same Rank or higher",{"$f":"NOT(AdrenalUseRank>=1)","v":true},{"$f":"FALSE","v":false},false,false,false,false,false,false,false,false,false,false,false,false,false,false,false,false,false,false,false,false,0,0,1,0,0,0,0,0,0,0,0,0,0,0,0,0,0,0,0,0,0,0,0,0,0,0,0,0,null,null,0,0,20,0,0,0,0,0,0,0,0,0,0,0,0,0,0,0,0,0,0,0,0,0,0,0,0,0]
["Adrenal","Adrenal Strength rank 3",8,8,8,8,8,0,0,0,0,0,0,0,10,10,10,10,10,0,1,null,"Use Adrenals to same Rank or higher",{"$f":"NOT(AdrenalUseRank>=3)","v":true},{"$f":"FALSE","v":false},false,false,false,false,false,false,false,false,false,false,false,false,false,false,false,false,false,false,false,false,0,0,1,0,0,0,0,0,0,0,0,0,0,0,0,0,0,0,0,0,0,0,0,0,0,0,0,0,null,null,0,0,20,0,0,0,0,0,0,0,0,0,0,0,0,0,0,0,0,0,0,0,0,0,0,0,0,0]
["Adrenal","Adrenal Strength rank 5",8,8,8,8,8,0,0,0,0,0,0,0,10,10,10,10,10,0,1,null,"Use Adrenals to same Rank or higher",{"$f":"NOT(AdrenalUseRank>=5)","v":true},{"$f":"FALSE","v":false},false,false,false,false,false,false,false,false,false,false,false,false,false,false,false,false,false,false,false,false,0,0,1,0,0,0,0,0,0,0,0,0,0,0,0,0,0,0,0,0,0,0,0,0,0,0,0,0,null,null,0,0,64,0,0,0,0,0,0,0,0,0,0,0,0,0,0,0,0,0,0,0,0,0,0,0,0,0]
["Adrenal","Buy Adrenals",2,4,2,2,2,0,0,0,0,0,0,0,2,4,3,3,3,0,{"$f":"200+(LimitRaiseAdrenalsSkillLvl*50)","v":200},null,"None",{"$f":"FALSE","v":false},{"$f":"FALSE","v":false},false,false,false,false,false,false,false,false,false,false,false,false,false,false,false,false,false,false,false,false,0,0,1,0,0,0,0,0,0,0,0,0,0,0,0,0,0,0,0,0,0,0,0,0,0,0,0,0,null,null,0,0,20,0,0,0,0,0,0,0,0,0,0,0,0,0,0,0,0,0,0,0,0,0,0,0,0,0]
["Adrenal","Limit Raise Adrenals",0,0,0,0,0,0,0,0,0,0,0,0,0,0,0,0,0,0,1,1,"Buy Adrenals",{"$f":"NOT(AdrenalPoints>0)","v":true},{"$f":"FALSE","v":false},{"$f":"IF(AA18=FALSE,FALSE,TRUE)","v":false},false,false,false,false,false,{"$f":"IF(AG18=FALSE,FALSE,TRUE)","v":false},false,{"$f":"IF(AI18=FALSE,FALSE,TRUE)","v":false},false,{"$f":"IF(AK18=FALSE,FALSE,TRUE)","v":false},false,{"$f":"IF(AM18=FALSE,FALSE,TRUE)","v":false},false,{"$f":"IF(AO18=FALSE,FALSE,TRUE)","v":false},false,{"$f":"IF(AQ18=FALSE,FALSE,TRUE)","v":false},false,{"$f":"IF(AS18=FALSE,FALSE,TRUE)","v":false},false,0,0,64,0,0,0,0,0,0,0,0,0,0,0,0,0,0,0,0,0,0,0,0,0,0,0,0,0,null,null,0,0,64,0,0,0,0,0,0,0,0,0,0,0,0,0,0,0,0,0,0,0,0,0,0,0,0,0]
["Adrenal","Limit Raise Mastery Adrenals",0,0,0,0,0,0,0,0,0,0,0,0,0,0,0,0,0,0,1,1,"Limit Raise Adrenals",{"$f":"NOT(LimitRaiseAdrenalsSkillLvl>=1)","v":true},{"$f":"FALSE","v":false},{"$f":"IF(AA19=FALSE,FALSE,TRUE)","v":false},false,false,false,false,false,{"$f":"IF(AG19=FALSE,FALSE,TRUE)","v":false},false,{"$f":"IF(AI19=FALSE,FALSE,TRUE)","v":false},false,{"$f":"IF(AK19=FALSE,FALSE,TRUE)","v":false},false,{"$f":"IF(AM19=FALSE,FALSE,TRUE)","v":false},false,{"$f":"IF(AO19=FALSE,FALSE,TRUE)","v":false},false,{"$f":"IF(AQ19=FALSE,FALSE,TRUE)","v":false},false,{"$f":"IF(AS19=FALSE,FALSE,TRUE)","v":false},false,0,0,128,0,0,0,0,0,0,0,0,0,0,0,0,0,0,0,0,0,0,0,0,0,0,0,0,0,null,null,0,0,128,0,0,0,0,0,0,0,0,0,0,0,0,0,0,0,0,0,0,0,0,0,0,0,0,0]
["Adrenal","Limit Raise Enhanced Mastery Adrenals",0,0,0,0,0,0,0,0,0,0,0,0,0,0,0,0,0,0,1,1,"Limit Raise Mastery Adrenals",{"$f":"NOT(LimitRaiseAdrenalsSkillLvl>=2)","v":true},{"$f":"FALSE","v":false},{"$f":"IF(AA20=FALSE,FALSE,TRUE)","v":false},false,false,false,false,false,{"$f":"IF(AG20=FALSE,FALSE,TRUE)","v":false},false,{"$f":"IF(AI20=FALSE,FALSE,TRUE)","v":false},false,{"$f":"IF(AK20=FALSE,FALSE,TRUE)","v":false},false,{"$f":"IF(AM20=FALSE,FALSE,TRUE)","v":false},false,{"$f":"IF(AO20=FALSE,FALSE,TRUE)","v":false},false,{"$f":"IF(AQ20=FALSE,FALSE,TRUE)","v":false},false,{"$f":"IF(AS20=FALSE,FALSE,TRUE)","v":false},false,0,0,256,0,0,0,0,0,0,0,0,0,0,0,0,0,0,0,0,0,0,0,0,0,0,0,0,0,null,null,0,0,256,0,0,0,0,0,0,0,0,0,0,0,0,0,0,0,0,0,0,0,0,0,0,0,0,0]
["Adrenal","Limit Raise Superior Mastery Adrenals",0,0,0,0,0,0,0,0,0,0,0,0,0,0,0,0,0,0,1,1,"Limit Raise Enhanced Mastery Adrenals",{"$f":"NOT(LimitRaiseAdrenalsSkillLvl>=3)","v":true},{"$f":"FALSE","v":false},{"$f":"IF(AA21=FALSE,FALSE,TRUE)","v":false},false,{"$f":"IF(AC21=FALSE,FALSE,TRUE)","v":false},false,{"$f":"IF(AE21=FALSE,FALSE,TRUE)","v":false},false,{"$f":"IF(AG21=FALSE,FALSE,TRUE)","v":false},false,{"$f":"IF(AI21=FALSE,FALSE,TRUE)","v":false},false,{"$f":"IF(AK21=FALSE,FALSE,TRUE)","v":false},false,{"$f":"IF(AM21=FALSE,FALSE,TRUE)","v":false},false,{"$f":"IF(AO21=FALSE,FALSE,TRUE)","v":false},false,{"$f":"IF(AQ21=FALSE,FALSE,TRUE)","v":false},false,{"$f":"IF(AS21=FALSE,FALSE,TRUE)","v":false},false,0,0,512,0,0,0,0,0,0,0,0,0,0,0,0,0,0,0,0,0,0,0,0,0,0,0,0,0,null,null,0,0,0,0,0,0,0,0,0,0,0,0,0,0,0,0,0,0,0,0,0,0,0,0,0,0,0,0]
["Adrenal","Magic Tolerance",10,10,10,10,10,0,0,0,0,0,0,0,10,10,10,10,10,0,1,1,"None",{"$f":"FALSE","v":false},{"$f":"FALSE","v":false},false,false,false,false,false,false,false,false,false,false,false,false,false,false,false,false,false,false,false,false,0,0,1,0,0,0,0,0,0,0,0,0,0,0,0,0,0,0,0,0,0,0,0,0,0,0,0,0,null,null,0,0,20,0,0,0,0,0,0,0,0,0,0,0,0,0,0,0,0,0,0,0,0,0,0,0,0,0]
["Adrenal","Use Adrenals Rank 1 - 8","R+3","R+5","R+3","R+3","R+3",0,0,0,0,0,0,0,"R+4","R+6","R+4","R+4","R+4",0,8,{"$f":"IF(AdrenalUseRank<=5,1,2)","v":1},"Buy Adrenals",{"$f":"AdrenalPoints=0","v":true},{"$f":"FALSE","v":false},false,false,false,false,false,false,false,false,false,false,false,false,false,false,false,false,false,false,false,false,0,0,1,0,0,0,0,0,0,0,0,0,0,0,0,0,0,0,0,0,0,0,0,0,0,0,0,0,null,null,0,0,20,0,0,0,0,0,0,0,0,0,0,0,0,0,0,0,0,0,0,0,0,0,0,0,0,0]
["Adrenal","Meditate Adrenals",20,20,20,20,20,0,0,0,0,0,0,0,20,20,20,20,20,0,1,null,"Buy Adrenals",{"$f":"AdrenalPoints=0","v":true},{"$f":"FALSE","v":false},false,false,false,false,false,false,false,false,false,false,false,false,false,false,false,false,false,false,false,false,0,0,1,0,0,0,0,0,0,0,0,0,0,0,0,0,0,0,0,0,0,0,0,0,0,0,0,0,null,null,0,0,1,0,0,0,0,0,0,0,0,0,0,0,0,0,0,0,0,0,0,0,0,0,0,0,0,0]
["Adrenal","Meditate Adrenals Mastery",20,20,20,20,20,0,0,0,0,0,0,0,20,20,20,20,20,0,1,null,"Meditate Adrenals",{"$f":"NOT(MeditateAdrenals>=1)","v":true},{"$f":"FALSE","v":false},false,false,false,false,false,false,false,false,false,false,false,false,false,false,false,false,false,false,false,false,0,0,20,0,0,0,0,0,0,0,0,0,0,0,0,0,0,0,0,0,0,0,0,0,0,0,0,0,null,null,0,0,64,0,0,0,0,0,0,0,0,0,0,0,0,0,0,0,0,0,0,0,0,0,0,0,0,0]
["Adrenal","Meditate Adrenals Enhanced Mastery",20,20,20,20,20,0,0,0,0,0,0,0,20,20,20,20,20,0,1,null,"Meditate Adrenals Mastery",{"$f":"NOT(MeditateAdrenals>=2)","v":true},{"$f":"FALSE","v":false},false,false,false,false,false,false,false,false,false,false,false,false,false,false,false,false,false,false,false,false,0,0,64,0,0,0,0,0,0,0,0,0,0,0,0,0,0,0,0,0,0,0,0,0,0,0,0,0,null,null,0,0,128,0,0,0,0,0,0,0,0,0,0,0,0,0,0,0,0,0,0,0,0,0,0,0,0,0]
["Adrenal","Meditate Adrenals Superior Mastery",20,20,20,20,20,0,0,0,0,0,0,0,20,20,20,20,20,0,1,1,"Meditate Adrenals Enhamced Mastery",{"$f":"NOT(MeditateAdrenals>=3)","v":true},{"$f":"FALSE","v":false},false,false,false,false,false,false,false,false,false,false,false,false,false,false,false,false,false,false,false,false,0,0,512,0,0,0,0,0,0,0,0,0,0,0,0,0,0,0,0,0,0,0,0,0,0,0,0,0,null,null,0,0,0,0,0,0,0,0,0,0,0,0,0,0,0,0,0,0,0,0,0,0,0,0,0,0,0,0]
["Archery","Archer Acolyte",40,40,40,40,40,40,40,40,40,40,40,40,40,40,40,40,40,40,1,null,"Missile Attunement, Empowered Weapon, Cast Power Rank 1",{"$f":"NOT(AND(CastRank1stSphere>=1,MissileAttunement))","v":true},{"$f":"FALSE","v":false},false,false,false,false,false,false,false,false,false,false,false,false,false,false,false,false,false,false,false,false,0,0,0,0,0,0,0,1,0,0,0,0,0,0,0,0,0,0,0,0,0,0,0,0,0,0,0,0,null,null,0,0,0,0,0,0,0,20,0,0,0,0,0,0,0,0,0,0,0,0,0,0,0,0,0,0,0,0]
["Archery","Archer Priest",60,60,60,60,60,60,60,60,60,60,60,60,60,60,60,60,60,60,1,1,"Archer Acolyte, Cast Power Rank 6",{"$f":"OR(CastRank1stSphere<6,NOT(ArcherAcolyte))","v":true},{"$f":"FALSE","v":false},{"$f":"IF(AA29=FALSE,FALSE,TRUE)","v":false},{"$f":"VLOOKUP(INDEX(SkillMatrixPrimary,ROW()-2,PrimaryGuildNumber),SkillRankLookupTable,2,1)","v":false},{"$f":"IF(AC29=FALSE,FALSE,TRUE)","v":false},false,{"$f":"IF(AE29=FALSE,FALSE,TRUE)","v":false},false,{"$f":"IF(AG29=FALSE,FALSE,TRUE)","v":false},false,{"$f":"IF(AI29=FALSE,FALSE,TRUE)","v":false},false,{"$f":"IF(AK29=FALSE,FALSE,TRUE)","v":false},false,{"$f":"IF(AM29=FALSE,FALSE,TRUE)","v":false},false,{"$f":"IF(AO29=FALSE,FALSE,TRUE)","v":false},false,{"$f":"IF(AQ29=FALSE,FALSE,TRUE)","v":false},false,{"$f":"IF(AS29=FALSE,FALSE,TRUE)","v":false},false,0,0,0,0,0,0,0,20,0,0,0,0,0,0,0,0,0,0,0,0,0,0,0,0,0,0,0,0,null,null,0,0,0,0,0,0,0,64,0,0,0,0,0,0,0,0,0,0,0,0,0,0,0,0,0,0,0,0]
["Archery","Archer Specialist Acolyte - 1st Sect",0,0,0,0,0,0,0,0,0,0,0,0,0,0,0,0,0,0,1,1,"Primary Class Archer, Archer Acolyte, Guild member of Sect",{"$f":"NOT(AND(ArcherAcolyte,PrimaryArcher,OR(GuildBrethren,GuildDarkPath,GuildDruid,GuildGauntlet,GuildGreyPath,GuildHumacti,GuildMicheline,GuildReaper,GuildSeer,GuildWarden,GuildWhitePath)))","v":true},{"$f":"FALSE","v":false},false,false,{"$f":"IF(AC30=FALSE,FALSE,TRUE)","v":false},false,{"$f":"IF(AE30=FALSE,FALSE,TRUE)","v":false},false,{"$f":"IF(AG30=FALSE,FALSE,TRUE)","v":false},false,{"$f":"IF(AI30=FALSE,FALSE,TRUE)","v":false},false,{"$f":"IF(AK30=FALSE,FALSE,TRUE)","v":false},false,{"$f":"IF(AM30=FALSE,FALSE,TRUE)","v":false},false,{"$f":"IF(AO30=FALSE,FALSE,TRUE)","v":false},false,{"$f":"IF(AQ30=FALSE,FALSE,TRUE)","v":false},false,{"$f":"IF(AS30=FALSE,FALSE,TRUE)","v":false},false,0,0,0,0,0,0,0,64,0,0,0,0,0,0,0,0,0,0,0,0,0,0,0,0,0,0,0,0,null,null,0,0,0,0,0,0,0,0,0,0,0,0,0,0,0,0,0,0,0,0,0,0,0,0,0,0,0,0]
["Archery","Archer Specialist Priest - 1st Sect",0,0,0,0,0,0,0,0,0,0,0,0,0,0,0,0,0,0,1,1,"Archer Specialist Acolyte - 1st Sect, Archer Priest",{"$f":"NOT(PowerArcherSkillLevel>3)","v":true},{"$f":"FALSE","v":false},false,false,false,false,false,false,false,false,false,false,false,false,false,false,false,false,false,false,false,false,0,0,0,0,0,0,0,128,0,0,0,0,0,0,0,0,0,0,0,0,0,0,0,0,0,0,0,0,null,null,0,0,0,0,0,0,0,0,0,0,0,0,0,0,0,0,0,0,0,0,0,0,0,0,0,0,0,0]
["Archery","Archer Specialist High Priest - 1st Sect",0,0,0,0,0,0,0,0,0,0,0,0,0,0,0,0,0,0,1,1,"Archer Specialist Priest - 1st Sect",{"$f":"NOT(PowerArcherSkillLevel>4)","v":true},{"$f":"FALSE","v":false},false,false,false,false,false,false,false,false,false,false,false,false,false,false,false,false,false,false,false,false,0,0,0,0,0,0,0,256,0,0,0,0,0,0,0,0,0,0,0,0,0,0,0,0,0,0,0,0,null,null,0,0,0,0,0,0,0,0,0,0,0,0,0,0,0,0,0,0,0,0,0,0,0,0,0,0,0,0]
["Archery","Archer Specialist Acolyte - 2nd Sect",0,0,0,0,0,0,0,0,0,0,0,0,0,0,0,0,0,0,1,1,"Archer Specialist Acolyte - 1st Sect, Guild Member 2nd Sect",{"$f":"NOT(AND(PowerArcherSkillLevel>1,SUM(COUNTIF(Variables!E246:E257,TRUE))>1))","v":true},{"$f":"FALSE","v":false},false,false,false,false,false,false,false,false,false,false,false,false,false,false,false,false,false,false,false,false,0,0,0,0,0,0,0,128,0,0,0,0,0,0,0,0,0,0,0,0,0,0,0,0,0,0,0,0,null,null,0,0,0,0,0,0,0,0,0,0,0,0,0,0,0,0,0,0,0,0,0,0,0,0,0,0,0,0]
["Archery","Archer Specialist Priest - 2nd Sect",0,0,0,0,0,0,0,0,0,0,0,0,0,0,0,0,0,0,1,1,"Archer Specialist Acolyte - 2nd Sect",{"$f":"NOT(PowerArcherSkillLevel>5)","v":true},{"$f":"FALSE","v":false},false,false,false,false,false,false,false,false,false,false,false,false,false,false,false,false,false,false,false,false,0,0,0,0,0,0,0,256,0,0,0,0,0,0,0,0,0,0,0,0,0,0,0,0,0,0,0,0,null,null,0,0,0,0,0,0,0,0,0,0,0,0,0,0,0,0,0,0,0,0,0,0,0,0,0,0,0,0]
["Archery","Archer Mage",40,40,40,40,40,40,40,40,40,40,40,40,40,40,40,40,40,40,1,null,"Missile Attunement, Ensorcelled Weapon, Level 1 Spell Slot",{"$f":"NOT(AND(Total_Level1_Slots>0,MissileAttunement))","v":true},{"$f":"FALSE","v":false},false,false,false,false,false,false,false,false,false,false,false,false,false,false,false,false,false,false,false,false,0,0,0,0,0,0,0,1,0,0,0,0,0,0,0,0,0,0,0,0,0,0,0,0,0,0,0,0,null,null,0,0,0,0,0,0,0,20,0,0,0,0,0,0,0,0,0,0,0,0,0,0,0,0,0,0,0,0]
["Archery","Archer Wizard",60,60,60,60,60,60,60,60,60,60,60,60,60,60,60,60,60,60,1,1,"Archer Mage, Level 6 Spell Slot",{"$f":"OR(_Lvl06=0,NOT(ArcherMage))","v":true},{"$f":"FALSE","v":false},false,false,false,false,false,false,false,false,false,false,false,false,false,false,false,false,false,false,false,false,0,0,0,0,0,0,0,20,0,0,0,0,0,0,0,0,0,0,0,0,0,0,0,0,0,0,0,0,null,null,0,0,0,0,0,0,0,64,0,0,0,0,0,0,0,0,0,0,0,0,0,0,0,0,0,0,0,0]
["Archery","Archer Specialist Mage - 1st School",0,0,0,0,0,0,0,0,0,0,0,0,0,0,0,0,0,0,1,1,"Primary Class Archer, Archer Mage, Guild member of School",{"$f":"NOT(AND(PrimaryArcher,ArcherMage,OR(GuildBlack,GuildBlue,GuildBrown,GuildGreen,GuildGrey,GuildRed,GuildWhite,GuildYellow)))","v":true},{"$f":"FALSE","v":false},false,false,false,false,false,false,false,false,false,false,false,false,false,false,false,false,false,false,false,false,0,0,0,0,0,0,0,64,0,0,0,0,0,0,0,0,0,0,0,0,0,0,0,0,0,0,0,0,null,null,0,0,0,0,0,0,0,128,0,0,0,0,0,0,0,0,0,0,0,0,0,0,0,0,0,0,0,0]
["Archery","Archer Specialist Wizard - 1st School",0,0,0,0,0,0,0,0,0,0,0,0,0,0,0,0,0,0,1,1,"Archer Specialist Mage - 1st School, Archer Wizard",{"$f":"NOT(MagicArcherSkillLevel>3)","v":true},{"$f":"FALSE","v":false},false,false,false,false,false,false,false,false,false,false,false,false,false,false,false,false,false,false,false,false,0,0,0,0,0,0,0,128,0,0,0,0,0,0,0,0,0,0,0,0,0,0,0,0,0,0,0,0,null,null,0,0,0,0,0,0,0,0,0,0,0,0,0,0,0,0,0,0,0,0,0,0,0,0,0,0,0,0]
["Archery","Archer Specialist Sorceror - 1st School",0,0,0,0,0,0,0,0,0,0,0,0,0,0,0,0,0,0,1,1,"Archer Specialist Wizard - 1st School",{"$f":"NOT(MagicArcherSkillLevel>4)","v":true},{"$f":"FALSE","v":false},false,false,false,false,false,false,false,false,false,false,false,false,false,false,false,false,false,false,false,false,0,0,0,0,0,0,0,256,0,0,0,0,0,0,0,0,0,0,0,0,0,0,0,0,0,0,0,0,null,null,0,0,0,0,0,0,0,0,0,0,0,0,0,0,0,0,0,0,0,0,0,0,0,0,0,0,0,0]
["Archery","Archer Specialist Mage - 2nd School",0,0,0,0,0,0,0,0,0,0,0,0,0,0,0,0,0,0,1,1,"Archer Specialist Mage - 1st School, Guild Member 2nd School",{"$f":"NOT(AND(MagicArcherSkillLevel>1,SUM(COUNTIF(Variables!E163:E170,TRUE))>1))","v":true},{"$f":"FALSE","v":false},false,false,false,false,false,false,false,false,false,false,false,false,false,false,false,false,false,false,false,false,0,0,0,0,0,0,0,128,0,0,0,0,0,0,0,0,0,0,0,0,0,0,0,0,0,0,0,0,null,null,0,0,0,0,0,0,0,0,0,0,0,0,0,0,0,0,0,0,0,0,0,0,0,0,0,0,0,0]
["Archery","Archer Specialist Wizard - 2nd School",0,0,0,0,0,0,0,0,0,0,0,0,0,0,0,0,0,0,1,1,"Archer Specialist Mage - 2nd School",{"$f":"NOT(MagicArcherSkillLevel>5)","v":true},{"$f":"FALSE","v":false},false,false,false,false,false,false,false,false,false,false,false,false,false,false,false,false,false,false,false,false,0,0,0,0,0,0,0,256,0,0,0,0,0,0,0,0,0,0,0,0,0,0,0,0,0,0,0,0,null,null,0,0,0,0,0,0,0,0,0,0,0,0,0,0,0,0,0,0,0,0,0,0,0,0,0,0,0,0]
["Archery","Knockback Shot",20,25,30,30,30,30,25,30,35,35,35,35,20,25,30,30,30,30,1,1,"Missile Attunement",{"$f":"NOT(MissileAttunement)","v":true},{"$f":"FALSE","v":false},false,false,false,false,false,false,false,false,false,false,false,false,false,false,false,false,false,false,false,false,0,0,0,0,0,0,0,1,0,0,0,0,0,0,0,0,0,0,0,0,0,0,0,0,0,0,0,0,null,null,0,0,0,0,0,0,0,20,0,0,0,0,0,0,0,0,0,0,0,0,0,0,0,0,0,0,0,0]
["Archery","Marksman",40,40,40,40,40,40,40,40,40,40,40,40,40,40,40,40,40,40,1,1,"Missile Attunement",{"$f":"NOT(MissileAttunement)","v":true},{"$f":"FALSE","v":false},false,false,false,false,false,false,false,false,false,false,false,false,false,false,false,false,false,false,false,false,0,0,0,0,0,0,0,1,0,0,0,0,0,0,0,0,0,0,0,0,0,0,0,0,0,0,0,0,null,null,0,0,0,0,0,0,0,64,0,0,0,0,0,0,0,0,0,0,0,0,0,0,0,0,0,0,0,0]
["Archery","Missile Attunement",25,25,25,25,25,25,25,25,25,25,25,25,30,30,30,30,30,30,1,1,"Enhanced Missile Mastery",{"$f":"NOT(MissileSkill=3)","v":true},{"$f":"FALSE","v":false},false,false,false,false,false,false,false,false,false,false,false,false,false,false,false,false,false,false,false,false,0,0,0,0,0,0,0,20,0,0,0,0,0,0,0,0,0,0,0,0,0,0,0,0,0,0,0,0,null,null,0,0,0,0,0,0,0,64,0,0,0,0,0,0,0,0,0,0,0,0,0,0,0,0,0,0,0,0]
["Archery","Missile Proficiency",1,1,2,2,2,3,1,1,2,2,2,3,1,1,2,2,2,3,"N",null,"None",{"$f":"FALSE","v":false},{"$f":"FALSE","v":false},false,false,false,false,false,false,false,false,false,false,false,false,false,false,false,false,false,false,false,false,0,0,0,0,0,0,0,1,0,0,0,0,0,0,0,0,0,0,0,0,0,0,0,0,0,0,0,0,null,null,0,0,0,0,0,0,0,20,0,0,0,0,0,0,0,0,0,0,0,0,0,0,0,0,0,0,0,0]
["Archery","Missile Mastery",6,6,12,12,12,18,5,5,10,10,10,15,5,5,10,10,10,15,"N",null,"Missile Proficiency",{"$f":"NOT(MissileSkill>=1)","v":true},{"$f":"FALSE","v":false},false,false,false,false,false,false,false,false,false,false,false,false,false,false,false,false,false,false,false,false,0,0,0,0,0,0,0,1,0,0,0,0,0,0,0,0,0,0,0,0,0,0,0,0,0,0,0,0,null,null,0,0,0,0,0,0,0,20,0,0,0,0,0,0,0,0,0,0,0,0,0,0,0,0,0,0,0,0]
["Archery","Missile Enhanced Mastery",12,12,24,24,24,36,10,10,20,20,20,30,15,15,30,30,30,45,"N",null,"Missile Mastery",{"$f":"NOT(MissileSkill>=2)","v":true},{"$f":"FALSE","v":false},false,false,false,false,false,false,false,false,false,false,false,false,false,false,false,false,false,false,false,false,0,0,0,0,0,0,0,1,0,0,0,0,0,0,0,0,0,0,0,0,0,0,0,0,0,0,0,0,null,null,0,0,0,0,0,0,0,64,0,0,0,0,0,0,0,0,0,0,0,0,0,0,0,0,0,0,0,0]
["Archery","Speed Dart",10,10,10,10,10,10,8,8,8,8,8,8,12,12,12,12,12,2,1,null,"Level 1 Spell Slot",{"$f":"Total_Level1_Slots=0","v":true},{"$f":"FALSE","v":false},false,false,false,false,false,false,false,false,false,false,false,false,false,false,false,false,false,false,false,false,0,0,0,0,0,0,0,1,0,0,0,0,0,0,0,0,0,0,0,0,0,0,0,0,0,0,0,0,null,null,0,0,0,0,0,0,0,20,0,0,0,0,0,0,0,0,0,0,0,0,0,0,0,0,0,0,0,0]
["Archery","Strength Attuned Bow",0,0,0,0,0,0,0,0,0,0,0,0,0,0,0,0,0,0,1,1,"None",{"$f":"FALSE","v":false},{"$f":"FALSE","v":false},false,false,false,false,false,false,false,false,false,false,false,false,false,false,false,false,false,false,false,false,0,0,0,0,0,0,0,1,0,0,0,0,0,0,0,0,0,0,0,0,0,0,0,0,0,0,0,0,null,null,0,0,0,0,0,0,0,20,0,0,0,0,0,0,0,0,0,0,0,0,0,0,0,0,0,0,0,0]
["Archery","Nerve Strike Shot",10,10,20,20,20,20,8,8,18,18,18,18,12,12,22,22,22,22,1,1,"Marksman",{"$f":"NOT(ArcherMarksman)","v":true},{"$f":"FALSE","v":false},false,false,false,false,false,false,false,false,false,false,false,false,false,false,false,false,false,false,false,false,0,0,0,0,0,0,0,20,0,0,0,0,0,0,0,0,0,0,0,0,0,0,0,0,0,0,0,0,null,null,0,0,0,0,0,0,0,0,0,0,0,0,0,0,0,0,0,0,0,0,0,0,0,0,0,0,0,0]
["Archery","Nerve Strike Shot Mastery",20,20,40,40,40,40,16,16,36,36,36,36,24,24,44,44,44,44,1,null,"Nerve Strike Shot",{"$f":"NOT(NerveStrikeShotSkillLvl>=1)","v":true},{"$f":"FALSE","v":false},false,false,false,false,false,false,false,false,false,false,false,false,false,false,false,false,false,false,false,false,0,0,0,0,0,0,0,64,0,0,0,0,0,0,0,0,0,0,0,0,0,0,0,0,0,0,0,0,null,null,0,0,0,0,0,0,0,0,0,0,0,0,0,0,0,0,0,0,0,0,0,0,0,0,0,0,0,0]
["Archery","Nerve Strike Shot Enhanced Mastery",30,30,60,60,60,60,24,24,54,54,54,54,36,36,66,66,66,66,1,null,"Nerve Strike Shot Mastery, Missile Attunement",{"$f":"NOT(AND(NerveStrikeShotSkillLvl>=2,MissileAttunement))","v":true},{"$f":"FALSE","v":false},false,false,false,false,false,false,false,false,false,false,false,false,false,false,false,false,false,false,false,false,0,0,0,0,0,0,0,128,0,0,0,0,0,0,0,0,0,0,0,0,0,0,0,0,0,0,0,0,null,null,0,0,0,0,0,0,0,0,0,0,0,0,0,0,0,0,0,0,0,0,0,0,0,0,0,0,0,0]
["Armour","Armoured Dexterity","R*10","R*20","R*20","R*20","R*20","R*30","R* 6","R*12","R* 6","R* 6","R* 6","R*18","R* 9","R*18","R*18","R*18","R*18","R*27",{"$f":"8+(AdditionalDexteritySkill*4)","v":8},null,"None",{"$f":"FALSE","v":false},{"$f":"TRUE","v":true},false,false,false,false,false,false,false,false,false,false,false,false,false,false,false,false,false,false,false,false,1,1,1,1,1,1,1,1,1,1,1,1,1,1,1,1,1,1,1,1,1,1,1,1,1,1,1,1,null,null,1,1,1,1,1,1,1,1,1,1,1,1,1,1,1,1,1,1,1,1,1,1,1,1,1,1,1,1]
["Armour","Unarmoured Dexterity","2+R*3","3+R*2","0+R*5","0+R*5","0+R*5","1+R*4","1+R*3","1+R*2","0+R*5","0+R*5","0+R*5","0+R*4","3+R*3","2+R*2","1+R*5","1+R*5","1+R*5","2+R*4",{"$f":"16+(AdditionalDexteritySkill*4)","v":16},null,"None",{"$f":"FALSE","v":false},{"$f":"TRUE","v":true},false,false,false,false,false,false,false,false,false,false,false,false,false,false,false,false,false,false,false,false,1,1,1,1,1,1,1,1,1,1,1,1,1,1,1,1,1,1,1,1,1,1,1,1,1,1,1,1,null,null,1,1,1,1,1,1,1,1,1,1,1,1,1,1,1,1,1,1,1,1,1,1,1,1,1,1,1,1]
["Armour","Armour Proficiency",10,14,14,14,14,18,14,20,20,20,20,26,12,18,18,18,18,24,1,null,"None",{"$f":"FALSE","v":false},{"$f":"TRUE","v":true},false,false,false,false,false,false,false,false,false,false,false,false,false,false,false,false,false,false,false,false,1,1,1,1,1,1,1,1,1,1,1,1,1,1,1,1,1,1,1,1,1,1,1,1,1,1,1,1,null,null,1,1,1,1,1,1,1,1,1,1,1,1,1,1,1,1,1,1,1,1,1,1,1,1,1,1,1,1]
["Armour","Armour Mastery",20,28,28,28,28,36,28,40,40,40,40,52,24,36,36,36,36,48,1,null,"Armour Proficiency",{"$f":"NOT(ArmourSkillLevel>=1)","v":true},{"$f":"FALSE","v":false},false,false,false,false,false,false,false,false,false,false,false,false,false,false,false,false,false,false,false,false,1,1,1,1,1,1,1,1,0,0,0,0,20,0,0,0,1,1,1,1,1,1,1,1,1,1,1,1,null,"y",20,20,1,1,1,1,1,1,0,0,0,0,0,0,0,0,1,1,1,1,1,1,1,1,1,1,1,1]
["Armour","Armour Enhanced Mastery",30,42,42,42,42,54,42,60,60,60,60,78,36,54,54,54,54,72,1,null,"Armour Mastery",{"$f":"NOT(ArmourSkillLevel>=2)","v":true},{"$f":"FALSE","v":false},false,false,false,false,false,false,false,false,false,false,false,false,false,false,false,false,false,false,false,false,20,64,64,64,20,20,20,20,0,0,0,0,64,0,0,0,0,0,0,64,0,0,64,0,0,0,64,0,null,null,64,128,128,128,64,64,64,64,0,0,0,0,0,0,0,0,0,0,0,0,0,0,0,0,0,0,0,0]
["Armour","Armour Superior Mastery",30,42,42,42,42,54,42,60,60,60,60,78,36,54,54,54,54,72,1,null,"Armour Enhanced Mastery",{"$f":"NOT(ArmourSkillLevel>=3)","v":true},{"$f":"FALSE","v":false},false,false,false,false,false,false,false,false,false,false,false,false,false,false,false,false,false,false,false,false,64,128,128,128,64,0,0,0,0,0,0,0,128,0,0,0,0,0,0,0,0,0,0,0,0,0,0,0,null,null,128,256,256,256,128,0,0,0,0,0,0,0,0,0,0,0,0,0,0,0,0,0,0,0,0,0,0,0]
["Armour","Armour Exceptional Mastery",30,42,42,42,42,54,42,60,60,60,60,78,36,54,54,54,54,72,1,null,"Armour Superior Mastery",{"$f":"NOT(ArmourSkillLevel>=4)","v":true},{"$f":"FALSE","v":false},false,false,false,false,false,false,false,false,false,false,false,false,false,false,false,false,false,false,false,false,128,256,256,256,256,0,0,0,0,0,0,0,256,0,0,0,0,0,0,0,0,0,0,0,0,0,0,0,null,null,0,0,0,0,0,0,0,0,0,0,0,0,0,0,0,0,0,0,0,0,0,0,0,0,0,0,0,0]
["Armour","Armour Perfection",30,42,42,42,42,54,42,60,60,60,60,78,36,54,54,54,54,72,1,1,"Armour Exceptional Mastery",{"$f":"NOT(ArmourSkillLevel>=5)","v":true},{"$f":"FALSE","v":false},false,false,false,false,false,false,false,false,false,false,false,false,false,false,false,false,false,false,false,false,512,512,512,512,0,0,0,0,0,0,0,0,0,0,0,0,0,0,0,0,0,0,0,0,0,0,0,0,null,null,0,0,0,0,0,0,0,0,0,0,0,0,0,0,0,0,0,0,0,0,0,0,0,0,0,0,0,0]
["Armour","Shield Proficiency",3,9,9,9,9,27,3,9,9,9,9,27,3,9,9,9,9,27,1,null,"None",{"$f":"FALSE","v":false},{"$f":"FALSE","v":false},false,false,false,false,false,false,false,false,false,false,false,false,false,false,false,false,false,false,false,false,1,1,1,1,1,0,1,0,64,64,64,64,64,64,64,64,20,64,20,1,20,64,1,20,20,64,1,0,null,null,1,1,1,1,1,0,1,0,64,64,64,64,64,64,64,64,20,64,20,1,20,64,1,20,20,64,1,0]
["Armour","Limit Raise Dexterity",0,0,0,0,0,0,0,0,0,0,0,0,0,0,0,0,0,0,1,1,"16 points Unarmoured Dex or 8 Points Armoured Dex",{"$f":"NOT(OR(ArmDex>=8,UnArmDex>=16))","v":true},{"$f":"FALSE","v":false},false,false,false,false,false,false,false,false,false,false,false,false,false,false,false,false,false,false,false,false,64,0,128,0,1,1,1,1,0,0,0,0,0,0,0,0,0,0,0,0,0,0,0,0,0,0,0,0,null,null,0,0,0,0,20,0,20,20,0,0,0,0,0,0,0,0,0,0,0,0,0,0,0,0,0,0,0,0]
["Armour","Limit Raise Mastery Dexterity",0,0,0,0,0,0,0,0,0,0,0,0,0,0,0,0,0,0,1,1,"20 points Unarmoured Dex or 12 Points Armoured Dex",{"$f":"NOT(OR(ArmDex>=12,UnArmDex>=20))","v":true},{"$f":"FALSE","v":false},false,false,false,false,false,false,false,false,false,false,false,false,false,false,false,false,false,false,false,false,128,0,256,0,20,20,20,20,0,0,0,0,0,0,0,0,0,0,0,0,0,0,0,0,0,0,0,0,null,null,0,0,0,0,64,0,64,64,0,0,0,0,0,0,0,0,0,0,0,0,0,0,0,0,0,0,0,0]
["Armour","Limit Raise Enhanced Mastery Dexterity",0,0,0,0,0,0,0,0,0,0,0,0,0,0,0,0,0,0,1,1,"24 points Unarmoured Dex or 16 Points Armoured Dex",{"$f":"NOT(OR(ArmDex>=16,UnArmDex>=24))","v":true},{"$f":"FALSE","v":false},false,false,false,false,false,false,false,false,false,false,false,false,false,false,false,false,false,false,false,false,256,0,0,0,64,64,64,64,0,0,0,0,0,0,0,0,0,0,0,0,0,0,0,0,0,0,0,0,null,null,0,0,0,0,128,0,128,128,0,0,0,0,0,0,0,0,0,0,0,0,0,0,0,0,0,0,0,0]
["Armour","Limit Raise Superior Mastery Dexterity",0,0,0,0,0,0,0,0,0,0,0,0,0,0,0,0,0,0,1,1,"28 points Unarmoured Dex or 20 Points Armoured Dex",{"$f":"NOT(OR(ArmDex>=20,UnArmDex>=28))","v":true},{"$f":"FALSE","v":false},false,false,false,false,false,false,false,false,false,false,false,false,false,false,false,false,false,false,false,false,0,0,0,0,256,256,256,256,0,0,0,0,0,0,0,0,0,0,0,0,0,0,0,0,0,0,0,0,null,null,0,0,0,0,0,0,0,0,0,0,0,0,0,0,0,0,0,0,0,0,0,0,0,0,0,0,0,0]
["Armour","Combat Awareness",24,12,36,36,36,36,20,10,30,30,30,30,28,14,42,42,42,42,1,1,"4 points Dexterity (Armoured or Unarmoured)",{"$f":"NOT(OR(ArmDex>=4,UnArmDex>=4))","v":true},{"$f":"FALSE","v":false},false,false,false,false,false,false,false,false,false,false,false,false,false,false,false,false,false,false,false,false,0,0,0,0,20,20,20,20,0,0,0,0,0,0,0,0,0,0,0,0,0,0,0,0,0,0,0,0,null,null,0,0,0,0,64,64,64,64,0,0,0,0,0,0,0,0,0,0,0,0,0,0,0,0,0,0,0,0]
["Armour","Combat Awareness Mastery",36,24,72,72,72,72,40,20,60,60,60,60,56,28,84,84,84,84,1,1,"Combat Awareness and 8 points Dexterity (Armoured or Unarmoured)",{"$f":"NOT(AND(CombatAwarenessSkill>=1,OR(ArmDex>=8,UnArmDex>=8)))","v":true},{"$f":"FALSE","v":false},false,false,false,false,false,false,false,false,false,false,false,false,false,false,false,false,false,false,false,false,0,0,0,0,64,64,64,64,0,0,0,0,0,0,0,0,0,0,0,0,0,0,0,0,0,0,0,0,null,null,0,0,0,0,128,128,128,128,0,0,0,0,0,0,0,0,0,0,0,0,0,0,0,0,0,0,0,0]
["Armour","Combat Awareness Enhanced Mastery",48,36,108,108,108,108,60,30,90,90,90,90,84,42,126,126,126,126,1,1,"Combat Awareness Mastery and 12 points Dexterity (Armoured or Unarmoured)",{"$f":"NOT(AND(CombatAwarenessSkill>=2,OR(ArmDex>=12,UnArmDex>=12)))","v":true},{"$f":"FALSE","v":false},false,false,false,false,false,false,false,false,false,false,false,false,false,false,false,false,false,false,false,false,0,0,0,0,128,128,128,128,0,0,0,0,0,0,0,0,0,0,0,0,0,0,0,0,0,0,0,0,null,null,0,0,0,0,256,256,256,256,0,0,0,0,0,0,0,0,0,0,0,0,0,0,0,0,0,0,0,0]
["Armour","Combat Awareness Superior Mastery",60,48,144,144,144,144,80,40,120,120,120,120,112,56,168,168,168,168,1,1,"Combat Awareness Enhanced Mastery and 16 points Dexterity (Armoured or Unarmoured)",{"$f":"NOT(AND(CombatAwarenessSkill>=3,OR(ArmDex>=16,UnArmDex>=16)))","v":true},{"$f":"FALSE","v":false},false,false,false,false,false,false,false,false,false,false,false,false,false,false,false,false,false,false,false,false,0,0,0,0,256,256,256,256,0,0,0,0,0,0,0,0,0,0,0,0,0,0,0,0,0,0,0,0,null,null,0,0,0,0,0,0,0,0,0,0,0,0,0,0,0,0,0,0,0,0,0,0,0,0,0,0,0,0]
["Armour","Combat Awareness Exceptional Mastery",72,60,180,180,180,180,100,50,150,150,150,150,140,70,210,210,210,210,1,1,"Combat Awareness Superior Mastery and 20 points Dexterity (Armoured or Unarmoured)",{"$f":"NOT(AND(CombatAwarenessSkill>=4,OR(ArmDex>=20,UnArmDex>=20)))","v":true},{"$f":"FALSE","v":false},false,false,false,false,false,false,false,false,false,false,false,false,false,false,false,false,false,false,false,false,0,0,0,0,512,512,512,512,0,0,0,0,0,0,0,0,0,0,0,0,0,0,0,0,0,0,0,0,null,null,0,0,0,0,0,0,0,0,0,0,0,0,0,0,0,0,0,0,0,0,0,0,0,0,0,0,0,0]
["General","Additional Guild",0,0,0,0,0,0,0,0,0,0,0,0,0,0,0,0,0,0,{"$f":"IFERROR(INDEX(SecondaryGuildPicks,PrimaryGuildNumber,CharacterTableNumber),0)","v":0},1,"None",{"$f":"FALSE","v":false},{"$f":"FALSE","v":false},true,1,false,false,false,false,false,false,false,false,false,false,false,false,false,false,false,false,false,false,20,20,20,20,20,20,20,20,20,20,20,20,20,20,20,20,20,20,20,20,20,20,20,20,20,20,20,20,1,"y",20,20,20,20,20,20,20,20,20,20,20,20,20,20,20,20,20,20,20,20,20,20,20,20,20,20,20,20]
["General","Additional Class",0,0,0,0,0,0,0,0,0,0,0,0,0,0,0,0,0,0,1,1,"None",{"$f":"NOT(Character_Status>2)","v":true},{"$f":"FALSE","v":false},false,{"$f":"VLOOKUP(INDEX(SkillMatrixPrimary,ROW()-2,PrimaryGuildNumber),SkillRankLookupTable,2,1)","v":false},false,false,false,false,false,false,false,false,false,false,false,false,false,false,false,false,false,false,30,30,30,30,30,30,30,30,30,30,30,30,30,30,30,30,30,30,30,30,30,30,30,30,30,30,30,30,null,"y",30,30,30,30,30,30,30,30,30,30,30,30,30,30,30,30,30,30,30,30,30,30,30,30,30,30,30,30]
["General","Improved Empowering",30,30,30,30,30,30,30,30,30,30,30,30,30,30,30,30,30,30,"N/A",null,"None",{"$f":"FALSE","v":false},{"$f":"FALSE","v":false},false,false,false,false,false,false,false,false,false,false,false,false,false,false,false,false,false,false,false,false,0,0,0,0,0,0,0,0,0,0,0,0,0,0,0,0,0,0,0,0,0,0,0,0,0,0,0,0,null,"y",0,0,0,0,0,0,0,0,0,0,0,0,0,0,0,0,0,0,0,0,0,0,0,0,0,0,0,0]
["General","Improved Ensorcelling",30,30,30,30,30,30,30,30,30,30,30,30,30,30,30,30,30,30,"N/A",null,"None",{"$f":"FALSE","v":false},{"$f":"FALSE","v":false},false,false,false,false,false,false,false,false,false,false,false,false,false,false,false,false,false,false,false,false,0,0,0,0,0,0,0,0,0,0,0,0,0,0,0,0,0,0,0,0,0,0,0,0,0,0,0,0,null,"y",0,0,0,0,0,0,0,0,0,0,0,0,0,0,0,0,0,0,0,0,0,0,0,0,0,0,0,0]
["General","Increased Spirit Strength",0,0,0,0,0,0,0,0,0,0,0,0,0,0,0,0,0,0,{"$f":"ROUNDDOWN(CharacterRank/100,0)","v":0},null,"Every multiple of 1000 points",{"$f":"NOT(TotalPoints>=1000)","v":true},{"$f":"FALSE","v":false},false,false,false,false,false,false,false,false,false,false,false,false,false,false,false,false,false,false,false,false,1,1,1,1,1,1,1,1,1,1,1,1,1,1,1,1,1,1,1,1,1,1,1,1,1,1,1,1,null,"y",1,1,1,1,1,1,1,1,1,1,1,1,1,1,1,1,1,1,1,1,1,1,1,1,1,1,1,1]
["General","Read / Write runes",4,2,2,2,2,2,4,2,2,2,2,2,4,2,2,2,2,2,"N/A",null,"None",{"$f":"FALSE","v":false},{"$f":"TRUE","v":true},false,false,false,false,false,false,false,false,false,false,false,false,false,false,false,false,false,false,false,false,1,1,1,1,1,1,1,1,1,1,1,1,1,1,1,1,1,1,1,1,1,1,1,1,1,1,1,1,null,null,1,1,1,1,1,1,1,1,1,1,1,1,1,1,1,1,1,1,1,1,1,1,1,1,1,1,1,1]
["General","Sworn to the King",0,0,0,0,0,0,0,0,0,0,0,0,0,0,0,0,0,0,1,null,"Must be performed in character",{"$f":"FALSE","v":false},{"$f":"TRUE","v":true},false,false,false,false,false,false,false,false,false,false,false,false,false,false,false,false,false,false,false,false,10,10,10,10,10,10,10,10,10,10,10,10,10,10,10,10,10,10,10,10,10,10,10,10,10,10,10,10,null,null,10,10,10,10,10,10,10,10,10,10,10,10,10,10,10,10,10,10,10,10,10,10,10,10,10,10,10,10]
["Ki","Buy Ki",2,1,3,3,3,3,2,1,3,3,3,3,3,2,4,4,4,4,{"$f":"200+(LimitRaiseKiSkillLvl*50)","v":200},null,"None",{"$f":"FALSE","v":false},{"$f":"FALSE","v":false},false,false,false,false,false,false,false,false,false,false,false,false,false,false,false,false,false,false,false,false,0,0,0,0,0,1,0,0,0,0,0,0,0,0,0,0,0,0,0,0,0,0,0,0,0,0,0,0,null,null,0,0,0,0,0,0,0,0,0,0,0,0,0,0,0,0,0,0,0,0,0,0,0,0,0,0,0,0]
["Ki","Focus Ki vs Magic",20,10,20,20,20,20,20,10,20,20,20,20,20,20,20,20,20,20,1,1,"Buy Ki, Make Focus",{"$f":"NOT(AND(KiPoints>0,MakeFocus))","v":true},{"$f":"FALSE","v":false},false,false,false,false,false,false,false,false,false,false,false,false,false,false,false,false,false,false,false,false,0,0,0,0,0,64,0,0,0,0,0,0,0,0,0,0,0,0,0,0,0,0,0,0,0,0,0,0,null,null,0,0,0,0,0,0,0,0,0,0,0,0,0,0,0,0,0,0,0,0,0,0,0,0,0,0,0,0]
["Ki","Focus Ki vs Power",20,10,20,20,20,20,20,10,20,20,20,20,20,20,20,20,20,20,1,1,"Buy Ki, Make Talisman",{"$f":"NOT(AND(KiPoints>0,MakeTalisman))","v":true},{"$f":"FALSE","v":false},false,false,false,false,false,false,false,false,false,false,false,false,false,false,false,false,false,false,false,false,0,0,0,0,0,64,0,0,0,0,0,0,0,0,0,0,0,0,0,0,0,0,0,0,0,0,0,0,null,null,0,0,0,0,0,0,0,0,0,0,0,0,0,0,0,0,0,0,0,0,0,0,0,0,0,0,0,0]
["Ki","Forearm Parry","R*4","R*2","R*4","R*4","R*4","R*4","R*4","R*2","R*4","R*4","R*4","R*4","R*4","R*4","R*4","R*4","R*4","R*4",4,1,"Class Monk",{"$f":"NOT(PrimaryGuildName=\"monk\")","v":true},{"$f":"FALSE","v":false},false,false,false,false,false,false,false,false,false,false,false,false,false,false,false,false,false,false,false,false,0,0,0,0,0,1,0,0,0,0,0,0,0,0,0,0,0,0,0,0,0,0,0,0,0,0,0,0,null,null,0,0,0,0,0,64,0,0,0,0,0,0,0,0,0,0,0,0,0,0,0,0,0,0,0,0,0,0]
["Ki","Forearm Parry Mastery",0,0,0,0,0,0,0,0,0,0,0,0,0,0,0,0,0,0,1,null,"Forearm Parry, Buy Ki",{"$f":"NOT(AND(ForearmParrySkill>=1,KiPoints>0))","v":true},{"$f":"FALSE","v":false},false,false,false,{"$f":"IF(HasHQAClassUpgrade,VLOOKUP(INDEX(SkillMatrixPrimary,ROW()-2,SecondaryGuildNumber),SkillRankLookupTable,2,1),VLOOKUP(INDEX(SkillMatrixSecondary,ROW()-2,SecondaryGuildNumber),SkillRankLookupTable,2,1))","v":false},false,{"$f":"IF(HasHQAClass2Upgrade,VLOOKUP(INDEX(SkillMatrixPrimary,ROW()-2,Secondary2GuildNumber),SkillRankLookupTable,2,1),VLOOKUP(INDEX(SkillMatrixSecondary,ROW()-2,Secondary2GuildNumber),SkillRankLookupTable,2,1))","v":false},false,{"$f":"IF(HasHQAClass3Upgrade,VLOOKUP(INDEX(SkillMatrixPrimary,ROW()-2,Secondary3GuildNumber),SkillRankLookupTable,2,1),VLOOKUP(INDEX(SkillMatrixSecondary,ROW()-2,Secondary3GuildNumber),SkillRankLookupTable,2,1))","v":false},false,{"$f":"IF(HasHQAClass4Upgrade,VLOOKUP(INDEX(SkillMatrixPrimary,ROW()-2,Secondary4GuildNumber),SkillRankLookupTable,2,1),VLOOKUP(INDEX(SkillMatrixSecondary,ROW()-2,Secondary4GuildNumber),SkillRankLookupTable,2,1))","v":false},false,{"$f":"IF(HasHQAClass5Upgrade,VLOOKUP(INDEX(SkillMatrixPrimary,ROW()-2,Secondary5GuildNumber),SkillRankLookupTable,2,1),VLOOKUP(INDEX(SkillMatrixSecondary,ROW()-2,Secondary5GuildNumber),SkillRankLookupTable,2,1))","v":false},false,{"$f":"IF(HasHQAClass6Upgrade,VLOOKUP(INDEX(SkillMatrixPrimary,ROW()-2,Secondary6GuildNumber),SkillRankLookupTable,2,1),VLOOKUP(INDEX(SkillMatrixSecondary,ROW()-2,Secondary6GuildNumber),SkillRankLookupTable,2,1))","v":false},false,{"$f":"IF(HasHQAClass7Upgrade,VLOOKUP(INDEX(SkillMatrixPrimary,ROW()-2,Secondary7GuildNumber),SkillRankLookupTable,2,1),VLOOKUP(INDEX(SkillMatrixSecondary,ROW()-2,Secondary7GuildNumber),SkillRankLookupTable,2,1))","v":false},false,{"$f":"IF(HasHQAGuildUpgrade,VLOOKUP(INDEX(SkillMatrixPrimary,ROW()-2,AdditionalClassSecondaryGuildNumber),SkillRankLookupTable,2,1),VLOOKUP(INDEX(SkillMatrixSecondary,ROW()-2,AdditionalClassSecondaryGuildNumber),SkillRankLookupTable,2,1))","v":false},false,{"$f":"IF(HasHQAGuild2Upgrade,VLOOKUP(INDEX(SkillMatrixPrimary,ROW()-2,JoATGuildNumber),SkillRankLookupTable,2,1),VLOOKUP(INDEX(SkillMatrixSecondary,ROW()-2,JoATGuildNumber),SkillRankLookupTable,2,1))","v":false},0,0,0,0,0,64,0,0,0,0,0,0,0,0,0,0,0,0,0,0,0,0,0,0,0,0,0,0,null,null,0,0,0,0,0,128,0,0,0,0,0,0,0,0,0,0,0,0,0,0,0,0,0,0,0,0,0,0]
["Ki","Forearm Parry Enhanced Mastery",0,0,0,0,0,0,0,0,0,0,0,0,0,0,0,0,0,0,1,null,"Forearm Parry Mastery, Strength",{"$f":"NOT(AND(ForearmParrySkill>=2,StrengthSkill>=1))","v":true},{"$f":"FALSE","v":false},false,{"$f":"VLOOKUP(INDEX(SkillMatrixPrimary,ROW()-2,PrimaryGuildNumber),SkillRankLookupTable,2,1)","v":false},false,false,false,false,false,false,false,false,false,false,false,false,false,false,false,false,false,false,0,0,0,0,0,128,0,0,0,0,0,0,0,0,0,0,0,0,0,0,0,0,0,0,0,0,0,0,null,null,0,0,0,0,0,256,0,0,0,0,0,0,0,0,0,0,0,0,0,0,0,0,0,0,0,0,0,0]
["Ki","Use Ki",0,0,0,0,0,0,0,0,0,0,0,0,0,0,0,0,0,0,1,1,"Buy Ki",{"$f":"KiPoints=0","v":true},{"$f":"FALSE","v":false},false,false,false,false,false,false,false,false,false,false,false,false,false,false,false,false,false,false,false,false,0,0,0,0,0,1,0,0,0,0,0,0,0,0,0,0,0,0,0,0,0,0,0,0,0,0,0,0,null,null,0,0,0,0,0,0,0,0,0,0,0,0,0,0,0,0,0,0,0,0,0,0,0,0,0,0,0,0]
["Ki","Limit Raise - Ki",0,0,0,0,0,0,0,0,0,0,0,0,0,0,0,0,0,0,1,1,"Buy Ki",{"$f":"KiPoints=0","v":true},{"$f":"FALSE","v":false},false,false,false,false,false,false,false,false,false,false,false,false,false,false,false,false,false,false,false,false,0,0,0,0,0,64,0,0,0,0,0,0,0,0,0,0,0,0,0,0,0,0,0,0,0,0,0,0,null,null,0,0,0,0,0,0,0,0,0,0,0,0,0,0,0,0,0,0,0,0,0,0,0,0,0,0,0,0]
["Ki","Limit Raise Mastery - Ki",0,0,0,0,0,0,0,0,0,0,0,0,0,0,0,0,0,0,1,1,"Limit Raise - Ki",{"$f":"NOT(LimitRaiseKiSkillLvl>=1)","v":true},{"$f":"FALSE","v":false},false,false,false,false,false,false,false,false,false,false,false,false,false,false,false,false,false,false,false,false,0,0,0,0,0,128,0,0,0,0,0,0,0,0,0,0,0,0,0,0,0,0,0,0,0,0,0,0,null,null,0,0,0,0,0,0,0,0,0,0,0,0,0,0,0,0,0,0,0,0,0,0,0,0,0,0,0,0]
["Ki","Limit Raise Enhanced Mastery - Ki",0,0,0,0,0,0,0,0,0,0,0,0,0,0,0,0,0,0,1,1,"Limit Raise Mastery - Ki",{"$f":"NOT(LimitRaiseKiSkillLvl>=2)","v":true},{"$f":"FALSE","v":false},false,false,false,false,false,false,false,false,false,false,false,false,false,false,false,false,false,false,false,false,0,0,0,0,0,256,0,0,0,0,0,0,0,0,0,0,0,0,0,0,0,0,0,0,0,0,0,0,null,null,0,0,0,0,0,0,0,0,0,0,0,0,0,0,0,0,0,0,0,0,0,0,0,0,0,0,0,0]
["Ki","Limit Raise Superior Mastery - Ki",0,0,0,0,0,0,0,0,0,0,0,0,0,0,0,0,0,0,1,1,"Limit Raise Enhanced Mastery - Ki",{"$f":"NOT(LimitRaiseKiSkillLvl>=3)","v":true},{"$f":"FALSE","v":false},{"$f":"IF(AA88=FALSE,FALSE,TRUE)","v":false},false,{"$f":"IF(AC88=FALSE,FALSE,TRUE)","v":false},false,{"$f":"IF(AE88=FALSE,FALSE,TRUE)","v":false},false,{"$f":"IF(AG88=FALSE,FALSE,TRUE)","v":false},false,{"$f":"IF(AI88=FALSE,FALSE,TRUE)","v":false},false,{"$f":"IF(AK88=FALSE,FALSE,TRUE)","v":false},false,{"$f":"IF(AM88=FALSE,FALSE,TRUE)","v":false},false,{"$f":"IF(AO88=FALSE,FALSE,TRUE)","v":false},false,{"$f":"IF(AQ88=FALSE,FALSE,TRUE)","v":false},false,{"$f":"IF(AS88=FALSE,FALSE,TRUE)","v":false},false,0,0,0,0,0,512,0,0,0,0,0,0,0,0,0,0,0,0,0,0,0,0,0,0,0,0,0,0,null,null,0,0,0,0,0,0,0,0,0,0,0,0,0,0,0,0,0,0,0,0,0,0,0,0,0,0,0,0]
["Ki","Meditate Ki",20,10,20,20,20,20,20,10,20,20,20,20,20,20,20,20,20,20,1,null,"Buy Ki",{"$f":"KiPoints=0","v":true},{"$f":"FALSE","v":false},false,false,false,false,false,false,false,false,false,false,false,false,false,false,false,false,false,false,false,false,0,0,0,0,0,1,0,0,0,0,0,0,0,0,0,0,0,0,0,0,0,0,0,0,0,0,0,0,null,null,0,0,0,0,0,0,0,0,0,0,0,0,0,0,0,0,0,0,0,0,0,0,0,0,0,0,0,0]
["Ki","Meditate Ki Mastery",20,10,20,20,20,20,20,10,20,20,20,20,20,20,20,20,20,20,1,null,"Meditate Ki",{"$f":"NOT(MeditateKi>=1)","v":true},{"$f":"FALSE","v":false},false,false,false,false,false,false,false,false,false,false,false,false,false,false,false,false,false,false,false,false,0,0,0,0,0,1,0,0,0,0,0,0,0,0,0,0,0,0,0,0,0,0,0,0,0,0,0,0,null,null,0,0,0,0,0,0,0,0,0,0,0,0,0,0,0,0,0,0,0,0,0,0,0,0,0,0,0,0]
["Ki","Meditate Ki Enhanced Mastery",20,10,20,20,20,20,20,10,20,20,20,20,20,20,20,20,20,20,1,null,"Meditate Ki Mastery",{"$f":"NOT(MeditateKi>=2)","v":true},{"$f":"FALSE","v":false},false,false,false,false,false,false,false,false,false,false,false,false,false,false,false,false,false,false,false,false,0,0,0,0,0,20,0,0,0,0,0,0,0,0,0,0,0,0,0,0,0,0,0,0,0,0,0,0,null,null,0,0,0,0,0,0,0,0,0,0,0,0,0,0,0,0,0,0,0,0,0,0,0,0,0,0,0,0]
["Ki","Meditate Ki Superior Mastery",20,10,20,20,20,20,20,10,20,20,20,20,20,20,20,20,20,20,1,1,"Meditate Ki Enhanced Mastery",{"$f":"NOT(MeditateKi>=3)","v":true},{"$f":"FALSE","v":false},false,false,false,false,false,false,false,false,false,false,false,false,false,false,false,false,false,false,false,false,0,0,0,0,0,512,0,0,0,0,0,0,0,0,0,0,0,0,0,0,0,0,0,0,0,0,0,0,null,null,0,0,0,0,0,0,0,0,0,0,0,0,0,0,0,0,0,0,0,0,0,0,0,0,0,0,0,0]
["Ki","Ki Protection",20,10,20,20,20,20,20,10,20,20,20,20,20,20,20,20,20,20,1,1,"Focus Ki vs Magic or Power",{"$f":"NOT(OR(FocusKivsMagicLvl>0,FocusKivsPowerLvl>0))","v":false},{"$f":"FALSE","v":false},false,false,false,false,false,false,false,false,false,false,false,false,false,false,false,false,false,false,false,false,0,0,0,0,0,64,0,0,0,0,0,0,0,0,0,0,0,0,0,0,0,0,0,0,0,0,0,0,null,null,0,0,0,0,0,0,0,0,0,0,0,0,0,0,0,0,0,0,0,0,0,0,0,0,0,0,0,0]
["Ki","Ki Protection Mastery",20,10,20,20,20,20,20,10,20,20,20,20,20,20,20,20,20,20,1,1,"Ki Protection",{"$f":"NOT(KiProtectionSkillLvl>=1)","v":true},{"$f":"FALSE","v":false},false,false,false,false,false,false,false,false,false,false,false,false,false,false,false,false,false,false,false,false,0,0,0,0,0,128,0,0,0,0,0,0,0,0,0,0,0,0,0,0,0,0,0,0,0,0,0,0,null,null,0,0,0,0,0,0,0,0,0,0,0,0,0,0,0,0,0,0,0,0,0,0,0,0,0,0,0,0]
["Ki","Ki Protection Enhanced Mastery",20,10,20,20,20,20,20,10,20,20,20,20,20,20,20,20,20,20,1,1,"Ki Protection Mastery",{"$f":"NOT(KiProtectionSkillLvl>=2)","v":true},{"$f":"FALSE","v":false},false,false,false,false,false,false,false,false,false,false,false,false,false,false,false,false,false,false,false,false,0,0,0,0,0,256,0,0,0,0,0,0,0,0,0,0,0,0,0,0,0,0,0,0,0,0,0,0,null,null,0,0,0,0,0,0,0,0,0,0,0,0,0,0,0,0,0,0,0,0,0,0,0,0,0,0,0,0]
["Ki","Ki Protection Superior Mastery",20,10,20,20,20,20,20,10,20,20,20,20,20,20,20,20,20,20,1,1,"Ki Protection Enhanced Mastery",{"$f":"NOT(KiProtectionSkillLvl>=3)","v":true},{"$f":"FALSE","v":false},false,false,false,false,false,false,false,false,false,false,false,false,false,false,false,false,false,false,false,false,0,0,0,0,0,512,0,0,0,0,0,0,0,0,0,0,0,0,0,0,0,0,0,0,0,0,0,0,null,null,0,0,0,0,0,0,0,0,0,0,0,0,0,0,0,0,0,0,0,0,0,0,0,0,0,0,0,0]
["Magic","Recognise Magic",6,4,4,4,4,2,3,2,2,2,2,1,9,6,6,6,6,3,1,null,"None",{"$f":"FALSE","v":false},{"$f":"TRUE","v":true},{"$f":"IF(AA97=FALSE,FALSE,TRUE)","v":false},false,{"$f":"IF(AC97=FALSE,FALSE,TRUE)","v":false},false,{"$f":"IF(AE97=FALSE,FALSE,TRUE)","v":false},false,{"$f":"IF(AG97=FALSE,FALSE,TRUE)","v":false},false,{"$f":"IF(AI97=FALSE,FALSE,TRUE)","v":false},false,{"$f":"IF(AK97=FALSE,FALSE,TRUE)","v":false},false,{"$f":"IF(AM97=FALSE,FALSE,TRUE)","v":false},false,{"$f":"IF(AO97=FALSE,FALSE,TRUE)","v":false},false,{"$f":"IF(AQ97=FALSE,FALSE,TRUE)","v":false},false,{"$f":"IF(AS97=FALSE,FALSE,TRUE)","v":false},false,1,1,1,1,1,1,1,1,1,1,1,1,1,1,1,1,1,1,1,1,1,1,1,1,1,1,1,1,null,null,1,1,1,1,1,1,1,1,1,1,1,1,1,1,1,1,1,1,1,1,1,1,1,1,1,1,1,1]
["Magic","Buy Spell Slot level 1 (max 500 total mana)",3,2,2,2,2,1,2,2,2,2,2,1,6,4,4,4,4,2,"N/A",null,"(includes free Elf Slots) - Total Mana cannot exceed 500",{"$f":"FALSE","v":false},{"$f":"TRUE","v":true},false,false,false,false,false,false,false,false,false,false,false,false,false,false,false,false,false,false,false,false,1,1,0,1,1,1,1,1,1,1,1,1,1,1,1,1,1,1,1,1,1,1,1,1,1,1,1,1,null,null,1,1,0,1,1,1,1,1,1,1,1,1,1,1,1,1,1,1,1,1,1,1,1,1,1,1,1,1]
["Magic","Buy Spell Slot level 2 (max 500 total mana)",6,4,4,4,4,2,2,2,2,2,2,1,9,6,6,6,6,3,"N/A",null,"Level 1 slot - Total Mana cannot exceed 500",{"$f":"Total_Level1_Slots=0","v":true},{"$f":"TRUE","v":true},false,false,false,false,false,false,false,false,false,false,false,false,false,false,false,false,false,false,false,false,1,1,0,1,1,1,1,1,1,1,1,1,1,1,1,1,1,1,1,1,1,1,1,1,1,1,1,1,null,null,1,1,0,1,1,1,1,1,1,1,1,1,1,1,1,1,1,1,1,1,1,1,1,1,1,1,1,1]
["Magic","Buy Spell Slot level 3 (max 500 total mana)",9,6,6,6,6,3,4,4,4,4,4,2,12,8,8,8,8,4,"N/A",null,"Level 2 slot - Total Mana cannot exceed 500",{"$f":"_Lvl02=0","v":true},{"$f":"TRUE","v":true},false,false,false,false,false,false,false,false,false,false,false,false,false,false,false,false,false,false,false,false,1,1,0,1,1,1,1,1,1,1,1,1,1,1,1,1,1,1,1,1,1,1,1,1,1,1,1,1,null,null,1,1,0,1,1,1,1,1,1,1,1,1,1,1,1,1,1,1,1,1,1,1,1,1,1,1,1,1]
["Magic","Buy Spell Slot level 4 (max 500 total mana)",12,8,8,8,8,4,6,6,6,6,6,3,15,10,10,10,10,5,"N/A",null,"Level 3 slot - Total Mana cannot exceed 500",{"$f":"_Lvl03=0","v":true},{"$f":"TRUE","v":true},false,false,false,false,false,false,false,false,false,false,false,false,false,false,false,false,false,false,false,false,1,1,0,1,1,1,1,1,1,1,1,1,1,1,1,1,1,1,1,1,1,1,1,1,1,1,1,1,null,null,1,1,0,1,1,1,1,1,1,1,1,1,1,1,1,1,1,1,1,1,1,1,1,1,1,1,1,1]
["Magic","Buy Spell Slot level 5 (max 500 total mana)",15,10,10,10,10,5,8,8,8,8,8,4,18,12,12,12,12,6,"N/A",null,"Level 4 slot - Total Mana cannot exceed 500",{"$f":"_Lvl04=0","v":true},{"$f":"TRUE","v":true},false,false,false,false,false,false,false,false,false,false,false,false,false,false,false,false,false,false,false,false,1,1,0,1,1,1,1,1,1,1,1,1,1,1,1,1,1,1,1,1,1,1,1,1,1,1,1,1,null,null,1,1,0,1,1,1,1,1,1,1,1,1,1,1,1,1,1,1,1,1,1,1,1,1,1,1,1,1]
["Magic","Buy Spell Slot level 6 (max 500 total mana)",18,12,12,12,12,6,10,10,10,10,10,5,21,14,14,14,14,7,"N",null,"Make Focus, Wizard in 1st Colour and Level 5 slot",{"$f":"OR(_Lvl05=0,NOT(MakeFocus))","v":true},{"$f":"FALSE","v":false},false,false,false,false,false,false,false,false,false,false,false,false,false,false,false,false,false,false,false,false,0,0,0,0,0,0,0,0,20,20,20,20,20,20,20,20,0,0,0,0,0,0,0,0,0,0,0,0,null,null,0,0,0,0,0,0,0,0,64,64,64,64,64,64,64,64,0,0,0,0,0,0,0,0,0,0,0,0]
["Magic","Buy Spell Slot level 7 (max 500 total mana)",21,14,14,14,14,7,12,12,12,12,12,6,24,16,16,16,16,8,"N",null,"Make Focus, Wizard in 1st Colour and Level 6 slot",{"$f":"OR(_Lvl06=0,NOT(MakeFocus))","v":true},{"$f":"FALSE","v":false},false,false,false,false,false,false,false,false,false,false,false,false,false,false,false,false,false,false,false,false,0,0,0,0,0,0,0,0,20,20,20,20,20,20,20,20,0,0,0,0,0,0,0,0,0,0,0,0,null,null,0,0,0,0,0,0,0,0,64,64,64,64,64,64,64,64,0,0,0,0,0,0,0,0,0,0,0,0]
["Magic","Buy Spell Slot level 8 (max 500 total mana)",24,16,16,16,16,8,14,14,14,14,14,7,27,18,18,18,18,9,"N",null,"Make Focus, Wizard in 1st Colour and Level 7 slot",{"$f":"OR(_Lvl07=0,NOT(MakeFocus))","v":true},{"$f":"FALSE","v":false},false,false,false,false,false,false,false,false,false,false,false,false,false,false,false,false,false,false,false,false,0,0,0,0,0,0,0,0,20,20,20,20,20,20,20,20,0,0,0,0,0,0,0,0,0,0,0,0,null,null,0,0,0,0,0,0,0,0,64,64,64,64,64,64,64,64,0,0,0,0,0,0,0,0,0,0,0,0]
["Magic","Buy Spell Slot level 9 (max 500 total mana)",27,18,18,18,18,9,16,16,16,16,16,8,30,20,20,20,20,10,"N",null,"Cast Arcane in one Colour, Make Focus and Level 8 slot",{"$f":"OR(_Lvl08=0,NOT(MakeArcaneFocus))","v":true},{"$f":"FALSE","v":false},false,false,false,false,false,false,false,false,false,false,false,false,false,false,false,false,false,false,false,false,0,0,0,0,0,0,0,0,64,64,64,64,64,64,64,64,0,0,0,0,0,0,0,0,0,0,0,0,null,null,0,0,0,0,0,0,0,0,128,128,128,128,128,128,128,128,0,0,0,0,0,0,0,0,0,0,0,0]
["Magic","Buy Spell Slot level 10 (max 500 total mana)",30,20,20,20,20,10,18,18,18,18,18,9,33,22,22,22,22,11,"N",null,"Cast Arcane in one Colour, Make Focus and Level 9 slot",{"$f":"OR(_Lvl09=0,NOT(MakeArcaneFocus))","v":true},{"$f":"FALSE","v":false},false,false,false,false,false,false,false,false,false,false,false,false,false,false,false,false,false,false,false,false,0,0,0,0,0,0,0,0,64,64,64,64,64,64,64,64,0,0,0,0,0,0,0,0,0,0,0,0,null,null,0,0,0,0,0,0,0,0,128,128,128,128,128,128,128,128,0,0,0,0,0,0,0,0,0,0,0,0]
["Magic","Cast two colours of Magic levels 1 - 5",0,0,0,0,0,0,0,0,0,0,0,0,0,0,0,0,0,0,1,null,"Level 1 slot",{"$f":"NOT(Total_Level1_Slots>0)","v":true},{"$f":"TRUE","v":true},false,false,false,false,false,false,false,false,false,false,false,false,false,false,false,false,false,false,false,false,1,1,0,1,1,1,1,1,1,1,1,1,1,1,1,1,1,1,1,1,1,1,1,1,1,1,1,1,null,null,1,1,0,1,1,1,1,1,1,1,1,1,1,1,1,1,1,1,1,1,1,1,1,1,1,1,1,1]
["Magic","Cast additional colour of Magic 3 &4 - levels 1 - 5",30,20,20,20,20,10,24,16,16,16,16,8,48,24,32,32,32,12,2,null,"Cast two colours of Magic levels 1 - 5",{"$f":"NOT(Cast2ColoursMagic)","v":true},{"$f":"FALSE","v":false},false,false,false,false,false,false,false,false,false,false,false,false,false,false,false,false,false,false,false,false,0,0,0,0,0,0,0,0,1,1,1,1,1,1,1,1,0,0,0,0,0,0,0,0,0,0,0,0,null,null,0,0,0,0,0,0,0,0,20,20,20,20,20,20,20,20,0,0,0,0,0,0,0,0,0,0,0,0]
["Magic","Cast additional colour of Magic 5 & 6 -  levels 1 - 5",120,80,80,80,80,40,96,64,64,64,64,32,192,96,128,128,128,48,2,null,"Cast additional colour of Magic 3 &4 - levels 1 - 5  x2",{"$f":"NOT(NumberOfMagicColours>=3)","v":true},{"$f":"FALSE","v":false},false,false,false,false,false,false,false,false,false,false,false,false,false,false,false,false,false,false,false,false,0,0,0,0,0,0,0,0,20,20,20,20,20,20,20,20,0,0,0,0,0,0,0,0,0,0,0,0,null,null,0,0,0,0,0,0,0,0,64,64,64,64,64,64,64,64,0,0,0,0,0,0,0,0,0,0,0,0]
["Magic","Cast 7th colour of Magic levels 1 - 5",240,160,160,160,160,80,192,128,128,128,128,64,384,192,256,256,256,96,1,null,"Cast additional colour of Magic 5 & 6 -  levels 1 - 5  x2",{"$f":"NOT(NumberOfMagicColours>=5)","v":true},{"$f":"FALSE","v":false},false,false,false,false,false,false,false,false,false,false,false,false,false,false,false,false,false,false,false,false,0,0,0,0,0,0,0,0,64,64,64,64,64,64,64,64,0,0,0,0,0,0,0,0,0,0,0,0,null,null,0,0,0,0,0,0,0,0,128,128,128,128,128,128,128,128,0,0,0,0,0,0,0,0,0,0,0,0]
["Magic","Cast 8th colour of Magic levels 1 - 5",240,160,160,160,160,80,192,128,128,128,128,64,384,192,256,256,256,96,1,null,"Cast 7th colour of Magic levels 1 - 5",{"$f":"NOT(NumberOfMagicColours>=6)","v":true},{"$f":"FALSE","v":false},false,false,false,false,false,false,false,false,false,false,false,false,false,false,false,false,false,false,false,false,0,0,0,0,0,0,0,0,128,128,128,128,128,128,128,128,0,0,0,0,0,0,0,0,0,0,0,0,null,null,0,0,0,0,0,0,0,0,256,256,256,256,256,256,256,256,0,0,0,0,0,0,0,0,0,0,0,0]
["Magic","Make Focus",30,18,24,24,24,12,20,12,16,16,16,8,32,24,32,32,32,16,1,1,"None",{"$f":"FALSE","v":false},{"$f":"FALSE","v":false},false,false,false,false,false,false,false,false,false,false,false,false,false,false,false,false,false,false,false,false,0,0,0,0,0,0,0,0,1,1,1,1,1,1,1,1,0,0,0,0,0,0,0,0,0,0,0,0,null,null,0,0,0,0,0,0,0,0,20,20,20,20,20,20,20,20,0,0,0,0,0,0,0,0,0,0,0,0]
["Magic","Cast Wizardry (6-8) in Black",0,0,0,0,0,0,0,0,0,0,0,0,0,0,0,0,0,0,1,null,"Make Focus",{"$f":"NOT(MakeFocus)","v":true},{"$f":"FALSE","v":false},false,false,false,false,false,false,false,false,false,false,false,false,false,false,false,false,false,false,false,false,0,0,0,0,0,0,0,0,20,{"$f":"IF(GuildBlack,20,0)","v":0},0,0,0,0,0,0,0,0,0,0,0,0,0,0,0,0,0,0,null,null,0,0,0,0,0,0,0,0,20,{"$f":"IF(GuildBlack,64,0)","v":0},0,0,0,0,0,0,0,0,0,0,0,0,0,0,0,0,0,0]
["Magic","Cast Wizardry (6-8) in Blue",0,0,0,0,0,0,0,0,0,0,0,0,0,0,0,0,0,0,1,null,"Make Focus",true,{"$f":"FALSE","v":false},false,false,false,false,false,false,false,false,false,false,false,false,false,false,false,false,false,false,false,false,0,0,0,0,0,0,0,0,{"$f":"IF(GuildBlue,20,0)","v":0},20,{"$f":"IF(GuildBlue,20,0)","v":0},0,0,0,0,0,0,0,0,0,0,0,0,0,0,0,0,0,null,null,0,0,0,0,0,0,0,0,{"$f":"IF(GuildBlue,64,0)","v":0},20,{"$f":"IF(GuildBlue,64,0)","v":0},0,0,0,0,0,0,0,0,0,0,0,0,0,0,0,0,0]
["Magic","Cast Wizardry (6-8) in Brown",0,0,0,0,0,0,0,0,0,0,0,0,0,0,0,0,0,0,1,null,"Make Focus",true,{"$f":"FALSE","v":false},false,false,false,false,false,false,false,false,false,false,false,false,false,false,false,false,false,false,false,false,0,0,0,0,0,0,0,0,{"$f":"IF(GuildBrown,20,0)","v":0},{"$f":"IF(GuildBrown,20,0)","v":0},20,{"$f":"IF(GuildBrown,20,0)","v":0},{"$f":"IF(GuildBrown,20,0)","v":0},{"$f":"IF(GuildBrown,20,0)","v":0},{"$f":"IF(GuildBrown,20,0)","v":0},{"$f":"IF(GuildBrown,20,0)","v":0},0,0,0,0,0,0,0,0,0,0,0,0,null,null,0,0,0,0,0,0,0,0,{"$f":"IF(GuildBrown,64,0)","v":0},{"$f":"IF(GuildBrown,64,0)","v":0},20,{"$f":"IF(GuildBrown,64,0)","v":0},{"$f":"IF(GuildBrown,64,0)","v":0},{"$f":"IF(GuildBrown,64,0)","v":0},{"$f":"IF(GuildBrown,64,0)","v":0},{"$f":"IF(GuildBrown,64,0)","v":0},0,0,0,0,0,0,0,0,0,0,0,0]
["Magic","Cast Wizardry (6-8) in Green",0,0,0,0,0,0,0,0,0,0,0,0,0,0,0,0,0,0,1,null,"Make Focus",true,{"$f":"FALSE","v":false},false,false,false,false,false,false,false,false,false,false,false,false,false,false,false,false,false,false,false,false,0,0,0,0,0,0,0,0,{"$f":"IF(GuildGreen,20,0)","v":0},{"$f":"IF(GuildGreen,20,0)","v":0},{"$f":"IF(GuildGreen,20,0)","v":0},20,{"$f":"IF(GuildGreen,20,0)","v":0},{"$f":"IF(GuildGreen,20,0)","v":0},{"$f":"IF(GuildGreen,20,0)","v":0},{"$f":"IF(GuildGreen,20,0)","v":0},0,0,0,0,0,0,0,0,0,0,0,0,null,null,0,0,0,0,0,0,0,0,{"$f":"IF(GuildGreen,64,0)","v":0},{"$f":"IF(GuildGreen,64,0)","v":0},{"$f":"IF(GuildGreen,64,0)","v":0},20,{"$f":"IF(GuildGreen,64,0)","v":0},{"$f":"IF(GuildGreen,64,0)","v":0},{"$f":"IF(GuildGreen,64,0)","v":0},{"$f":"IF(GuildGreen,64,0)","v":0},0,0,0,0,0,0,0,0,0,0,0,0]
["Magic","Cast Wizardry (6-8) in Grey",0,0,0,0,0,0,0,0,0,0,0,0,0,0,0,0,0,0,1,null,"Make Focus",true,{"$f":"FALSE","v":false},false,false,false,false,false,false,false,false,false,false,false,false,false,false,false,false,false,false,false,false,0,0,0,0,0,0,0,0,{"$f":"IF(GuildGrey,20,0)","v":0},{"$f":"IF(GuildGrey,20,0)","v":0},{"$f":"IF(GuildGrey,20,0)","v":0},{"$f":"IF(GuildGrey,20,0)","v":0},20,{"$f":"IF(GuildGrey,20,0)","v":0},{"$f":"IF(GuildGrey,20,0)","v":0},{"$f":"IF(GuildGrey,20,0)","v":0},0,0,0,0,0,0,0,0,0,0,0,0,null,null,0,0,0,0,0,0,0,0,{"$f":"IF(GuildGrey,64,0)","v":0},{"$f":"IF(GuildGrey,64,0)","v":0},{"$f":"IF(GuildGrey,64,0)","v":0},{"$f":"IF(GuildGrey,64,0)","v":0},20,{"$f":"IF(GuildGrey,64,0)","v":0},{"$f":"IF(GuildGrey,64,0)","v":0},{"$f":"IF(GuildGrey,64,0)","v":0},0,0,0,0,0,0,0,0,0,0,0,0]
["Magic","Cast Wizardry (6-8) in Red",0,0,0,0,0,0,0,0,0,0,0,0,0,0,0,0,0,0,1,null,"Make Focus",true,{"$f":"FALSE","v":false},false,false,false,false,false,false,false,false,false,false,false,false,false,false,false,false,false,false,false,false,0,0,0,0,0,0,0,0,{"$f":"IF(GuildRed,20,0)","v":0},{"$f":"IF(GuildRed,20,0)","v":0},{"$f":"IF(GuildRed,20,0)","v":0},{"$f":"IF(GuildRed,20,0)","v":0},{"$f":"IF(GuildRed,20,0)","v":0},20,{"$f":"IF(GuildRed,20,0)","v":0},{"$f":"IF(GuildRed,20,0)","v":0},0,0,0,0,0,0,0,0,0,0,0,0,null,null,0,0,0,0,0,0,0,0,{"$f":"IF(GuildRed,64,0)","v":0},{"$f":"IF(GuildRed,64,0)","v":0},{"$f":"IF(GuildRed,64,0)","v":0},{"$f":"IF(GuildRed,64,0)","v":0},{"$f":"IF(GuildRed,64,0)","v":0},20,{"$f":"IF(GuildRed,64,0)","v":0},{"$f":"IF(GuildRed,64,0)","v":0},0,0,0,0,0,0,0,0,0,0,0,0]
["Magic","Cast Wizardry (6-8) in White",0,0,0,0,0,0,0,0,0,0,0,0,0,0,0,0,0,0,1,null,"Make Focus",true,{"$f":"FALSE","v":false},false,false,false,false,false,false,false,false,false,false,false,false,false,false,false,false,false,false,false,false,0,0,0,0,0,0,0,0,{"$f":"IF(GuildWhite,20,0)","v":0},0,0,0,0,0,20,{"$f":"IF(GuildWhite,20,0)","v":0},0,0,0,0,0,0,0,0,0,0,0,0,null,null,0,0,0,0,0,0,0,0,{"$f":"IF(GuildWhite,64,0)","v":0},0,0,0,0,0,20,{"$f":"IF(GuildWhite,64,0)","v":0},0,0,0,0,0,0,0,0,0,0,0,0]
["Magic","Cast Wizardry (6-8) in Yellow",0,0,0,0,0,0,0,0,0,0,0,0,0,0,0,0,0,0,1,null,"Make Focus",true,{"$f":"FALSE","v":false},false,false,false,false,false,false,false,false,false,false,false,false,false,false,false,false,false,false,false,false,0,0,0,0,0,0,0,0,{"$f":"IF(GuildYellow,20,0)","v":0},0,0,0,0,0,0,20,0,0,0,0,0,0,0,0,0,0,0,0,null,null,0,0,0,0,0,0,0,0,{"$f":"IF(GuildYellow,64,0)","v":0},0,0,0,0,0,0,20,0,0,0,0,0,0,0,0,0,0,0,0]
["Magic","Make Arcane Focus",0,0,0,0,0,0,0,0,0,0,0,0,0,0,0,0,0,0,1,1,"Make Focus",true,{"$f":"FALSE","v":false},false,false,false,false,false,false,false,false,false,false,false,false,false,false,false,false,false,false,false,false,0,0,0,0,0,0,0,0,64,64,64,64,64,64,64,64,0,0,0,0,0,0,0,0,0,0,0,0,null,null,0,0,0,0,0,0,0,0,128,128,128,128,128,128,128,128,0,0,0,0,0,0,0,0,0,0,0,0]
["Magic","Cast Arcane (9-10) in Black",0,0,0,0,0,0,0,0,0,0,0,0,0,0,0,0,0,0,1,null,"Make Arcane Focus, Cast Wizardry (6-8) in one Colour",{"$f":"OR(NOT(MakeArcaneFocus),NOT(OR(SorcerorBlack, SorcerorBlue, SorcerorBrown, SorcerorGreen, SorcerorGrey, SorcerorRed, SorcerorWhite, SorcerorYellow)))","v":true},{"$f":"FALSE","v":false},false,false,false,false,false,false,false,false,false,false,false,false,false,false,false,false,false,false,false,false,0,0,0,0,0,0,0,0,64,{"$f":"IF(GuildBlack,128,0)","v":0},0,0,0,0,0,0,0,0,0,0,0,0,0,0,0,0,0,0,null,null,0,0,0,0,0,0,0,0,128,{"$f":"IF(GuildBlack,256,0)","v":0},0,0,0,0,0,0,0,0,0,0,0,0,0,0,0,0,0,0]
["Magic","Cast Arcane (9-10) in Blue",0,0,0,0,0,0,0,0,0,0,0,0,0,0,0,0,0,0,1,null,"Make Arcane Focus, Cast Wizardry (6-8) in one Colour",true,{"$f":"FALSE","v":false},false,false,false,false,false,false,false,false,false,false,false,false,false,false,false,false,false,false,false,false,0,0,0,0,0,0,0,0,{"$f":"IF(GuildBlue,128,0)","v":0},64,{"$f":"IF(GuildBlue,128,0)","v":0},0,0,0,0,0,0,0,0,0,0,0,0,0,0,0,0,0,null,null,0,0,0,0,0,0,0,0,{"$f":"IF(GuildBlue,256,0)","v":0},128,{"$f":"IF(GuildBlue,256,0)","v":0},0,0,0,0,0,0,0,0,0,0,0,0,0,0,0,0,0]
["Magic","Cast Arcane (9-10) in Brown",0,0,0,0,0,0,0,0,0,0,0,0,0,0,0,0,0,0,1,null,"Make Arcane Focus, Cast Wizardry (6-8) in one Colour",true,{"$f":"FALSE","v":false},false,false,false,false,false,false,false,false,false,false,false,false,false,false,false,false,false,false,false,false,0,0,0,0,0,0,0,0,{"$f":"IF(GuildBrown,128,0)","v":0},{"$f":"IF(GuildBrown,128,0)","v":0},64,{"$f":"IF(GuildBrown,128,0)","v":0},{"$f":"IF(GuildBrown,128,0)","v":0},{"$f":"IF(GuildBrown,128,0)","v":0},{"$f":"IF(GuildBrown,128,0)","v":0},{"$f":"IF(GuildBrown,128,0)","v":0},0,0,0,0,0,0,0,0,0,0,0,0,null,null,0,0,0,0,0,0,0,0,{"$f":"IF(GuildBrown,256,0)","v":0},{"$f":"IF(GuildBrown,256,0)","v":0},128,{"$f":"IF(GuildBrown,256,0)","v":0},{"$f":"IF(GuildBrown,256,0)","v":0},{"$f":"IF(GuildBrown,256,0)","v":0},{"$f":"IF(GuildBrown,256,0)","v":0},{"$f":"IF(GuildBrown,256,0)","v":0},0,0,0,0,0,0,0,0,0,0,0,0]
["Magic","Cast Arcane (9-10) in Green",0,0,0,0,0,0,0,0,0,0,0,0,0,0,0,0,0,0,1,null,"Make Arcane Focus, Cast Wizardry (6-8) in one Colour",true,{"$f":"FALSE","v":false},false,false,false,false,false,false,false,false,false,false,false,false,false,false,false,false,false,false,false,false,0,0,0,0,0,0,0,0,{"$f":"IF(GuildGreen,128,0)","v":0},{"$f":"IF(GuildGreen,128,0)","v":0},{"$f":"IF(GuildGreen,128,0)","v":0},64,{"$f":"IF(GuildGreen,128,0)","v":0},{"$f":"IF(GuildGreen,128,0)","v":0},{"$f":"IF(GuildGreen,128,0)","v":0},{"$f":"IF(GuildGreen,128,0)","v":0},0,0,0,0,0,0,0,0,0,0,0,0,null,null,0,0,0,0,0,0,0,0,{"$f":"IF(GuildGreen,256,0)","v":0},{"$f":"IF(GuildGreen,256,0)","v":0},{"$f":"IF(GuildGreen,256,0)","v":0},128,{"$f":"IF(GuildGreen,256,0)","v":0},{"$f":"IF(GuildGreen,256,0)","v":0},{"$f":"IF(GuildGreen,256,0)","v":0},{"$f":"IF(GuildGreen,256,0)","v":0},0,0,0,0,0,0,0,0,0,0,0,0]
["Magic","Cast Arcane (9-10) in Grey",0,0,0,0,0,0,0,0,0,0,0,0,0,0,0,0,0,0,1,null,"Make Arcane Focus, Cast Wizardry (6-8) in one Colour",true,{"$f":"FALSE","v":false},false,false,false,false,false,false,false,false,false,false,false,false,false,false,false,false,false,false,false,false,0,0,0,0,0,0,0,0,{"$f":"IF(GuildGrey,128,0)","v":0},{"$f":"IF(GuildGrey,128,0)","v":0},{"$f":"IF(GuildGrey,128,0)","v":0},{"$f":"IF(GuildGrey,128,0)","v":0},64,{"$f":"IF(GuildGrey,128,0)","v":0},{"$f":"IF(GuildGrey,128,0)","v":0},{"$f":"IF(GuildGrey,128,0)","v":0},0,0,0,0,0,0,0,0,0,0,0,0,null,null,0,0,0,0,0,0,0,0,{"$f":"IF(GuildGrey,256,0)","v":0},{"$f":"IF(GuildGrey,256,0)","v":0},{"$f":"IF(GuildGrey,256,0)","v":0},{"$f":"IF(GuildGrey,256,0)","v":0},128,{"$f":"IF(GuildGrey,256,0)","v":0},{"$f":"IF(GuildGrey,256,0)","v":0},{"$f":"IF(GuildGrey,256,0)","v":0},0,0,0,0,0,0,0,0,0,0,0,0]
["Magic","Cast Arcane (9-10) in Red",0,0,0,0,0,0,0,0,0,0,0,0,0,0,0,0,0,0,1,null,"Make Arcane Focus, Cast Wizardry (6-8) in one Colour",true,{"$f":"FALSE","v":false},false,false,false,false,false,false,false,false,false,false,false,false,false,false,false,false,false,false,false,false,0,0,0,0,0,0,0,0,{"$f":"IF(GuildRed,128,0)","v":0},{"$f":"IF(GuildRed,128,0)","v":0},{"$f":"IF(GuildRed,128,0)","v":0},{"$f":"IF(GuildRed,128,0)","v":0},{"$f":"IF(GuildRed,128,0)","v":0},64,{"$f":"IF(GuildRed,128,0)","v":0},{"$f":"IF(GuildRed,128,0)","v":0},0,0,0,0,0,0,0,0,0,0,0,0,null,null,0,0,0,0,0,0,0,0,{"$f":"IF(GuildRed,256,0)","v":0},{"$f":"IF(GuildRed,256,0)","v":0},{"$f":"IF(GuildRed,256,0)","v":0},{"$f":"IF(GuildRed,256,0)","v":0},{"$f":"IF(GuildRed,256,0)","v":0},128,{"$f":"IF(GuildRed,256,0)","v":0},{"$f":"IF(GuildRed,256,0)","v":0},0,0,0,0,0,0,0,0,0,0,0,0]
["Magic","Cast Arcane (9-10) in White",0,0,0,0,0,0,0,0,0,0,0,0,0,0,0,0,0,0,1,null,"Make Arcane Focus, Cast Wizardry (6-8) in one Colour",true,{"$f":"FALSE","v":false},false,false,false,false,false,false,false,false,false,false,false,false,false,false,false,false,false,false,false,false,0,0,0,0,0,0,0,0,{"$f":"IF(GuildWhite,128,0)","v":0},0,0,0,0,0,64,{"$f":"IF(GuildWhite,128,0)","v":0},0,0,0,0,0,0,0,0,0,0,0,0,null,null,0,0,0,0,0,0,0,0,{"$f":"IF(GuildWhite,256,0)","v":0},0,0,0,0,0,128,{"$f":"IF(GuildWhite,256,0)","v":0},0,0,0,0,0,0,0,0,0,0,0,0]
["Magic","Cast Arcane (9-10) in Yellow",0,0,0,0,0,0,0,0,0,0,0,0,0,0,0,0,0,0,1,null,"Make Arcane Focus, Cast Wizardry (6-8) in one Colour",true,{"$f":"FALSE","v":false},false,false,false,false,false,false,false,false,false,false,false,false,false,false,false,false,false,false,false,false,0,0,0,0,0,0,0,0,{"$f":"IF(GuildYellow,128,0)","v":0},0,0,0,0,0,0,64,0,0,0,0,0,0,0,0,0,0,0,0,null,null,0,0,0,0,0,0,0,0,{"$f":"IF(GuildYellow,256,0)","v":0},0,0,0,0,0,0,128,0,0,0,0,0,0,0,0,0,0,0,0]
["Magic","Learn additional Spells level 1 - 8",0,0,0,0,0,0,0,0,0,0,0,0,0,0,0,0,0,0,"N",1,"None",{"$f":"FALSE","v":false},{"$f":"FALSE","v":false},false,false,false,false,false,false,false,false,false,false,false,false,false,false,false,false,false,false,false,false,0,0,0,0,0,0,0,0,1,1,1,1,1,1,1,1,0,0,0,0,0,0,0,0,0,0,0,0,null,null,0,0,0,0,0,0,0,0,20,20,20,20,20,20,20,20,0,0,0,0,0,0,0,0,0,0,0,0]
["Magic","Learn level 9 spells",0,0,0,0,0,0,0,0,0,0,0,0,0,0,0,0,0,0,"N",1,"Cast Arcane (9-10) in one Colour , Level 8 Spell, Level 9 Slot",{"$f":"OR(NOT(MakeArcaneFocus),_Lvl08=0,NOT(LearnLevel06to08))","v":true},{"$f":"FALSE","v":false},false,false,false,false,false,false,false,false,false,false,false,false,false,false,false,false,false,false,false,false,0,0,0,0,0,0,0,0,64,64,64,64,64,64,64,64,0,0,0,0,0,0,0,0,0,0,0,0,null,null,0,0,0,0,0,0,0,0,128,128,128,128,128,128,128,128,0,0,0,0,0,0,0,0,0,0,0,0]
["Magic","Learn Level 10 spells",0,0,0,0,0,0,0,0,0,0,0,0,0,0,0,0,0,0,"N",1,"Cast Arcane (9-10) in one Colour Level 9 Spell, Level 10 Slot",{"$f":"OR(NOT(MakeArcaneFocus),_Lvl09=0,NOT(LearnLevel09))","v":true},{"$f":"FALSE","v":false},false,false,false,false,false,false,false,false,false,false,false,false,false,false,false,false,false,false,false,false,0,0,0,0,0,0,0,0,64,64,64,64,64,64,64,64,0,0,0,0,0,0,0,0,0,0,0,0,null,null,0,0,0,0,0,0,0,0,128,128,128,128,128,128,128,128,0,0,0,0,0,0,0,0,0,0,0,0]
["Magic","Limit Raise - Mana",0,0,0,0,0,0,0,0,0,0,0,0,0,0,0,0,0,0,1,1,"None",{"$f":"FALSE","v":false},{"$f":"FALSE","v":false},false,false,false,false,false,false,false,false,false,false,false,false,false,false,false,false,false,false,false,false,0,0,0,0,128,128,128,128,64,64,64,64,64,64,64,64,0,0,0,0,0,0,0,0,0,0,0,0,null,null,0,0,0,0,0,0,0,0,0,0,0,0,0,0,0,0,0,0,0,0,0,0,0,0,0,0,0,0]
["Magic","Limit Raise Mastery - Mana",0,0,0,0,0,0,0,0,0,0,0,0,0,0,0,0,0,0,1,1,"None",{"$f":"FALSE","v":false},{"$f":"FALSE","v":false},false,false,false,false,false,false,false,false,false,false,false,false,false,false,false,false,false,false,false,false,0,0,0,0,256,256,256,256,128,128,128,128,128,128,128,128,0,0,0,0,0,0,0,0,0,0,0,0,null,null,0,0,0,0,0,0,0,0,0,0,0,0,0,0,0,0,0,0,0,0,0,0,0,0,0,0,0,0]
["Magic","Limit Raise Enhanced Mastery - Mana",0,0,0,0,0,0,0,0,0,0,0,0,0,0,0,0,0,0,1,1,"Limit Raise Mastery - Mana",{"$f":"NOT(LimitRaiseManaLvl>=2)","v":true},{"$f":"FALSE","v":false},false,false,false,false,false,false,false,false,false,false,false,false,false,false,false,false,false,false,false,false,0,0,0,0,512,512,512,512,256,256,256,256,256,256,256,256,0,0,0,0,0,0,0,0,0,0,0,0,null,null,0,0,0,0,0,0,0,0,0,0,0,0,0,0,0,0,0,0,0,0,0,0,0,0,0,0,0,0]
["Magic","Limit Raise Superior Mastery - Mana",0,0,0,0,0,0,0,0,0,0,0,0,0,0,0,0,0,0,1,1,"Limit Raise Enhanced Mastery - Mana",{"$f":"NOT(LimitRaiseManaLvl>=3)","v":true},{"$f":"FALSE","v":false},false,false,false,false,false,false,false,false,false,false,false,false,false,false,false,false,false,false,false,false,0,0,0,0,0,0,0,0,512,512,512,512,512,512,512,512,0,0,0,0,0,0,0,0,0,0,0,0,null,null,0,0,0,0,0,0,0,0,0,0,0,0,0,0,0,0,0,0,0,0,0,0,0,0,0,0,0,0]
["Magic","Limit Raise - Spell",0,0,0,0,0,0,0,0,0,0,0,0,0,0,0,0,0,0,1,1,"None",{"$f":"FALSE","v":false},{"$f":"FALSE","v":false},false,false,false,false,false,false,false,false,false,false,false,false,false,false,false,false,false,false,false,false,0,0,0,0,0,0,0,0,128,128,128,128,128,128,128,128,0,0,0,0,0,0,0,0,0,0,0,0,null,null,0,0,0,0,0,0,0,0,0,0,0,0,0,0,0,0,0,0,0,0,0,0,0,0,0,0,0,0]
["Magic","Mnemonic",8,8,8,8,8,6,6,6,6,6,6,4,10,10,10,10,10,8,1,null,"Level 1 Spell Slot",{"$f":"Total_Level1_Slots=0","v":true},{"$f":"TRUE","v":true},false,false,false,false,false,false,false,false,false,false,false,false,false,false,false,false,false,false,false,false,1,1,0,1,1,1,1,1,1,1,1,1,1,1,1,1,1,1,1,1,1,1,1,1,1,1,1,1,null,null,1,1,0,1,1,1,1,1,1,1,1,1,1,1,1,1,1,1,1,1,1,1,1,1,1,1,1,1]
["Magic","Mnemonic Mastery",8,8,8,8,8,6,6,6,6,6,6,4,10,10,10,10,10,8,1,null,"Mnemonic",{"$f":"NOT(MnemonicEnhancer>=1)","v":true},{"$f":"FALSE","v":false},false,false,false,false,false,false,false,false,false,false,false,false,false,false,false,false,false,false,false,false,0,0,0,0,0,0,0,0,64,64,64,64,64,64,64,64,0,0,0,0,0,0,0,0,0,0,0,0,null,null,0,0,0,0,0,0,0,0,128,128,128,128,128,128,128,128,0,0,0,0,0,0,0,0,0,0,0,0]
["Magic","Mnemonic Enhanced Mastery",8,8,8,8,8,6,6,6,6,6,6,4,10,10,10,10,10,8,1,null,"Mnemonic Mastery",{"$f":"NOT(MnemonicEnhancer>=2)","v":true},{"$f":"FALSE","v":false},false,false,false,false,false,false,false,false,false,false,false,false,false,false,false,false,false,false,false,false,0,0,0,0,0,0,0,0,128,128,128,128,128,128,128,128,0,0,0,0,0,0,0,0,0,0,0,0,null,null,0,0,0,0,0,0,0,0,256,256,256,256,256,256,256,256,0,0,0,0,0,0,0,0,0,0,0,0]
["Magic","Mnemonic Superior Mastery",8,8,8,8,8,6,6,6,6,6,6,4,10,10,10,10,10,8,1,1,"Mnemonic Enhanced Mastery",{"$f":"NOT(MnemonicEnhancer>=3)","v":true},{"$f":"FALSE","v":false},false,false,false,false,false,false,false,false,false,false,false,false,false,false,false,false,false,false,false,false,0,0,0,0,0,0,0,0,512,512,512,512,512,512,512,512,0,0,0,0,0,0,0,0,0,0,0,0,null,null,0,0,0,0,0,0,0,0,0,0,0,0,0,0,0,0,0,0,0,0,0,0,0,0,0,0,0,0]
["Magic","Mnemonic Attunement",0,0,0,0,0,0,0,0,0,0,0,0,0,0,0,0,0,0,1,null,"Specialist ",{"$f":"NOT(IsSpecialist)","v":true},{"$f":"FALSE","v":false},{"$f":"IF(AA143=FALSE,FALSE,TRUE)","v":false},false,{"$f":"IF(AC143=FALSE,FALSE,TRUE)","v":false},false,{"$f":"IF(AE143=FALSE,FALSE,TRUE)","v":false},false,{"$f":"IF(AG143=FALSE,FALSE,TRUE)","v":false},false,{"$f":"IF(AI143=FALSE,FALSE,TRUE)","v":false},false,{"$f":"IF(AK143=FALSE,FALSE,TRUE)","v":false},false,{"$f":"IF(AM143=FALSE,FALSE,TRUE)","v":false},false,{"$f":"IF(AO143=FALSE,FALSE,TRUE)","v":false},false,{"$f":"IF(AQ143=FALSE,FALSE,TRUE)","v":false},false,{"$f":"IF(AS143=FALSE,FALSE,TRUE)","v":false},false,0,0,0,0,0,0,0,0,20,20,20,20,20,20,20,20,0,0,0,0,0,0,0,0,0,0,0,0,null,null,0,0,0,0,0,0,0,0,0,0,0,0,0,0,0,0,0,0,0,0,0,0,0,0,0,0,0,0]
["Magic","Recharge Active Spell",0,0,0,0,0,0,0,0,0,0,0,0,0,0,0,0,0,0,1,1,"Class Mage",{"$f":"IF(OR(PrimaryGuildType=Mage, SecondaryGuildType=Mage, Secondary2GuildType=Mage,Secondary3GuildType=Mage,Secondary4GuildType=Mage,Secondary5GuildType=Mage,Secondary6GuildType=Mage,Secondary7GuildType=Mage,Secondary8GuildType=Mage,TertiaryGuildType=Mage), TRUE, FALSE)","v":false},{"$f":"FALSE","v":false},false,false,false,false,false,false,false,false,false,false,false,false,false,false,false,false,false,false,false,false,0,0,0,0,0,0,0,0,256,256,256,256,256,256,256,256,0,0,0,0,0,0,0,0,0,0,0,0,null,null,0,0,0,0,0,0,0,0,0,0,0,0,0,0,0,0,0,0,0,0,0,0,0,0,0,0,0,0]
["Magic","Spell Store",0,0,0,0,0,0,0,0,0,0,0,0,0,0,0,0,0,0,2,1,"Cast Wizardry (6-8) in one Colour",{"$f":"NOT(HasWizardry)","v":true},{"$f":"FALSE","v":false},false,false,false,false,false,false,false,false,false,false,false,false,false,false,false,false,false,false,false,false,0,0,0,0,0,0,0,0,128,128,128,128,128,128,128,128,0,0,0,0,0,0,0,0,0,0,0,0,null,null,0,0,0,0,0,0,0,0,128,128,128,128,128,128,128,128,0,0,0,0,0,0,0,0,0,0,0,0]
["Magic","Recast Spell Store",0,0,0,0,0,0,0,0,0,0,0,0,0,0,0,0,0,0,"N/A",1,"Class Mage",{"$f":"IF(OR(PrimaryGuildType=Mage, SecondaryGuildType=Mage, Secondary2GuildType=Mage,Secondary3GuildType=Mage,Secondary4GuildType=Mage,Secondary5GuildType=Mage,Secondary6GuildType=Mage,Secondary7GuildType=Mage,Secondary8GuildType=Mage,TertiaryGuildType=Mage), TRUE, FALSE)","v":false},{"$f":"FALSE","v":false},false,false,false,false,false,false,false,false,false,false,false,false,false,false,false,false,false,false,false,false,0,0,0,0,0,0,0,0,256,256,256,256,256,256,256,256,0,0,0,0,0,0,0,0,0,0,0,0,null,null,0,0,0,0,0,0,0,0,0,0,0,0,0,0,0,0,0,0,0,0,0,0,0,0,0,0,0,0]
["Magic","Elemental Proficiency",10,10,10,10,10,10,10,10,10,10,10,10,10,10,10,10,10,10,1,1,"Class Mage",{"$f":"IF(OR(PrimaryGuildType=Mage, SecondaryGuildType=Mage, Secondary2GuildType=Mage,Secondary3GuildType=Mage,Secondary4GuildType=Mage,Secondary5GuildType=Mage,Secondary6GuildType=Mage,Secondary7GuildType=Mage,Secondary8GuildType=Mage,TertiaryGuildType=Mage), TRUE, FALSE)","v":false},{"$f":"FALSE","v":false},false,false,false,false,false,false,false,false,false,false,false,false,false,false,false,false,false,false,false,false,0,0,0,0,0,0,0,0,64,64,64,64,64,64,64,64,0,0,0,0,0,0,0,0,0,0,0,0,null,null,0,0,0,0,0,0,0,0,128,128,128,128,128,128,128,128,0,0,0,0,0,0,0,0,0,0,0,0]
["Magic","Elemental Mastery",50,50,50,50,50,50,40,40,40,40,40,40,60,60,60,60,60,60,1,null,"Elemental Proficiency",{"$f":"NOT(SUM(Elemental>=1))","v":true},{"$f":"FALSE","v":false},false,false,false,false,false,false,false,false,false,false,false,false,false,false,false,false,false,false,false,false,0,0,0,0,0,0,0,0,128,128,128,128,128,128,128,128,0,0,0,0,0,0,0,0,0,0,0,0,null,null,0,0,0,0,0,0,0,0,0,0,0,0,0,0,0,0,0,0,0,0,0,0,0,0,0,0,0,0]
["Magic","Elemental Enhanced Mastery",50,50,50,50,50,50,40,40,40,40,40,40,60,60,60,60,60,60,1,null,"Elemental Mastery",{"$f":"NOT(SUM(Elemental>=2))","v":true},{"$f":"FALSE","v":false},false,false,false,{"$f":"IF(HasHQAClassUpgrade,VLOOKUP(INDEX(SkillMatrixPrimary,ROW()-2,SecondaryGuildNumber),SkillRankLookupTable,2,1),VLOOKUP(INDEX(SkillMatrixSecondary,ROW()-2,SecondaryGuildNumber),SkillRankLookupTable,2,1))","v":false},false,{"$f":"IF(HasHQAClass2Upgrade,VLOOKUP(INDEX(SkillMatrixPrimary,ROW()-2,Secondary2GuildNumber),SkillRankLookupTable,2,1),VLOOKUP(INDEX(SkillMatrixSecondary,ROW()-2,Secondary2GuildNumber),SkillRankLookupTable,2,1))","v":false},false,{"$f":"IF(HasHQAClass3Upgrade,VLOOKUP(INDEX(SkillMatrixPrimary,ROW()-2,Secondary3GuildNumber),SkillRankLookupTable,2,1),VLOOKUP(INDEX(SkillMatrixSecondary,ROW()-2,Secondary3GuildNumber),SkillRankLookupTable,2,1))","v":false},false,{"$f":"IF(HasHQAClass4Upgrade,VLOOKUP(INDEX(SkillMatrixPrimary,ROW()-2,Secondary4GuildNumber),SkillRankLookupTable,2,1),VLOOKUP(INDEX(SkillMatrixSecondary,ROW()-2,Secondary4GuildNumber),SkillRankLookupTable,2,1))","v":false},false,{"$f":"IF(HasHQAClass5Upgrade,VLOOKUP(INDEX(SkillMatrixPrimary,ROW()-2,Secondary5GuildNumber),SkillRankLookupTable,2,1),VLOOKUP(INDEX(SkillMatrixSecondary,ROW()-2,Secondary5GuildNumber),SkillRankLookupTable,2,1))","v":false},false,{"$f":"IF(HasHQAClass6Upgrade,VLOOKUP(INDEX(SkillMatrixPrimary,ROW()-2,Secondary6GuildNumber),SkillRankLookupTable,2,1),VLOOKUP(INDEX(SkillMatrixSecondary,ROW()-2,Secondary6GuildNumber),SkillRankLookupTable,2,1))","v":false},false,{"$f":"IF(HasHQAClass7Upgrade,VLOOKUP(INDEX(SkillMatrixPrimary,ROW()-2,Secondary7GuildNumber),SkillRankLookupTable,2,1),VLOOKUP(INDEX(SkillMatrixSecondary,ROW()-2,Secondary7GuildNumber),SkillRankLookupTable,2,1))","v":false},false,{"$f":"IF(HasHQAGuildUpgrade,VLOOKUP(INDEX(SkillMatrixPrimary,ROW()-2,AdditionalClassSecondaryGuildNumber),SkillRankLookupTable,2,1),VLOOKUP(INDEX(SkillMatrixSecondary,ROW()-2,AdditionalClassSecondaryGuildNumber),SkillRankLookupTable,2,1))","v":false},false,{"$f":"IF(HasHQAGuild2Upgrade,VLOOKUP(INDEX(SkillMatrixPrimary,ROW()-2,JoATGuildNumber),SkillRankLookupTable,2,1),VLOOKUP(INDEX(SkillMatrixSecondary,ROW()-2,JoATGuildNumber),SkillRankLookupTable,2,1))","v":false},0,0,0,0,0,0,0,0,256,256,256,256,256,256,256,256,0,0,0,0,0,0,0,0,0,0,0,0,null,null,0,0,0,0,0,0,0,0,0,0,0,0,0,0,0,0,0,0,0,0,0,0,0,0,0,0,0,0]
["Magic","Elemental Superior Mastery",50,50,50,50,50,50,40,40,40,40,40,40,60,60,60,60,60,60,1,1,"Elemental Enhanced Mastery",{"$f":"NOT(SUM(Elemental>=3))","v":true},{"$f":"FALSE","v":false},false,{"$f":"VLOOKUP(INDEX(SkillMatrixPrimary,ROW()-2,PrimaryGuildNumber),SkillRankLookupTable,2,1)","v":false},false,false,false,false,false,false,false,false,false,false,false,false,false,false,false,false,false,false,0,0,0,0,0,0,0,0,512,512,512,512,512,512,512,512,0,0,0,0,0,0,0,0,0,0,0,0,null,null,0,0,0,0,0,0,0,0,0,0,0,0,0,0,0,0,0,0,0,0,0,0,0,0,0,0,0,0]
["Magic","Extra Arcane Store Preparation",0,0,0,0,0,0,0,0,0,0,0,0,0,0,0,0,0,0,1,1,"Cast Arcane (9-10) in 1st Colour",{"$f":"NOT(_Lvl09>1)","v":true},{"$f":"FALSE","v":false},false,false,false,false,false,false,false,false,false,false,false,false,false,false,false,false,false,false,false,false,0,0,0,0,0,0,0,0,256,256,256,256,256,256,256,256,0,0,0,0,0,0,0,0,0,0,0,0,null,null,0,0,0,0,0,0,0,0,0,0,0,0,0,0,0,0,0,0,0,0,0,0,0,0,0,0,0,0]
["Magic","Exceptional Arcane Store Preparation",0,0,0,0,0,0,0,0,0,0,0,0,0,0,0,0,0,0,1,1,"Extra Arcane Store Preparation",{"$f":"NOT(SUM('The Character'!C163:D163)>=1)","v":true},{"$f":"FALSE","v":false},false,false,false,false,false,false,false,false,false,false,false,false,false,false,false,false,false,false,false,false,0,0,0,0,0,0,0,0,512,512,512,512,512,512,512,512,0,0,0,0,0,0,0,0,0,0,0,0,null,null,0,0,0,0,0,0,0,0,0,0,0,0,0,0,0,0,0,0,0,0,0,0,0,0,0,0,0,0]
["Magic","Spell Extension",0,0,0,0,0,0,0,0,0,0,0,0,0,0,0,0,0,0,"N/A",1,"Sorceror",{"$f":"NOT(HasSorcery)","v":true},{"$f":"FALSE","v":false},false,false,false,false,false,false,false,false,false,false,false,false,false,false,false,false,false,false,false,false,0,0,0,0,0,0,0,0,512,512,512,512,512,512,512,512,0,0,0,0,0,0,0,0,0,0,0,0,null,null,0,0,0,0,0,0,0,0,0,0,0,0,0,0,0,0,0,0,0,0,0,0,0,0,0,0,0,0]
["Magic","Write Battle Magic Scrolls",24,18,18,18,18,12,20,15,15,15,15,10,28,21,21,21,21,14,1,1,"Level 1 Spell Slot",{"$f":"Total_Level1_Slots=0","v":true},{"$f":"FALSE","v":false},false,false,false,false,false,false,false,false,false,false,false,false,false,false,false,false,false,false,false,false,0,0,0,0,0,0,0,0,1,1,1,1,1,1,1,1,0,0,0,0,0,0,0,0,0,0,0,0,null,null,0,0,0,0,0,0,0,0,20,20,20,20,20,20,20,20,0,0,0,0,0,0,0,0,0,0,0,0]
["Magic","Write High Magic Scrolls",48,36,36,36,36,24,40,30,30,30,30,20,56,42,42,42,42,28,1,1,"Level 6 Spell Slot, Write Battle Magic Scrolls",{"$f":"NOT(AND(_Lvl06>0, WriteMagicScrollsLevel>=1))","v":true},{"$f":"FALSE","v":false},false,false,false,false,false,false,false,false,false,false,false,false,false,false,false,false,false,false,false,false,0,0,0,0,0,0,0,0,20,20,20,20,20,20,20,20,0,0,0,0,0,0,0,0,0,0,0,0,null,null,0,0,0,0,0,0,0,0,64,64,64,64,64,64,64,64,0,0,0,0,0,0,0,0,0,0,0,0]
["Magic","Write Arcane Magic Scrolls",48,36,36,36,36,24,40,30,30,30,30,20,56,42,42,42,42,28,1,1,"Level 9 Spell Slot, Write High Magic Scrolls",{"$f":"NOT(AND(_Lvl09>0, WriteMagicScrollsLevel>=1))","v":true},{"$f":"FALSE","v":false},false,false,false,false,false,false,false,false,false,false,false,false,false,false,false,false,false,false,false,false,0,0,0,0,0,0,0,0,64,64,64,64,64,64,64,64,0,0,0,0,0,0,0,0,0,0,0,0,null,null,0,0,0,0,0,0,0,0,128,128,128,128,128,128,128,128,0,0,0,0,0,0,0,0,0,0,0,0]
["Medical","Discern Wounds",0,0,0,0,0,0,0,0,0,0,0,0,0,0,0,0,0,0,1,null,"None",{"$f":"FALSE","v":false},{"$f":"TRUE","v":true},false,false,false,false,false,false,false,false,false,false,false,false,false,false,false,false,false,false,false,false,1,1,1,1,1,1,1,1,1,1,1,1,1,1,1,1,1,1,1,1,1,1,1,1,1,1,1,1,null,null,1,1,1,1,1,1,1,1,1,1,1,1,1,1,1,1,1,1,1,1,1,1,1,1,1,1,1,1]
["Medical","Field Medicine",24,24,12,12,12,24,24,24,12,12,12,24,24,24,12,12,12,24,1,1,"Set Broken Bone",{"$f":"NOT(SetBrokenBone)","v":true},{"$f":"FALSE","v":false},false,false,false,false,false,false,false,false,false,false,false,false,false,false,false,false,false,false,false,false,1,1,1,1,1,1,1,1,1,1,1,1,1,1,1,1,1,1,1,1,1,1,1,1,1,1,1,1,null,"y",1,1,1,1,1,1,1,1,1,1,1,1,1,1,1,1,1,1,1,1,1,1,1,1,1,1,1,1]
["Medical","First Aid",0,0,0,0,0,0,0,0,0,0,0,0,0,0,0,0,0,0,1,null,"None",{"$f":"FALSE","v":false},{"$f":"TRUE","v":true},false,false,false,false,false,false,false,false,false,false,false,false,false,false,false,false,false,false,false,false,1,1,1,1,1,1,1,1,1,1,1,1,1,1,1,1,1,1,1,1,1,1,1,1,1,1,1,1,null,null,1,1,1,1,1,1,1,1,1,1,1,1,1,1,1,1,1,1,1,1,1,1,1,1,1,1,1,1]
["Medical","Set Broken Bone",12,12,12,12,12,12,12,12,12,12,12,12,12,12,12,12,12,12,1,null,"Discern Wounds and First Aid",{"$f":"NOT(AND(FirstAidSkill,DiscernNatureOfWounds))","v":true},{"$f":"TRUE","v":true},false,false,false,false,false,false,false,false,false,false,false,false,false,false,false,false,false,false,false,false,1,1,1,1,1,1,1,1,1,1,1,1,1,1,1,1,1,1,1,1,1,1,1,1,1,1,1,1,null,null,1,1,1,1,1,1,1,1,1,1,1,1,1,1,1,1,1,1,1,1,1,1,1,1,1,1,1,1]
["Medical","Discern Disease",12,8,4,4,4,8,18,12,6,6,6,12,18,12,6,6,6,12,1,null,"Discern Nature of Wounds",{"$f":"FALSE","v":false},{"$f":"FALSE","v":false},false,false,false,false,false,false,false,false,false,false,false,false,false,false,false,false,false,false,false,false,0,0,0,1,1,1,1,1,1,1,1,1,1,1,1,1,1,1,1,1,1,1,1,1,1,1,1,1,null,null,0,0,0,1,1,1,1,1,1,1,1,1,1,1,1,1,1,1,1,1,1,1,1,1,1,1,1,1]
["Medical","Discern Paralysis",12,8,4,4,4,8,18,12,6,6,6,12,18,12,6,6,6,12,1,null,"Discern Nature of Wounds",{"$f":"FALSE","v":false},{"$f":"FALSE","v":false},{"$f":"IF(AA162=FALSE,FALSE,TRUE)","v":false},false,{"$f":"IF(AC162=FALSE,FALSE,TRUE)","v":false},false,{"$f":"IF(AE162=FALSE,FALSE,TRUE)","v":false},false,{"$f":"IF(AG162=FALSE,FALSE,TRUE)","v":false},false,{"$f":"IF(AI162=FALSE,FALSE,TRUE)","v":false},false,{"$f":"IF(AK162=FALSE,FALSE,TRUE)","v":false},false,{"$f":"IF(AM162=FALSE,FALSE,TRUE)","v":false},false,{"$f":"IF(AO162=FALSE,FALSE,TRUE)","v":false},false,{"$f":"IF(AQ162=FALSE,FALSE,TRUE)","v":false},false,{"$f":"IF(AS162=FALSE,FALSE,TRUE)","v":false},false,0,0,1,1,1,1,1,1,1,1,1,1,1,1,1,1,1,1,1,1,1,1,1,1,1,1,1,1,null,null,0,0,1,1,1,1,1,1,1,1,1,1,1,1,1,1,1,1,1,1,1,1,1,1,1,1,1,1]
["Medical","Discern Poisoning",12,8,4,4,4,8,18,12,6,6,6,12,18,12,6,6,6,12,1,null,"Discern Nature of Wounds",{"$f":"FALSE","v":false},{"$f":"FALSE","v":false},false,false,false,false,false,false,false,false,false,false,false,false,false,false,false,false,false,false,false,false,0,0,1,1,1,1,1,1,1,1,1,1,1,1,1,1,1,1,1,1,1,1,1,1,1,1,1,1,null,null,0,0,1,1,1,1,1,1,1,1,1,1,1,1,1,1,1,1,1,1,1,1,1,1,1,1,1,1]
["Medical","Discern Spiritual Influence",12,8,4,4,4,8,18,12,6,6,6,12,18,12,6,6,6,12,1,null,"Discern Nature of Wounds",{"$f":"FALSE","v":false},{"$f":"FALSE","v":false},false,false,false,false,false,false,false,false,false,false,false,false,false,false,false,false,false,false,false,false,0,0,0,1,1,1,1,1,1,1,1,1,1,1,1,1,1,1,1,1,1,1,1,1,1,1,1,1,null,null,0,0,0,1,1,1,1,1,1,1,1,1,1,1,1,1,1,1,1,1,1,1,1,1,1,1,1,1]
["Physical","Buy Life points (3 at a time)",3,6,6,6,6,9,5,7,9,9,9,11,3,5,4,4,4,6,{"$f":"SUM(53,LimitRaiseLifeSkillLvl*17)","v":53},null,"None",{"$f":"FALSE","v":false},{"$f":"TRUE","v":true},false,false,false,false,false,false,false,false,false,false,false,false,false,false,false,false,false,false,false,false,1,1,1,1,1,1,1,1,1,1,1,1,1,1,1,1,1,1,1,1,1,1,1,1,1,1,1,1,null,null,1,1,1,1,1,1,1,1,1,1,1,1,1,1,1,1,1,1,1,1,1,1,1,1,1,1,1,1]
["Physical","Ambidexterity Mastery",5,10,15,15,15,20,5,10,15,15,15,20,5,10,15,15,15,20,1,null,"None",{"$f":"FALSE","v":false},{"$f":"FALSE","v":false},false,false,false,false,false,false,false,false,false,false,false,false,false,false,false,false,false,false,false,false,1,1,1,0,1,1,1,0,0,0,0,0,0,0,0,0,0,0,0,0,0,0,0,0,0,0,0,0,null,null,0,0,1,0,1,1,1,0,0,0,0,0,0,0,0,0,0,0,0,0,0,0,0,0,0,0,0,0]
["Physical","Strength",30,60,60,60,60,90,60,90,90,90,90,120,25,50,50,50,50,75,1,null,"None",{"$f":"FALSE","v":false},{"$f":"FALSE","v":false},false,false,false,false,false,false,false,false,false,false,false,false,false,false,false,false,false,false,false,false,1,1,1,1,1,1,1,1,64,64,64,64,20,64,64,64,20,20,20,1,20,20,1,20,20,20,1,20,null,null,1,1,1,1,20,20,20,20,128,128,128,128,64,128,128,128,64,64,64,20,64,64,20,64,64,0,20,64]
["Physical","Strength - Double",60,120,120,120,120,180,120,180,180,180,180,240,50,100,100,100,100,150,1,1,"Strength",{"$f":"NOT(StrengthSkill>=1)","v":true},{"$f":"FALSE","v":false},false,false,false,false,false,false,false,false,false,false,false,false,false,false,false,false,false,false,false,false,10,10,10,10,0,0,0,0,0,0,0,0,0,0,0,0,0,0,0,0,0,0,0,0,0,0,0,0,null,null,10,20,10,20,0,0,0,0,0,0,0,0,0,0,0,0,0,0,0,0,0,0,0,0,0,0,0,0]
["Physical","Strength - Triple",90,180,180,180,180,270,180,270,270,270,270,360,75,150,150,150,150,225,1,1,"Double Strength",{"$f":"NOT(StrengthSkill>=2)","v":true},{"$f":"FALSE","v":false},false,false,false,false,false,false,false,false,false,false,false,false,false,false,false,false,false,false,false,false,128,64,64,0,0,0,0,0,0,0,0,0,0,0,0,0,0,0,0,0,0,0,0,0,0,0,0,0,null,null,0,256,256,0,0,0,0,0,0,0,0,0,0,0,0,0,0,0,0,0,0,0,0,0,0,0,0,0]
["Physical","Toughened Skin",30,60,60,60,60,90,45,90,90,90,90,135,10,30,30,30,30,30,1,null,"None",{"$f":"FALSE","v":false},{"$f":"FALSE","v":false},false,false,false,false,false,false,false,false,false,false,false,false,false,false,false,false,false,false,false,false,1,1,1,1,0,0,0,0,0,0,0,0,0,0,0,0,0,0,0,0,0,0,0,0,0,0,0,0,null,null,1,1,1,1,0,0,0,0,0,0,0,0,0,0,0,0,0,0,0,0,0,0,0,0,0,0,0,0]
["Physical","Toughened Skin Mastery",30,60,60,60,60,90,45,90,90,90,90,135,10,30,30,30,30,30,1,1,"Toughened Skin",{"$f":"NOT(ToughenedSkinSkill>=1)","v":true},{"$f":"FALSE","v":false},false,false,false,false,false,false,false,false,false,false,false,false,false,false,false,false,false,false,false,false,1,1,1,20,0,0,0,0,0,0,0,0,0,0,0,0,0,0,0,0,0,0,0,0,0,0,0,0,null,null,1,1,1,20,0,0,0,0,0,0,0,0,0,0,0,0,0,0,0,0,0,0,0,0,0,0,0,0]
["Physical","Toughened Skin Enhanced Mastery",30,60,60,60,60,90,45,90,90,90,90,135,10,30,30,30,30,30,1,null,"Toughened Skin Mastery",{"$f":"NOT(ToughenedSkinSkill>=2)","v":true},{"$f":"FALSE","v":false},false,false,false,false,false,false,false,false,false,false,false,false,false,false,false,false,false,false,false,false,20,128,64,0,0,0,0,0,0,0,0,0,0,0,0,0,0,0,0,0,0,0,0,0,0,0,0,0,null,null,64,256,128,0,0,0,0,0,0,0,0,0,0,0,0,0,0,0,0,0,0,0,0,0,0,0,0,0]
["Physical","Toughened Skin Superior Mastery",30,60,60,60,60,90,45,90,90,90,90,135,10,30,30,30,30,30,1,1,"Toughened Skin Enhanced Mastery",{"$f":"NOT(ToughenedSkinSkill>=3)","v":true},{"$f":"FALSE","v":false},false,false,false,false,false,false,false,false,false,false,false,false,false,false,false,false,false,false,false,false,512,512,512,0,0,0,0,0,0,0,0,0,0,0,0,0,0,0,0,0,0,0,0,0,0,0,0,0,null,null,0,0,0,0,0,0,0,0,0,0,0,0,0,0,0,0,0,0,0,0,0,0,0,0,0,0,0,0]
["Potion","Alchemist",10,5,15,15,15,15,10,5,15,15,15,15,10,5,15,15,15,15,1,1,"None",{"$f":"FALSE","v":false},{"$f":"FALSE","v":false},false,false,false,false,false,false,false,false,false,false,false,false,false,false,false,false,false,false,false,false,0,0,20,0,1,1,1,1,0,0,0,0,0,0,0,0,0,0,0,0,0,0,0,0,0,0,0,0,null,"y",0,0,20,0,20,20,20,20,0,0,0,0,0,0,0,0,0,0,0,0,0,0,0,0,0,0,0,0]
["Potion","Additional Alchemical Recipes",0,0,0,0,0,0,0,0,0,0,0,0,0,0,0,0,0,0,"N/A",1,null,{"$f":"FALSE","v":false},{"$f":"FALSE","v":false},{"$f":"IF(AA175=FALSE,FALSE,TRUE)","v":false},false,{"$f":"IF(AC175=FALSE,FALSE,TRUE)","v":false},false,{"$f":"IF(AE175=FALSE,FALSE,TRUE)","v":false},false,{"$f":"IF(AG175=FALSE,FALSE,TRUE)","v":false},false,{"$f":"IF(AI175=FALSE,FALSE,TRUE)","v":false},false,{"$f":"IF(AK175=FALSE,FALSE,TRUE)","v":false},false,{"$f":"IF(AM175=FALSE,FALSE,TRUE)","v":false},false,{"$f":"IF(AO175=FALSE,FALSE,TRUE)","v":false},false,{"$f":"IF(AQ175=FALSE,FALSE,TRUE)","v":false},false,{"$f":"IF(AS175=FALSE,FALSE,TRUE)","v":false},false,0,0,0,0,20,0,20,20,0,0,0,0,0,0,0,0,0,0,0,0,0,0,0,0,0,0,0,0,null,null,0,0,0,0,64,0,64,64,0,0,0,0,0,0,0,0,0,0,0,0,0,0,0,0,0,0,0,0]
["Potion","Transmutation",25,20,25,25,25,25,25,20,25,25,25,25,25,20,25,25,25,25,1,1,"Alchemist",{"$f":"NOT(Alchemist)","v":true},{"$f":"FALSE","v":false},false,false,false,false,false,false,false,false,false,false,false,false,false,false,false,false,false,false,false,false,0,0,64,0,1,0,1,1,0,0,0,0,0,0,0,0,0,0,0,0,0,0,0,0,0,0,0,0,null,"y",0,0,0,0,64,0,64,64,0,0,0,0,0,0,0,0,0,0,0,0,0,0,0,0,0,0,0,0]
["Potion","Transmutation Mastery",37,30,37,37,37,37,37,30,37,37,37,37,37,30,37,37,37,37,1,null,"Transmutation, Philosopher's Stone",{"$f":"NOT(AND(TransmutationSkillLvl>=1,PhilosophersSkillLvl>=1))","v":true},{"$f":"FALSE","v":false},false,false,false,false,false,false,false,false,false,false,false,false,false,false,false,false,false,false,false,false,0,0,128,0,64,0,64,64,0,0,0,0,0,0,0,0,0,0,0,0,0,0,0,0,0,0,0,0,null,"y",0,0,0,0,128,0,128,128,0,0,0,0,0,0,0,0,0,0,0,0,0,0,0,0,0,0,0,0]
["Potion","Transmutation Enhanced Mastery",50,40,50,50,50,50,50,40,50,50,50,50,50,40,50,50,50,50,1,null,"Transmutation Mastery",{"$f":"NOT(TransmutationSkillLvl>=2)","v":true},{"$f":"FALSE","v":false},false,false,false,false,false,false,false,false,false,false,false,false,false,false,false,false,false,false,false,false,0,0,256,0,128,0,128,128,0,0,0,0,0,0,0,0,0,0,0,0,0,0,0,0,0,0,0,0,null,"y",0,0,0,0,256,0,256,256,0,0,0,0,0,0,0,0,0,0,0,0,0,0,0,0,0,0,0,0]
["Potion","Philosopher's Stone",40,10,30,30,30,30,40,10,30,30,30,30,40,10,30,30,30,30,1,1,"Transmutation",{"$f":"NOT(TransmutationSkillLvl>=1)","v":true},{"$f":"FALSE","v":false},false,false,false,false,false,false,false,false,false,false,false,false,false,false,false,false,false,false,false,false,0,0,64,0,64,0,64,64,0,0,0,0,0,0,0,0,0,0,0,0,0,0,0,0,0,0,0,0,null,"y",0,0,0,0,64,0,64,64,0,0,0,0,0,0,0,0,0,0,0,0,0,0,0,0,0,0,0,0]
["Potion","Philosopher's Stone Mastery",40,10,30,30,30,30,40,10,30,30,30,30,40,10,30,30,30,30,1,null,"Philosopher's Stone",{"$f":"NOT(PhilosophersSkillLvl>=1)","v":true},{"$f":"FALSE","v":false},false,false,false,false,false,false,false,false,false,false,false,false,false,false,false,false,false,false,false,false,0,0,128,0,128,0,128,128,0,0,0,0,0,0,0,0,0,0,0,0,0,0,0,0,0,0,0,0,null,"y",0,0,0,0,128,0,128,128,0,0,0,0,0,0,0,0,0,0,0,0,0,0,0,0,0,0,0,0]
["Potion","Philosopher's Stone Enhanced Mastery",40,10,30,30,30,30,40,10,30,30,30,30,40,10,30,30,30,30,1,null,"Philosopher's Stone Mastery",{"$f":"NOT(PhilosophersSkillLvl>=2)","v":true},{"$f":"FALSE","v":false},false,false,false,false,false,false,false,false,false,false,false,false,false,false,false,false,false,false,false,false,0,0,256,0,256,0,256,256,0,0,0,0,0,0,0,0,0,0,0,0,0,0,0,0,0,0,0,0,null,"y",0,0,0,0,256,0,256,256,0,0,0,0,0,0,0,0,0,0,0,0,0,0,0,0,0,0,0,0]
["Potion","Construct Laboratory",40,10,30,30,30,30,40,10,30,30,30,30,40,10,30,30,30,30,1,1,"Transmutation",{"$f":"NOT(TransmutationSkillLvl>=1)","v":true},{"$f":"FALSE","v":false},false,false,false,false,false,false,false,false,false,false,false,false,false,false,false,false,false,false,false,false,0,0,64,0,64,0,64,64,0,0,0,0,0,0,0,0,0,0,0,0,0,0,0,0,0,0,0,0,null,"y",0,0,0,0,64,0,64,64,0,0,0,0,0,0,0,0,0,0,0,0,0,0,0,0,0,0,0,0]
["Potion","Construct Laboratory Mastery",40,10,30,30,30,30,40,10,30,30,30,30,40,10,30,30,30,30,1,1,"Construct Laboratory",{"$f":"NOT(ConstructSkillLvl>=1)","v":true},{"$f":"FALSE","v":false},false,false,false,false,false,false,false,false,false,false,false,false,false,false,false,false,false,false,false,false,0,0,128,0,128,0,128,128,0,0,0,0,0,0,0,0,0,0,0,0,0,0,0,0,0,0,0,0,null,"y",0,0,0,0,128,0,128,128,0,0,0,0,0,0,0,0,0,0,0,0,0,0,0,0,0,0,0,0]
["Potion","Construct Laboratory Enhanced Mastery",40,10,30,30,30,30,40,10,30,30,30,30,40,10,30,30,30,30,1,null,"Construct Laboratory Mastery",{"$f":"NOT(ConstructSkillLvl>=2)","v":true},{"$f":"FALSE","v":false},false,false,false,false,false,false,false,false,false,false,false,false,false,false,false,false,false,false,false,false,0,0,256,0,256,0,256,256,0,0,0,0,0,0,0,0,0,0,0,0,0,0,0,0,0,0,0,0,null,"y",0,0,0,0,256,0,256,256,0,0,0,0,0,0,0,0,0,0,0,0,0,0,0,0,0,0,0,0]
["Potion","Construct Laboratory Superior Mastery",40,10,30,30,30,30,40,10,30,30,30,30,40,10,30,30,30,30,1,null,"Construct Laboratory Enhanced Mastery",{"$f":"NOT(ConstructSkillLvl>=3)","v":true},{"$f":"FALSE()","v":false},{"$f":"IF(AA185=FALSE,FALSE,TRUE)","v":false},false,{"$f":"IF(AC185=FALSE,FALSE,TRUE)","v":false},false,{"$f":"IF(AE185=FALSE,FALSE,TRUE)","v":false},false,{"$f":"IF(AG185=FALSE,FALSE,TRUE)","v":false},false,{"$f":"IF(AI185=FALSE,FALSE,TRUE)","v":false},false,{"$f":"IF(AK185=FALSE,FALSE,TRUE)","v":false},false,{"$f":"IF(AM185=FALSE,FALSE,TRUE)","v":false},false,{"$f":"IF(AO185=FALSE,FALSE,TRUE)","v":false},false,{"$f":"IF(AQ185=FALSE,FALSE,TRUE)","v":false},false,{"$f":"IF(AS185=FALSE,FALSE,TRUE)","v":false},false,0,0,512,0,512,0,512,512,0,0,0,0,0,0,0,0,0,0,0,0,0,0,0,0,0,0,0,0,null,null,null,null,0,0,0,0,0,0,0,0,0,0,0,0,0,0,0,0,0,0,0,0,0,0,0,0,0,0]
["Potion","Potion Master",0,0,0,0,0,0,0,0,0,0,0,0,0,0,0,0,0,0,1,1,"Primary Skirmisher",{"$f":"NOT(PrimarySkirmisher)","v":true},{"$f":"FALSE()","v":false},false,false,false,false,false,false,false,false,false,false,false,false,false,false,false,false,false,false,false,false,0,0,0,0,512,0,0,0,0,0,0,0,0,0,0,0,0,0,0,0,0,0,0,0,0,0,0,0,null,null,null,null,0,0,0,0,0,0,0,0,0,0,0,0,0,0,0,0,0,0,0,0,0,0,0,0,0,0]
["Potion","Poison Master",0,0,0,0,0,0,0,0,0,0,0,0,0,0,0,0,0,0,1,1,"Primary Assassin",{"$f":"NOT(PrimaryAssassin)","v":true},{"$f":"FALSE()","v":false},false,false,false,false,false,false,false,false,false,false,false,false,false,false,false,false,false,false,false,false,0,0,0,0,0,0,512,0,0,0,0,0,0,0,0,0,0,0,0,0,0,0,0,0,0,0,0,0,null,null,null,null,0,0,0,0,0,0,0,0,0,0,0,0,0,0,0,0,0,0,0,0,0,0,0,0,0,0]
["Potion","Herbalist",10,5,15,15,15,15,10,5,15,15,15,15,10,5,15,15,15,15,1,1,"None",{"$f":"FALSE","v":false},{"$f":"FALSE","v":false},false,false,false,false,false,false,false,false,false,false,false,false,false,false,false,false,false,false,false,false,0,0,20,0,1,1,1,1,0,0,0,0,0,0,0,0,0,0,0,0,0,0,0,0,0,0,0,0,null,"y",0,0,20,0,20,20,20,20,0,0,0,0,0,0,0,0,0,0,0,0,0,0,0,0,0,0,0,0]
["Potion","Make Herbal Potion",25,20,25,25,25,25,25,20,25,25,25,25,25,20,25,25,25,25,1,null,"Herbalist",{"$f":"NOT(DiscenHerbalPotionSkill)","v":true},{"$f":"FALSE","v":false},false,false,false,false,false,false,false,false,false,false,false,false,false,false,false,false,false,false,false,false,0,0,64,0,1,0,1,1,0,0,0,0,0,0,0,0,0,0,0,0,0,0,0,0,0,0,0,0,null,"y",0,0,128,0,64,0,64,64,0,0,0,0,0,0,0,0,0,0,0,0,0,0,0,0,0,0,0,0]
["Potion","Make Herbal Potion Mastery",37,30,37,37,37,37,37,30,37,37,37,37,37,30,37,37,37,37,1,null,"Make Herbal Potion",{"$f":"NOT(MakeHerbalPotionSKillLvl>=1)","v":true},{"$f":"FALSE","v":false},false,false,false,false,false,false,false,false,false,false,false,false,false,false,false,false,false,false,false,false,0,0,128,0,64,0,64,64,0,0,0,0,0,0,0,0,0,0,0,0,0,0,0,0,0,0,0,0,null,"y",0,0,256,0,256,0,256,0,0,0,0,0,0,0,0,0,0,0,0,0,0,0,0,0,0,0,0,0]
["Potion","Make Herbal Potion Enhanced Mastery",50,40,50,50,50,50,50,40,50,50,50,50,50,40,50,50,50,50,1,null,"Make Herbal Potion Mastery",{"$f":"NOT(MakeHerbalPotionSKillLvl>=2)","v":true},{"$f":"FALSE","v":false},false,false,false,false,false,false,false,false,false,false,false,false,false,false,false,false,false,false,false,false,0,0,0,0,128,0,128,128,0,0,0,0,0,0,0,0,0,0,0,0,0,0,0,0,0,0,0,0,null,"y",0,0,0,0,0,0,0,0,0,0,0,0,0,0,0,0,0,0,0,0,0,0,0,0,0,0,0,0]
["Potion","Make Herbal Potion Superior Mastery",50,40,50,50,50,50,50,40,50,50,50,50,50,40,50,50,50,50,1,null,"Make Herbal Potion Enhanced Mastery",{"$f":"NOT(MakeHerbalPotionSKillLvl>=3)","v":true},{"$f":"FALSE","v":false},{"$f":"IF(AA192=FALSE,FALSE,TRUE)","v":false},false,{"$f":"IF(AC192=FALSE,FALSE,TRUE)","v":false},false,{"$f":"IF(AE192=FALSE,FALSE,TRUE)","v":false},false,{"$f":"IF(AG192=FALSE,FALSE,TRUE)","v":false},false,{"$f":"IF(AI192=FALSE,FALSE,TRUE)","v":false},false,{"$f":"IF(AK192=FALSE,FALSE,TRUE)","v":false},false,{"$f":"IF(AM192=FALSE,FALSE,TRUE)","v":false},false,{"$f":"IF(AO192=FALSE,FALSE,TRUE)","v":false},false,{"$f":"IF(AQ192=FALSE,FALSE,TRUE)","v":false},false,{"$f":"IF(AS192=FALSE,FALSE,TRUE)","v":false},false,0,0,0,0,256,0,256,0,0,0,0,0,0,0,0,0,0,0,0,0,0,0,0,0,0,0,0,0,null,null,null,null,0,0,0,0,0,0,0,0,0,0,0,0,0,0,0,0,0,0,0,0,0,0,0,0,0,0]
["Potion","Make Herbal Potion Exceptional Mastery",50,40,50,50,50,50,50,40,50,50,50,50,50,40,50,50,50,50,1,null,"Make Herbal Potion Superior Mastery",{"$f":"NOT(MakeHerbalPotionSKillLvl>=4)","v":true},{"$f":"FALSE","v":false},false,false,false,false,false,false,false,false,false,false,false,false,false,false,false,false,false,false,false,false,0,0,0,0,512,0,512,0,0,0,0,0,0,0,0,0,0,0,0,0,0,0,0,0,0,0,0,0,null,null,null,null,0,0,0,0,0,0,0,0,0,0,0,0,0,0,0,0,0,0,0,0,0,0,0,0,0,0]
["Potion","Alembic",40,10,30,30,30,30,40,10,30,30,30,30,40,10,30,30,30,30,1,1,"Herbalist",{"$f":"NOT(DiscenHerbalPotionSkill)","v":true},{"$f":"FALSE","v":false},false,false,false,false,false,false,false,false,false,false,false,false,false,false,false,false,false,false,false,false,0,0,64,0,64,0,64,64,0,0,0,0,0,0,0,0,0,0,0,0,0,0,0,0,0,0,0,0,null,"y",0,0,128,0,64,0,64,64,0,0,0,0,0,0,0,0,0,0,0,0,0,0,0,0,0,0,0,0]
["Potion","Master Alembic",40,10,30,30,30,30,40,10,30,30,30,30,40,10,30,30,30,30,1,null,"Alembic",{"$f":"NOT(AlembicSkillLvl>=1)","v":true},{"$f":"FALSE","v":false},false,false,false,false,false,false,false,false,false,false,false,false,false,false,false,false,false,false,false,false,0,0,128,0,128,0,128,128,0,0,0,0,0,0,0,0,0,0,0,0,0,0,0,0,0,0,0,0,null,"y",0,0,0,0,128,0,128,128,0,0,0,0,0,0,0,0,0,0,0,0,0,0,0,0,0,0,0,0]
["Potion","Prescision Alembic",40,10,30,30,30,30,40,10,30,30,30,30,40,10,30,30,30,30,1,null,"Master Alembic",{"$f":"NOT(AlembicSkillLvl>=2)","v":true},{"$f":"FALSE","v":false},false,false,false,false,false,false,false,false,false,false,false,false,false,false,false,false,false,false,false,false,0,0,256,0,256,0,256,256,0,0,0,0,0,0,0,0,0,0,0,0,0,0,0,0,0,0,0,0,null,"y",0,0,0,0,256,0,256,256,0,0,0,0,0,0,0,0,0,0,0,0,0,0,0,0,0,0,0,0]
["Potion","Distil Herbal Potion",40,10,30,30,30,30,40,10,30,30,30,30,40,10,30,30,30,30,1,1,"Alembic",{"$f":"NOT(AlembicSkillLvl>=2)","v":true},{"$f":"FALSE","v":false},false,false,false,false,false,false,false,false,false,false,false,false,false,false,false,false,false,false,false,false,0,0,64,0,64,0,64,64,0,0,0,0,0,0,0,0,0,0,0,0,0,0,0,0,0,0,0,0,null,"y",0,0,128,0,64,0,64,64,0,0,0,0,0,0,0,0,0,0,0,0,0,0,0,0,0,0,0,0]
["Potion","Distil Herbal Potion Mastery",40,10,30,30,30,30,40,10,30,30,30,30,40,10,30,30,30,30,1,null,"Distill Herbal Potion",{"$f":"NOT(DistillSkillLvl>=1)","v":true},{"$f":"FALSE","v":false},false,false,false,false,false,false,false,false,false,false,false,false,false,false,false,false,false,false,false,false,0,0,256,0,128,0,128,256,0,0,0,0,0,0,0,0,0,0,0,0,0,0,0,0,0,0,0,0,null,"y",0,0,0,0,256,0,256,0,0,0,0,0,0,0,0,0,0,0,0,0,0,0,0,0,0,0,0,0]
["Potion","Distil Herbal Potion Enhanced Mastery ",40,10,30,30,30,30,40,10,30,30,30,30,40,10,30,30,30,30,1,null,"Distill Herbal Mastery Potion",{"$f":"NOT(DistillSkillLvl>=2)","v":true},{"$f":"FALSE","v":false},false,false,false,false,false,false,false,false,false,false,false,false,false,false,false,false,false,false,false,false,0,0,0,0,256,0,256,0,0,0,0,0,0,0,0,0,0,0,0,0,0,0,0,0,0,0,0,0,null,"y",0,0,0,0,0,0,0,0,0,0,0,0,0,0,0,0,0,0,0,0,0,0,0,0,0,0,0,0]
["Power","Buy Power",3,2,1,1,1,2,6,4,2,2,2,4,5,3,1,1,1,3,{"$f":"195+(LimitRaisePowerSkillLvl*50)","v":195},null,"None",{"$f":"FALSE","v":false},{"$f":"TRUE","v":true},false,false,false,false,false,false,false,false,false,false,false,false,false,false,false,false,false,false,false,false,1,1,1,1,1,1,1,1,1,1,1,1,1,1,1,1,1,1,1,1,1,1,1,1,1,1,1,1,null,null,1,1,1,1,1,1,1,1,1,1,1,1,1,1,1,1,1,1,1,1,1,1,1,1,1,1,1,1]
["Power","Meditate Power",12,8,4,4,4,8,12,8,4,4,4,8,15,10,5,5,5,10,1,null,"None",{"$f":"FALSE","v":false},{"$f":"TRUE","v":true},false,false,false,false,false,false,false,false,false,false,false,false,false,false,false,false,false,false,false,false,1,1,1,1,1,1,1,1,1,1,1,1,1,1,1,1,1,1,1,1,1,1,1,1,1,1,1,1,null,null,1,1,1,1,1,1,1,1,1,1,1,1,1,1,1,1,1,1,1,1,1,1,1,1,1,1,1,1]
["Power","Meditate Power Mastery",12,8,4,4,4,8,12,8,4,4,4,8,15,10,5,5,5,10,1,null,"Meditate Power",{"$f":"NOT(MeditatePower>=1)","v":true},false,false,false,false,false,false,false,false,false,false,false,false,false,false,false,false,false,false,false,false,false,20,20,20,20,20,20,20,20,20,20,20,20,20,20,20,20,20,20,20,20,20,20,20,20,20,20,20,20,null,null,20,20,20,20,20,20,20,20,20,20,20,20,20,20,20,20,20,20,20,20,20,20,20,20,20,20,20,20]
["Power","Meditate Power Enhanced Mastery",12,8,4,4,4,8,12,8,4,4,4,8,15,10,5,5,5,10,1,null,"Meditate Power Mastery",{"$f":"NOT(MeditatePower>=2)","v":true},false,false,false,false,false,false,false,false,false,false,false,false,false,false,false,false,false,false,false,false,false,64,64,64,64,64,64,64,64,64,64,64,64,64,64,64,64,64,64,64,64,64,64,64,64,64,64,64,64,null,null,64,64,64,64,64,64,64,64,64,64,64,64,64,64,64,64,64,64,64,64,64,64,64,64,64,64,64,64]
["Power","Meditate Power Superior Mastery",12,8,4,4,4,8,12,8,4,4,4,8,15,10,5,5,5,10,1,1,"Meditate Power Enhanced Mastery",{"$f":"NOT(MeditatePower>=3)","v":true},false,false,false,false,false,false,false,false,false,false,false,false,false,false,false,false,false,false,false,false,false,512,512,512,512,512,512,512,512,512,512,512,512,512,512,512,512,512,512,512,512,512,512,512,512,512,512,512,512,null,null,0,0,0,0,0,0,0,0,0,0,0,0,0,0,0,0,0,0,0,0,0,0,0,0,0,0,0,0]
["Power","Power Store - Lesser",50,50,50,50,50,50,50,50,50,50,50,50,50,50,50,50,50,50,1,1,"None",{"$f":"FALSE","v":false},false,false,false,false,false,false,false,false,false,false,false,false,false,false,false,false,false,false,false,false,false,128,128,128,128,128,128,128,128,128,128,128,128,128,128,128,128,128,128,128,128,128,128,128,128,128,128,128,128,null,null,128,128,128,128,128,256,128,128,128,128,128,128,128,128,128,128,128,128,128,128,128,128,128,128,128,128,128,128]
["Power","Power Store - Greater",50,50,50,50,50,50,50,50,50,50,50,50,50,50,50,50,50,50,1,1,"None",{"$f":"FALSE","v":false},{"$f":"FALSE","v":false},false,false,false,false,false,false,false,false,false,false,false,false,false,false,false,false,false,false,false,false,256,256,256,256,256,256,256,256,256,256,256,256,256,256,256,256,256,256,256,256,256,256,256,256,256,256,256,256,null,null,256,256,256,256,256,0,256,256,256,256,256,256,256,256,256,256,256,256,256,256,256,256,256,256,256,256,256,256]
["Power","Recognise Power",5,3,1,1,1,3,12,6,3,3,3,6,6,4,2,2,2,4,1,null,"None",{"$f":"FALSE","v":false},{"$f":"TRUE","v":true},false,false,false,false,false,false,false,false,false,false,false,false,false,false,false,false,false,false,false,false,1,1,1,1,1,1,1,1,1,1,1,1,1,1,1,1,1,1,1,1,1,1,1,1,1,1,1,1,null,null,1,1,1,1,1,1,1,1,1,1,1,1,1,1,1,1,1,1,1,1,1,1,1,1,1,1,1,1]
["Power","Connection with 1st Sphere",16,8,4,4,4,8,20,12,6,6,6,12,20,10,5,5,5,10,1,null,"None",{"$f":"FALSE","v":false},{"$f":"TRUE","v":true},false,false,false,false,false,false,false,false,false,false,false,false,false,false,false,false,false,false,false,false,1,1,1,1,1,1,1,1,1,1,1,1,1,1,1,1,1,1,1,1,1,1,1,1,1,1,1,1,null,null,1,1,1,1,1,1,1,1,1,1,1,1,1,1,1,1,1,1,1,1,1,1,1,1,1,1,1,1]
["Power","Cast 1st Sphere ranks 1 - 5","R+9","R+6","R+3","R+3","R+3","R+6","R+12","R+9","R+3","R+3","R+3","R+9","R+12","R+9","R+6","R+6","R+6","R+9",5,null,"Connection  with 1st Sphere",{"$f":"(NOT(ConnectionWith1stSphere))","v":true},{"$f":"TRUE","v":true},false,false,false,false,false,false,false,false,false,false,false,false,false,false,false,false,false,false,false,false,1,1,1,1,1,1,1,1,1,1,1,1,1,1,1,1,1,1,1,1,1,1,1,1,1,1,1,1,null,null,1,1,1,1,1,1,1,1,1,1,1,1,1,1,1,1,1,1,1,1,1,1,1,1,1,1,1,1]
["Power","Cast 1st Sphere ranks 6 - 8","R+9","R+6","R+3","R+3","R+3","R+6","R+12","R+9","R+3","R+3","R+3","R+9","R+12","R+9","R+6","R+6","R+6","R+9",3,null,"Talisman, Cast 1st Sphere ranks 1 - 5",{"$f":"NOT(AND(MakeTalisman,CastRank1stSphere>=5))","v":true},{"$f":"FALSE","v":false},false,false,false,false,false,false,false,false,false,false,false,false,false,false,false,false,false,false,false,false,0,0,0,64,0,0,0,0,0,0,0,0,0,0,0,0,20,20,20,20,20,20,20,20,20,20,20,20,null,null,0,0,0,128,0,0,0,0,0,0,0,0,0,0,0,0,20,20,20,20,20,20,20,64,20,20,20,20]
["Power","Cast 1st Sphere ranks 9 - 10","R+9","R+6","R+3","R+3","R+3","R+6","R+12","R+9","R+3","R+3","R+3","R+9","R+12","R+9","R+6","R+6","R+6","R+9",2,null,"Cast 1st Sphere ranks 6 - 8",{"$f":"NOT(HighPriest1stSphere)","v":true},{"$f":"FALSE","v":false},false,false,false,false,false,false,false,false,false,false,false,false,false,false,false,false,false,false,false,false,0,0,0,128,0,0,0,0,0,0,0,0,0,0,0,0,64,64,64,64,64,64,64,64,64,64,64,64,null,null,0,0,0,256,0,0,0,0,0,0,0,0,0,0,0,0,128,128,128,128,128,128,128,128,128,128,128,128]
["Power","Connection with 2nd Sphere",32,16,8,8,8,16,40,24,12,12,12,24,40,20,10,10,10,20,1,null,"Connection with 1st Sphere",{"$f":"NOT(ConnectionWith1stSphere)","v":true},{"$f":"FALSE","v":false},false,false,false,false,false,false,false,false,false,false,false,false,false,false,false,false,false,false,false,false,0,0,0,64,0,0,0,0,0,0,0,0,0,0,0,0,1,1,1,1,1,1,1,1,1,1,1,1,null,null,0,0,0,128,0,0,0,0,0,0,0,0,0,0,0,0,1,1,1,1,1,1,1,1,1,1,1,1]
["Power","Cast 2nd Sphere ranks 1 - 5","R+9","R+6","R+3","R+3","R+3","R+6","R+12","R+9","R+3","R+3","R+3","R+9","R+12","R+9","R+6","R+6","R+6","R+9",5,null,"Connection with 2nd Sphere, Cast 1st Sphere ranks the same or higher",{"$f":"OR(NOT(ConnectionWith2ndSphere),NOT(CastRank2ndSphere<=CastRank1stSphere))","v":true},{"$f":"FALSE","v":false},false,false,false,false,false,false,false,false,false,false,false,false,false,false,false,false,false,false,false,false,0,0,0,128,0,0,0,0,0,0,0,0,0,0,0,0,1,1,1,1,1,1,1,1,1,1,1,1,null,null,0,0,0,256,0,0,0,0,0,0,0,0,0,0,0,0,1,1,1,1,1,1,1,1,1,1,1,1]
["Power","Cast 2nd Sphere ranks 6 - 8","R+9","R+6","R+3","R+3","R+3","R+6","R+12","R+9","R+3","R+3","R+3","R+9","R+12","R+9","R+6","R+6","R+6","R+9",3,null,"Cast 2nd Sphere ranks 1 - 5, Priest in 2nd Sphere, Cast 1st Sphere ranks the same or higher",{"$f":"OR(NOT(CastRank2ndSphere>4),NOT(Priest2ndSphere),NOT(CastRank2ndSphere<=CastRank1stSphere))","v":true},{"$f":"FALSE","v":false},false,false,false,false,false,false,false,false,false,false,false,false,false,false,false,false,false,false,false,false,0,0,0,0,0,0,0,0,0,0,0,0,0,0,0,0,20,20,20,20,20,20,20,20,20,20,20,20,null,null,0,0,0,0,0,0,0,0,0,0,0,0,0,0,0,0,0,{"$f":"IF(AND(CharacterType=\"Scout\",JackOfAllTrades,OR(TertiaryGuildType=\"Acolyte_Good\", TertiaryGuildType=\"Acolyte_Neutral\", TertiaryGuildType=\"Acolyte_Evil\", Secondary8GuildType=\"Acolyte_Good\",Secondary8GuildType=\"Acolyte_Neutral\",Secondary8GuildType=\"Acolyte_Evil\")),128,0)","v":0},0,0,0,0,0,0,0,0,0,0]
["Power","Cast 2nd Sphere ranks 9 - 10","R+9","R+6","R+3","R+3","R+3","R+6","R+12","R+9","R+3","R+3","R+3","R+9","R+12","R+9","R+6","R+6","R+6","R+9",2,null,"Cast 2nd Sphere ranks 6 - 8, Cast 1st Sphere ranks the same or higher",{"$f":"OR(NOT(CastRank2ndSphere>8),NOT(HighPriest2ndSphere),NOT(CastRank2ndSphere<=CastRank1stSphere))","v":true},{"$f":"FALSE","v":false},false,false,false,false,false,false,false,false,false,false,false,false,false,false,false,false,false,false,false,false,0,0,0,0,0,0,0,0,0,0,0,0,0,0,0,0,128,128,128,128,128,128,128,128,128,128,128,128,null,null,0,0,0,0,0,0,0,0,0,0,0,0,0,0,0,0,0,{"$f":"IF(AND(CharacterType=\"Scout\",JackOfAllTrades,OR(TertiaryGuildType=\"Acolyte_Good\", TertiaryGuildType=\"Acolyte_Neutral\", TertiaryGuildType=\"Acolyte_Evil\", Secondary8GuildType=\"Acolyte_Good\",Secondary8GuildType=\"Acolyte_Neutral\",Secondary8GuildType=\"Acolyte_Evil\")),256,0)","v":0},0,0,0,0,0,0,0,0,0,0]
["Power","Connection with 3rd Sphere",64,32,16,16,16,32,80,48,24,24,24,48,80,40,20,20,20,40,1,1,"Connection with 2nd Sphere, Primary Class must be Neutral Acolyte",{"$f":"NOT(AND(ConnectionWith2ndSphere,OR(PrimaryDruid,PrimaryGauntlet,PrimaryGreyPath,PrimaryWarden)))","v":true},{"$f":"FALSE","v":false},false,false,false,false,false,false,false,false,false,false,false,false,false,false,false,false,false,false,false,false,0,0,0,0,0,0,0,0,0,0,0,0,0,0,0,0,0,0,0,0,128,128,128,128,0,0,0,0,null,null,0,0,0,0,0,0,0,0,0,0,0,0,0,0,0,0,0,0,0,0,0,0,0,0,0,0,0,0]
["Power","Cast 3rd Sphere ranks 1 - 5","R+9","R+6","R+3","R+3","R+3","R+6","R+12","R+9","R+3","R+3","R+3","R+9","R+12","R+9","R+6","R+6","R+6","R+9",5,null,"Connection with 3rd Sphere, Cast 1st & 2nd Sphere ranks the same or higher",{"$f":"OR(NOT(ConnectionWith3rdSphere),NOT(CastRank3rdSphere<=CastRank2ndSphere))","v":true},{"$f":"FALSE","v":false},false,false,false,false,false,false,false,false,false,false,false,false,false,false,false,false,false,false,false,false,0,0,0,0,0,0,0,0,0,0,0,0,0,0,0,0,0,0,0,0,128,128,128,128,0,0,0,0,null,null,0,0,0,0,0,0,0,0,0,0,0,0,0,0,0,0,0,0,0,0,0,0,0,0,0,0,0,0]
["Power","Cast 3rd Sphere ranks 6 - 8","R+9","R+6","R+3","R+3","R+3","R+6","R+12","R+9","R+3","R+3","R+3","R+9","R+12","R+9","R+6","R+6","R+6","R+9",3,null,"Cast 3rd Sphere ranks 1 - 5, Priest in 3rd Sphere, Cast 2nd Sphere ranks the same or higher",{"$f":"OR(NOT(CastRank3rdSphere>5),NOT(CastRank3rdSphere<=CastRank2ndSphere),NOT(Priest3rdSphere))","v":true},{"$f":"FALSE","v":false},false,false,false,false,false,false,false,false,false,false,false,false,false,false,false,false,false,false,false,false,0,0,0,0,0,0,0,0,0,0,0,0,0,0,0,0,0,0,0,0,256,256,256,256,0,0,0,0,null,null,0,0,0,0,0,0,0,0,0,0,0,0,0,0,0,0,0,0,0,0,0,0,0,0,0,0,0,0]
["Power","Cast 3rd Sphere ranks 9 - 10","R+9","R+6","R+3","R+3","R+3","R+6","R+12","R+9","R+3","R+3","R+3","R+9","R+12","R+9","R+6","R+6","R+6","R+9",2,null,"Cast 3rd Sphere ranks 6 - 8, Cast 2nd Sphere ranks the same or higher",{"$f":"OR(NOT(CastRank3rdSphere>8),NOT(Priest3rdSphere),NOT(CastRank3rdSphere<=CastRank2ndSphere))","v":true},{"$f":"FALSE","v":false},false,false,false,{"$f":"IF(HasHQAClassUpgrade,VLOOKUP(INDEX(SkillMatrixPrimary,ROW()-2,SecondaryGuildNumber),SkillRankLookupTable,2,1),VLOOKUP(INDEX(SkillMatrixSecondary,ROW()-2,SecondaryGuildNumber),SkillRankLookupTable,2,1))","v":false},false,{"$f":"IF(HasHQAClass2Upgrade,VLOOKUP(INDEX(SkillMatrixPrimary,ROW()-2,Secondary2GuildNumber),SkillRankLookupTable,2,1),VLOOKUP(INDEX(SkillMatrixSecondary,ROW()-2,Secondary2GuildNumber),SkillRankLookupTable,2,1))","v":false},false,{"$f":"IF(HasHQAClass3Upgrade,VLOOKUP(INDEX(SkillMatrixPrimary,ROW()-2,Secondary3GuildNumber),SkillRankLookupTable,2,1),VLOOKUP(INDEX(SkillMatrixSecondary,ROW()-2,Secondary3GuildNumber),SkillRankLookupTable,2,1))","v":false},false,{"$f":"IF(HasHQAClass4Upgrade,VLOOKUP(INDEX(SkillMatrixPrimary,ROW()-2,Secondary4GuildNumber),SkillRankLookupTable,2,1),VLOOKUP(INDEX(SkillMatrixSecondary,ROW()-2,Secondary4GuildNumber),SkillRankLookupTable,2,1))","v":false},false,{"$f":"IF(HasHQAClass5Upgrade,VLOOKUP(INDEX(SkillMatrixPrimary,ROW()-2,Secondary5GuildNumber),SkillRankLookupTable,2,1),VLOOKUP(INDEX(SkillMatrixSecondary,ROW()-2,Secondary5GuildNumber),SkillRankLookupTable,2,1))","v":false},false,{"$f":"IF(HasHQAClass6Upgrade,VLOOKUP(INDEX(SkillMatrixPrimary,ROW()-2,Secondary6GuildNumber),SkillRankLookupTable,2,1),VLOOKUP(INDEX(SkillMatrixSecondary,ROW()-2,Secondary6GuildNumber),SkillRankLookupTable,2,1))","v":false},false,{"$f":"IF(HasHQAClass7Upgrade,VLOOKUP(INDEX(SkillMatrixPrimary,ROW()-2,Secondary7GuildNumber),SkillRankLookupTable,2,1),VLOOKUP(INDEX(SkillMatrixSecondary,ROW()-2,Secondary7GuildNumber),SkillRankLookupTable,2,1))","v":false},false,{"$f":"IF(HasHQAGuildUpgrade,VLOOKUP(INDEX(SkillMatrixPrimary,ROW()-2,AdditionalClassSecondaryGuildNumber),SkillRankLookupTable,2,1),VLOOKUP(INDEX(SkillMatrixSecondary,ROW()-2,AdditionalClassSecondaryGuildNumber),SkillRankLookupTable,2,1))","v":false},false,{"$f":"IF(HasHQAGuild2Upgrade,VLOOKUP(INDEX(SkillMatrixPrimary,ROW()-2,JoATGuildNumber),SkillRankLookupTable,2,1),VLOOKUP(INDEX(SkillMatrixSecondary,ROW()-2,JoATGuildNumber),SkillRankLookupTable,2,1))","v":false},0,0,0,0,0,0,0,0,0,0,0,0,0,0,0,0,0,0,0,0,0,0,0,0,0,0,0,0,null,null,0,0,0,0,0,0,0,0,0,0,0,0,0,0,0,0,0,0,0,0,0,0,0,0,0,0,0,0]
["Power","Greater Invoke",0,0,0,0,0,0,0,0,0,0,0,0,0,0,0,0,0,0,1,1,"Make Talisman",{"$f":"NOT(MakeTalisman)","v":true},{"$f":"FALSE","v":false},false,{"$f":"VLOOKUP(INDEX(SkillMatrixPrimary,ROW()-2,PrimaryGuildNumber),SkillRankLookupTable,2,1)","v":false},false,false,false,false,false,false,false,false,false,false,false,false,false,false,false,false,false,false,0,0,0,0,0,0,0,0,0,0,0,0,0,0,0,0,0,0,0,0,256,256,256,256,256,256,256,256,null,null,0,0,0,0,0,0,0,0,0,0,0,0,0,0,0,0,0,0,0,0,256,256,256,256,256,256,256,256]
["Power","Invocation Guard",0,0,0,0,0,0,0,0,0,0,0,0,0,0,0,0,0,0,1,1,"None",{"$f":"FALSE","v":false},{"$f":"FALSE","v":false},false,false,false,false,false,false,false,false,false,false,false,false,false,false,false,false,false,false,false,false,0,0,0,0,0,0,0,0,0,0,0,0,0,0,0,0,128,128,128,128,128,128,128,128,128,128,128,128,null,null,0,0,0,0,0,0,0,0,0,0,0,0,0,0,0,0,128,128,128,128,128,128,128,128,128,128,128,128]
["Power","Invoke Mastery",0,0,0,0,0,0,0,0,0,0,0,0,0,0,0,0,0,0,1,1,"Make Talisman",{"$f":"NOT(MakeTalisman)","v":true},{"$f":"FALSE","v":false},false,false,false,false,false,false,false,false,false,false,false,false,false,false,false,false,false,false,false,false,0,0,0,0,0,0,0,0,0,0,0,0,0,0,0,0,256,256,256,256,256,256,256,256,256,256,256,256,null,null,0,0,0,0,0,0,0,0,0,0,0,0,0,0,0,0,0,0,0,0,0,0,0,0,0,0,0,0]
["Power","Invocation Extension",0,0,0,0,0,0,0,0,0,0,0,0,0,0,0,0,0,0,"N/A",1,"High Priest",{"$f":"NOT(CharacterRank>=64)","v":true},{"$f":"FALSE","v":false},false,false,false,false,false,false,false,false,false,false,false,false,false,false,false,false,false,false,false,false,0,0,0,0,0,0,0,0,0,0,0,0,0,0,0,0,512,512,512,512,512,512,512,512,512,512,512,512,null,null,0,0,0,0,0,0,0,0,0,0,0,0,0,0,0,0,0,0,0,0,0,0,0,0,0,0,0,0]
["Power","Learn additional rank 1 - 8 Invocations",0,0,0,0,0,0,0,0,0,0,0,0,0,0,0,0,0,0,"N/A",1,"None",{"$f":"FALSE","v":false},{"$f":"FALSE","v":false},false,false,false,false,false,false,false,false,false,false,false,false,false,false,false,false,false,false,false,false,0,0,0,64,0,0,0,0,0,0,0,0,0,0,0,0,1,1,1,1,1,1,1,1,1,1,1,1,null,null,0,0,0,0,0,0,0,0,0,0,0,0,0,0,0,0,1,1,1,1,1,1,1,1,1,1,1,1]
["Power","Learn rank 9 Invocations",0,0,0,0,0,0,0,0,0,0,0,0,0,0,0,0,0,0,"N/A",1,"Cast Cosmic Power in 1st Sphere, Rank 8 Invocation",{"$f":"OR(NOT(HighPriest1stSphere),CastRank1stSphere<9)","v":true},{"$f":"FALSE","v":false},false,false,false,false,false,false,false,false,false,false,false,false,false,false,false,false,false,false,false,false,0,0,0,0,0,0,0,0,0,0,0,0,0,0,0,0,64,64,64,64,64,64,64,64,64,64,64,64,null,null,0,0,0,0,0,0,0,0,0,0,0,0,0,0,0,0,128,128,128,128,128,128,128,128,128,128,128,128]
["Power","Learn rank 10 Invocations",0,0,0,0,0,0,0,0,0,0,0,0,0,0,0,0,0,0,"N/A",1,"Cast Cosmic Power in 1st Sphere, Rank 9 Invocation",{"$f":"OR(NOT(HighPriest1stSphere),CastRank1stSphere<10)","v":true},{"$f":"FALSE","v":false},false,false,false,false,false,false,false,false,false,false,false,false,false,false,false,false,false,false,false,false,0,0,0,0,0,0,0,0,0,0,0,0,0,0,0,0,64,64,64,64,64,64,64,64,64,64,64,64,null,null,0,0,0,0,0,0,0,0,0,0,0,0,0,0,0,0,128,128,128,128,128,128,128,128,128,128,128,128]
["Power","Limit Raise - Power",0,0,0,0,0,0,0,0,0,0,0,0,0,0,0,0,0,0,1,1,"None",{"$f":"FALSE","v":false},{"$f":"FALSE","v":false},false,false,false,false,false,false,false,false,false,false,false,false,false,false,false,false,false,false,false,false,0,0,0,0,128,128,128,128,0,0,0,0,0,0,0,0,64,64,64,64,64,64,64,64,64,64,64,64,null,null,0,0,0,0,0,0,0,0,0,0,0,0,0,0,0,0,0,0,0,0,0,0,0,0,0,0,0,0]
["Power","Limit Raise Mastery - Power",0,0,0,0,0,0,0,0,0,0,0,0,0,0,0,0,0,0,1,1,"Limit Raise - Power",{"$f":"NOT(LimitRaisePowerSkillLvl>=1)","v":true},{"$f":"FALSE","v":false},false,false,false,false,false,false,false,false,false,false,false,false,false,false,false,false,false,false,false,false,0,0,0,0,256,256,256,256,0,0,0,0,0,0,0,0,128,128,128,128,128,128,128,128,128,128,128,128,null,null,0,0,0,0,0,0,0,0,0,0,0,0,0,0,0,0,0,0,0,0,0,0,0,0,0,0,0,0]
["Power","Limit Raise Enhanced Mastery - Power",0,0,0,0,0,0,0,0,0,0,0,0,0,0,0,0,0,0,1,1,"Limit Raise Mastery - Power",{"$f":"NOT(LimitRaisePowerSkillLvl>=2)","v":true},{"$f":"FALSE","v":false},false,false,false,false,false,false,false,false,false,false,false,false,false,false,false,false,false,false,false,false,0,0,0,0,512,512,512,512,0,0,0,0,0,0,0,0,256,256,256,256,256,256,256,256,256,256,256,256,null,null,0,0,0,0,0,0,0,0,0,0,0,0,0,0,0,0,0,0,0,0,0,0,0,0,0,0,0,0]
["Power","Limit Raise Superior Mastery - Power",0,0,0,0,0,0,0,0,0,0,0,0,0,0,0,0,0,0,1,1,"Limit Raise Enhanced Mastery - Power",{"$f":"NOT(LimitRaisePowerSkillLvl>=3)","v":true},{"$f":"FALSE","v":false},false,false,false,false,false,false,false,false,false,false,false,false,false,false,false,false,false,false,false,false,0,0,0,0,0,0,0,0,0,0,0,0,0,0,0,0,512,512,512,512,512,512,512,512,512,512,512,512,null,null,0,0,0,0,0,0,0,0,0,0,0,0,0,0,0,0,0,0,0,0,0,0,0,0,0,0,0,0]
["Power","Limit Raise - Invocation",0,0,0,0,0,0,0,0,0,0,0,0,0,0,0,0,0,0,1,1,"None",{"$f":"FALSE","v":false},{"$f":"FALSE","v":false},false,false,false,false,false,false,false,false,false,false,false,false,false,false,false,false,false,false,false,false,0,0,0,0,0,0,0,0,0,0,0,0,0,0,0,0,128,128,128,128,128,128,128,128,128,128,128,128,null,null,0,0,0,0,0,0,0,0,0,0,0,0,0,0,0,0,256,256,256,256,256,256,256,256,256,256,256,256]
["Power","Make Talisman",32,16,8,8,8,16,48,32,16,16,16,32,36,24,12,12,12,24,1,1,"None",{"$f":"FALSE","v":false},{"$f":"FALSE","v":false},{"$f":"IF(AA232=FALSE,FALSE,TRUE)","v":false},false,{"$f":"IF(AC232=FALSE,FALSE,TRUE)","v":false},false,{"$f":"IF(AE232=FALSE,FALSE,TRUE)","v":false},false,{"$f":"IF(AG232=FALSE,FALSE,TRUE)","v":false},false,{"$f":"IF(AI232=FALSE,FALSE,TRUE)","v":false},false,{"$f":"IF(AK232=FALSE,FALSE,TRUE)","v":false},false,{"$f":"IF(AM232=FALSE,FALSE,TRUE)","v":false},false,{"$f":"IF(AO232=FALSE,FALSE,TRUE)","v":false},false,{"$f":"IF(AQ232=FALSE,FALSE,TRUE)","v":false},false,{"$f":"IF(AS232=FALSE,FALSE,TRUE)","v":false},false,0,0,0,64,0,0,0,0,0,0,0,0,0,0,0,0,1,1,1,1,1,1,1,1,1,1,1,1,null,null,0,0,0,0,0,0,0,0,0,0,0,0,0,0,0,0,20,20,20,20,20,20,20,20,20,20,20,20]
["Power","Priest in 2nd Sphere",0,0,0,0,0,0,0,0,0,0,0,0,0,0,0,0,0,0,1,null,"Make Talisman, Cast Rank 5 in 2nd Sphere",{"$f":"NOT(AND(MakeTalisman,CastRank2ndSphere>4))","v":true},{"$f":"FALSE","v":false},false,false,false,false,false,false,false,false,false,false,false,false,false,false,false,false,false,false,false,false,0,0,0,0,0,0,0,0,0,0,0,0,0,0,0,0,20,20,20,20,20,20,20,20,20,20,20,20,null,null,0,0,0,0,0,0,0,0,0,0,0,0,0,0,0,0,0,0,0,0,0,0,0,0,0,0,0,0]
["Power","Priest in 3rd Sphere",0,0,0,0,0,0,0,0,0,0,0,0,0,0,0,0,0,0,1,null,"Make Talisman, Cast Rank 5 in 3rd Sphere",{"$f":"NOT(AND(MakeTalisman,CastRank3rdSphere>=5))","v":true},{"$f":"FALSE","v":false},false,false,false,false,false,false,false,false,false,false,false,false,false,false,false,false,false,false,false,false,0,0,0,0,0,0,0,0,0,0,0,0,0,0,0,0,0,0,0,0,256,256,256,256,0,0,0,0,null,null,0,0,0,0,0,0,0,0,0,0,0,0,0,0,0,0,0,0,0,0,0,0,0,0,0,0,0,0]
["Power","Cast Cosmic Power in Additional Sphere",0,0,0,0,0,0,0,0,0,0,0,0,0,0,0,0,0,0,{"$f":"IF(CharacterType=\"Acolyte_Neutral\",2,1)","v":1},1," Cast rank 1-8 in 2nd Sphere, Cast Cosmic Power in 1st Sphere",{"$f":"NOT(AND(CastRank2ndSphere>7,HighPriest1stSphere))","v":true},{"$f":"FALSE","v":false},false,false,false,false,false,false,false,false,false,false,false,false,false,false,false,false,false,false,false,false,0,0,0,0,0,0,0,0,0,0,0,0,0,0,0,0,128,128,128,128,128,128,128,128,128,128,128,128,null,null,0,0,0,0,0,0,0,0,0,0,0,0,0,0,0,0,0,0,0,0,0,0,0,0,0,0,0,0]
["Power","Cast Cosmic Power in 1st Sphere",0,0,0,0,0,0,0,0,0,0,0,0,0,0,0,0,0,0,1,1," Cast rank 1-8 in 1st Sphere",{"$f":"NOT(CastRank1stSphere>7)","v":true},{"$f":"FALSE","v":false},false,false,false,false,false,false,false,false,false,false,false,false,false,false,false,false,false,false,false,false,0,0,0,0,0,0,0,0,0,0,0,0,0,0,0,0,64,64,64,64,64,64,64,64,64,64,64,64,null,null,0,0,0,0,0,0,0,0,0,0,0,0,0,0,0,0,128,128,128,128,128,128,128,128,128,128,128,128]
["Power","Write Lay Power Scrolls",20,15,10,10,10,15,24,18,12,12,12,18,24,18,12,12,12,18,1,1,"Cast Rank 1 Invocations",{"$f":"CastRank1stSphere=0","v":true},{"$f":"FALSE","v":false},false,false,false,false,false,false,false,false,false,false,false,false,false,false,false,false,false,false,false,false,0,0,0,0,0,0,0,0,0,0,0,0,0,0,0,0,1,1,1,1,1,1,1,1,1,1,1,1,null,null,0,0,0,0,0,0,0,0,0,0,0,0,0,0,0,0,20,20,20,20,20,20,20,20,20,20,20,20]
["Power","Write Ritual Power Scrolls",40,30,20,20,20,30,48,36,24,24,24,36,48,36,24,24,24,36,1,1,"Cast Rank 6 Invocations, Write Lay Power Invocations",{"$f":"NOT(AND(CastRank1stSphere>=6,WritePowerScrollsLevel>=1))","v":true},{"$f":"FALSE","v":false},false,false,false,false,false,false,false,false,false,false,false,false,false,false,false,false,false,false,false,false,0,0,0,0,0,0,0,0,0,0,0,0,0,0,0,0,20,20,20,20,20,20,20,20,20,20,20,20,null,null,0,0,0,0,0,0,0,0,0,0,0,0,0,0,0,0,64,64,64,64,64,64,64,64,64,64,64,64]
["Power","Write Cosmic Power Scrolls",40,30,20,20,20,30,46,36,24,24,24,36,44,34,28,28,28,34,1,1,"Cast Rank 9 Invocations, Write Ritual Power Invocations",{"$f":"NOT(AND(CastRank1stSphere>=9,WritePowerScrollsLevel>=2))","v":true},{"$f":"FALSE","v":false},false,false,false,false,false,false,false,false,false,false,false,false,false,false,false,false,false,false,false,false,0,0,0,0,0,0,0,0,0,0,0,0,0,0,0,0,64,64,64,64,64,64,64,64,64,64,64,64,null,null,0,0,0,0,0,0,0,0,0,0,0,0,0,0,0,0,128,128,128,128,128,128,128,128,128,128,128,128]
["Psi","Limit Raise - Psi",0,0,0,0,0,0,0,0,0,0,0,0,0,0,0,0,0,0,1,1,"None",{"$f":"NOT(HasPsi)","v":true},{"$f":"FALSE","v":false},false,false,false,false,false,false,false,false,false,false,false,false,false,false,false,false,false,false,false,false,{"$f":"IF(HasPsi,64,0)","v":0},0,0,0,0,0,0,0,0,0,0,0,0,0,0,0,0,0,0,0,0,0,0,0,0,0,0,0,null,null,{"$f":"IF(HasPsi,64,0)","v":0},{"$f":"IF(HasPsi,64,0)","v":0},{"$f":"IF(HasPsi,64,0)","v":0},{"$f":"IF(HasPsi,64,0)","v":0},{"$f":"IF(HasPsi,64,0)","v":0},0,{"$f":"IF(HasPsi,64,0)","v":0},0,0,0,0,0,0,0,0,0,0,0,0,0,0,0,0,0,0,0,0,0]
["Psi","Limit Raise Mastery - Psi",0,0,0,0,0,0,0,0,0,0,0,0,0,0,0,0,0,0,1,1,"Limit Raise - Psi",{"$f":"NOT(HasPsi)","v":true},{"$f":"FALSE","v":false},false,false,false,false,false,false,false,false,false,false,false,false,false,false,false,false,false,false,false,false,{"$f":"IF(HasPsi,128,0)","v":0},0,0,0,0,0,0,0,0,0,0,0,0,0,0,0,0,0,0,0,0,0,0,0,0,0,0,0,null,null,{"$f":"IF(HasPsi,128,0)","v":0},{"$f":"IF(HasPsi,128,0)","v":0},{"$f":"IF(HasPsi,128,0)","v":0},{"$f":"IF(HasPsi,128,0)","v":0},{"$f":"IF(HasPsi,128,0)","v":0},0,{"$f":"IF(HasPsi,128,0)","v":0},0,0,0,0,0,0,0,0,0,0,0,0,0,0,0,0,0,0,0,0,0]
["Psi","Limit Raise Enhanced Mastery - Psi",0,0,0,0,0,0,0,0,0,0,0,0,0,0,0,0,0,0,1,1,"Limit Raise Mastery - Psi",{"$f":"NOT(HasPsi)","v":true},{"$f":"FALSE","v":false},false,false,false,false,false,false,false,false,false,false,false,false,false,false,false,false,false,false,false,false,{"$f":"IF(HasPsi,256,0)","v":0},0,0,0,0,0,0,0,0,0,0,0,0,0,0,0,0,0,0,0,0,0,0,0,0,0,0,0,null,null,{"$f":"IF(HasPsi,256,0)","v":0},{"$f":"IF(HasPsi,256,0)","v":0},{"$f":"IF(HasPsi,256,0)","v":0},{"$f":"IF(HasPsi,256,0)","v":0},{"$f":"IF(HasPsi,256,0)","v":0},0,{"$f":"IF(HasPsi,256,0)","v":0},0,0,0,0,0,0,0,0,0,0,0,0,0,0,0,0,0,0,0,0,0]
["Psi","Meditate Psi",12,8,4,4,4,8,12,8,4,4,4,8,15,10,5,5,5,10,1,null,"Buy Psi",{"$f":"NOT(HasPsi)","v":true},{"$f":"FALSE","v":false},false,false,false,false,false,false,false,false,false,false,false,false,false,false,false,false,false,false,false,false,{"$f":"IF(HasPsi,1,0)","v":0},0,0,0,0,0,0,0,0,0,{"$f":"IF(HasPsi,1,0)","v":0},0,0,0,0,0,0,0,0,0,{"$f":"IF(HasPsi,1,0)","v":0},0,0,0,0,0,0,0,null,null,{"$f":"IF(HasPsi,1,0)","v":0},0,0,0,0,0,0,0,0,0,{"$f":"IF(HasPsi,1,0)","v":0},0,0,0,0,0,0,0,0,0,{"$f":"IF(HasPsi,1,0)","v":0},0,0,0,0,0,0,0]
["Psi","Meditate Psi Mastery",12,8,4,4,4,8,12,8,4,4,4,8,15,10,5,5,5,10,1,null,"Meditate Psi",{"$f":"NOT(MeditatePsi>=1)","v":true},{"$f":"FALSE","v":false},false,false,false,false,false,false,false,false,false,false,false,false,false,false,false,false,false,false,false,false,{"$f":"IF(HasPsi,10,0)","v":0},0,0,0,0,0,0,0,0,0,{"$f":"IF(HasPsi,10,0)","v":0},0,0,0,0,0,0,0,0,0,{"$f":"IF(HasPsi,10,0)","v":0},0,0,0,0,0,0,0,null,null,{"$f":"IF(HasPsi,10,0)","v":0},0,0,0,0,0,{"$f":"IF(HasPsi,10,0)","v":0},0,0,0,0,0,0,0,0,0,{"$f":"IF(HasPsi,10,0)","v":0},0,0,0,0,0,0,0,0,0,0,0]
["Psi","Meditate Psi Enhanced Mastery",12,8,4,4,4,8,12,8,4,4,4,8,15,10,5,5,5,10,1,null,"Meditate Psi Mastery",{"$f":"NOT(MeditatePsi>=2)","v":true},{"$f":"FALSE","v":false},false,false,false,false,false,false,false,false,false,false,false,false,false,false,false,false,false,false,false,false,0,0,0,0,0,0,0,0,0,0,0,0,0,0,0,0,0,0,0,0,0,0,0,0,0,0,0,0,null,null,0,0,0,0,0,0,0,0,0,0,0,0,0,0,0,0,0,0,0,0,0,0,0,0,0,0,0,0]
["Psi","Meditate Psi Superior Mastery",12,8,4,4,4,8,12,8,4,4,4,8,15,10,5,5,5,10,1,1,"Meditate Psi Enhanced Mastery",{"$f":"NOT(MeditatePsi>=3)","v":true},{"$f":"FALSE","v":false},false,false,false,false,false,false,false,false,false,false,false,false,false,false,false,false,false,false,false,false,{"$f":"IF(HasPsi,512,0)","v":0},0,0,0,0,0,0,0,0,0,0,0,0,0,0,0,0,0,0,0,0,0,0,0,0,0,0,0,null,null,{"$f":"IF(HasPsi,512,0)","v":0},{"$f":"IF(HasPsi,512,0)","v":0},{"$f":"IF(HasPsi,512,0)","v":0},{"$f":"IF(HasPsi,512,0)","v":0},{"$f":"IF(HasPsi,512,0)","v":0},0,{"$f":"IF(HasPsi,512,0)","v":0},0,0,0,0,0,0,0,0,0,0,0,0,0,0,0,0,0,0,0,0,0]
["Psi","Buy Psi",3,2,1,1,1,2,6,4,2,2,2,4,5,3,1,1,1,3,{"$f":"200+(LimitRaisePsiSkillLvl*50)","v":200},null,"Psionics (HQ Ability)",{"$f":"NOT(HasPsi)","v":true},{"$f":"FALSE","v":false},false,false,false,false,false,false,false,false,false,false,false,false,false,false,false,false,false,false,false,false,0,0,0,0,0,0,0,0,0,0,0,0,0,0,0,0,0,0,0,0,0,0,0,0,0,0,0,0,null,null,0,0,0,0,0,0,0,0,0,0,0,0,0,0,0,0,0,0,0,0,0,0,0,0,0,0,0,0]
["Psi","Cast Rank Psi","R+9","R+6","R+3","R+3","R+3","R+6","R+12","R+9","R+3","R+3","R+3","R+9","R+12","R+9","R+6","R+6","R+6","R+9",{"$f":"IF(NOT(MakePsionicTalisman),5,10)","v":5},null,"Rk 1-5: Psi Acolyte only - Rk 6-8: Psi Priests only (Require Psi Talisman)",{"$f":"NOT(HasPsi)","v":true},{"$f":"FALSE","v":false},false,false,false,false,false,false,false,false,false,false,false,false,false,false,false,false,false,false,false,false,0,0,0,0,0,0,0,0,0,0,0,0,0,0,0,0,0,0,0,0,0,0,0,0,0,0,0,0,null,null,0,0,0,0,0,0,0,0,0,0,0,0,0,0,0,0,0,0,0,0,0,0,0,0,0,0,0,0]
["Psi","Make Psi Talisman",32,16,8,8,8,16,48,32,16,16,16,32,36,24,12,12,12,24,1,1,"Psi",{"$f":"NOT(HasPsi)","v":true},{"$f":"FALSE","v":false},false,false,false,false,false,false,false,false,false,false,false,false,false,false,false,false,false,false,false,false,0,0,0,0,0,0,0,0,0,0,0,0,0,0,0,0,0,0,0,0,0,0,0,0,0,0,0,0,null,null,0,0,0,0,0,0,0,0,0,0,0,0,0,0,0,0,0,0,0,0,0,0,0,0,0,0,0,0]
["Scout","Dodge - Uncanny",40,20,60,60,60,60,30,15,50,50,50,50,50,25,70,70,70,70,1,1,"8 Points of Dexterity, Scout",{"$f":"NOT(AND(OR(ArmDex<8, UnArmDex<8),CharacterType=\"Scout\"))","v":true},{"$f":"FALSE","v":false},false,false,false,false,false,false,false,false,false,false,false,false,false,false,false,false,false,false,false,false,0,0,0,0,128,0,128,128,0,0,0,0,0,0,0,0,0,0,0,0,0,0,0,0,0,0,0,0,null,null,0,0,0,0,0,0,0,0,0,0,0,0,0,0,0,0,0,0,0,0,0,0,0,0,0,0,0,0]
["Scout","Dodge - Exceptional",80,40,120,120,120,120,60,30,100,100,100,100,100,50,140,140,140,140,1,1,"12 Points of Dexterity, Scout",{"$f":"NOT(AND(OR(ArmDex<12, UnArmDex<12),CharacterType=\"Scout\"))","v":true},{"$f":"FALSE","v":false},false,false,false,false,false,false,false,false,false,false,false,false,false,false,false,false,false,false,false,false,0,0,0,0,256,0,256,256,0,0,0,0,0,0,0,0,0,0,0,0,0,0,0,0,0,0,0,0,null,null,0,0,0,0,0,0,0,0,0,0,0,0,0,0,0,0,0,0,0,0,0,0,0,0,0,0,0,0]
["Scout","Dodge - Superior",120,60,180,180,180,180,90,45,150,150,150,150,150,75,210,210,210,210,1,1,"Dodge - Exceptional",{"$f":"NOT(SUM('The Character'!C263:D263)>=1)","v":true},{"$f":"FALSE","v":false},false,false,false,false,false,false,false,false,false,false,false,false,false,false,false,false,false,false,false,false,0,0,0,0,512,0,512,512,0,0,0,0,0,0,0,0,0,0,0,0,0,0,0,0,0,0,0,0,null,null,0,0,0,0,0,0,0,0,0,0,0,0,0,0,0,0,0,0,0,0,0,0,0,0,0,0,0,0]
["Scout","Jack of All trades",0,0,0,0,0,0,0,0,0,0,0,0,0,0,0,0,0,0,1,1,"None",{"$f":"NOT(CharacterType=\"Scout\")","v":true},{"$f":"FALSE","v":false},false,false,false,false,false,false,false,false,false,false,false,false,false,false,false,false,false,false,false,false,0,0,0,0,64,256,64,64,0,0,0,0,0,0,0,0,0,0,0,0,0,0,0,0,0,0,0,0,null,null,0,0,0,0,0,0,0,0,0,0,0,0,0,0,0,0,0,0,0,0,0,0,0,0,0,0,0,0]
["Scout","Trap Handling",20,10,20,20,20,20,20,10,20,20,20,20,20,10,20,20,20,20,1,null,"None",{"$f":"FALSE","v":false},{"$f":"FALSE","v":false},false,false,false,false,false,false,false,false,false,false,false,false,false,false,false,false,false,false,false,false,0,0,0,0,1,0,1,0,0,0,0,0,0,0,0,0,0,0,0,0,0,0,0,0,0,0,0,0,null,null,0,0,0,0,20,0,20,0,0,0,0,0,0,0,0,0,0,0,0,0,0,0,0,0,0,0,0,0]
["Scout","Trap Handling Mastery",20,10,20,20,20,20,20,10,20,20,20,20,20,10,20,20,20,20,1,null,"Trap Handling",{"$f":"NOT(TrapHandlingSkillLevel>=1)","v":true},{"$f":"FALSE","v":false},false,false,{"$f":"IF(AC255=FALSE,FALSE,TRUE)","v":false},false,{"$f":"IF(AE255=FALSE,FALSE,TRUE)","v":false},false,{"$f":"IF(AG255=FALSE,FALSE,TRUE)","v":false},false,{"$f":"IF(AI255=FALSE,FALSE,TRUE)","v":false},false,{"$f":"IF(AK255=FALSE,FALSE,TRUE)","v":false},false,{"$f":"IF(AM255=FALSE,FALSE,TRUE)","v":false},false,{"$f":"IF(AO255=FALSE,FALSE,TRUE)","v":false},false,{"$f":"IF(AQ255=FALSE,FALSE,TRUE)","v":false},false,{"$f":"IF(AS255=FALSE,FALSE,TRUE)","v":false},false,0,0,0,0,64,0,64,0,0,0,0,0,0,0,0,0,0,0,0,0,0,0,0,0,0,0,0,0,null,null,0,0,0,0,128,0,128,0,0,0,0,0,0,0,0,0,0,0,0,0,0,0,0,0,0,0,0,0]
["Scout","Trap Handling Enhanced Mastery",20,10,20,20,20,20,20,10,20,20,20,20,20,10,20,20,20,20,1,null,"Trap Handling Mastery",{"$f":"NOT(TrapHandlingSkillLevel>=2)","v":true},{"$f":"FALSE","v":false},false,false,false,false,false,false,false,false,false,false,false,false,false,false,false,false,false,false,false,false,0,0,0,0,128,0,128,0,0,0,0,0,0,0,0,0,0,0,0,0,0,0,0,0,0,0,0,0,null,null,0,0,0,0,256,0,256,0,0,0,0,0,0,0,0,0,0,0,0,0,0,0,0,0,0,0,0,0]
["Scout","Trap Handling Superior Mastery",20,10,20,20,20,20,20,10,20,20,20,20,20,10,20,20,20,20,1,null,"Trap Handling Enhanced Mastery",{"$f":"NOT(TrapHandlingSkillLevel>=3)","v":true},{"$f":"FALSE","v":false},false,false,false,false,false,false,false,false,false,false,false,false,false,false,false,false,false,false,false,false,0,0,0,0,256,0,256,0,0,0,0,0,0,0,0,0,0,0,0,0,0,0,0,0,0,0,0,0,null,null,0,0,0,0,0,0,0,0,0,0,0,0,0,0,0,0,0,0,0,0,0,0,0,0,0,0,0,0]
["Scout","Trap Handling Exceptional Mastery",20,10,20,20,20,20,20,10,20,20,20,20,20,10,20,20,20,20,1,1,"Trap Handling Superior Mastery",{"$f":"NOT(TrapHandlingSkillLevel>=4)","v":true},{"$f":"FALSE","v":false},false,false,false,false,false,false,false,false,false,false,false,false,false,false,false,false,false,false,false,false,0,0,0,0,512,0,512,0,0,0,0,0,0,0,0,0,0,0,0,0,0,0,0,0,0,0,0,0,null,null,0,0,0,0,0,0,0,0,0,0,0,0,0,0,0,0,0,0,0,0,0,0,0,0,0,0,0,0]
["Subterfuge","Disguise",20,20,20,20,20,20,20,20,20,20,20,20,20,20,20,20,20,20,"N",1,"None",{"$f":"FALSE","v":false},{"$f":"FALSE","v":false},false,false,false,false,false,false,false,false,false,false,false,false,false,false,false,false,false,false,false,false,0,0,0,0,20,0,20,0,0,0,0,0,0,0,0,0,0,0,0,0,0,0,0,0,0,0,0,0,null,null,0,0,0,0,64,0,64,0,0,0,0,0,0,0,0,0,0,0,0,0,0,0,0,0,0,0,0,0]
["Subterfuge","Disguise Mastery",40,40,40,40,40,40,40,40,40,40,40,40,40,40,40,40,40,40,1,1,"Disguise",{"$f":"NOT(Disguise)","v":true},{"$f":"FALSE","v":false},false,false,false,false,false,false,false,false,false,false,false,false,false,false,false,false,false,false,false,false,0,0,0,0,0,0,512,0,0,0,0,0,0,0,0,0,0,0,0,0,0,0,0,0,0,0,0,0,null,null,0,0,0,0,0,0,0,0,0,0,0,0,0,0,0,0,0,0,0,0,0,0,0,0,0,0,0,0]
["Subterfuge","Disguise Other",20,20,20,20,20,20,20,20,20,20,20,20,20,20,20,20,20,20,1,null,"Disguise",{"$f":"NOT(Disguise)","v":true},{"$f":"FALSE","v":false},false,false,false,false,false,false,false,false,false,false,false,false,false,false,false,false,false,false,false,false,0,0,0,0,64,0,64,0,0,0,0,0,0,0,0,0,0,0,0,0,0,0,0,0,0,0,0,0,null,null,0,0,0,0,0,0,0,0,0,0,0,0,0,0,0,0,0,0,0,0,0,0,0,0,0,0,0,0]
["Subterfuge","Recognise Disguise",20,20,20,20,20,20,20,20,20,20,20,20,20,20,20,20,20,20,1,null,"None",{"$f":"FALSE","v":false},{"$f":"FALSE","v":false},false,false,false,false,false,false,false,false,false,false,false,false,false,false,false,false,false,false,false,false,0,0,0,64,20,0,1,0,0,0,0,20,0,0,0,0,0,0,0,0,0,64,0,0,0,64,0,0,null,null,0,0,0,128,64,0,20,0,0,0,0,64,0,0,0,0,0,0,0,0,0,128,0,0,0,0,0,0]
["Subterfuge","Recognise Disguise Mastery",40,40,40,40,40,40,40,40,40,40,40,40,40,40,40,40,40,40,1,1,"Recognise Disguise",{"$f":"NOT(SUM('The Character'!C273:D273)>=1)","v":true},{"$f":"FALSE","v":false},false,false,false,false,false,false,false,false,false,false,false,false,false,false,false,false,false,false,false,false,0,0,0,0,0,0,512,0,0,0,0,64,0,0,0,0,0,0,0,0,0,0,0,0,0,0,0,0,null,null,0,0,0,0,0,0,0,0,0,0,0,0,0,0,0,0,0,0,0,0,0,0,0,0,0,0,0,0]
["Subterfuge","Sneak Attack",20,10,40,40,40,40,20,10,40,40,40,40,20,10,40,40,40,40,1,1,"None",{"$f":"FALSE","v":false},{"$f":"FALSE","v":false},false,false,false,false,false,false,false,false,false,false,false,false,false,false,false,false,false,false,false,false,0,0,0,0,1,1,1,1,0,0,0,0,0,0,0,0,0,0,0,0,0,0,0,0,0,0,0,0,null,null,0,0,0,0,1,0,1,1,0,0,0,0,0,0,0,0,0,0,0,0,0,0,0,0,0,0,0,0]
["Subterfuge","Sneak Attack Mastery",40,20,60,60,60,60,40,20,60,60,60,60,40,20,60,60,60,60,1,null,"Sneak Attack ",{"$f":"NOT(SneakAttackSkillLvl>=1)","v":true},{"$f":"FALSE","v":false},false,false,false,false,false,false,false,false,false,false,false,false,false,false,false,false,false,false,false,false,0,0,0,0,64,0,0,0,0,0,0,0,0,0,0,0,0,0,0,0,0,0,0,0,0,0,0,0,null,null,0,0,0,0,256,0,0,0,0,0,0,0,0,0,0,0,0,0,0,0,0,0,0,0,0,0,0,0]
["Subterfuge","Sneak Attack Enhanced Mastery",60,30,80,80,80,80,60,30,80,80,80,80,60,30,80,80,80,80,1,null,"Sneak Attack Mastery",{"$f":"NOT(SneakAttackSkillLvl>=2)","v":true},{"$f":"FALSE","v":false},false,false,false,false,false,false,false,false,false,false,false,false,false,false,false,false,false,false,false,false,0,0,0,0,128,0,0,0,0,0,0,0,0,0,0,0,0,0,0,0,0,0,0,0,0,0,0,0,null,null,0,0,0,0,0,0,0,0,0,0,0,0,0,0,0,0,0,0,0,0,0,0,0,0,0,0,0,0]
["Subterfuge","Sneak Attack Superior Mastery",80,40,100,100,100,100,80,40,100,100,100,100,80,40,100,100,100,100,1,null,"Sneak Attack Enhanced Mastery",{"$f":"NOT(SneakAttackSkillLvl>=3)","v":true},{"$f":"FALSE","v":false},false,false,false,false,false,false,false,false,false,false,false,false,false,false,false,false,false,false,false,false,0,0,0,0,256,0,0,0,0,0,0,0,0,0,0,0,0,0,0,0,0,0,0,0,0,0,0,0,null,null,0,0,0,0,0,0,0,0,0,0,0,0,0,0,0,0,0,0,0,0,0,0,0,0,0,0,0,0]
["Subterfuge","Sneak Attack Exceptional Mastery",100,50,120,120,120,120,100,50,120,120,120,120,100,50,120,120,120,120,1,1,"Sneak Attack Superior Mastery",{"$f":"NOT(SneakAttackSkillLvl>=4)","v":true},{"$f":"FALSE","v":false},false,false,false,false,false,false,false,false,false,false,false,false,false,false,false,false,false,false,false,false,0,0,0,0,512,0,0,0,0,0,0,0,0,0,0,0,0,0,0,0,0,0,0,0,0,0,0,0,null,null,0,0,0,0,0,0,0,0,0,0,0,0,0,0,0,0,0,0,0,0,0,0,0,0,0,0,0,0]
["Subterfuge","Throat Slit",25,10,50,50,50,50,25,10,50,50,50,50,25,10,50,50,50,50,1,1,"Dagger Mastery",{"$f":"NOT(DaggerSkill>=2)","v":true},{"$f":"FALSE","v":false},false,false,false,false,false,false,false,false,false,false,false,false,false,false,false,false,false,false,false,false,0,0,0,0,1,0,1,0,0,0,0,0,0,0,0,0,0,0,0,0,0,0,0,0,0,0,0,0,null,null,0,0,0,0,1,0,1,0,0,0,0,0,0,0,0,0,0,0,0,0,0,0,0,0,0,0,0,0]
["Subterfuge","Throat Slit Mastery",25,10,50,50,50,50,25,10,50,50,50,50,25,10,50,50,50,50,1,null,"Throat Slit, Enhance Dagger Mastery",{"$f":"NOT(AND(ThroatSlitSkillLvl>=1,DaggerSkill>=3))","v":true},{"$f":"FALSE","v":false},false,false,false,false,false,false,false,false,false,false,false,false,false,false,false,false,false,false,false,false,0,0,0,0,0,0,64,0,0,0,0,0,0,0,0,0,0,0,0,0,0,0,0,0,0,0,0,0,null,null,0,0,0,0,0,0,256,0,0,0,0,0,0,0,0,0,0,0,0,0,0,0,0,0,0,0,0,0]
["Subterfuge","Throat Slit Enhanced Mastery",25,10,50,50,50,50,25,10,50,50,50,50,25,10,50,50,50,50,1,null,"Throat Slit Mastery, Dagger Attunement",{"$f":"NOT(AND(DaggerAttunement,ThroatSlitSkillLvl>=2))","v":true},{"$f":"FALSE","v":false},false,false,false,false,false,false,false,false,false,false,false,false,false,false,false,false,false,false,false,false,0,0,0,0,0,0,128,0,0,0,0,0,0,0,0,0,0,0,0,0,0,0,0,0,0,0,0,0,null,null,0,0,0,0,0,0,0,0,0,0,0,0,0,0,0,0,0,0,0,0,0,0,0,0,0,0,0,0]
["Subterfuge","Throat Slit Superior Mastery",25,10,50,50,50,50,25,10,50,50,50,50,25,10,50,50,50,50,1,1,"Throat Slit Enhanced Mastery",{"$f":"NOT(ThroatSlitSkillLvl>=3)","v":true},{"$f":"FALSE","v":false},false,false,false,false,false,false,false,false,false,false,false,false,false,false,false,false,false,false,false,false,0,0,0,0,0,0,256,0,0,0,0,0,0,0,0,0,0,0,0,0,0,0,0,0,0,0,0,0,null,null,0,0,0,0,0,0,0,0,0,0,0,0,0,0,0,0,0,0,0,0,0,0,0,0,0,0,0,0]
["Subterfuge","Throat Slit Exceptional Mastery",25,10,50,50,50,50,25,10,50,50,50,50,25,10,50,50,50,50,1,1,"Throat Slit Superior Mastery",{"$f":"NOT(ThroatSlitSkillLvl>=4)","v":true},{"$f":"FALSE","v":false},false,false,false,false,false,false,false,false,false,false,false,false,false,false,false,false,false,false,false,false,0,0,0,0,0,0,512,0,0,0,0,0,0,0,0,0,0,0,0,0,0,0,0,0,0,0,0,0,null,null,0,0,0,0,0,0,0,0,0,0,0,0,0,0,0,0,0,0,0,0,0,0,0,0,0,0,0,0]
["Warrior","Bonebreak",30,60,90,90,90,120,30,60,90,90,90,120,30,60,90,90,90,120,1,1,"Double Strength",{"$f":"NOT(StrengthSkill>=2)","v":true},{"$f":"FALSE","v":false},false,false,false,false,false,false,false,false,false,false,false,false,false,false,false,false,false,false,false,false,0,64,20,256,0,0,0,0,0,0,0,0,0,0,0,0,0,0,0,0,0,0,0,0,0,0,0,0,null,null,0,0,0,0,0,0,0,0,0,0,0,0,0,0,0,0,0,0,0,0,0,0,0,0,0,0,0,0]
["Warrior","Bonebreak Mastery",40,80,120,120,120,160,40,80,120,120,120,160,40,80,120,120,120,160,1,null,"Bonebreak",{"$f":"NOT(BoneBreakSkillLvl>0)","v":true},{"$f":"FALSE","v":false},false,false,false,false,false,false,false,false,false,false,false,false,false,false,false,false,false,false,false,false,0,128,64,0,0,0,0,0,0,0,0,0,0,0,0,0,0,0,0,0,0,0,0,0,0,0,0,0,null,null,0,0,0,0,0,0,0,0,0,0,0,0,0,0,0,0,0,0,0,0,0,0,0,0,0,0,0,0]
["Warrior","Bonebreak Enhanced Mastery",50,100,150,150,150,200,50,100,150,150,150,200,50,100,150,150,150,200,1,1,"Bonebreak Mastery, Weapon Attunement",{"$f":"NOT(AND(BoneBreakSkillLvl>1,WeaponAttunement))","v":true},{"$f":"FALSE","v":false},false,false,false,false,false,false,false,false,false,false,false,false,false,false,false,false,false,false,false,false,0,256,128,0,0,0,0,0,0,0,0,0,0,0,0,0,0,0,0,0,0,0,0,0,0,0,0,0,null,null,0,0,0,0,0,0,0,0,0,0,0,0,0,0,0,0,0,0,0,0,0,0,0,0,0,0,0,0]
["Warrior","Bonebreak Superior Mastery",60,120,180,180,180,240,60,120,180,180,180,240,60,120,180,180,180,240,1,1,"Bonebreak Enhanced Mastery",{"$f":"NOT(BoneBreakSkillLvl>3)","v":true},{"$f":"FALSE","v":false},false,false,{"$f":"IF(AC277=FALSE,FALSE,TRUE)","v":false},false,{"$f":"IF(AE277=FALSE,FALSE,TRUE)","v":false},false,false,false,false,false,false,false,false,false,false,false,false,false,false,false,0,512,512,0,0,0,0,0,0,0,0,0,0,0,0,0,0,0,0,0,0,0,0,0,0,0,0,0,null,null,0,0,0,0,0,0,0,0,0,0,0,0,0,0,0,0,0,0,0,0,0,0,0,0,0,0,0,0]
["Warrior","Damage Increase",20,30,40,40,40,50,20,30,40,40,40,50,20,30,40,40,40,50,1,1,"Warrior",{"$f":"NOT(CharacterTypeNumber<5)","v":false},{"$f":"FALSE","v":false},false,false,false,false,false,false,false,false,false,false,false,false,false,false,false,false,false,false,false,false,128,64,128,128,0,0,0,0,0,0,0,0,0,0,0,0,0,0,0,0,0,0,0,0,0,0,0,0,null,null,0,0,0,0,0,0,0,0,0,0,0,0,0,0,0,0,0,0,0,0,0,0,0,0,0,0,0,0]
["Warrior","Damage Increase Mastery",40,60,80,80,80,100,40,60,80,80,80,100,40,60,80,80,80,100,1,1,"Warrior",{"$f":"NOT(CharacterTypeNumber<5)","v":false},{"$f":"FALSE","v":false},false,false,false,false,false,false,false,false,false,false,false,false,false,false,false,false,false,false,false,false,256,128,256,256,0,0,0,0,0,0,0,0,0,0,0,0,0,0,0,0,0,0,0,0,0,0,0,0,null,null,0,0,0,0,0,0,0,0,0,0,0,0,0,0,0,0,0,0,0,0,0,0,0,0,0,0,0,0]
["Warrior","Disarm - Uses",10,20,30,30,30,40,10,20,30,30,30,40,10,20,30,30,30,40,{"$f":"IF(DisarmSkillLvl=1,3,IF(DisarmSkillLvl>=2,IF(DisarmSkillLvl>3,9,6),0))","v":0},null,"Disarm",{"$f":"NOT(DisarmSkillLvl>=1)","v":true},{"$f":"FALSE","v":false},false,false,false,false,false,false,false,false,false,false,false,false,false,false,false,false,false,false,false,false,0,20,64,20,0,0,0,0,0,0,0,0,0,0,0,0,0,0,0,0,0,0,0,0,0,0,0,0,null,null,0,64,0,64,0,0,0,0,0,0,0,0,0,0,0,0,0,0,0,0,0,0,0,0,0,0,0,0]
["Warrior","Disarm",0,0,0,0,0,0,0,0,0,0,0,0,0,0,0,0,0,0,1,1,"Enhanced Weapon Mastery",{"$f":"NOT(WeaponEnhMasteryAny)","v":true},{"$f":"FALSE","v":false},false,false,false,false,false,false,false,false,false,false,false,false,false,false,false,false,false,false,false,false,0,20,64,20,0,0,0,0,0,0,0,0,0,0,0,0,0,0,0,0,0,0,0,0,0,0,0,0,null,null,0,64,0,64,0,0,0,0,0,0,0,0,0,0,0,0,0,0,0,0,0,0,0,0,0,0,0,0]
["Warrior","Disarm Mastery",20,40,60,60,60,80,20,40,60,60,60,80,20,40,60,60,60,80,1,null,"Diarm, Weapon Attunement",{"$f":"NOT(AND(DisarmSkillLvl>=1,WeaponAttunement))","v":true},{"$f":"FALSE","v":false},false,false,false,false,false,false,false,false,false,false,false,false,false,false,false,false,false,false,false,false,0,64,128,64,0,0,0,0,0,0,0,0,0,0,0,0,0,0,0,0,0,0,0,0,0,0,0,0,null,null,0,128,0,128,0,0,0,0,0,0,0,0,0,0,0,0,0,0,0,0,0,0,0,0,0,0,0,0]
["Warrior","Disarm Enhanced Mastery",30,60,90,90,90,120,30,60,90,90,90,120,30,60,90,90,90,120,1,1,"Diarm Mastery",{"$f":"NOT(DisarmSkillLvl>1)","v":true},{"$f":"FALSE","v":false},false,false,false,false,false,false,false,false,false,false,false,false,false,false,false,false,false,false,false,false,0,128,0,128,0,0,0,0,0,0,0,0,0,0,0,0,0,0,0,0,0,0,0,0,0,0,0,0,null,null,0,0,0,0,0,0,0,0,0,0,0,0,0,0,0,0,0,0,0,0,0,0,0,0,0,0,0,0]
["Warrior","Disarm Superior Mastery",40,80,120,120,120,160,40,80,120,120,120,160,40,80,120,120,120,160,1,1,"Disarm Enhanced Mastery",{"$f":"NOT(DisarmSkillLvl>2)","v":true},{"$f":"FALSE","v":false},false,false,false,false,false,false,false,false,false,false,false,false,false,false,false,false,false,false,false,false,0,512,0,512,0,0,0,0,0,0,0,0,0,0,0,0,0,0,0,0,0,0,0,0,0,0,0,0,null,null,0,0,0,0,0,0,0,0,0,0,0,0,0,0,0,0,0,0,0,0,0,0,0,0,0,0,0,0]
["Warrior","Dismember",40,80,120,120,120,160,40,80,120,120,120,160,40,80,120,120,120,160,1,1,"Strength, Weapon Attunement",{"$f":"NOT(AND(StrengthSkill,WeaponAttunement))","v":true},{"$f":"FALSE","v":false},false,false,false,false,false,false,false,false,false,false,false,false,false,false,false,false,false,false,false,false,0,64,128,0,0,0,0,0,0,0,0,0,0,0,0,0,0,0,0,0,0,0,0,0,0,0,0,0,null,null,0,0,0,0,0,0,0,0,0,0,0,0,0,0,0,0,0,0,0,0,0,0,0,0,0,0,0,0]
["Warrior","Dismember Mastery",50,100,150,150,150,200,50,100,150,150,150,200,50,100,150,150,150,200,1,null,"Dismember ",{"$f":"NOT(DismemberSkillLvl>0)","v":true},{"$f":"FALSE","v":false},false,false,false,false,false,false,false,false,false,false,false,false,false,false,false,false,false,false,false,false,0,128,256,0,0,0,0,0,0,0,0,0,0,0,0,0,0,0,0,0,0,0,0,0,0,0,0,0,null,null,0,0,0,0,0,0,0,0,0,0,0,0,0,0,0,0,0,0,0,0,0,0,0,0,0,0,0,0]
["Warrior","Dismember Enhanced Mastery",60,120,180,180,180,240,60,120,180,180,180,240,60,120,180,180,180,240,1,1,"Dismember Mastery, Bone Break",{"$f":"NOT(AND(DismemberSkillLvl>1, BoneBreakSkillLvl>0))","v":true},{"$f":"FALSE","v":false},false,false,false,false,false,false,false,false,false,false,false,false,false,false,false,false,false,false,false,false,0,256,0,0,0,0,0,0,0,0,0,0,0,0,0,0,0,0,0,0,0,0,0,0,0,0,0,0,null,null,0,0,0,0,0,0,0,0,0,0,0,0,0,0,0,0,0,0,0,0,0,0,0,0,0,0,0,0]
["Warrior","Dismember Superior Mastery",70,140,210,210,210,280,70,140,210,210,210,280,70,140,210,210,210,280,1,1,"Dismember Enhanced Mastery",{"$f":"NOT(DismemberSkillLvl>2)","v":true},{"$f":"FALSE","v":false},false,false,false,{"$f":"IF(HasHQAClassUpgrade,VLOOKUP(INDEX(SkillMatrixPrimary,ROW()-2,SecondaryGuildNumber),SkillRankLookupTable,2,1),VLOOKUP(INDEX(SkillMatrixSecondary,ROW()-2,SecondaryGuildNumber),SkillRankLookupTable,2,1))","v":false},false,{"$f":"IF(HasHQAClass2Upgrade,VLOOKUP(INDEX(SkillMatrixPrimary,ROW()-2,Secondary2GuildNumber),SkillRankLookupTable,2,1),VLOOKUP(INDEX(SkillMatrixSecondary,ROW()-2,Secondary2GuildNumber),SkillRankLookupTable,2,1))","v":false},false,{"$f":"IF(HasHQAClass3Upgrade,VLOOKUP(INDEX(SkillMatrixPrimary,ROW()-2,Secondary3GuildNumber),SkillRankLookupTable,2,1),VLOOKUP(INDEX(SkillMatrixSecondary,ROW()-2,Secondary3GuildNumber),SkillRankLookupTable,2,1))","v":false},false,{"$f":"IF(HasHQAClass4Upgrade,VLOOKUP(INDEX(SkillMatrixPrimary,ROW()-2,Secondary4GuildNumber),SkillRankLookupTable,2,1),VLOOKUP(INDEX(SkillMatrixSecondary,ROW()-2,Secondary4GuildNumber),SkillRankLookupTable,2,1))","v":false},false,{"$f":"IF(HasHQAClass5Upgrade,VLOOKUP(INDEX(SkillMatrixPrimary,ROW()-2,Secondary5GuildNumber),SkillRankLookupTable,2,1),VLOOKUP(INDEX(SkillMatrixSecondary,ROW()-2,Secondary5GuildNumber),SkillRankLookupTable,2,1))","v":false},false,{"$f":"IF(HasHQAClass6Upgrade,VLOOKUP(INDEX(SkillMatrixPrimary,ROW()-2,Secondary6GuildNumber),SkillRankLookupTable,2,1),VLOOKUP(INDEX(SkillMatrixSecondary,ROW()-2,Secondary6GuildNumber),SkillRankLookupTable,2,1))","v":false},false,{"$f":"IF(HasHQAClass7Upgrade,VLOOKUP(INDEX(SkillMatrixPrimary,ROW()-2,Secondary7GuildNumber),SkillRankLookupTable,2,1),VLOOKUP(INDEX(SkillMatrixSecondary,ROW()-2,Secondary7GuildNumber),SkillRankLookupTable,2,1))","v":false},false,{"$f":"IF(HasHQAGuildUpgrade,VLOOKUP(INDEX(SkillMatrixPrimary,ROW()-2,AdditionalClassSecondaryGuildNumber),SkillRankLookupTable,2,1),VLOOKUP(INDEX(SkillMatrixSecondary,ROW()-2,AdditionalClassSecondaryGuildNumber),SkillRankLookupTable,2,1))","v":false},false,{"$f":"IF(HasHQAGuild2Upgrade,VLOOKUP(INDEX(SkillMatrixPrimary,ROW()-2,JoATGuildNumber),SkillRankLookupTable,2,1),VLOOKUP(INDEX(SkillMatrixSecondary,ROW()-2,JoATGuildNumber),SkillRankLookupTable,2,1))","v":false},0,512,0,0,0,0,0,0,0,0,0,0,0,0,0,0,0,0,0,0,0,0,0,0,0,0,0,0,null,null,0,0,0,0,0,0,0,0,0,0,0,0,0,0,0,0,0,0,0,0,0,0,0,0,0,0,0,0]
["Warrior","Hold the Line",30,50,70,70,70,90,30,50,70,70,70,90,30,50,70,70,70,90,1,1,"Double Strength",{"$f":"NOT(StrengthSkill>1)","v":true},{"$f":"FALSE","v":false},false,false,false,false,false,false,false,false,false,false,false,false,false,false,false,false,false,false,false,false,20,0,0,64,0,0,0,0,0,0,0,0,0,0,0,0,0,0,0,0,0,0,0,0,0,0,0,0,null,null,0,0,0,0,0,0,0,0,0,0,0,0,0,0,0,0,0,0,0,0,0,0,0,0,0,0,0,0]
["Warrior","Hold the Line Mastery",30,50,70,70,70,90,30,50,70,70,70,90,30,50,70,70,70,90,1,null,"Hold The Line",{"$f":"NOT(HoldTheLineSkillLvl>0)","v":true},{"$f":"FALSE","v":false},false,{"$f":"VLOOKUP(INDEX(SkillMatrixPrimary,ROW()-2,PrimaryGuildNumber),SkillRankLookupTable,2,1)","v":false},false,false,false,false,false,false,false,false,false,false,false,false,false,false,false,false,false,false,64,0,0,0,0,0,0,0,0,0,0,0,0,0,0,0,0,0,0,0,0,0,0,0,0,0,0,0,null,null,0,0,0,0,0,0,0,0,0,0,0,0,0,0,0,0,0,0,0,0,0,0,0,0,0,0,0,0]
["Warrior","Hold the Line Enhanced Mastery",30,50,70,70,70,90,30,50,70,70,70,90,30,50,70,70,70,90,1,null,"Hold The Line Mastery",{"$f":"NOT(HoldTheLineSkillLvl>1)","v":true},{"$f":"FALSE","v":false},false,false,false,false,false,false,false,false,false,false,false,false,false,false,false,false,false,false,false,false,128,0,0,0,0,0,0,0,0,0,0,0,0,0,0,0,0,0,0,0,0,0,0,0,0,0,0,0,null,null,0,0,0,0,0,0,0,0,0,0,0,0,0,0,0,0,0,0,0,0,0,0,0,0,0,0,0,0]
["Warrior","Never Surrender",50,150,100,100,100,150,50,150,100,100,100,150,50,150,100,100,100,150,1,1,"Hold The Line",{"$f":"NOT(HoldTheLineSkillLvl>0)","v":true},{"$f":"FALSE","v":false},false,false,false,false,false,false,false,false,false,false,false,false,false,false,false,false,false,false,false,false,64,0,0,0,0,0,0,0,0,0,0,0,0,0,0,0,0,0,0,0,0,0,0,0,0,0,0,0,null,null,0,0,0,0,0,0,0,0,0,0,0,0,0,0,0,0,0,0,0,0,0,0,0,0,0,0,0,0]
["Warrior","Never Say Die",50,150,100,100,100,150,50,150,100,100,100,150,50,150,100,100,100,150,1,1,"Never Surrender",{"$f":"NOT(NeverSkillLvl>0)","v":true},{"$f":"FALSE","v":false},false,false,false,false,false,false,false,false,false,false,false,false,false,false,false,false,false,false,false,false,128,0,0,0,0,0,0,0,0,0,0,0,0,0,0,0,0,0,0,0,0,0,0,0,0,0,0,0,null,null,0,0,0,0,0,0,0,0,0,0,0,0,0,0,0,0,0,0,0,0,0,0,0,0,0,0,0,0]
["Warrior","External Champion",50,150,100,100,100,150,50,150,100,100,100,150,50,150,100,100,100,150,1,1,"Never Say Die",{"$f":"NOT(NeverSkillLvl>1)","v":true},{"$f":"FALSE","v":false},false,false,false,false,false,false,false,false,false,false,false,false,false,false,false,false,false,false,false,false,512,0,0,0,0,0,0,0,0,0,0,0,0,0,0,0,0,0,0,0,0,0,0,0,0,0,0,0,null,null,0,0,0,0,0,0,0,0,0,0,0,0,0,0,0,0,0,0,0,0,0,0,0,0,0,0,0,0]
["Warrior","Knockback Uses",10,20,30,30,30,40,10,20,30,30,30,40,10,20,30,30,30,40,{"$f":"IF(KnockbackSkillLvl=1,3,IF(KnockbackSkillLvl>=2,IF(KnockbackSkillLvl>3,9,6),0))","v":0},null,"Knockback",{"$f":"NOT(KnockbackSkillLvl>=1)","v":true},{"$f":"FALSE","v":false},false,false,false,false,false,false,false,false,false,false,false,false,false,false,false,false,false,false,false,false,64,64,1,64,0,0,0,0,0,0,0,0,0,0,0,0,0,0,0,0,0,0,0,0,0,0,0,0,null,null,128,0,64,128,0,0,0,0,0,0,0,0,0,0,0,0,0,0,0,0,0,0,0,0,0,0,0,0]
["Warrior","Knockback",0,0,0,0,0,0,0,0,0,0,0,0,0,0,0,0,0,0,1,1,"None",{"$f":"FALSE","v":false},{"$f":"FALSE","v":false},false,false,false,false,false,false,false,false,false,false,false,false,false,false,false,false,false,false,false,false,64,64,1,64,0,0,0,0,0,0,0,0,0,0,0,0,0,0,0,0,0,0,0,0,0,0,0,0,null,null,128,0,64,128,0,0,0,0,0,0,0,0,0,0,0,0,0,0,0,0,0,0,0,0,0,0,0,0]
["Warrior","Knockback Mastery",20,40,60,60,60,80,20,40,60,60,60,80,20,40,60,60,60,80,1,null,"Knockback",{"$f":"NOT(KnockbackSkillLvl>=1)","v":true},{"$f":"FALSE","v":false},false,false,false,false,false,false,false,false,false,false,false,false,false,false,false,false,false,false,false,false,128,128,64,128,0,0,0,0,0,0,0,0,0,0,0,0,0,0,0,0,0,0,0,0,0,0,0,0,null,null,256,0,128,256,0,0,0,0,0,0,0,0,0,0,0,0,0,0,0,0,0,0,0,0,0,0,0,0]
["Warrior","Knockback Enhanced Mastery",30,60,90,90,90,120,30,60,90,90,90,120,30,60,90,90,90,120,1,1,"Knockback Mastery",{"$f":"NOT(KnockbackSkillLvl>=2)","v":true},{"$f":"FALSE","v":false},false,false,false,false,false,false,false,false,false,false,false,false,false,false,false,false,false,false,false,false,256,0,128,256,0,0,0,0,0,0,0,0,0,0,0,0,0,0,0,0,0,0,0,0,0,0,0,0,null,null,0,0,0,0,0,0,0,0,0,0,0,0,0,0,0,0,0,0,0,0,0,0,0,0,0,0,0,0]
["Warrior","Knockback Superior Mastery",40,80,120,120,120,160,40,80,120,120,120,160,40,80,120,120,120,160,1,1,"Knockback Enhanced Mastery",{"$f":"NOT(KnockbackSkillLvl>=3)","v":true},{"$f":"FALSE","v":false},false,false,false,false,false,false,false,false,false,false,false,false,false,false,false,false,false,false,false,false,512,0,512,512,0,0,0,0,0,0,0,0,0,0,0,0,0,0,0,0,0,0,0,0,0,0,0,0,null,null,0,0,0,0,0,0,0,0,0,0,0,0,0,0,0,0,0,0,0,0,0,0,0,0,0,0,0,0]
["Warrior","Knockdown Uses",10,20,30,30,30,40,10,20,30,30,30,40,10,20,30,30,30,40,{"$f":"IF(KnockdownSkillLvl=1,3,IF(KnockdownSkillLvl>=2,IF(KnockdownSkillLvl>3,9,6),0))","v":0},null,"Knockdown, Two Handed Weapon Proficiency",{"$f":"NOT(AND(KnockdownSkillLvl>=1,TwoHandedWeaponSkillLvl>=1))","v":true},{"$f":"FALSE","v":false},false,false,false,false,false,false,false,false,false,false,false,false,false,false,false,false,false,false,false,false,128,20,1,0,0,0,0,0,0,0,0,0,0,0,0,0,0,0,0,0,0,0,0,0,0,0,0,0,null,null,256,64,64,0,0,0,0,0,0,0,0,0,0,0,0,0,0,0,0,0,0,0,0,0,0,0,0,0]
["Warrior","Knockdown",0,0,0,0,0,0,0,0,0,0,0,0,0,0,0,0,0,0,1,1,"Strength",{"$f":"NOT(StrengthSkill>=1)","v":true},{"$f":"FALSE","v":false},false,false,false,false,false,false,false,false,false,false,false,false,false,false,false,false,false,false,false,false,128,20,1,0,0,0,0,0,0,0,0,0,0,0,0,0,0,0,0,0,0,0,0,0,0,0,0,0,null,null,256,64,64,0,0,0,0,0,0,0,0,0,0,0,0,0,0,0,0,0,0,0,0,0,0,0,0,0]
["Warrior","Knockdown Mastery",20,40,60,60,60,80,20,40,60,60,60,80,20,40,60,60,60,80,1,null,"Knockdown",{"$f":"NOT(KnockdownSkillLvl>=1)","v":true},{"$f":"FALSE","v":false},false,false,false,false,false,false,false,false,false,false,false,false,false,false,false,false,false,false,false,false,256,64,64,0,0,0,0,0,0,0,0,0,0,0,0,0,0,0,0,0,0,0,0,0,0,0,0,0,null,null,0,128,128,0,0,0,0,0,0,0,0,0,0,0,0,0,0,0,0,0,0,0,0,0,0,0,0,0]
["Warrior","Knockdown Enhanced Mastery",30,60,90,90,90,120,30,60,90,90,90,120,30,60,90,90,90,120,1,1,"Knockdown Mastery, Double Strength",{"$f":"NOT(AND(KnockdownSkillLvl>=2, StrengthSkill>=2))","v":true},{"$f":"FALSE","v":false},false,false,false,false,false,false,false,false,false,false,false,false,false,false,false,false,false,false,false,false,0,128,128,0,0,0,0,0,0,0,0,0,0,0,0,0,0,0,0,0,0,0,0,0,0,0,0,0,null,null,0,0,0,0,0,0,0,0,0,0,0,0,0,0,0,0,0,0,0,0,0,0,0,0,0,0,0,0]
["Warrior","Knockdown Superior Mastery",40,80,120,120,120,160,40,80,120,120,120,160,40,80,120,120,120,160,1,1,"Knockdown Enhanced Mastery",{"$f":"NOT(KnockdownSkillLvl>=3)","v":true},{"$f":"FALSE","v":false},{"$f":"IF(AA304=FALSE,FALSE,TRUE)","v":false},false,false,false,false,false,{"$f":"IF(AG304=FALSE,FALSE,TRUE)","v":false},false,{"$f":"IF(AI304=FALSE,FALSE,TRUE)","v":false},false,{"$f":"IF(AK304=FALSE,FALSE,TRUE)","v":false},false,{"$f":"IF(AM304=FALSE,FALSE,TRUE)","v":false},false,{"$f":"IF(AO304=FALSE,FALSE,TRUE)","v":false},false,{"$f":"IF(AQ304=FALSE,FALSE,TRUE)","v":false},false,{"$f":"IF(AS304=FALSE,FALSE,TRUE)","v":false},false,0,512,512,0,0,0,0,0,0,0,0,0,0,0,0,0,0,0,0,0,0,0,0,0,0,0,0,0,null,null,0,0,0,0,0,0,0,0,0,0,0,0,0,0,0,0,0,0,0,0,0,0,0,0,0,0,0,0]
["Warrior","Limit Raise - Life",0,0,0,0,0,0,0,0,0,0,0,0,0,0,0,0,0,0,1,1,"Warrior or Scout",{"$f":"NOT(OR(CharacterType=\"Scout\", CharacterType=\"warrior\"))","v":true},{"$f":"FALSE","v":false},false,false,false,false,false,false,false,false,false,false,false,false,false,false,false,false,false,false,false,false,64,64,64,64,128,128,128,128,0,0,0,0,0,0,0,0,0,0,0,0,0,0,0,0,0,0,0,0,null,null,0,0,0,0,0,0,0,0,0,0,0,0,0,0,0,0,0,0,0,0,0,0,0,0,0,0,0,0]
["Warrior","Limit Raise Mastery - Life",0,0,0,0,0,0,0,0,0,0,0,0,0,0,0,0,0,0,1,1,"Limit Riase - Life, Warrior or Scout",{"$f":"NOT(AND(OR(CharacterType=\"Scout\",CharacterType=\"warrior\"),LimitRaiseLifeSkillLvl>=1))","v":true},{"$f":"FALSE","v":false},false,false,false,false,false,false,false,false,false,false,false,false,false,false,false,false,false,false,false,false,128,128,128,128,256,256,256,256,0,0,0,0,0,0,0,0,0,0,0,0,0,0,0,0,0,0,0,0,null,null,0,0,0,0,0,0,0,0,0,0,0,0,0,0,0,0,0,0,0,0,0,0,0,0,0,0,0,0]
["Warrior","Limit Raise Enhanced Mastery - Life",0,0,0,0,0,0,0,0,0,0,0,0,0,0,0,0,0,0,1,1,"Limit Raise Mastery - Life, Warrior or Scout",{"$f":"NOT(AND(LimitRaiseLifeSkillLvl>=2,OR(CharacterType=\"Scout\",CharacterType=\"warrior\")))","v":true},{"$f":"FALSE","v":false},false,false,false,false,false,false,false,false,false,false,false,false,false,false,false,false,false,false,false,false,256,256,256,256,512,512,512,512,0,0,0,0,0,0,0,0,0,0,0,0,0,0,0,0,0,0,0,0,null,null,0,0,0,0,0,0,0,0,0,0,0,0,0,0,0,0,0,0,0,0,0,0,0,0,0,0,0,0]
["Warrior","Limit Raise Superior Mastery - Life",0,0,0,0,0,0,0,0,0,0,0,0,0,0,0,0,0,0,1,1,"Limit Raise Enhanced Mastery - Life, Warrior",{"$f":"NOT(AND(LimitRaiseLifeSkillLvl>=3,CharacterType=\"warrior\"))","v":true},{"$f":"FALSE","v":false},false,false,false,false,false,false,false,false,false,false,false,false,false,false,false,false,false,false,false,false,512,512,512,512,0,0,0,0,0,0,0,0,0,0,0,0,0,0,0,0,0,0,0,0,0,0,0,0,null,null,0,0,0,0,0,0,0,0,0,0,0,0,0,0,0,0,0,0,0,0,0,0,0,0,0,0,0,0]
["Warrior","Nerve Strike Uses",10,20,30,30,30,40,10,20,30,30,30,40,10,20,30,30,30,40,{"$f":"IF(NerveStrikeSkillLvl=1,3,IF(NerveStrikeSkillLvl>=2,IF(NerveStrikeSkillLvl>3,9,6),0))","v":0},null,"Nerve Strike",{"$f":"NOT(NerveStrikeSkillLvl>=1)","v":true},{"$f":"FALSE","v":false},false,false,false,false,false,false,false,false,false,false,false,false,false,false,false,false,false,false,false,false,20,64,0,1,0,0,0,0,0,0,0,0,0,0,0,0,0,0,0,0,0,0,0,0,0,0,0,0,null,null,64,128,0,64,0,0,0,0,0,0,0,0,0,0,0,0,0,0,0,0,0,0,0,0,0,0,0,0]
["Warrior","Nerve Strike",0,0,0,0,0,0,0,0,0,0,0,0,0,0,0,0,0,0,1,1,"Weapon Mastery",{"$f":"NOT(WeaponMasteryAny)","v":true},{"$f":"FALSE","v":false},false,false,false,false,false,false,false,false,false,false,false,false,false,false,false,false,false,false,false,false,20,64,0,1,0,0,0,0,0,0,0,0,0,0,0,0,0,0,0,0,0,0,0,0,0,0,0,0,null,null,64,128,0,64,0,0,0,0,0,0,0,0,0,0,0,0,0,0,0,0,0,0,0,0,0,0,0,0]
["Warrior","Nerve Strike Mastery",20,40,60,60,60,80,20,40,60,60,60,80,20,40,60,60,60,80,1,null,"Nerve Strike, Weapon Enhanced Mastery",{"$f":"NOT(AND(NerveStrikeSkillLvl>=1,WeaponEnhMasteryAny))","v":true},{"$f":"FALSE","v":false},false,false,false,false,false,false,false,false,false,false,false,false,false,false,false,false,false,false,false,false,64,128,0,64,0,0,0,0,0,0,0,0,0,0,0,0,0,0,0,0,0,0,0,0,0,0,0,0,null,null,128,256,0,128,0,0,0,0,0,0,0,0,0,0,0,0,0,0,0,0,0,0,0,0,0,0,0,0]
["Warrior","Nerve Strike Enhanced Mastery",30,60,90,90,90,120,30,60,90,90,90,120,30,60,90,90,90,120,1,1,"Nerve Strike Mastery, Weapon Attunement",{"$f":"NOT(AND(WeaponAttunement,NerveStrikeSkillLvl>=2))","v":true},{"$f":"FALSE","v":false},false,false,false,false,false,false,false,false,false,false,false,false,false,false,false,false,false,false,false,false,128,256,0,128,0,0,0,0,0,0,0,0,0,0,0,0,0,0,0,0,0,0,0,0,0,0,0,0,null,null,0,0,0,0,0,0,0,0,0,0,0,0,0,0,0,0,0,0,0,0,0,0,0,0,0,0,0,0]
["Warrior","Nerve Strike Superior Mastery",40,80,120,120,120,160,40,80,120,120,120,160,40,80,120,120,120,160,1,1,"Nerve Strike Enhanced Mastery",{"$f":"NOT(NerveStrikeSkillLvl>=3)","v":true},{"$f":"FALSE","v":false},false,false,false,false,false,false,false,false,false,false,false,false,false,false,false,false,false,false,false,false,512,512,0,512,0,0,0,0,0,0,0,0,0,0,0,0,0,0,0,0,0,0,0,0,0,0,0,0,null,null,0,0,0,0,0,0,0,0,0,0,0,0,0,0,0,0,0,0,0,0,0,0,0,0,0,0,0,0]
["Warrior","Resist Bonebreak",30,60,90,90,90,120,30,60,90,90,90,120,30,60,90,90,90,120,1,1,"Toughened Skin Mastery",{"$f":"NOT(ToughenedSkinSkill>=2)","v":true},{"$f":"FALSE","v":false},false,false,false,false,false,false,false,false,false,false,false,false,false,false,false,false,false,false,false,false,64,128,64,128,0,0,0,0,0,0,0,0,0,0,0,0,0,0,0,0,0,0,0,0,0,0,0,0,null,null,256,0,0,0,0,0,0,0,0,0,0,0,0,0,0,0,0,0,0,0,0,0,0,0,0,0,0,0]
["Warrior","Resist Bonebreak Mastery",40,80,120,120,120,160,40,80,120,120,120,160,40,80,120,120,120,160,1,null,"Resist Bonebreak",{"$f":"NOT(ResistBoneBreakSkillLvl>=1)","v":true},{"$f":"FALSE","v":false},false,false,false,false,false,false,false,false,false,false,false,false,false,false,false,false,false,false,false,false,128,256,128,256,0,0,0,0,0,0,0,0,0,0,0,0,0,0,0,0,0,0,0,0,0,0,0,0,null,null,0,0,0,0,0,0,0,0,0,0,0,0,0,0,0,0,0,0,0,0,0,0,0,0,0,0,0,0]
["Warrior","Resist Bonebreak Enhanced Mastery",50,100,150,150,150,200,50,100,150,150,150,200,50,100,150,150,150,200,1,1,"Resist Bonebreak Mastery",{"$f":"NOT(ResistBoneBreakSkillLvl>=2)","v":true},{"$f":"FALSE","v":false},false,false,false,false,false,false,false,false,false,false,false,false,false,false,false,false,false,false,false,false,256,0,256,0,0,0,0,0,0,0,0,0,0,0,0,0,0,0,0,0,0,0,0,0,0,0,0,0,null,null,0,0,0,0,0,0,0,0,0,0,0,0,0,0,0,0,0,0,0,0,0,0,0,0,0,0,0,0]
["Warrior","Resist Bonebreak Superior Mastery",60,120,180,180,180,240,60,120,180,180,180,240,60,120,180,180,180,240,1,1,"Resist Bonebreak Enhanced Mastery",{"$f":"NOT(ResistBoneBreakSkillLvl>=3)","v":true},{"$f":"FALSE","v":false},false,false,false,false,false,false,false,false,false,false,false,false,false,false,false,false,false,false,false,false,512,0,512,0,0,0,0,0,0,0,0,0,0,0,0,0,0,0,0,0,0,0,0,0,0,0,0,0,null,null,0,0,0,0,0,0,0,0,0,0,0,0,0,0,0,0,0,0,0,0,0,0,0,0,0,0,0,0]
["Warrior","Resist Disarm",10,40,60,60,60,80,10,40,60,60,60,80,10,40,60,60,60,80,1,1,"Weapon Attunement",{"$f":"NOT(WeaponAttunement)","v":true},{"$f":"FALSE","v":false},false,false,false,false,false,false,false,false,false,false,false,false,false,false,false,false,false,false,false,false,20,0,0,1,0,0,0,0,0,0,0,0,0,0,0,0,0,0,0,0,0,0,0,0,0,0,0,0,null,null,64,0,0,128,0,0,0,0,0,0,0,0,0,0,0,0,0,0,0,0,0,0,0,0,0,0,0,0]
["Warrior","Resist Disarm Mastery",20,60,90,90,90,120,20,60,90,90,90,120,20,60,90,90,90,120,1,null,"Resist Disarm",{"$f":"NOT(ResistDisarmSkillLvl>=1)","v":true},{"$f":"FALSE","v":false},false,false,false,false,false,false,false,false,false,false,false,false,false,false,false,false,false,false,false,false,64,0,0,64,0,0,0,0,0,0,0,0,0,0,0,0,0,0,0,0,0,0,0,0,0,0,0,0,null,null,128,0,0,256,0,0,0,0,0,0,0,0,0,0,0,0,0,0,0,0,0,0,0,0,0,0,0,0]
["Warrior","Resist Disarm Enhanced Mastery",30,80,120,120,120,160,30,80,120,120,120,160,30,80,120,120,120,160,1,1,"Resist Disarm Mastery",{"$f":"NOT(ResistDisarmSkillLvl>=2)","v":true},{"$f":"FALSE","v":false},false,false,false,false,false,false,false,false,false,false,false,false,false,false,false,false,false,false,false,false,128,0,0,256,0,0,0,0,0,0,0,0,0,0,0,0,0,0,0,0,0,0,0,0,0,0,0,0,null,null,0,0,0,0,0,0,0,0,0,0,0,0,0,0,0,0,0,0,0,0,0,0,0,0,0,0,0,0]
["Warrior","Resist Disarm Superior Mastery",40,100,150,150,150,200,40,100,150,150,150,200,40,100,150,150,150,200,1,1,"Resist Disarm Enhanced Mastery",{"$f":"NOT(ResistDisarmSkillLvl>=3)","v":true},{"$f":"FALSE","v":false},false,false,false,false,false,false,false,false,false,false,false,false,false,false,false,false,false,false,false,false,512,0,0,512,0,0,0,0,0,0,0,0,0,0,0,0,0,0,0,0,0,0,0,0,0,0,0,0,null,null,0,0,0,0,0,0,0,0,0,0,0,0,0,0,0,0,0,0,0,0,0,0,0,0,0,0,0,0]
["Warrior","Resist Dismember",30,60,90,90,90,120,30,60,90,90,90,120,30,60,90,90,90,120,1,1,"Toughened Skin Enhanced Mastery",{"$f":"NOT(ToughenedSkinSkill>=3)","v":true},{"$f":"FALSE","v":false},false,false,false,false,false,false,false,false,false,false,false,false,false,false,false,false,false,false,false,false,64,128,128,64,0,0,0,0,0,0,0,0,0,0,0,0,0,0,0,0,0,0,0,0,0,0,0,0,null,null,256,0,0,0,0,0,0,0,0,0,0,0,0,0,0,0,0,0,0,0,0,0,0,0,0,0,0,0]
["Warrior","Resist Dismember Mastery",40,80,120,120,120,160,40,80,120,120,120,160,40,80,120,120,120,160,1,null,"Resist Dismember",{"$f":"NOT(ResistDismemberSkillLvl>=1)","v":true},{"$f":"FALSE","v":false},false,false,false,false,false,false,false,false,false,false,false,false,false,false,false,false,false,false,false,false,128,256,256,256,0,0,0,0,0,0,0,0,0,0,0,0,0,0,0,0,0,0,0,0,0,0,0,0,null,null,0,0,0,0,0,0,0,0,0,0,0,0,0,0,0,0,0,0,0,0,0,0,0,0,0,0,0,0]
["Warrior","Resist Dismember Enhanced Mastery",50,100,150,150,150,200,50,100,150,150,150,200,50,100,150,150,150,200,1,1,"Resist Dismember Mastery",{"$f":"NOT(ResistDismemberSkillLvl>=2)","v":true},{"$f":"FALSE","v":false},false,false,false,false,false,false,false,false,false,false,false,false,false,false,false,false,false,false,false,false,256,0,0,0,0,0,0,0,0,0,0,0,0,0,0,0,0,0,0,0,0,0,0,0,0,0,0,0,null,null,0,0,0,0,0,0,0,0,0,0,0,0,0,0,0,0,0,0,0,0,0,0,0,0,0,0,0,0]
["Warrior","Resist Dismember Superior Mastery",60,120,180,180,180,240,60,120,180,180,180,240,60,120,180,180,180,240,1,1,"Resist Dismember Enhanced Mastery",{"$f":"NOT(ResistDismemberSkillLvl>=3)","v":true},{"$f":"FALSE","v":false},false,false,false,false,false,false,false,false,false,false,false,false,false,false,false,false,false,false,false,false,512,0,0,0,0,0,0,0,0,0,0,0,0,0,0,0,0,0,0,0,0,0,0,0,0,0,0,0,null,null,0,0,0,0,0,0,0,0,0,0,0,0,0,0,0,0,0,0,0,0,0,0,0,0,0,0,0,0]
["Warrior","Resist Knockback",10,40,60,60,60,80,10,40,60,60,60,80,10,40,60,60,60,80,1,1,"Strength",{"$f":"NOT(StrengthSkill>=1)","v":true},{"$f":"FALSE","v":false},false,false,false,false,false,false,false,false,false,false,false,false,false,false,false,false,false,false,false,false,1,20,20,64,0,0,0,0,0,0,0,0,0,0,0,0,0,0,0,0,0,0,0,0,0,0,0,0,null,null,64,64,64,64,0,0,0,0,0,0,0,0,0,0,0,0,0,0,0,0,0,0,0,0,0,0,0,0]
["Warrior","Resist Knockback Mastery",20,60,90,90,90,120,20,60,90,90,90,120,20,60,90,90,90,120,1,null,"Resist Knockback",{"$f":"NOT(ResistKnockbackSkillLvl>=1)","v":true},{"$f":"FALSE","v":false},false,false,false,false,false,false,false,false,false,false,false,false,false,false,false,false,false,false,false,false,20,64,64,128,0,0,0,0,0,0,0,0,0,0,0,0,0,0,0,0,0,0,0,0,0,0,0,0,null,null,128,128,128,256,0,0,0,0,0,0,0,0,0,0,0,0,0,0,0,0,0,0,0,0,0,0,0,0]
["Warrior","Resist Knockback Enhanced Mastery",30,80,120,120,120,160,30,80,120,120,120,160,30,80,120,120,120,160,1,1,"Resist Knockback Mastery",{"$f":"NOT(ResistKnockbackSkillLvl>=2)","v":true},{"$f":"FALSE","v":false},false,false,false,false,false,false,false,false,false,false,false,false,false,false,false,false,false,false,false,false,64,128,128,0,0,0,0,0,0,0,0,0,0,0,0,0,0,0,0,0,0,0,0,0,0,0,0,0,null,null,0,0,0,0,0,0,0,0,0,0,0,0,0,0,0,0,0,0,0,0,0,0,0,0,0,0,0,0]
["Warrior","Resist Knockback Superior Mastery",40,100,150,150,150,200,40,100,150,150,150,200,40,100,150,150,150,200,1,1,"Resist Knockback Enhanced Mastery",{"$f":"NOT(ResistKnockbackSkillLvl>=3)","v":true},{"$f":"FALSE","v":false},false,false,false,false,false,false,false,false,false,false,false,false,false,false,false,false,false,false,false,false,512,512,512,0,0,0,0,0,0,0,0,0,0,0,0,0,0,0,0,0,0,0,0,0,0,0,0,0,null,null,0,0,0,0,0,0,0,0,0,0,0,0,0,0,0,0,0,0,0,0,0,0,0,0,0,0,0,0]
["Warrior","Resist Knockdown",10,40,60,60,60,80,10,40,60,60,60,80,10,40,60,60,60,80,1,1,"Double Strength",{"$f":"NOT(StrengthSkill>=2)","v":true},{"$f":"FALSE","v":false},false,false,false,false,false,false,false,false,false,false,false,false,false,false,false,false,false,false,false,false,1,20,20,64,0,0,0,0,0,0,0,0,0,0,0,0,0,0,0,0,0,0,0,0,0,0,0,0,null,null,64,64,64,64,0,0,0,0,0,0,0,0,0,0,0,0,0,0,0,0,0,0,0,0,0,0,0,0]
["Warrior","Resist Knockdown Mastery",20,60,90,90,90,120,20,60,90,90,90,120,20,60,90,90,90,120,1,null,"Resist Knockdown",{"$f":"NOT(ResistKnockdownSkillLvl>=1)","v":true},{"$f":"FALSE","v":false},false,false,false,false,false,false,false,false,false,false,false,false,false,false,false,false,false,false,false,false,64,64,64,128,0,0,0,0,0,0,0,0,0,0,0,0,0,0,0,0,0,0,0,0,0,0,0,0,null,null,128,128,128,256,0,0,0,0,0,0,0,0,0,0,0,0,0,0,0,0,0,0,0,0,0,0,0,0]
["Warrior","Resist Knockdown Enhanced Mastery",30,80,120,120,120,160,30,80,120,120,120,160,30,80,120,120,120,160,1,1,"Resist Knockdown Mastery",{"$f":"NOT(ResistKnockdownSkillLvl>=2)","v":true},{"$f":"FALSE","v":false},false,false,false,false,false,false,false,false,false,false,false,false,false,false,false,false,false,false,false,false,128,128,128,0,0,0,0,0,0,0,0,0,0,0,0,0,0,0,0,0,0,0,0,0,0,0,0,0,null,null,0,0,0,0,0,0,0,0,0,0,0,0,0,0,0,0,0,0,0,0,0,0,0,0,0,0,0,0]
["Warrior","Resist Knockdown Superior Mastery",40,100,150,150,150,200,40,100,150,150,150,200,40,100,150,150,150,200,1,1,"Resist Knockdown Enhanced Mastery",{"$f":"NOT(ResistKnockdownSkillLvl>=3)","v":true},{"$f":"FALSE","v":false},false,false,false,false,false,false,false,false,false,false,false,false,false,false,false,false,false,false,false,false,0,512,512,0,0,0,0,0,0,0,0,0,0,0,0,0,0,0,0,0,0,0,0,0,0,0,0,0,null,null,0,0,0,0,0,0,0,0,0,0,0,0,0,0,0,0,0,0,0,0,0,0,0,0,0,0,0,0]
["Warrior","Resist Nerve Strike",10,40,60,60,60,80,10,40,60,60,60,80,10,40,60,60,60,80,1,1,"Toughened Skin",{"$f":"NOT(ToughenedSkinSkill>0)","v":true},{"$f":"FALSE","v":false},false,false,false,false,false,false,false,false,false,false,false,false,false,false,false,false,false,false,false,false,1,64,64,64,0,0,0,0,0,0,0,0,0,0,0,0,0,0,0,0,0,0,0,0,0,0,0,0,null,null,64,128,128,64,0,0,0,0,0,0,0,0,0,0,0,0,0,0,0,0,0,0,0,0,0,0,0,0]
["Warrior","Resist Nerve Strike Mastery",20,60,90,90,90,120,20,60,90,90,90,120,20,60,90,90,90,120,1,null,"Resist Nerve Strike",{"$f":"NOT(ResistNerveStrikeSkillLvl>=1)","v":true},{"$f":"FALSE","v":false},false,false,false,false,false,false,false,false,false,false,false,false,false,false,false,false,false,false,false,false,64,128,128,128,0,0,0,0,0,0,0,0,0,0,0,0,0,0,0,0,0,0,0,0,0,0,0,0,null,null,128,256,256,256,0,0,0,0,0,0,0,0,0,0,0,0,0,0,0,0,0,0,0,0,0,0,0,0]
["Warrior","Resist Nerve Strike Enhanced Mastery",30,80,120,120,120,160,30,80,120,120,120,160,30,80,120,120,120,160,1,1,"Resist Nerve Strike Mastery",{"$f":"NOT(ResistNerveStrikeSkillLvl>=2)","v":true},{"$f":"FALSE","v":false},false,false,false,false,false,false,false,false,false,false,false,false,false,false,false,false,false,false,false,false,128,256,256,0,0,0,0,0,0,0,0,0,0,0,0,0,0,0,0,0,0,0,0,0,0,0,0,0,null,null,0,0,0,0,0,0,0,0,0,0,0,0,0,0,0,0,0,0,0,0,0,0,0,0,0,0,0,0]
["Warrior","Resist Nerve Strike Superior Mastery",40,100,150,150,150,200,40,100,150,150,150,200,40,100,150,150,150,200,1,1,"Resist Nerve Strike Enhanced Mastery",{"$f":"NOT(ResistNerveStrikeSkillLvl>=3)","v":true},{"$f":"FALSE","v":false},false,false,false,false,false,false,false,false,false,false,false,false,false,false,false,false,false,false,false,false,512,512,512,0,0,0,0,0,0,0,0,0,0,0,0,0,0,0,0,0,0,0,0,0,0,0,0,0,null,null,0,0,0,0,0,0,0,0,0,0,0,0,0,0,0,0,0,0,0,0,0,0,0,0,0,0,0,0]
["Warrior","Resist Shield Arm Bonebreak",30,60,90,90,90,120,30,60,90,90,90,120,30,60,90,90,90,120,1,1,"Toughened Skin, Shield Skill",{"$f":"NOT(AND(ToughenedSkinSkill>0,ShieldUse))","v":true},{"$f":"FALSE","v":false},false,false,false,false,false,false,false,false,false,false,false,false,false,false,false,false,false,false,false,false,20,0,0,64,0,0,0,0,0,0,0,0,0,0,0,0,0,0,0,0,0,0,0,0,0,0,0,0,null,null,256,0,0,256,0,0,0,0,0,0,0,0,0,0,0,0,0,0,0,0,0,0,0,0,0,0,0,0]
["Warrior","Resist Shield Arm Bonebreak Mastery",40,80,120,120,120,160,40,80,120,120,120,160,40,80,120,120,120,160,1,null,"Resist Shield Arm Bonebreak",{"$f":"NOT(ResistShieldArmBoneBreakSkillLvl>=1)","v":true},{"$f":"FALSE","v":false},false,false,false,false,false,false,false,false,false,false,false,false,false,false,false,false,false,false,false,false,64,0,0,256,0,0,0,0,0,0,0,0,0,0,0,0,0,0,0,0,0,0,0,0,0,0,0,0,null,null,0,0,0,0,0,0,0,0,0,0,0,0,0,0,0,0,0,0,0,0,0,0,0,0,0,0,0,0]
["Warrior","Resist Shield Arm Bonebreak Enhanced Mastery",50,100,150,150,150,200,50,100,150,150,150,200,50,100,150,150,150,200,1,1,"Resist Shield Arm Bonebreak Mastery",{"$f":"NOT(ResistShieldArmBoneBreakSkillLvl>=2)","v":true},{"$f":"FALSE","v":false},false,false,false,false,false,false,false,false,false,false,false,false,false,false,false,false,false,false,false,false,128,0,0,0,0,0,0,0,0,0,0,0,0,0,0,0,0,0,0,0,0,0,0,0,0,0,0,0,null,null,0,0,0,0,0,0,0,0,0,0,0,0,0,0,0,0,0,0,0,0,0,0,0,0,0,0,0,0]
["Warrior","Resist Shield Cleave",30,60,90,90,90,120,30,60,90,90,90,120,30,60,90,90,90,120,1,1,"Shield Skill",{"$f":"NOT(ShieldUse)","v":true},{"$f":"FALSE","v":false},false,false,{"$f":"IF(AC341=FALSE,FALSE,TRUE)","v":false},false,{"$f":"IF(AE341=FALSE,FALSE,TRUE)","v":false},false,false,false,false,false,false,false,false,false,false,false,false,false,false,false,20,0,0,64,0,0,0,0,0,0,0,0,0,0,0,0,0,0,0,0,0,0,0,0,0,0,0,0,null,null,256,0,0,256,0,0,0,0,0,0,0,0,0,0,0,0,0,0,0,0,0,0,0,0,0,0,0,0]
["Warrior","Resist Shield Cleave Mastery",40,80,120,120,120,160,40,80,120,120,120,160,40,80,120,120,120,160,1,null,"Resist Shield Cleave",{"$f":"NOT(ResistShieldCleaveSkillLvl>=1)","v":true},{"$f":"FALSE","v":false},false,false,false,false,false,false,false,false,false,false,false,false,false,false,false,false,false,false,false,false,64,0,0,256,0,0,0,0,0,0,0,0,0,0,0,0,0,0,0,0,0,0,0,0,0,0,0,0,null,null,0,0,0,0,0,0,0,0,0,0,0,0,0,0,0,0,0,0,0,0,0,0,0,0,0,0,0,0]
["Warrior","Resist Shield Cleave Enhanced Mastery",50,100,150,150,150,200,50,100,150,150,150,200,50,100,150,150,150,200,1,1,"Resist Shield Cleave Mastery",{"$f":"NOT(ResistShieldCleaveSkillLvl>=2)","v":true},{"$f":"FALSE","v":false},false,false,false,false,false,false,false,false,false,false,false,false,false,false,false,false,false,false,false,false,128,0,0,0,0,0,0,0,0,0,0,0,0,0,0,0,0,0,0,0,0,0,0,0,0,0,0,0,null,null,0,0,0,0,0,0,0,0,0,0,0,0,0,0,0,0,0,0,0,0,0,0,0,0,0,0,0,0]
["Warrior","Resist Through Damage",30,60,90,90,90,120,30,60,90,90,90,120,30,60,90,90,90,120,1,1,"Armour Proficiency",{"$f":"NOT(ArmourSkillLevel>=1)","v":true},{"$f":"FALSE","v":false},false,false,false,false,false,false,false,false,false,false,false,false,false,false,false,false,false,false,false,false,64,0,0,0,0,0,0,0,0,0,0,0,0,0,0,0,0,0,0,0,0,0,0,0,0,0,0,0,null,null,0,0,0,0,0,0,0,0,0,0,0,0,0,0,0,0,0,0,0,0,0,0,0,0,0,0,0,0]
["Warrior","Resist Through Damage Mastery",40,80,120,120,120,160,40,80,120,120,120,160,40,80,120,120,120,160,1,null,"Resist Shield Cleave Enhanced Mastery",{"$f":"NOT(ResistThroughSkillLvl>=1)","v":true},{"$f":"FALSE","v":false},false,false,false,false,false,false,false,false,false,false,false,false,false,false,false,false,false,false,false,false,128,0,0,0,0,0,0,0,0,0,0,0,0,0,0,0,0,0,0,0,0,0,0,0,0,0,0,0,null,null,0,0,0,0,0,0,0,0,0,0,0,0,0,0,0,0,0,0,0,0,0,0,0,0,0,0,0,0]
["Warrior","Resist Through Damage Enhanced Mastery",50,100,150,150,150,200,50,100,150,150,150,200,50,100,150,150,150,200,1,1,"Resist Through Damage",{"$f":"NOT(ResistThroughSkillLvl>=2)","v":true},{"$f":"FALSE","v":false},false,false,false,false,false,false,false,false,false,false,false,false,false,false,false,false,false,false,false,false,256,0,0,0,0,0,0,0,0,0,0,0,0,0,0,0,0,0,0,0,0,0,0,0,0,0,0,0,null,null,0,0,0,0,0,0,0,0,0,0,0,0,0,0,0,0,0,0,0,0,0,0,0,0,0,0,0,0]
["Warrior","Shield Arm Bonebreak",30,60,90,90,90,120,30,60,90,90,90,120,30,60,90,90,90,120,1,1,"Double Strength",{"$f":"NOT(StrengthSkill>=2)","v":true},{"$f":"FALSE","v":false},false,false,false,false,false,false,false,false,false,false,false,false,false,false,false,false,false,false,false,false,0,64,64,0,0,0,0,0,0,0,0,0,0,0,0,0,0,0,0,0,0,0,0,0,0,0,0,0,null,null,0,0,0,0,0,0,0,0,0,0,0,0,0,0,0,0,0,0,0,0,0,0,0,0,0,0,0,0]
["Warrior","Shield Arm Bonebreak Mastery",40,80,120,120,120,160,40,80,120,120,120,160,40,80,120,120,120,160,1,null,"Shield Arm Bonebreak",{"$f":"NOT(ShieldArmBoneBreakSkillLvl>=1)","v":true},{"$f":"FALSE","v":false},false,false,false,false,false,false,false,false,false,false,false,false,false,false,false,false,false,false,false,false,0,128,128,0,0,0,0,0,0,0,0,0,0,0,0,0,0,0,0,0,0,0,0,0,0,0,0,0,null,null,0,0,0,0,0,0,0,0,0,0,0,0,0,0,0,0,0,0,0,0,0,0,0,0,0,0,0,0]
["Warrior","Shield Arm Bonebreak Enhanced Mastery",50,100,150,150,150,200,50,100,150,150,150,200,50,100,150,150,150,200,1,1,"Shield Arm Bonebreak Mastery, Weapon Attunement",{"$f":"NOT(ShieldArmBoneBreakSkillLvl>=2)","v":true},{"$f":"FALSE","v":false},false,false,false,false,false,false,false,false,false,false,false,false,false,false,false,false,false,false,false,false,0,256,256,0,0,0,0,0,0,0,0,0,0,0,0,0,0,0,0,0,0,0,0,0,0,0,0,0,null,null,0,0,0,0,0,0,0,0,0,0,0,0,0,0,0,0,0,0,0,0,0,0,0,0,0,0,0,0]
["Warrior","Shield Cleave",30,60,90,90,90,120,30,60,90,90,90,120,30,60,90,90,90,120,1,1,"Double Handed Mastery",{"$f":"NOT(WeaponMasteryAny)","v":true},{"$f":"FALSE","v":false},false,false,false,false,false,false,false,false,false,false,false,false,false,false,false,false,false,false,false,false,0,64,64,256,0,0,0,0,0,0,0,0,0,0,0,0,0,0,0,0,0,0,0,0,0,0,0,0,null,null,0,0,0,0,0,0,0,0,0,0,0,0,0,0,0,0,0,0,0,0,0,0,0,0,0,0,0,0]
["Warrior","Shield Cleave Mastery",40,80,120,120,120,160,40,80,120,120,120,160,40,80,120,120,120,160,1,null,"Shield Cleave, Strength",{"$f":"NOT(AND(ShieldCleaveSkillLvl>=1, StrengthSkill>=1))","v":true},{"$f":"FALSE","v":false},false,false,false,false,false,false,false,false,false,false,false,false,false,false,false,false,false,false,false,false,0,128,128,0,0,0,0,0,0,0,0,0,0,0,0,0,0,0,0,0,0,0,0,0,0,0,0,0,null,null,0,0,0,0,0,0,0,0,0,0,0,0,0,0,0,0,0,0,0,0,0,0,0,0,0,0,0,0]
["Warrior","Shield Cleave Enhanced Mastery",50,100,150,150,150,200,50,100,150,150,150,200,50,100,150,150,150,200,1,1,"Shield Cleave Mastery, Weapon Attunement",{"$f":"NOT(AND(ShieldCleaveSkillLvl>=2,WeaponAttunement))","v":true},{"$f":"FALSE","v":false},false,false,false,{"$f":"IF(HasHQAClassUpgrade,VLOOKUP(INDEX(SkillMatrixPrimary,ROW()-2,SecondaryGuildNumber),SkillRankLookupTable,2,1),VLOOKUP(INDEX(SkillMatrixSecondary,ROW()-2,SecondaryGuildNumber),SkillRankLookupTable,2,1))","v":false},false,{"$f":"IF(HasHQAClass2Upgrade,VLOOKUP(INDEX(SkillMatrixPrimary,ROW()-2,Secondary2GuildNumber),SkillRankLookupTable,2,1),VLOOKUP(INDEX(SkillMatrixSecondary,ROW()-2,Secondary2GuildNumber),SkillRankLookupTable,2,1))","v":false},false,{"$f":"IF(HasHQAClass3Upgrade,VLOOKUP(INDEX(SkillMatrixPrimary,ROW()-2,Secondary3GuildNumber),SkillRankLookupTable,2,1),VLOOKUP(INDEX(SkillMatrixSecondary,ROW()-2,Secondary3GuildNumber),SkillRankLookupTable,2,1))","v":false},false,{"$f":"IF(HasHQAClass4Upgrade,VLOOKUP(INDEX(SkillMatrixPrimary,ROW()-2,Secondary4GuildNumber),SkillRankLookupTable,2,1),VLOOKUP(INDEX(SkillMatrixSecondary,ROW()-2,Secondary4GuildNumber),SkillRankLookupTable,2,1))","v":false},false,{"$f":"IF(HasHQAClass5Upgrade,VLOOKUP(INDEX(SkillMatrixPrimary,ROW()-2,Secondary5GuildNumber),SkillRankLookupTable,2,1),VLOOKUP(INDEX(SkillMatrixSecondary,ROW()-2,Secondary5GuildNumber),SkillRankLookupTable,2,1))","v":false},false,{"$f":"IF(HasHQAClass6Upgrade,VLOOKUP(INDEX(SkillMatrixPrimary,ROW()-2,Secondary6GuildNumber),SkillRankLookupTable,2,1),VLOOKUP(INDEX(SkillMatrixSecondary,ROW()-2,Secondary6GuildNumber),SkillRankLookupTable,2,1))","v":false},false,{"$f":"IF(HasHQAClass7Upgrade,VLOOKUP(INDEX(SkillMatrixPrimary,ROW()-2,Secondary7GuildNumber),SkillRankLookupTable,2,1),VLOOKUP(INDEX(SkillMatrixSecondary,ROW()-2,Secondary7GuildNumber),SkillRankLookupTable,2,1))","v":false},false,{"$f":"IF(HasHQAGuildUpgrade,VLOOKUP(INDEX(SkillMatrixPrimary,ROW()-2,AdditionalClassSecondaryGuildNumber),SkillRankLookupTable,2,1),VLOOKUP(INDEX(SkillMatrixSecondary,ROW()-2,AdditionalClassSecondaryGuildNumber),SkillRankLookupTable,2,1))","v":false},false,{"$f":"IF(HasHQAGuild2Upgrade,VLOOKUP(INDEX(SkillMatrixPrimary,ROW()-2,JoATGuildNumber),SkillRankLookupTable,2,1),VLOOKUP(INDEX(SkillMatrixSecondary,ROW()-2,JoATGuildNumber),SkillRankLookupTable,2,1))","v":false},0,256,256,0,0,0,0,0,0,0,0,0,0,0,0,0,0,0,0,0,0,0,0,0,0,0,0,0,null,null,0,0,0,0,0,0,0,0,0,0,0,0,0,0,0,0,0,0,0,0,0,0,0,0,0,0,0,0]
["Warrior","Shield Cleave Superior Mastery",60,120,180,180,180,240,60,120,180,180,180,240,60,120,180,180,180,240,1,1,"Shield Cleave Enhanced Mastery",{"$f":"NOT(ShieldCleaveSkillLvl>=3)","v":true},{"$f":"FALSE","v":false},false,false,false,false,false,false,false,false,false,false,false,false,false,false,false,false,false,false,false,false,0,512,512,0,0,0,0,0,0,0,0,0,0,0,0,0,0,0,0,0,0,0,0,0,0,0,0,0,null,null,0,0,0,0,0,0,0,0,0,0,0,0,0,0,0,0,0,0,0,0,0,0,0,0,0,0,0,0]
["Warrior","Spiritual Warrior",10,20,20,20,20,30,10,20,20,20,20,30,10,20,20,20,20,30,1,1,"90 Life, Armoured Dex Rank 1, Armour Proficiency, Weapon Mastery, Cast Rank 3 Invocations, 15 Power",{"$f":"NOT(OR(TotalLife>=90,ArmDex>=1,BindWoundsSkill>=1,ArmourSkillLevel>=1,WeaponMasteryAny,CastRank1stSphere>=3,TotalPower>=15))","v":false},{"$f":"FALSE","v":false},false,{"$f":"VLOOKUP(INDEX(SkillMatrixPrimary,ROW()-2,PrimaryGuildNumber),SkillRankLookupTable,2,1)","v":false},false,false,false,false,false,false,false,false,false,false,false,false,false,false,false,false,false,false,0,0,0,20,0,0,0,0,0,0,0,0,0,0,0,0,0,0,0,0,0,0,0,0,0,0,0,0,null,null,0,0,0,64,0,0,0,0,0,0,0,0,0,0,0,0,0,0,0,0,0,0,0,0,0,0,0,0]
["Warrior","Spiritual Warrior Mastery",20,40,40,40,40,60,20,40,40,40,40,60,20,40,40,40,40,60,1,1,"Spiritual Warrior, 120 Life, Armoured Dex Rank 2, Set Broken Bone, Armour Mastery, Enhanced Weapon Mastery, Cast Rank 5 Invocations, 25 Power, Read and Write Runes",{"$f":"NOT(OR(TotalLife>=120,ArmDex>=2,ArmourSkillLevel>=2,SetBrokenBone, WeaponEnhMasteryAny,CastRank1stSphere>=5,TotalPower>=25,ReadAndWriteRunes,SpiritualWarriorSkill>=1))","v":true},{"$f":"FALSE","v":false},false,false,false,false,false,false,false,false,false,false,false,false,false,false,false,false,false,false,false,false,0,0,0,64,0,0,0,0,0,0,0,0,0,0,0,0,0,0,0,0,0,0,0,0,0,0,0,0,null,null,0,0,0,128,0,0,0,0,0,0,0,0,0,0,0,0,0,0,0,0,0,0,0,0,0,0,0,0]
["Warrior","Spiritual Warrior Enhanced Mastery",30,60,60,60,60,90,30,60,60,60,60,90,30,60,60,60,60,90,1,1,"Spiritual Warrior Mastery, 150 Life, Armoured Dex Rank 3, Field Medicine, Enhanced Armour Mastery, Weapon Attunement, Make Talisman",{"$f":"NOT(OR(TotalLife>=150,ArmDex>=3,FieldMedicine,ArmourSkillLevel>=3,WeaponAttunement,MakeTalisman,SpiritualWarriorSkill>=2))","v":true},{"$f":"FALSE","v":false},false,false,false,false,false,false,false,false,false,false,false,false,false,false,false,false,false,false,false,false,0,0,0,128,0,0,0,0,0,0,0,0,0,0,0,0,0,0,0,0,0,0,0,0,0,0,0,0,null,null,0,0,0,256,0,0,0,0,0,0,0,0,0,0,0,0,0,0,0,0,0,0,0,0,0,0,0,0]
["Warrior","Subdual",10,20,20,20,20,40,10,20,20,20,20,40,10,20,20,20,20,40,1,null,null,{"$f":"FALSE","v":false},{"$f":"FALSE","v":false},false,false,false,false,false,false,false,false,false,false,false,false,false,false,false,false,false,false,false,false,1,0,0,1,0,0,1,0,0,0,0,0,0,0,0,0,0,1,0,0,0,0,0,0,0,0,0,0,null,null,0,0,0,0,0,0,0,0,0,0,0,0,0,0,0,0,0,20,0,0,0,0,0,0,0,0,0,0]
["Warrior","Subdual Mastery",20,40,40,40,40,60,20,40,40,40,40,60,20,40,40,40,40,60,1,null,"Subdual",{"$f":"NOT(SubdualSkillLvl>=1)","v":true},{"$f":"FALSE","v":false},false,false,false,false,false,false,false,false,false,false,false,false,false,false,false,false,false,false,false,false,20,0,0,20,0,0,20,0,0,0,0,0,0,0,0,0,0,20,0,0,0,0,0,0,0,0,0,0,null,null,0,0,0,0,0,0,0,0,0,0,0,0,0,0,0,0,0,64,0,0,0,0,0,0,0,0,0,0]
["Warrior","Subdual Enhanced Mastery",30,60,60,60,60,80,30,60,60,60,60,80,30,60,60,60,60,80,1,null,"Subdual Mastery",{"$f":"NOT(SubdualSkillLvl>=2)","v":true},{"$f":"FALSE","v":false},false,false,false,false,false,false,false,false,false,false,false,false,false,false,false,false,false,false,false,false,64,0,0,64,0,0,64,0,0,0,0,0,0,0,0,0,0,64,0,0,0,0,0,0,0,0,0,0,null,null,0,0,0,0,0,0,0,0,0,0,0,0,0,0,0,0,0,128,0,0,0,0,0,0,0,0,0,0]
["Warrior","Sunder",40,80,120,120,120,160,40,80,120,120,120,160,40,80,120,120,120,160,1,1,"Double Strength, Weapon Attunement",{"$f":"NOT(AND(StrengthSkill>=2, WeaponAttunement))","v":true},{"$f":"FALSE","v":false},false,false,false,false,false,false,false,false,false,false,false,false,false,false,false,false,false,false,false,false,512,512,512,512,0,0,0,0,0,0,0,0,0,0,0,0,0,0,0,0,0,0,0,0,0,0,0,0,null,null,0,0,0,0,0,0,0,0,0,0,0,0,0,0,0,0,0,0,0,0,0,0,0,0,0,0,0,0]
["Warrior","Sunder Mastery",50,100,150,150,150,200,50,100,150,150,150,200,50,100,150,150,150,200,1,1,"Sunder",{"$f":"NOT(SunderSkillLevel>=1)","v":true},{"$f":"FALSE","v":false},false,false,false,false,false,false,false,false,false,false,false,false,false,false,false,false,false,false,false,false,512,512,512,512,0,0,0,0,0,0,0,0,0,0,0,0,0,0,0,0,0,0,0,0,0,0,0,0,null,null,0,0,0,0,0,0,0,0,0,0,0,0,0,0,0,0,0,0,0,0,0,0,0,0,0,0,0,0]
["Warrior","Sunder Enhanced Mastery",60,120,180,180,180,240,60,120,180,180,180,240,60,120,180,180,180,240,1,1,"Sunder Mastery",{"$f":"NOT(SunderSkillLevel>=2)","v":true},{"$f":"FALSE","v":false},false,false,false,false,false,false,false,false,false,false,false,false,false,false,false,false,false,false,false,false,512,512,512,512,0,0,0,0,0,0,0,0,0,0,0,0,0,0,0,0,0,0,0,0,0,0,0,0,null,null,0,0,0,0,0,0,0,0,0,0,0,0,0,0,0,0,0,0,0,0,0,0,0,0,0,0,0,0]
["Weapon","Cast through Weapon",0,0,0,0,0,0,0,0,0,0,0,0,0,0,0,0,0,0,1,1,"Able to cast spells or invocations 2 – 5",{"$f":"NOT(OR(CastRank1stSphere>1,_Lvl02>0))","v":true},{"$f":"FALSE","v":false},false,false,false,false,false,false,false,false,false,false,false,false,false,false,false,false,false,false,false,false,256,256,256,256,256,256,256,256,256,256,256,256,256,256,256,256,256,0,256,256,256,256,256,256,256,256,256,0,null,null,256,256,256,256,256,256,256,256,256,256,256,256,256,256,256,256,256,0,256,256,256,256,256,256,256,256,256,0]
["Weapon","Cast through Weapon Mastery",0,0,0,0,0,0,0,0,0,0,0,0,0,0,0,0,0,0,1,1,"Cast Through Weapon",{"$f":"NOT(CastThroughWeapon>=1)","v":false},{"$f":"FALSE","v":false},false,false,false,false,false,false,false,false,false,false,false,false,false,false,false,false,false,false,false,false,512,512,512,512,512,512,512,512,512,512,512,512,512,512,512,512,512,0,512,512,512,512,512,512,512,512,512,0,null,null,0,0,0,0,0,0,0,0,0,0,0,0,0,0,0,0,0,0,0,0,0,0,0,0,0,0,0,0]
["Weapon","Weapon Bond",0,0,0,0,0,0,0,0,0,0,0,0,0,0,0,0,0,0,1,1,"Cast through Weapon Mastery",{"$f":"NOT(CastThroughWeapon>=2)","v":false},{"$f":"FALSE","v":false},false,false,false,false,false,false,false,false,false,false,false,false,false,false,false,false,false,false,false,false,512,512,512,512,512,512,512,512,512,512,512,512,512,512,512,512,512,0,512,512,512,512,512,512,512,512,512,0,null,null,0,0,0,0,0,0,0,0,0,0,0,0,0,0,0,0,0,0,0,0,0,0,0,0,0,0,0,0]
["Weapon","Weapon Proficiency - Single handed (blunt and sharp)",0,0,0,0,0,0,0,0,0,0,0,0,0,0,0,0,0,0,"N/A",null,"None",{"$f":"FALSE","v":false},{"$f":"TRUE","v":true},{"$f":"IF(AA366=FALSE,FALSE,TRUE)","v":false},{"$f":"VLOOKUP(INDEX(SkillMatrixPrimary,ROW()-2,PrimaryGuildNumber),SkillRankLookupTable,2,1)","v":false},{"$f":"IF(AC366=FALSE,FALSE,TRUE)","v":false},{"$f":"IF(HasHQAClassUpgrade,VLOOKUP(INDEX(SkillMatrixPrimary,ROW()-2,SecondaryGuildNumber),SkillRankLookupTable,2,1),VLOOKUP(INDEX(SkillMatrixSecondary,ROW()-2,SecondaryGuildNumber),SkillRankLookupTable,2,1))","v":false},{"$f":"IF(AE366=FALSE,FALSE,TRUE)","v":false},{"$f":"IF(HasHQAClass2Upgrade,VLOOKUP(INDEX(SkillMatrixPrimary,ROW()-2,Secondary2GuildNumber),SkillRankLookupTable,2,1),VLOOKUP(INDEX(SkillMatrixSecondary,ROW()-2,Secondary2GuildNumber),SkillRankLookupTable,2,1))","v":false},{"$f":"IF(AG366=FALSE,FALSE,TRUE)","v":false},{"$f":"IF(HasHQAClass3Upgrade,VLOOKUP(INDEX(SkillMatrixPrimary,ROW()-2,Secondary3GuildNumber),SkillRankLookupTable,2,1),VLOOKUP(INDEX(SkillMatrixSecondary,ROW()-2,Secondary3GuildNumber),SkillRankLookupTable,2,1))","v":false},false,{"$f":"IF(HasHQAClass4Upgrade,VLOOKUP(INDEX(SkillMatrixPrimary,ROW()-2,Secondary4GuildNumber),SkillRankLookupTable,2,1),VLOOKUP(INDEX(SkillMatrixSecondary,ROW()-2,Secondary4GuildNumber),SkillRankLookupTable,2,1))","v":false},{"$f":"IF(AK366=FALSE,FALSE,TRUE)","v":false},{"$f":"IF(HasHQAClass5Upgrade,VLOOKUP(INDEX(SkillMatrixPrimary,ROW()-2,Secondary5GuildNumber),SkillRankLookupTable,2,1),VLOOKUP(INDEX(SkillMatrixSecondary,ROW()-2,Secondary5GuildNumber),SkillRankLookupTable,2,1))","v":false},{"$f":"IF(AM366=FALSE,FALSE,TRUE)","v":false},{"$f":"IF(HasHQAClass6Upgrade,VLOOKUP(INDEX(SkillMatrixPrimary,ROW()-2,Secondary6GuildNumber),SkillRankLookupTable,2,1),VLOOKUP(INDEX(SkillMatrixSecondary,ROW()-2,Secondary6GuildNumber),SkillRankLookupTable,2,1))","v":false},{"$f":"IF(AO366=FALSE,FALSE,TRUE)","v":false},{"$f":"IF(HasHQAClass7Upgrade,VLOOKUP(INDEX(SkillMatrixPrimary,ROW()-2,Secondary7GuildNumber),SkillRankLookupTable,2,1),VLOOKUP(INDEX(SkillMatrixSecondary,ROW()-2,Secondary7GuildNumber),SkillRankLookupTable,2,1))","v":false},{"$f":"IF(AQ366=FALSE,FALSE,TRUE)","v":false},{"$f":"IF(HasHQAGuildUpgrade,VLOOKUP(INDEX(SkillMatrixPrimary,ROW()-2,AdditionalClassSecondaryGuildNumber),SkillRankLookupTable,2,1),VLOOKUP(INDEX(SkillMatrixSecondary,ROW()-2,AdditionalClassSecondaryGuildNumber),SkillRankLookupTable,2,1))","v":false},{"$f":"IF(AS366=FALSE,FALSE,TRUE)","v":false},{"$f":"IF(HasHQAGuild2Upgrade,VLOOKUP(INDEX(SkillMatrixPrimary,ROW()-2,JoATGuildNumber),SkillRankLookupTable,2,1),VLOOKUP(INDEX(SkillMatrixSecondary,ROW()-2,JoATGuildNumber),SkillRankLookupTable,2,1))","v":false},1,1,1,1,1,1,1,1,1,1,1,1,1,1,1,1,1,1,1,1,1,1,1,1,1,1,1,1,null,null,1,1,1,1,1,1,1,1,1,1,1,1,1,1,1,1,1,1,1,1,1,1,1,1,1,1,1,1]
["Weapon","Weapon Mastery - Single handed (blunt / sharp)",9,18,18,18,18,27,12,24,24,24,24,36,8,16,16,16,16,24,2,null,"None",{"$f":"FALSE","v":false},{"$f":"FALSE","v":false},{"$f":"IF(AA367=FALSE,FALSE,TRUE)","v":false},false,false,false,false,false,{"$f":"IF(AG367=FALSE,FALSE,TRUE)","v":false},false,{"$f":"IF(AI367=FALSE,FALSE,TRUE)","v":false},false,{"$f":"IF(AK367=FALSE,FALSE,TRUE)","v":false},false,{"$f":"IF(AM367=FALSE,FALSE,TRUE)","v":false},false,{"$f":"IF(AO367=FALSE,FALSE,TRUE)","v":false},false,false,false,{"$f":"IF(AS367=FALSE,FALSE,TRUE)","v":false},false,1,1,1,1,1,1,1,1,0,0,0,0,1,0,0,0,0,0,0,20,0,0,20,20,0,0,20,0,null,null,1,1,1,1,1,1,1,1,0,0,0,0,20,0,0,0,0,0,0,64,0,0,64,64,0,0,64,0]
["Weapon","Weapon Enhanced Mastery - Single handed (blunt/sharp)",27,54,54,54,54,81,36,72,72,72,72,108,32,64,64,64,64,96,2,null,"Weapon Mastery - Single handed (blunt / sharp)",{"$f":"NOT(SingleHandedSkillLvl>=1)","v":true},{"$f":"FALSE","v":false},{"$f":"IF(AA368=FALSE,FALSE,TRUE)","v":false},false,false,false,false,false,{"$f":"IF(AG368=FALSE,FALSE,TRUE)","v":false},false,{"$f":"IF(AI368=FALSE,FALSE,TRUE)","v":false},false,{"$f":"IF(AK368=FALSE,FALSE,TRUE)","v":false},false,{"$f":"IF(AM368=FALSE,FALSE,TRUE)","v":false},false,{"$f":"IF(AO368=FALSE,FALSE,TRUE)","v":false},false,false,false,{"$f":"IF(AS368=FALSE,FALSE,TRUE)","v":false},false,1,1,1,1,1,1,1,1,0,0,0,0,20,0,0,0,0,0,0,64,0,0,64,64,0,0,64,0,null,null,1,1,1,1,1,20,1,1,0,0,0,0,64,0,0,0,0,0,0,128,0,0,128,128,0,0,128,0]
["Weapon","Dagger Proficiency",1,1,3,3,3,2,1,1,3,3,3,2,1,1,3,3,3,2,1,null,"None",{"$f":"FALSE","v":false},{"$f":"FALSE","v":false},false,false,false,false,false,false,false,false,false,false,false,false,false,false,false,false,false,false,false,false,1,1,1,0,1,1,1,1,0,0,0,0,0,0,0,0,0,0,0,0,0,0,0,0,0,0,0,0,null,null,1,1,1,0,1,1,1,1,0,0,0,0,0,0,0,0,0,0,0,0,0,0,0,0,0,0,0,0]
["Weapon","Dagger Mastery",6,6,18,18,18,12,6,6,18,18,18,12,5,5,15,15,15,10,1,null,"Dagger Proficiency",{"$f":"NOT(DaggerSkill>=1)","v":true},{"$f":"FALSE","v":false},false,false,false,false,false,false,false,false,false,false,false,false,false,false,false,false,false,false,false,false,1,1,1,0,1,1,1,1,0,0,0,0,0,0,0,0,0,0,0,0,0,0,0,0,0,0,0,0,null,null,1,1,1,0,1,20,1,1,0,0,0,0,0,0,0,0,0,0,0,0,0,0,0,0,0,0,0,0]
["Weapon","Dagger Enhanced Mastery",18,18,54,54,54,36,18,18,54,54,54,36,25,25,75,75,75,50,1,null,"Dagger Mastery",{"$f":"NOT(DaggerSkill>=2)","v":true},{"$f":"FALSE","v":false},false,false,false,false,false,false,false,false,false,false,false,false,false,false,false,false,false,false,false,false,1,1,1,0,1,1,1,1,0,0,0,0,0,0,0,0,0,0,0,0,0,0,0,0,0,0,0,0,null,null,1,1,1,0,1,20,1,1,0,0,0,0,0,0,0,0,0,0,0,0,0,0,0,0,0,0,0,0]
["Weapon","Weapon Proficiency - Double handed (blunt and sharp)",9,18,18,18,18,27,10,20,20,20,20,30,8,16,24,24,24,16,2,null,"None",{"$f":"FALSE","v":false},{"$f":"TRUE","v":true},{"$f":"IF(AA372=FALSE,FALSE,TRUE)","v":false},false,false,false,false,false,{"$f":"IF(AG372=FALSE,FALSE,TRUE)","v":false},false,{"$f":"IF(AI372=FALSE,FALSE,TRUE)","v":false},false,{"$f":"IF(AK372=FALSE,FALSE,TRUE)","v":false},false,{"$f":"IF(AM372=FALSE,FALSE,TRUE)","v":false},false,{"$f":"IF(AO372=FALSE,FALSE,TRUE)","v":false},false,false,false,{"$f":"IF(AS372=FALSE,FALSE,TRUE)","v":false},false,1,1,1,1,1,1,1,1,1,1,1,1,1,1,1,1,1,1,1,1,1,1,1,1,1,1,1,1,null,null,1,1,1,1,1,1,1,1,1,1,1,1,1,1,1,1,1,1,1,1,1,1,1,1,1,1,1,1]
["Weapon","Weapon Mastery - Double handed (blunt / sharp)",18,36,36,36,36,54,20,40,40,40,40,60,16,32,32,32,32,48,2,null,"Weapon Proficiency - Double handed (blunt and sharp)",{"$f":"NOT(TwoHandedWeaponSkillLvl>=1)","v":true},{"$f":"FALSE","v":false},false,false,false,false,false,false,false,false,false,false,false,false,false,false,false,false,false,false,false,false,1,1,1,1,1,1,0,0,0,0,0,0,1,0,0,0,20,0,20,20,20,20,20,20,20,20,20,0,null,null,1,1,1,1,20,20,0,0,0,0,0,0,20,0,0,0,64,0,64,64,64,64,64,64,64,0,64,0]
["Weapon","Weapon Enhanced Mastery - Double handed (blunt/sharp)",36,72,72,72,72,108,40,80,80,80,80,120,32,64,64,64,64,96,2,null,"Weapon Mastery - Double handed (blunt / sharp)",{"$f":"NOT(TwoHandedWeaponSkillLvl>=2)","v":true},{"$f":"FALSE","v":false},false,false,false,false,false,false,false,false,false,false,false,false,false,false,false,false,false,false,false,false,1,1,1,1,1,1,0,0,0,0,0,0,20,0,0,0,0,0,0,64,0,0,64,64,0,0,64,0,null,null,1,1,1,1,20,20,0,0,0,0,0,0,64,0,0,0,0,0,0,128,0,0,128,128,0,0,128,0]
["Weapon","Weapon Attunement (single sharp/blunt; double sharp/blunt; dagger)",30,40,40,40,40,50,30,40,40,40,40,50,30,40,40,40,40,50,6,1,"Enhanced Mastery of a Dagger,  or Weapon Enhanced Mastery (either)",{"$f":"NOT(WeaponEnhMasteryAny)","v":true},{"$f":"FALSE","v":false},false,false,false,false,false,false,false,false,false,false,false,false,false,false,false,false,false,false,false,false,20,20,20,20,0,0,0,0,0,0,0,0,64,0,0,0,0,0,0,0,0,0,0,0,0,0,0,0,null,null,64,64,64,64,0,0,0,0,0,0,0,0,0,0,0,0,0,0,0,0,0,0,0,0,0,0,0,0]
["Additional","Class Upgrade - Class Secondary to Primary",0,0,0,0,0,0,0,0,0,0,0,0,0,0,0,0,0,0,1,0,"HQ Ability",{"$f":"FALSE","v":false},{"$f":"FALSE","v":false},{"$f":"IF(AA376=FALSE,FALSE,TRUE)","v":false},false,{"$f":"IF(AC376=FALSE,FALSE,TRUE)","v":false},false,{"$f":"IF(AE376=FALSE,FALSE,TRUE)","v":false},false,{"$f":"IF(AG376=FALSE,FALSE,TRUE)","v":false},false,{"$f":"IF(AI376=FALSE,FALSE,TRUE)","v":false},false,{"$f":"IF(AK376=FALSE,FALSE,TRUE)","v":false},false,{"$f":"IF(AM376=FALSE,FALSE,TRUE)","v":false},false,{"$f":"IF(AO376=FALSE,FALSE,TRUE)","v":false},false,{"$f":"IF(AQ376=FALSE,FALSE,TRUE)","v":false},false,{"$f":"IF(AS376=FALSE,FALSE,TRUE)","v":false},false,30,30,30,30,30,30,30,30,30,30,30,30,30,30,30,30,30,30,30,30,30,30,30,30,30,30,30,30,null,null,30,30,30,30,30,30,30,30,30,30,30,30,30,30,30,30,30,30,30,30,30,30,30,30,30,30,30,30]
["Additional","Class Upgrade - Class Secondary 2 to Primary ",0,0,0,0,0,0,0,0,0,0,0,0,0,0,0,0,0,0,1,0,"HQ Ability",{"$f":"FALSE","v":false},{"$f":"FALSE","v":false},false,false,false,false,false,false,false,false,false,false,false,false,false,false,false,false,false,false,false,false,30,30,30,30,30,30,30,30,30,30,30,30,30,30,30,30,30,30,30,30,30,30,30,30,30,30,30,30,null,null,30,30,30,30,30,30,30,30,30,30,30,30,30,30,30,30,30,30,30,30,30,30,30,30,30,30,30,30]
["Additional","Class Upgrade - Class Secondary 3 to Primary",0,0,0,0,0,0,0,0,0,0,0,0,0,0,0,0,0,0,1,0,"HQ Ability",{"$f":"FALSE","v":false},{"$f":"FALSE","v":false},false,false,false,false,false,false,false,false,false,false,false,false,false,false,false,false,false,false,false,false,30,30,30,30,30,30,30,30,30,30,30,30,30,30,30,30,30,30,30,30,30,30,30,30,30,30,30,30,null,null,30,30,30,30,30,30,30,30,30,30,30,30,30,30,30,30,30,30,30,30,30,30,30,30,30,30,30,30]
["Additional","Class Upgrade - Class Secondary 4 to Primary",0,0,0,0,0,0,0,0,0,0,0,0,0,0,0,0,0,0,1,0,"HQ Ability",{"$f":"FALSE","v":false},{"$f":"FALSE","v":false},false,false,false,false,false,false,false,false,false,false,false,false,false,false,false,false,false,false,false,false,30,30,30,30,30,30,30,30,30,30,30,30,30,30,30,30,30,30,30,30,30,30,30,30,30,30,30,30,null,null,30,30,30,30,30,30,30,30,30,30,30,30,30,30,30,30,30,30,30,30,30,30,30,30,30,30,30,30]
["Additional","Class Upgrade - Class Secondary 5 to Primary",0,0,0,0,0,0,0,0,0,0,0,0,0,0,0,0,0,0,1,0,"HQ Ability",{"$f":"FALSE","v":false},{"$f":"FALSE","v":false},false,false,false,false,false,false,false,false,false,false,false,false,false,false,false,false,false,false,false,false,30,30,30,30,30,30,30,30,30,30,30,30,30,30,30,30,30,30,30,30,30,30,30,30,30,30,30,30,null,null,30,30,30,30,30,30,30,30,30,30,30,30,30,30,30,30,30,30,30,30,30,30,30,30,30,30,30,30]
["Additional","Class Upgrade - Class Secondary 6 to Primary",0,0,0,0,0,0,0,0,0,0,0,0,0,0,0,0,0,0,1,0,"HQ Ability",{"$f":"FALSE","v":false},{"$f":"FALSE","v":false},false,false,false,false,false,false,false,false,false,false,false,false,false,false,false,false,false,false,false,false,30,30,30,30,30,30,30,30,30,30,30,30,30,30,30,30,30,30,30,30,30,30,30,30,30,30,30,30,null,null,30,30,30,30,30,30,30,30,30,30,30,30,30,30,30,30,30,30,30,30,30,30,30,30,30,30,30,30]
["Additional","Class Upgrade - Class Secondary 7 to Primary",0,0,0,0,0,0,0,0,0,0,0,0,0,0,0,0,0,0,1,0,"HQ Ability",{"$f":"FALSE","v":false},{"$f":"FALSE","v":false},false,false,false,false,false,false,false,false,false,false,false,false,false,false,false,false,false,false,false,false,30,30,30,30,30,30,30,30,30,30,30,30,30,30,30,30,30,30,30,30,30,30,30,30,30,30,30,30,null,null,30,30,30,30,30,30,30,30,30,30,30,30,30,30,30,30,30,30,30,30,30,30,30,30,30,30,30,30]
["Additional","Guild Upgrade - Additional Class Secondary to Primary",0,0,0,0,0,0,0,0,0,0,0,0,0,0,0,0,0,0,1,0,"HQ Ability",{"$f":"FALSE","v":false},{"$f":"FALSE","v":false},false,false,{"$f":"IF(AC383=FALSE,FALSE,TRUE)","v":false},false,{"$f":"IF(AE383=FALSE,FALSE,TRUE)","v":false},false,{"$f":"IF(AG383=FALSE,FALSE,TRUE)","v":false},false,{"$f":"IF(AI383=FALSE,FALSE,TRUE)","v":false},false,{"$f":"IF(AK383=FALSE,FALSE,TRUE)","v":false},false,{"$f":"IF(AM383=FALSE,FALSE,TRUE)","v":false},false,{"$f":"IF(AO383=FALSE,FALSE,TRUE)","v":false},false,{"$f":"IF(AQ383=FALSE,FALSE,TRUE)","v":false},false,{"$f":"IF(AS383=FALSE,FALSE,TRUE)","v":false},false,30,30,30,30,30,30,30,30,30,30,30,30,30,30,30,30,30,30,30,30,30,30,30,30,30,30,30,30,null,null,30,30,30,30,30,30,30,30,30,30,30,30,30,30,30,30,30,30,30,30,30,30,30,30,30,30,30,30]
["Additional","Guild Upgrade - Additional Class 2 Secondary to Primary",0,0,0,0,0,0,0,0,0,0,0,0,0,0,0,0,0,0,1,0,"HQ Ability",{"$f":"FALSE","v":false},{"$f":"FALSE","v":false},{"$f":"IF(AA384=FALSE,FALSE,TRUE)","v":false},false,{"$f":"IF(AC384=FALSE,FALSE,TRUE)","v":false},false,{"$f":"IF(AE384=FALSE,FALSE,TRUE)","v":false},false,{"$f":"IF(AG384=FALSE,FALSE,TRUE)","v":false},false,{"$f":"IF(AI384=FALSE,FALSE,TRUE)","v":false},false,{"$f":"IF(AK384=FALSE,FALSE,TRUE)","v":false},false,{"$f":"IF(AM384=FALSE,FALSE,TRUE)","v":false},false,{"$f":"IF(AO384=FALSE,FALSE,TRUE)","v":false},false,{"$f":"IF(AQ384=FALSE,FALSE,TRUE)","v":false},false,{"$f":"IF(AS384=FALSE,FALSE,TRUE)","v":false},false,30,30,30,30,30,30,30,30,30,30,30,30,30,30,30,30,30,30,30,30,30,30,30,30,30,30,30,30,null,null,30,30,30,30,30,30,30,30,30,30,30,30,30,30,30,30,30,30,30,30,30,30,30,30,30,30,30,30]
["Additional","Has Purple Magic ",0,0,0,0,0,0,0,0,0,0,0,0,0,0,0,0,0,0,1,0,"Primary in all 8 Magic Guilds and has Wizardry",{"$f":"NOT(AND(HasWizardry, PrimaryBlack, PrimaryBlue, PrimaryBrown, PrimaryGreen, PrimaryGrey, PrimaryRed, PrimaryWhite, PrimaryYellow))","v":true},{"$f":"FALSE","v":false},{"$f":"IF(AA385=FALSE,FALSE,TRUE)","v":false},false,{"$f":"IF(AC385=FALSE,FALSE,TRUE)","v":false},false,{"$f":"IF(AE385=FALSE,FALSE,TRUE)","v":false},false,{"$f":"IF(AG385=FALSE,FALSE,TRUE)","v":false},false,{"$f":"IF(AI385=FALSE,FALSE,TRUE)","v":false},false,{"$f":"IF(AK385=FALSE,FALSE,TRUE)","v":false},false,{"$f":"IF(AM385=FALSE,FALSE,TRUE)","v":false},false,{"$f":"IF(AO385=FALSE,FALSE,TRUE)","v":false},false,{"$f":"IF(AQ385=FALSE,FALSE,TRUE)","v":false},false,{"$f":"IF(AS385=FALSE,FALSE,TRUE)","v":false},false,0,0,0,0,0,0,0,0,20,20,20,20,20,20,20,20,0,0,0,0,0,0,0,0,0,0,0,0,null,null,0,0,0,0,0,0,0,0,0,0,0,0,0,0,0,0,0,0,0,0,0,0,0,0,0,0,0,0]
["Additional","Is Dedicated",0,0,0,0,0,0,0,0,0,0,0,0,0,0,0,0,0,0,1,0,"Mage Class, Has access to only one Colour of Magic in Wizardry and Sorcery",{"$f":"NOT(IsDedicated)","v":true},{"$f":"FALSE","v":false},{"$f":"IF(AA386=FALSE,FALSE,TRUE)","v":false},false,{"$f":"IF(AC386=FALSE,FALSE,TRUE)","v":false},false,{"$f":"IF(AE386=FALSE,FALSE,TRUE)","v":false},false,{"$f":"IF(AG386=FALSE,FALSE,TRUE)","v":false},false,{"$f":"IF(AI386=FALSE,FALSE,TRUE)","v":false},false,{"$f":"IF(AK386=FALSE,FALSE,TRUE)","v":false},false,{"$f":"IF(AM386=FALSE,FALSE,TRUE)","v":false},false,{"$f":"IF(AO386=FALSE,FALSE,TRUE)","v":false},false,{"$f":"IF(AQ386=FALSE,FALSE,TRUE)","v":false},false,{"$f":"IF(AS386=FALSE,FALSE,TRUE)","v":false},false,0,0,0,0,0,0,0,0,20,20,20,20,20,20,20,20,0,0,0,0,0,0,0,0,0,0,0,0,null,null,0,0,0,0,0,0,0,0,0,0,0,0,0,0,0,0,0,0,0,0,0,0,0,0,0,0,0,0]

{"sheet":"Variables","index":9,"n_rows":342,"n_cols":11,"rows_kept":342,"cut":false,"hidden":true,"merged":[[170,5,177,5],[180,5,187,5],[162,6,169,6],[148,5,158,5]]}
["Name","Reference the Character Sheet","Value",null,"Notes"]
["AdrenalDexRank",null,{"$f":"SUM('The Character'!C14:D21)","v":0}]
["AdrenalMed",null,{"$f":"IF(SUM('The Character'!C35:D35)>0,TRUE,FALSE)","v":false}]
["AdrenalPoints",null,{"$f":"SUM('The Character'!C28:D28)","v":0}]
["AdrenalResistFear",null,{"$f":"IF(SUM('The Character'!C22:D22)>=1,\"Yes (Rk 2)\",\"N/A\")","v":"N/A"}]
["AdrenalResistImmobility",null,{"$f":"IF(SUM('The Character'!C23:D23)>=1,\"Yes (Rk 3)\",\"N/A\")","v":"N/A"}]
["AdrenalResistPain",null,{"$f":"IF(SUM('The Character'!C24:D24)>=1,\"Yes (Rk 4)\",\"N/A\")","v":"N/A"}]
["AdrenalStrength",null,{"$f":"VLOOKUP(SUM('The Character'!C25:D27),Tables!A53:B56,2,1)","v":"N/A"}]
["AdrenalUseRank",null,{"$f":"SUM('The Character'!C34:D34)","v":0}]
["BarbarianError",null,{"$f":"IF(OR(CharacterRace=\"ELF\",CharacterType=\"Mage\", TotalMana>0),TRUE,FALSE)","v":true},null,"No Elves or Magic Users"]
["HasAdrenals",null,{"$f":"IF(AdrenalPoints>0, TRUE, FALSE)","v":false}]
["CodeHasAdrenals",null,true,null,"Added 2.05"]
["LimitRaiseAdrenalsSkillLvl",null,{"$f":"SUM('The Character'!C29:D32)","v":0}]
["MeditateAdrenals",null,{"$f":"SUM('The Character'!C35:D38)","v":0}]
["ArcherAcolyte",null,{"$f":"IF(SUM('The Character'!C39:D39)>0,TRUE,FALSE)","v":false}]
["ArcherKnockback",null,{"$f":"IF(SUM('The Character'!C53:D53)>0,1,0)","v":0}]
["ArcherMage",null,{"$f":"IF(SUM('The Character'!C46:D46)>0,TRUE,FALSE)","v":false}]
["ArcherMarksman",null,{"$f":"IF(SUM('The Character'!C54:D54),TRUE,FALSE)","v":false}]
["ArcherPriest",null,{"$f":"IF(SUM('The Character'!C40:D40),TRUE,FALSE)","v":false}]
["ArcherStunshots",null,{"$f":"SUM('The Character'!C61:D63)","v":0}]
["ArcherWizard",null,{"$f":"IF(SUM('The Character'!C47:D47)>0,TRUE,FALSE)","v":false}]
["MissileAttunement",null,{"$f":"IF(SUM('The Character'!C55:D55),TRUE,FALSE)","v":false}]
["MissileSkill",null,{"$f":"SUM('The Character'!C56:D58)","v":0}]
["NerveStrikeShotSkillLvl",null,{"$f":"SUM('The Character'!C61:D63)","v":0}]
["NerveStrikeShotQuant"]
["Guild Archer",null,{"$f":"IF(OR(PrimaryGuildNumber=8, SecondaryGuildNumber=8,Secondary2GuildNumber=8,Secondary3GuildNumber=8,Secondary4GuildNumber=8,Secondary5GuildNumber=8,Secondary6GuildNumber=8,Secondary7GuildNumber=8, AdditionalClassSecondaryGuildNumber=8, JoATGuildNumber=8),TRUE,FALSE)","v":false},null,{"$f":"IF(OR(PrimaryGuildNumber=8,AND(SecondaryGuildNumber=8,SUM('The Character'!C$387:D$387)>0),AND(Secondary2GuildNumber=8,SUM('The Character'!C$388:D$388)>0),AND(Secondary3GuildNumber=8,SUM('The Character'!C$389:D$389)>0),AND(Secondary4GuildNumber=8,SUM('The Character'!C$390:D$390)>0),AND(Secondary5GuildNumber=8,SUM('The Character'!C$391:D$391)>0),AND(Secondary6GuildNumber=8,SUM('The Character'!C$392:D$392)>0),AND(Secondary7GuildNumber=8,SUM('The Character'!C$393:D$393)>0),AND(AdditionalClassSecondaryGuildNumber=8,SUM('The Character'!C$394:D$394)>0),AND(JoATGuildNumber=8,SUM('The Character'!C$395:D$395)>0)),TRUE,FALSE)","v":false},{"$f":"IF(E26=FALSE,0,1)","v":0},"Is Primary in"]
["ArcherSpecialistMageGuild1",null,{"$f":"IF(AND(PrimaryArcher,SUM('The Character'!C48:D48>0),OR(AND(AdditionalClassSecondaryGuildNumber>8,AdditionalClassSecondaryGuildNumber<17),AND(JoATGuildNumber>8,JoATGuildNumber<17))),IF(AND(AdditionalClassSecondaryGuildNumber>8,AdditionalClassSecondaryGuildNumber<17),AdditionalClassSecondaryGuildNumber,IF(AND(JoATGuildNumber>8,JoATGuildNumber<17),JoATGuildNumber,0)))","v":false},null,null,{"$f":"IF(ISERROR(LEFT(E27,FIND(\" \",E27)-1)),\"\",LEFT(E27,FIND(\" \",E27)-1))","v":""},null,null,null,{"$f":"AdditionalClassSecondaryGuildNumber","v":29},"add class econdary no"]
["ArcherSpecialistMageGuild2",null,{"$f":"IF(AdditionalClassSecondaryGuildNumber=ArcherSpecialistMageGuild1,IF(AND(PrimaryArcher,SUM('The Character'!C51:D51>0),OR(AND(AdditionalClassSecondaryGuildNumber>8,AdditionalClassSecondaryGuildNumber<17),AND(JoATGuildNumber>8,JoATGuildNumber<17))),IF(AND(JoATGuildNumber>8,JoATGuildNumber<17),JoATGuildNumber,0)),IF(AND(PrimaryArcher,SUM('The Character'!C51:D51>0),OR(AND(AdditionalClassSecondaryGuildNumber>8,AdditionalClassSecondaryGuildNumber<17),AND(JoATGuildNumber>8,JoATGuildNumber<17))),IF(AND(AdditionalClassSecondaryGuildNumber>8,AdditionalClassSecondaryGuildNumber<17),AdditionalClassSecondaryGuildNumber,0),0))","v":0},null,null,{"$f":"IF(ISERROR(LEFT(E28,FIND(\" \",E28)-1)),\"\",LEFT(E28,FIND(\" \",E28)-1))","v":""},null,null,null,{"$f":"JoATGuildNumber","v":29},"jhoat no"]
["ArcherSpecialistPriestSect1",null,{"$f":"IF(AND(PrimaryArcher,SUM('The Character'!C41:D41>0),OR(AND(AdditionalClassSecondaryGuildNumber>16,AdditionalClassSecondaryGuildNumber<29),AND(JoATGuildNumber>16,JoATGuildNumber<29))),IF(AND(AdditionalClassSecondaryGuildNumber>16,AdditionalClassSecondaryGuildNumber<29),AdditionalClassSecondaryGuildNumber,IF(AND(JoATGuildNumber>16,JoATGuildNumber<29),JoATGuildNumber,0)),0)","v":0},null,null,""]
["ArcherSpecialistPriestSect2",null,{"$f":"IF(AdditionalClassSecondaryGuildNumber=ArcherSpecialistPriestSect1,IF(AND(PrimaryArcher,SUM('The Character'!C44:D44>0),OR(AND(AdditionalClassSecondaryGuildNumber>16,AdditionalClassSecondaryGuildNumber<29),AND(JoATGuildNumber>16,JoATGuildNumber<29))),IF(AND(JoATGuildNumber>16,JoATGuildNumber<29),JoATGuildNumber,0)),IF(AND(PrimaryArcher,SUM('The Character'!C44:D44>0),OR(AND(AdditionalClassSecondaryGuildNumber>16,AdditionalClassSecondaryGuildNumber<29),AND(JoATGuildNumber>16,JoATGuildNumber<29))),IF(AND(AdditionalClassSecondaryGuildNumber>16,AdditionalClassSecondaryGuildNumber<29),AdditionalClassSecondaryGuildNumber,0),0))","v":0},null,null,""]
["ArcherSpecialistSorcerorSchool",null,{"$f":"IF(AND(PrimaryGuildNumber=8,SUM('The Character'!C50:D50>0),OR(AND(AdditionalClassSecondaryGuildNumber>8,AdditionalClassSecondaryGuildNumber<17),AND(JoATGuildNumber>8,JoATGuildNumber<17))),IF(AdditionalClassSecondaryGuildNumber>0,AdditionalClassSecondaryGuildNumber,JoATGuildNumber),0)","v":0}]
["ArcherSpecialistHighPreistSect",null,{"$f":"IF(AND(PrimaryGuildNumber=8,SUM('The Character'!C43:D43>0),OR(AND(AdditionalClassSecondaryGuildNumber>8,AdditionalClassSecondaryGuildNumber<17),AND(JoATGuildNumber>8,JoATGuildNumber<17))),IF(AdditionalClassSecondaryGuildNumber>0,AdditionalClassSecondaryGuildNumber,JoATGuildNumber),0)","v":0}]
["PowerArcherSkillLevel",null,{"$f":"SUM('The Character'!C39:D45)","v":0}]
["MagicArcherSkillLevel",null,{"$f":"SUM('The Character'!C46:D52)","v":0}]
["ArmourSkillLevel",null,{"$f":"SUM('The Character'!C66:D71)","v":0}]
["AdditionalDexteritySkill",null,{"$f":"SUM('The Character'!C73:D76)","v":0}]
["ArmDex",null,{"$f":"SUM('The Character'!C64:D64)","v":0}]
["CombatAwarenessSkill",null,{"$f":"SUM('The Character'!C77:D81)","v":0}]
["Bonus Dex",null,{"$f":"ACPermDex+ACTempDex","v":0}]
["UnArmDex",null,{"$f":"SUM('The Character'!C65:D65)","v":0}]
["UseArmDex",null,{"$f":"IF(AND(ArmDex>0, ArmDex>=UnArmDex), TRUE, FALSE)","v":false},null,"Added 2.05"]
["BiggestDex",null,{"$f":"MAX(ArmDex, UnArmDex)","v":0},null,"Added 2.05"]
["ShieldUse",null,{"$f":"IF(SUM('The Character'!C72:D72),TRUE,FALSE)","v":false}]
["Ambidexterity",null,1]
["ReadAndWriteRunes",null,{"$f":"IF(SUM('The Character'!C87:D87)>0,TRUE,FALSE)","v":false}]
["Kingsman",null,{"$f":"IF(SUM('The Character'!C88:D88)>0, TRUE, FALSE)","v":false},null,"2.11 Sworn to the king"]
["KingTotalPoints",null,{"$f":"TotalPoints + IF(Kingsman, 1000, 0)","v":0}]
["CharacterRank",null,{"$f":"TRUNC(TotalPoints/10)","v":0}]
["CharacterStatus",null,{"$f":"(TRUNC(TotalPoints/100))","v":0}]
["Deaths",null,{"$f":"SUM('Adventure Record'!F2:F200)","v":0}]
["CharacterTypeNumber",null,{"$f":"INDEX(CharacterTypeNumberTable,CharacterTable,1)","v":4}]
["CharacterTableName",null,{"$f":"INDEX(RaceAndClass,CharacterTable,1)","v":"Human Mage"}]
["CharacterTableNumber",null,{"$f":"CharacterTable","v":6}]
["CharacterType",null,{"$f":"INDEX(CharacterTypeTable,CharacterTable,1)","v":"Mage"}]
["IncreasedSpiritStrength",null,{"$f":"SUM('The Character'!C86:D86)","v":0}]
["CharacterRace",null,{"$f":"INDEX(CharacterRaceTable,CharacterTable,1)","v":"Human"}]
["PrimaryGuildNumber",null,{"$f":"PrimaryGuild","v":29}]
["PrimaryGuildName",null,{"$f":"INDEX(GuildNames,PrimaryGuildNumber,1)","v":"None"}]
["PrimaryGuildType",null,{"$f":"INDEX(GuildTypeTable,PrimaryGuildNumber,1)","v":"None"}]
["PrimaryGuildError",null,{"$f":"IF(OR(CharacterType<>PrimaryGuildType,AND($C10:$E10,PrimaryGuildName=\"Barbarian\")),TRUE,FALSE)","v":true}]
["PrimarySecondaryCompatibility",null,{"$f":"INDEX(GuildCompatibilityTable,PrimaryGuildNumber,SecondaryGuildNumber)","v":"None"}]
["Primary JOAT Guild  Compatibility",null,{"$f":"INDEX(SecondClassCompatabilityTable,PrimaryGuildNumber,JoATGuildNumber)","v":false}]
["SecondaryAdditional Class Secondary Guild  Compatibility",null,{"$f":"INDEX(GuildCompatibilityTable,PrimaryGuildNumber,JoATGuildNumber)","v":"None"}]
["PrimarySelectedBelowRk20",null,{"$f":"AND(PrimarySelected,CharacterStatus=0)","v":false}]
["PrimaryNotSelectedAboveRk20",null,{"$f":"AND(NOT(PrimarySelected),CharacterStatus>0)","v":false}]
["SecondarySelectedBelowRk30",null,{"$f":"AND(SecondarySelected,CharacterStatus<=2)","v":false}]
["PrimarySelected",null,{"$f":"PrimaryGuildNumber<>29","v":false}]
["SecondarySelected",null,{"$f":"SecondaryGuildNumber<>29","v":false}]
["PrimaryTableCompatibility",null,{"$f":"IF(AND(PrimaryGuildNumber>24,CharacterType=\"Acolyte_Evil\"), TRUE,IF(AND(PrimaryGuildNumber>20, PrimaryGuildNumber<25,CharacterType=\"Acolyte_Neutral\"), TRUE,IF(AND(PrimaryGuildNumber>16, PrimaryGuildNumber<21,CharacterType=\"Acolyte_Good\"),TRUE,PrimaryGuildType=CharacterType)))","v":false}]
["Skill Removed",null,"N/A"]
["PrimaryGuildErrorMessage",null,{"$f":"IF(NOT(PrimarySelected),\"Must Choose a Guild\",IF(NOT(PrimaryTableCompatibility),\"Incompatible with Table Used\",IF(AND(BarbarianError,PrimaryGuildName=\"Barbarian\"),\"Elves and Mages cannot be Barbarians\",0)))","v":"Must Choose a Guild"}]
["SecondaryGuildErrorMessage",null,{"$f":"IF(NOT(SecondarySelected),0,IF(SecondarySelectedBelowRk40,\"Cannot choose 2nd guild below Rank 30\",IF(NOT(PrimarySelected),\"Must choose a Primary Guild\",IF(NOT(PrimarySecondaryCompatibility),\"Incompatible with Primary Guild\",IF(AND(BarbarianError,SecondaryGuildName=\"Barbarian\"),\"Elves and Mages cannot be Barbarians\",0)))))","v":0}]
["SecondaryGuildNumber",null,{"$f":"SecondaryGuild","v":29}]
["SecondaryGuildName",null,{"$f":"INDEX(GuildNames,SecondaryGuildNumber,1)","v":"None"}]
["SecondaryGuildType",null,{"$f":"INDEX(GuildTypeTable,SecondaryGuildNumber,1)","v":"None"}]
["SecondaryGuildError"]
["Secondary2GuildNumber",null,{"$f":"Secondary2Guild","v":29}]
["Secondary2GuildName",null,{"$f":"INDEX(GuildNames,Secondary2GuildNumber,1)","v":"None"}]
["Secondary2GuildType",null,{"$f":"INDEX(GuildTypeTable,Secondary2GuildNumber,1)","v":"None"}]
["Secondary2GuildError"]
["Secondary3GuildNumber",null,{"$f":"Secondary3Guild","v":29}]
["Secondary3GuildName",null,{"$f":"INDEX(GuildNames,Secondary3GuildNumber,1)","v":"None"}]
["Secondary3GuildType",null,{"$f":"INDEX(GuildTypeTable,Secondary3GuildNumber,1)","v":"None"}]
["Secondary3GuildError"]
["Secondary4GuildNumber",null,{"$f":"Secondary4Guild","v":29}]
["Secondary4GuildName",null,{"$f":"INDEX(GuildNames,Secondary4GuildNumber,1)","v":"None"}]
["Secondary4GuildType",null,{"$f":"INDEX(GuildTypeTable,Secondary4GuildNumber,1)","v":"None"}]
["Secondary4GuildError"]
["Secondary5GuildNumber",null,{"$f":"Secondary5Guild","v":29}]
["Secondary5GuildName",null,{"$f":"INDEX(GuildNames,Secondary5GuildNumber,1)","v":"None"}]
["Secondary5GuildType",null,{"$f":"INDEX(GuildTypeTable,Secondary5GuildNumber,1)","v":"None"}]
["Secondary5GuildError"]
["Secondary6GuildNumber",null,{"$f":"Secondary6Guild","v":29}]
["Secondary6GuildName",null,{"$f":"INDEX(GuildNames,Secondary6GuildNumber,1)","v":"None"}]
["Secondary6GuildType",null,{"$f":"INDEX(GuildTypeTable,Secondary6GuildNumber,1)","v":"None"}]
["Secondary6GuildError"]
["Secondary7GuildNumber",null,{"$f":"Secondary7Guild","v":29}]
["Secondary7GuildName",null,{"$f":"INDEX(GuildNames,Secondary7GuildNumber,1)","v":"None"}]
["Secondary7GuildType",null,{"$f":"INDEX(GuildTypeTable,Secondary7GuildNumber,1)","v":"None"}]
["Secondary7GuildError"]
["Additional Class Secondary GuildNumber",null,{"$f":"Secondary8Guild","v":29}]
["Additional Class Secondary GuildName",null,{"$f":"INDEX(GuildNames,AdditionalClassSecondaryGuildNumber,1)","v":"None"}]
["Additional Class Secondary GuildType",null,{"$f":"INDEX(GuildTypeTable,AdditionalClassSecondaryGuildNumber,1)","v":"None"}]
["Additional Class Secondary GuildError"]
["Secondary2Selected",null,{"$f":"Secondary2GuildNumber<>29","v":false}]
["Secondary3Selected",null,{"$f":"Secondary3GuildNumber<>29","v":false}]
["Secondary4Selected",null,{"$f":"Secondary4GuildNumber<>29","v":false}]
["Secondary5Selected",null,{"$f":"Secondary5GuildNumber<>29","v":false}]
["Secondary6Selected",null,{"$f":"Secondary6GuildNumber<>29","v":false}]
["Secondary7Selected",null,{"$f":"Secondary7GuildNumber<>29","v":false}]
["Additional Class Secondary Selected",null,{"$f":"AdditionalClassSecondaryGuildNumber<>29","v":false}]
["Secondary2GuildErrorMessage",null,{"$f":"IF(NOT(Secondary2Selected),0,IF(SecondarySelectedBelowRk40,\"Cannot choose 2nd guild below Rank 30\",IF(NOT(PrimarySelected),\"Must choose a Primary Guild\",IF(NOT(PrimarySecondary2Compatibility),\"Incompatible with Primary Guild\",IF(AND(BarbarianError,Secondary2GuildName=\"Barbarian\"),\"Elves and Mages cannot be Barbarians\",0)))))","v":0}]
["Secondary3GuildErrorMessage",null,{"$f":"IF(NOT(Secondary3Selected),0,IF(SecondarySelectedBelowRk40,\"Cannot choose 2nd guild below Rank 30\",IF(NOT(PrimarySelected),\"Must choose a Primary Guild\",IF(NOT(PrimarySecondary3Compatibility),\"Incompatible with Primary Guild\",IF(AND(BarbarianError,Secondary3GuildName=\"Barbarian\"),\"Elves and Mages cannot be Barbarians\",0)))))","v":0}]
["Secondary4GuildErrorMessage",null,{"$f":"IF(NOT(Secondary4Selected),0,IF(SecondarySelectedBelowRk40,\"Cannot choose 2nd guild below Rank 30\",IF(NOT(PrimarySelected),\"Must choose a Primary Guild\",IF(NOT(PrimarySecondary4Compatibility),\"Incompatible with Primary Guild\",IF(AND(BarbarianError,Secondary4GuildName=\"Barbarian\"),\"Elves and Mages cannot be Barbarians\",0)))))","v":0}]
["Secondary5GuildErrorMessage",null,{"$f":"IF(NOT(Secondary5Selected),0,IF(SecondarySelectedBelowRk40,\"Cannot choose 2nd guild below Rank 30\",IF(NOT(PrimarySelected),\"Must choose a Primary Guild\",IF(NOT(PrimarySecondary5Compatibility),\"Incompatible with Primary Guild\",IF(AND(BarbarianError,Secondary5GuildName=\"Barbarian\"),\"Elves and Mages cannot be Barbarians\",0)))))","v":0}]
["Secondary6GuildErrorMessage",null,{"$f":"IF(NOT(Secondary6Selected),0,IF(SecondarySelectedBelowRk40,\"Cannot choose 2nd guild below Rank 30\",IF(NOT(PrimarySelected),\"Must choose a Primary Guild\",IF(NOT(PrimarySecondary6Compatibility),\"Incompatible with Primary Guild\",IF(AND(BarbarianError,Secondary6GuildName=\"Barbarian\"),\"Elves and Mages cannot be Barbarians\",0)))))","v":0}]
["Secondary7GuildErrorMessage",null,{"$f":"IF(NOT(Secondary7Selected),0,IF(SecondarySelectedBelowRk40,\"Cannot choose 2nd guild below Rank 30\",IF(NOT(PrimarySelected),\"Must choose a Primary Guild\",IF(NOT(PrimarySecondary7Compatibility),\"Incompatible with Primary Guild\",IF(AND(BarbarianError,Secondary7GuildName=\"Barbarian\"),\"Elves and Mages cannot be Barbarians\",0)))))","v":0}]
["Additional Class Secondary GuildErrorMessage",null,{"$f":"IF(NOT(Secondary8Selected),0,IF(SecondarySelectedBelowRk40,\"Cannot choose 2nd guild below Rank 30\",IF(NOT(PrimarySelected),\"Must choose a Primary Guild\",IF(NOT(PrimarySecondary8Compatibility),\"Incompatible with Primary Guild\",IF(AND(BarbarianError,Secondary8GuildName=\"Barbarian\"),\"Elves and Mages cannot be Barbarians\",0)))))","v":0}]
["PrimarySecondary2Compatibility",null,{"$f":"INDEX(GuildCompatibilityTable,PrimaryGuildNumber,Secondary2GuildNumber)","v":"None"}]
["PrimarySecondary3Compatibility",null,{"$f":"INDEX(GuildCompatibilityTable,PrimaryGuildNumber,Secondary3GuildNumber)","v":"None"}]
["PrimarySecondary4Compatibility",null,{"$f":"INDEX(GuildCompatibilityTable,PrimaryGuildNumber,Secondary4GuildNumber)","v":"None"}]
["PrimarySecondary5Compatibility",null,{"$f":"INDEX(GuildCompatibilityTable,PrimaryGuildNumber,Secondary5GuildNumber)","v":"None"}]
["PrimarySecondary6Compatibility",null,{"$f":"INDEX(GuildCompatibilityTable,PrimaryGuildNumber,Secondary6GuildNumber)","v":"None"}]
["PrimarySecondary7Compatibility",null,{"$f":"INDEX(GuildCompatibilityTable,PrimaryGuildNumber,Secondary7GuildNumber)","v":"None"}]
["Primary2ndClassCompatibility",null,{"$f":"INDEX(SecondClassCompatabilityTable,PrimaryGuildNumber,AdditionalClassSecondaryGuildNumber)","v":false}]
["TrapHandlingSkillLevel",null,{"$f":"SUM('The Character'!C265:D269)","v":0}]
["JackOfAllTrades",null,{"$f":"IF(SUM('The Character'!C264:D264)>0,TRUE,FALSE)","v":false}]
["JOAT Secondary Guild  SelectedBelow Rk30",null,{"$f":"AND(TertiarySelected,CharacterStatus<=2)","v":false}]
["JOAT Secondary Guild  GuildErrorMessage",null,{"$f":"IF(NOT(TertiarySelected),0,IF(TertiarySelectedBelowRk70,\"Cannot choose 2nd guild below Rank 30\",IF(NOT(PrimarySelected),\"Must choose a Primary Guild\",IF(NOT(PrimaryTertiaryCompatibility),\"Incompatible with Primary Guild\",IF(AND(BarbarianError,TertiaryGuildName=\"Barbarian\"),\"Elves and Mages cannot be Barbarians\",0)))))","v":0}]
["JOAT Guild  Selected",null,{"$f":"JoATGuildNumber<>29","v":false}]
["JOAT  GuildNumber",null,{"$f":"TertiaryGuild","v":29}]
["JOAT Guild  GuildName",null,{"$f":"INDEX(GuildNames,JoATGuildNumber,1)","v":"None"}]
["JOAT Guild  GuildType",null,{"$f":"INDEX(GuildTypeTable,JoATGuildNumber,1)","v":"None"}]
["JOAT Guild  GuildError"]
["ForearmParryRank",null,{"$f":"VLOOKUP(SUM('The Character'!C92:D92),Tables!A42:B50,2,1)","v":"N/A"}]
["ForearmParrySkill",null,{"$f":"SUM('The Character'!C92:D94)","v":0}]
["KiConc"]
["KiMed",null,{"$f":"IF(SUM('The Character'!C100:D100),TRUE,FALSE)","v":false}]
["KiPoints",null,{"$f":"SUM('The Character'!C89:D89)","v":0}]
["KiProtectionSkillLvl",null,{"$f":"SUM('The Character'!C104:D107)","v":0}]
["FocusKivsMagicLvl",null,{"$f":"IF(_Lvl08>0,8,IF(_Lvl07>0,7,IF(_Lvl06>0,6,\"No\")))","v":"No"}]
["FocusKivsPowerLvl",null,{"$f":"IF(CastRank1stSphere>=8,8,IF(CastRank1stSphere=7,7,IF(CastRank1stSphere=6,6,\"No\")))","v":"No"}]
["GuildSkirmisher",null,{"$f":"IF(OR(PrimaryGuildNumber=4, SecondaryGuildNumber=4,Secondary2GuildNumber=4,Secondary3GuildNumber=4,Secondary4GuildNumber=4,Secondary5GuildNumber=4,Secondary6GuildNumber=4,Secondary7GuildNumber=4, AdditionalClassSecondaryGuildNumber=4, JoATGuildNumber=4),TRUE,FALSE)","v":false},null,{"$f":"IF(OR(PrimaryGuildNumber=5,AND(SecondaryGuildNumber=5,SUM('The Character'!C$387:D$387)>0),AND(Secondary2GuildNumber=5,SUM('The Character'!C$388:D$388)>0),AND(Secondary3GuildNumber=5,SUM('The Character'!C$389:D$389)>0),AND(Secondary4GuildNumber=5,SUM('The Character'!C$390:D$390)>0),AND(Secondary5GuildNumber=5,SUM('The Character'!C$391:D$391)>0),AND(Secondary6GuildNumber=5,SUM('The Character'!C$392:D$392)>0),AND(Secondary7GuildNumber=5,SUM('The Character'!C$393:D$393)>0),AND(AdditionalClassSecondaryGuildNumber=5,SUM('The Character'!C$394:D$394)>0),AND(JoATGuildNumber=5),SUM('The Character'!C$395:D$395)>0),TRUE,FALSE)","v":false},{"$f":"IF(E143=FALSE,0,1)","v":0},"Is Primary in"]
["GuildAssassin",null,{"$f":"IF(OR(PrimaryGuildNumber=6, SecondaryGuildNumber=6,Secondary2GuildNumber=6,Secondary3GuildNumber=6,Secondary4GuildNumber=6,Secondary5GuildNumber=6,Secondary6GuildNumber=6,Secondary7GuildNumber=6, AdditionalClassSecondaryGuildNumber=6, JoATGuildNumber=6),TRUE,FALSE)","v":false},null,{"$f":"IF(OR(PrimaryGuildNumber=7,AND(SecondaryGuildNumber=7,SUM('The Character'!C$387:D$387)>0),AND(Secondary2GuildNumber=7,SUM('The Character'!C$388:D$388)>0),AND(Secondary3GuildNumber=7,SUM('The Character'!C$389:D$389)>0),AND(Secondary4GuildNumber=7,SUM('The Character'!C$390:D$390)>0),AND(Secondary5GuildNumber=7,SUM('The Character'!C$391:D$391)>0),AND(Secondary6GuildNumber=7,SUM('The Character'!C$392:D$392)>0),AND(Secondary7GuildNumber=7,SUM('The Character'!C$393:D$393)>0),AND(AdditionalClassSecondaryGuildNumber=7,SUM('The Character'!C$394:D$394)>0),AND(JoATGuildNumber=7),SUM('The Character'!C$395:D$395)>0),TRUE,FALSE)","v":false},{"$f":"IF(E144=FALSE,0,1)","v":0},"Is Primary in"]
["MaxKiLvl",null,{"$f":"SUM('The Character'!C96:D99)","v":0}]
["MeditateKi",null,{"$f":"SUM('The Character'!C101:D104)","v":0}]
["HasKi",null,{"$f":"IF(KiPoints>0, TRUE, FALSE)","v":false},null,"Added 2.05"]
["CodeHasKi",null,true,null,"Added 2.05"]
["LimitRaiseKiSkillLvl",null,{"$f":"SUM('The Character'!C96:D99)","v":0},null,null," < Spells Out"]
["Lvl01",null,{"$f":"SUM('The Character'!C109:D109)-L01SlotsDrained","v":0},null,{"$f":"Magic!F1","v":0}]
["Lvl02",null,{"$f":"SUM('The Character'!C110:D110)-L02SlotsDrained","v":0},null,{"$f":"Magic!F2","v":0}]
["Lvl03",null,{"$f":"SUM('The Character'!C111:D111)-L03SlotsDrained","v":0},null,{"$f":"Magic!F3","v":0}]
["Lvl04",null,{"$f":"SUM('The Character'!C112:D112)-L04SlotsDrained","v":0},null,{"$f":"Magic!F4","v":0}]
["Lvl05",null,{"$f":"SUM('The Character'!C113:D113)-L05SlotsDrained","v":0},null,{"$f":"Magic!F5","v":0}]
["Lvl06",null,{"$f":"SUM('The Character'!C114:D114)-L06SlotsDrained","v":0},null,{"$f":"Magic!F6","v":0}]
["Lvl07",null,{"$f":"SUM('The Character'!C115:D115)-L07SlotsDrained","v":0},null,{"$f":"Magic!F7","v":0}]
["Lvl08",null,{"$f":"SUM('The Character'!C116:D116)-L08SlotsDrained","v":0},null,{"$f":"Magic!F8","v":0}]
["Lvl09",null,{"$f":"SUM('The Character'!C117:D117)-L09SlotsDrained","v":0},null,{"$f":"Magic!F9","v":0}]
["Lvl10",null,{"$f":"SUM('The Character'!C118:D118)-L10SlotsDrained","v":0},null,{"$f":"Magic!F10","v":0}]
["MakeFocus",null,{"$f":"IF(SUM('The Character'!C124:D124)>0,TRUE,FALSE)","v":false}]
["MakeArcaneFocus",null,{"$f":"IF(SUM('The Character'!C133:D133)>0,TRUE,FALSE)","v":false}]
["MnemonicEnhancerSkill",null,{"$f":"SUM('The Character'!C150:D154)","v":0}]
["GuildBlack",null,{"$f":"IF(OR(PrimaryGuildNumber=9, SecondaryGuildNumber=9,Secondary2GuildNumber=9,Secondary3GuildNumber=9,Secondary4GuildNumber=9,Secondary5GuildNumber=9,Secondary6GuildNumber=9,Secondary7GuildNumber=9, AdditionalClassSecondaryGuildNumber=9, JoATGuildNumber=9),TRUE,FALSE)","v":false},null,{"$f":"IF(OR(PrimaryGuildNumber=9,AND(SecondaryGuildNumber=9,SUM('The Character'!C$387:D$387)>0),AND(Secondary2GuildNumber=9,SUM('The Character'!C$388:D$388)>0),AND(Secondary3GuildNumber=9,SUM('The Character'!C$389:D$389)>0),AND(Secondary4GuildNumber=9,SUM('The Character'!C$390:D$390)>0),AND(Secondary5GuildNumber=9,SUM('The Character'!C$391:D$391)>0),AND(Secondary6GuildNumber=9,SUM('The Character'!C$392:D$392)>0),AND(Secondary7GuildNumber=9,SUM('The Character'!C$393:D$393)>0),AND(AdditionalClassSecondaryGuildNumber=9,SUM('The Character'!C$394:D$394)>0),AND(JoATGuildNumber=9,SUM('The Character'!C$395:D$395)>0), OR(ArcherSpecialistMageGuild1=9,ArcherSpecialistMageGuild2=9)),TRUE,FALSE)","v":false},{"$f":"IF(E163=FALSE,0,1)","v":0},"Is Primary in"]
["GuildBlue",null,{"$f":"IF(OR(PrimaryGuildNumber=10, SecondaryGuildNumber=10,Secondary2GuildNumber=10,Secondary3GuildNumber=10,Secondary4GuildNumber=10,Secondary5GuildNumber=10,Secondary6GuildNumber=10,Secondary7GuildNumber=10, AdditionalClassSecondaryGuildNumber=10, JoATGuildNumber=10),TRUE,FALSE)","v":false},null,{"$f":"IF(OR(PrimaryGuildNumber=10,AND(SecondaryGuildNumber=10,SUM('The Character'!C$387:D$387)>0),AND(Secondary2GuildNumber=10,SUM('The Character'!C$388:D$388)>0),AND(Secondary3GuildNumber=10,SUM('The Character'!C$389:D$389)>0),AND(Secondary4GuildNumber=10,SUM('The Character'!C$390:D$390)>0),AND(Secondary5GuildNumber=10,SUM('The Character'!C$391:D$391)>0),AND(Secondary6GuildNumber=10,SUM('The Character'!C$392:D$392)>0),AND(Secondary7GuildNumber=10,SUM('The Character'!C$393:D$393)>0),AND(AdditionalClassSecondaryGuildNumber=10,SUM('The Character'!C$394:D$394)>0),AND(JoATGuildNumber=10,SUM('The Character'!C$395:D$395)>0), OR(ArcherSpecialistMageGuild1=10,ArcherSpecialistMageGuild2=10)),TRUE,FALSE)","v":false},{"$f":"IF(E164=FALSE,0,1)","v":0}]
["GuildBrown",null,{"$f":"IF(OR(PrimaryGuildNumber=11, SecondaryGuildNumber=11,Secondary2GuildNumber=11,Secondary3GuildNumber=11,Secondary4GuildNumber=11,Secondary5GuildNumber=11,Secondary6GuildNumber=11,Secondary7GuildNumber=11, AdditionalClassSecondaryGuildNumber=11, JoATGuildNumber=11),TRUE,FALSE)","v":false},null,{"$f":"IF(OR(PrimaryGuildNumber=11,AND(SecondaryGuildNumber=11,SUM('The Character'!C$387:D$387)>0),AND(Secondary2GuildNumber=11,SUM('The Character'!C$388:D$388)>0),AND(Secondary3GuildNumber=11,SUM('The Character'!C$389:D$389)>0),AND(Secondary4GuildNumber=11,SUM('The Character'!C$390:D$390)>0),AND(Secondary5GuildNumber=11,SUM('The Character'!C$391:D$391)>0),AND(Secondary6GuildNumber=11,SUM('The Character'!C$392:D$392)>0),AND(Secondary7GuildNumber=11,SUM('The Character'!C$393:D$393)>0),AND(AdditionalClassSecondaryGuildNumber=11,SUM('The Character'!C$394:D$394)>0),AND(JoATGuildNumber=11,SUM('The Character'!C$395:D$395)>0), OR(ArcherSpecialistMageGuild1=11,ArcherSpecialistMageGuild2=11)),TRUE,FALSE)","v":false},0]
["GuildGreen",null,{"$f":"IF(OR(PrimaryGuildNumber=12, SecondaryGuildNumber=12,Secondary2GuildNumber=12,Secondary3GuildNumber=12,Secondary4GuildNumber=12,Secondary5GuildNumber=12,Secondary6GuildNumber=12,Secondary7GuildNumber=12, AdditionalClassSecondaryGuildNumber=12, JoATGuildNumber=12),TRUE,FALSE)","v":false},null,{"$f":"IF(OR(PrimaryGuildNumber=12,AND(SecondaryGuildNumber=12,SUM('The Character'!C$387:D$387)>0),AND(Secondary2GuildNumber=12,SUM('The Character'!C$388:D$388)>0),AND(Secondary3GuildNumber=12,SUM('The Character'!C$389:D$389)>0),AND(Secondary4GuildNumber=12,SUM('The Character'!C$390:D$390)>0),AND(Secondary5GuildNumber=12,SUM('The Character'!C$391:D$391)>0),AND(Secondary6GuildNumber=12,SUM('The Character'!C$392:D$392)>0),AND(Secondary7GuildNumber=12,SUM('The Character'!C$393:D$393)>0),AND(AdditionalClassSecondaryGuildNumber=12,SUM('The Character'!C$394:D$394)>0),AND(JoATGuildNumber=12,SUM('The Character'!C$395:D$395)>0), OR(ArcherSpecialistMageGuild1=12,ArcherSpecialistMageGuild2=12)),TRUE,FALSE)","v":false},0]
["GuildGrey",null,{"$f":"IF(OR(PrimaryGuildNumber=13, SecondaryGuildNumber=13,Secondary2GuildNumber=13,Secondary3GuildNumber=13,Secondary4GuildNumber=13,Secondary5GuildNumber=13,Secondary6GuildNumber=13,Secondary7GuildNumber=13,  AdditionalClassSecondaryGuildNumber=13, JoATGuildNumber=13),TRUE,FALSE)","v":false},null,{"$f":"IF(OR(PrimaryGuildNumber=13,AND(SecondaryGuildNumber=13,SUM('The Character'!C$387:D$387)>0),AND(Secondary2GuildNumber=13,SUM('The Character'!C$388:D$388)>0),AND(Secondary3GuildNumber=13,SUM('The Character'!C$389:D$389)>0),AND(Secondary4GuildNumber=13,SUM('The Character'!C$390:D$390)>0),AND(Secondary5GuildNumber=13,SUM('The Character'!C$391:D$391)>0),AND(Secondary6GuildNumber=13,SUM('The Character'!C$392:D$392)>0),AND(Secondary7GuildNumber=13,SUM('The Character'!C$393:D$393)>0),AND(AdditionalClassSecondaryGuildNumber=13,SUM('The Character'!C$394:D$394)>0),AND(JoATGuildNumber=13,SUM('The Character'!C$395:D$395)>0), OR(ArcherSpecialistMageGuild1=13,ArcherSpecialistMageGuild2=13)),TRUE,FALSE)","v":false},0]
["GuildRed",null,{"$f":"IF(OR(PrimaryGuildNumber=14, SecondaryGuildNumber=14,Secondary2GuildNumber=14,Secondary3GuildNumber=14,Secondary4GuildNumber=14,Secondary5GuildNumber=14,Secondary6GuildNumber=14,Secondary7GuildNumber=14, AdditionalClassSecondaryGuildNumber=14, JoATGuildNumber=14),TRUE,FALSE)","v":false},null,{"$f":"IF(OR(PrimaryGuildNumber=14,AND(SecondaryGuildNumber=14,SUM('The Character'!C$387:D$387)>0),AND(Secondary2GuildNumber=14,SUM('The Character'!C$388:D$388)>0),AND(Secondary3GuildNumber=14,SUM('The Character'!C$389:D$389)>0),AND(Secondary4GuildNumber=14,SUM('The Character'!C$390:D$390)>0),AND(Secondary5GuildNumber=14,SUM('The Character'!C$391:D$391)>0),AND(Secondary6GuildNumber=14,SUM('The Character'!C$392:D$392)>0),AND(Secondary7GuildNumber=14,SUM('The Character'!C$393:D$393)>0),AND(AdditionalClassSecondaryGuildNumber=14,SUM('The Character'!C$394:D$394)>0),AND(JoATGuildNumber=14,SUM('The Character'!C$395:D$395)>0), OR(ArcherSpecialistMageGuild1=14,ArcherSpecialistMageGuild2=14)),TRUE,FALSE)","v":false},0]
["GuildWhite",null,{"$f":"IF(OR(PrimaryGuildNumber=15, SecondaryGuildNumber=15,Secondary2GuildNumber=15,Secondary3GuildNumber=15,Secondary4GuildNumber=15,Secondary5GuildNumber=15,Secondary6GuildNumber=15,Secondary7GuildNumber=15,  AdditionalClassSecondaryGuildNumber=15, JoATGuildNumber=15),TRUE,FALSE)","v":false},null,{"$f":"IF(OR(PrimaryGuildNumber=15,AND(SecondaryGuildNumber=15,SUM('The Character'!C$387:D$387)>0),AND(Secondary2GuildNumber=15,SUM('The Character'!C$388:D$388)>0),AND(Secondary3GuildNumber=15,SUM('The Character'!C$389:D$389)>0),AND(Secondary4GuildNumber=15,SUM('The Character'!C$390:D$390)>0),AND(Secondary5GuildNumber=15,SUM('The Character'!C$391:D$391)>0),AND(Secondary6GuildNumber=15,SUM('The Character'!C$392:D$392)>0),AND(Secondary7GuildNumber=15,SUM('The Character'!C$393:D$393)>0),AND(AdditionalClassSecondaryGuildNumber=15,SUM('The Character'!C$394:D$394)>0),AND(JoATGuildNumber=15,SUM('The Character'!C$395:D$395)>0), OR(ArcherSpecialistMageGuild1=15,ArcherSpecialistMageGuild2=15)),TRUE,FALSE)","v":false},0]
["GuildYellow",null,{"$f":"IF(OR(PrimaryGuildNumber=16, SecondaryGuildNumber=16,Secondary2GuildNumber=16,Secondary3GuildNumber=16,Secondary4GuildNumber=16,Secondary5GuildNumber=16,Secondary6GuildNumber=16,Secondary7GuildNumber=16,  AdditionalClassSecondaryGuildNumber=16, JoATGuildNumber=16),TRUE,FALSE)","v":false},null,{"$f":"IF(OR(PrimaryGuildNumber=16,AND(SecondaryGuildNumber=16,SUM('The Character'!C$387:D$387)>0),AND(Secondary2GuildNumber=16,SUM('The Character'!C$388:D$388)>0),AND(Secondary3GuildNumber=16,SUM('The Character'!C$389:D$389)>0),AND(Secondary4GuildNumber=16,SUM('The Character'!C$390:D$390)>0),AND(Secondary5GuildNumber=16,SUM('The Character'!C$391:D$391)>0),AND(Secondary6GuildNumber=16,SUM('The Character'!C$392:D$392)>0),AND(Secondary7GuildNumber=16,SUM('The Character'!C$393:D$393)>0),AND(AdditionalClassSecondaryGuildNumber=16,SUM('The Character'!C$394:D$394)>0),AND(JoATGuildNumber=16,SUM('The Character'!C$395:D$395)>0), OR(ArcherSpecialistMageGuild1=16,ArcherSpecialistMageGuild2=16)),TRUE,FALSE)","v":false},0]
["SorcerorBlack",null,{"$f":"IF(SUM('The Character'!C134:D134)>0,TRUE,FALSE)","v":false},null,{"$f":"IF(C171=FALSE,0,1)","v":0},"Has Sorcery in"]
["SorcerorBlue",null,{"$f":"IF(SUM('The Character'!C135:D135)>0,TRUE,FALSE)","v":false},null,{"$f":"IF(C172=FALSE,0,1)","v":0}]
["SorcerorBrown",null,{"$f":"IF(SUM('The Character'!C136:D136)>0,TRUE,FALSE)","v":false},null,0]
["SorcerorGreen",null,{"$f":"IF(SUM('The Character'!C137:D137)>0,TRUE,FALSE)","v":false},null,0]
["SorcerorGrey",null,{"$f":"IF(SUM('The Character'!C138:D138)>0,TRUE,FALSE)","v":false},null,0]
["SorcerorRed",null,{"$f":"IF(SUM('The Character'!C139:D139)>0,TRUE,FALSE)","v":false},null,0]
["SorcerorWhite",null,{"$f":"IF(SUM('The Character'!C140:D140)>0,TRUE,FALSE)","v":false},null,0]
["SorcerorYellow",null,{"$f":"IF(SUM('The Character'!C141:D141)>0,TRUE,FALSE)","v":false},null,0]
["Total Level1 Slots",null,{"$f":"_Lvl01+TRUNC(INDEX(Level1Spells, CharacterTable)*CharacterRank)","v":0}]
["TotalMana",null,{"$f":"((_Lvl02+L02SlotsDrained)*2) + ((_Lvl03+L03SlotsDrained)*3) + ((_Lvl04+L04SlotsDrained)*4) + ((_Lvl05+L05SlotsDrained)*5) + ((_Lvl06+L06SlotsDrained)*6) + ((_Lvl07+L07SlotsDrained)*7) + ((_Lvl08+L08SlotsDrained)*8) + ((_Lvl09+L09SlotsDrained)*9) + ((_Lvl10+L10SlotsDrained)*10)","v":0},null,"Does not include L1 slots"]
["WizardBlack",null,{"$f":"IF(SUM('The Character'!C125:D125)>0,TRUE,FALSE)","v":false},null,{"$f":"IF(C181=FALSE,0,1)","v":0},"Has Wizardry in"]
["WizardBlue",null,{"$f":"IF(SUM('The Character'!C126:D126)>0,TRUE,FALSE)","v":false},null,{"$f":"IF(C182=FALSE,0,1)","v":0}]
["WizardBrown",null,{"$f":"IF(SUM('The Character'!C127:D127)>0,TRUE,FALSE)","v":false},null,0]
["WizardGreen",null,{"$f":"IF(SUM('The Character'!C128:D128)>0,TRUE,FALSE)","v":false},null,0]
["WizardGrey",null,{"$f":"IF(SUM('The Character'!C129:D129)>0,TRUE,FALSE)","v":false},null,0]
["WizardRed",null,{"$f":"IF(SUM('The Character'!C130:D130)>0,TRUE,FALSE)","v":false},null,0]
["WizardWhite",null,{"$f":"IF(SUM('The Character'!C131:D131)>0,TRUE,FALSE)","v":false},null,0]
["WizardYellow",null,{"$f":"IF(SUM('The Character'!C132:D132)>0,TRUE,FALSE)","v":false},null,0]
["MnemonicManaRegained",null,{"$f":"TRUNC(CharacterRank*INDEX(MnemonicRegain, CharacterTable))+IF(IsDedicated,100,0)","v":0}]
["LearnLevel01to05",null,{"$f":"IF(SUM('The Character'!C109:D113)>0,TRUE,FALSE)","v":false},null,"Added 2.05"]
["LearnLevel06to08",null,{"$f":"IF(SUM('The Character'!C114:D116), TRUE, FALSE)","v":false}]
["LearnLevel09",null,{"$f":"IF(SUM('The Character'!C117:D117)>0,TRUE,FALSE)","v":false}]
["LearnLevel10",null,{"$f":"IF(SUM('The Character'!C118:D118)>0,TRUE,FALSE)","v":false}]
["TotalSlots",null,{"$f":"SUM('The Character'!C109:D118)","v":0}]
[]
["Cast2ColoursMagic",null,{"$f":"IF(SUM('The Character'!C119:D119),TRUE,FALSE)","v":false}]
["RecMagic",null,{"$f":"IF(SUM('The Character'!C108:D108)>0,TRUE,FALSE)","v":false}]
["ExtraColoursOfMagic",null,{"$f":"SUM('The Character'!C120:D123)","v":0}]
["HasBattlemagic",null,{"$f":"IF(SUM(_Lvl01, _Lvl02, _Lvl03, _Lvl04, _Lvl05) > 0,TRUE,FALSE)","v":false},null,"Added 2.05"]
["HasWizardry",null,{"$f":"IF(SUM(_Lvl06, _Lvl07, _Lvl08) > 0,TRUE,FALSE)","v":false},null,"Added 2.05"]
["HasSorcery",null,{"$f":"IF(SUM(_Lvl09, _Lvl10) > 0,TRUE,FALSE)","v":false},null,"Added 2.05"]
["WriteMagicScrollsLevel",null,{"$f":"SUM('The Character'!C165:D167)","v":0}]
["CodeHasBattlemagic",null,true,null,"Added 2.05"]
["CodeHasWizardry",null,true,null,"Added 2.05"]
["CodeHasSorcery",null,true,null,"Added 2.05"]
["IsGeneralist",null,{"$f":"IF(SUM(E132:E139)>1,TRUE, FALSE)","v":false}]
["IsSpecialist",null,{"$f":"IF(AND(PrimaryGuildNumber>8,PrimaryGuildNumber<17,SUM('The Character'!C125:D132)<2,SUM('The Character'!C134:D141)<2),TRUE,FALSE)","v":false},null,null,"what's this for?"]
["IsDedicated",null,{"$f":"IF(AND(PrimaryGuildNumber>8,PrimaryGuildNumber<17,SUM('The Character'!C397:D397)=1,SUM(E171:E178)=1),TRUE,FALSE)","v":false}]
["IsPurpleMagic",null,{"$f":"IF(SUM('The Character'!C396:D396)>0,TRUE,FALSE)","v":false}]
["Elemental",null,{"$f":"SUM('The Character'!C158:D161)","v":0}]
["TotalAllowedMana",null,{"$f":"IF(LimitRaiseManaLvl=1,600,IF(LimitRaiseManaLvl=2,700,IF(LimitRaiseManaLvl=3,800,500)))","v":500}]
["LimitRaiseManaLvl",null,{"$f":"SUM('The Character'!C145:D148)","v":0}]
["NumberOfMagicColours",null,{"$f":"SUM('The Character'!C119:D123)","v":0}]
["BindWoundsSkill",null,1]
["DiscernNatureOfWounds",null,1]
["FirstAidSkill",null,{"$f":"IF(SUM('The Character'!C170:D170)>0,TRUE,FALSE)","v":false}]
["SetBrokenBone",null,{"$f":"IF(SUM('The Character'!C171:D171)>0,TRUE,FALSE)","v":false}]
["FieldMedicine",null,{"$f":"IF(SUM('The Character'!C169:D169)>0,TRUE,FALSE)","v":false}]
["LIFE",null,{"$f":"SUM('The Character'!C176:D176)","v":0},null,"Number of Picks of \"Life +3\""]
["TotalLife",null,{"$f":"42+(LIFE*3)-PermLifeDrained","v":42}]
["StrengthSkill",null,{"$f":"SUM('The Character'!C178:D180)","v":0}]
["ToughenedSkinSkill",null,{"$f":"SUM('The Character'!C181:D184)","v":0}]
["ToughenedSkinAC",null,{"$f":"IF(ToughenedSkinSkill=4,6,IF(ToughenedSkinSkill=3,4,IF(ToughenedSkinSkill=2,2,IF(ToughenedSkinSkill=1,1,0))))","v":0}]
["ToughenedSkinPAC",null,{"$f":"IF(ToughenedSkinSkill=4,5, IF(ToughenedSkinSkill=3,3,IF(ToughenedSkinSkill=2,1,IF(ToughenedSkinSkill=1,0,0))))","v":0}]
["ToughenedSkinMAC",null,{"$f":"IF(ToughenedSkinSkill=4,5, IF(ToughenedSkinSkill=3,3,IF(ToughenedSkinSkill=2,1,IF(ToughenedSkinSkill=1,0,0))))","v":0}]
["MakeHerbalPotionSKillLvl",null,{"$f":"SUM('The Character'!C200:D204)","v":0}]
["AlembicSkillLvl",null,{"$f":"SUM('The Character'!C205:D207)","v":0}]
["DistillSkillLvl",null,{"$f":"SUM('The Character'!C208:D210)","v":0}]
["TransmutationSkillLvl",null,{"$f":"SUM('The Character'!C187:D189)","v":0}]
["PhilosophersSkillLvl",null,{"$f":"SUM('The Character'!C190:D192)","v":0}]
["ConstructSkillLvl",null,{"$f":"SUM('The Character'!C193:D198)","v":0}]
["Alchemist",null,{"$f":"IF(SUM('The Character'!C185:D185)>0,TRUE,FALSE)","v":false}]
["DiscenHerbalPotionSkill - Herbalist",null,{"$f":"SUM('The Character'!C199:D199)","v":0}]
["HighPriest1stSphere",null,{"$f":"IF(SUM('The Character'!C247:D247)>0,TRUE,FALSE)","v":false}]
["MakeTalisman",null,{"$f":"IF(SUM('The Character'!C243:D243)>0,TRUE,FALSE)","v":false}]
["Meditate",null,{"$f":"IF(SUM('The Character'!C212:D212),TRUE,FALSE)","v":false}]
["Meditate Power",null,{"$f":"SUM('The Character'!C212:D215)","v":0}]
["POWER",null,{"$f":"SUM('The Character'!C211:D211)","v":0},null,"Power bought, does not include base"]
["Priest2ndSphere",null,{"$f":"IF(SUM('The Character'!C244:D244)>0,TRUE,FALSE)","v":false}]
["Priest3rdSphere",null,{"$f":"IF(SUM('The Character'!C245:D245)>0,TRUE,FALSE)","v":false}]
["HighPriest2ndSphere",null,{"$f":"SUM('The Character'!C246:D246)>0","v":false}]
["HighPriest3rdSphere",null,{"$f":"AND(SUM('The Character'!C246:D246)>0,SUM('The Character'!C230:D230)>0)","v":false}]
["isPriest",null,{"$f":"IF(MakeTalisman,TRUE,FALSE)","v":false}]
["IsHighPriest",null,{"$f":"IF(OR(HighPriest1stSphere=TRUE,HighPriest2ndSphere=TRUE,HighPriest3rdSphere=TRUE), TRUE, FALSE)","v":false}]
["TotalPower",null,{"$f":"INDEX(InitialPower,CharacterTable)+POWER-PermPowerDrained","v":5},null,"isPrimary"]
["GuildHospitaler",null,{"$f":"IF(OR(PrimaryGuildNumber=18,SecondaryGuildNumber=18,Secondary2GuildNumber=18, Secondary3GuildNumber=18, Secondary4GuildNumber=18, Secondary5GuildNumber=18,Secondary6GuildNumber=18, AdditionalClassSecondaryGuildNumber=18,AdditionalClassSecondaryGuildNumber=18, JoATGuildNumber=18),TRUE,FALSE)","v":false},null,{"$f":"IF(OR(PrimaryGuildNumber=18,AND(SecondaryGuildNumber=18,SUM('The Character'!C$387:D$387)>0),AND(Secondary2GuildNumber=18,SUM('The Character'!C$388:D$388)>0),AND(Secondary3GuildNumber=18,SUM('The Character'!C$389:D$389)>0),AND(Secondary4GuildNumber=18,SUM('The Character'!C$390:D$390)>0),AND(Secondary5GuildNumber=18,SUM('The Character'!C$391:D$391)>0),AND(Secondary6GuildNumber=18,SUM('The Character'!C$392:D$392)>0),AND(Secondary7GuildNumber=18,SUM('The Character'!C$393:D$393)>0),AND(AdditionalClassSecondaryGuildNumber=18,SUM('The Character'!C$394:D$394)>0),AND(JoATGuildNumber=18,SUM('The Character'!C$395:D$395)>0),OR(ArcherSpecialistPriestSect1=18, ArcherSpecialistPriestSect2=18)),TRUE,FALSE)","v":false}]
["GuildWhitePath",null,{"$f":"IF(OR(PrimaryGuildNumber=17,SecondaryGuildNumber=17, JoATGuildNumber=17,Secondary2GuildNumber=17, Secondary3GuildNumber=17, Secondary4GuildNumber=17, Secondary5GuildNumber=17,Secondary6GuildNumber=17, AdditionalClassSecondaryGuildNumber=17,AdditionalClassSecondaryGuildNumber=17),TRUE,FALSE)","v":false},null,{"$f":"IF(OR(PrimaryGuildNumber=17,AND(SecondaryGuildNumber=17,SUM('The Character'!C$387:D$387)>0),AND(Secondary2GuildNumber=17,SUM('The Character'!C$388:D$388)>0),AND(Secondary3GuildNumber=17,SUM('The Character'!C$389:D$389)>0),AND(Secondary4GuildNumber=17,SUM('The Character'!C$390:D$390)>0),AND(Secondary5GuildNumber=17,SUM('The Character'!C$391:D$391)>0),AND(Secondary6GuildNumber=17,SUM('The Character'!C$392:D$392)>0),AND(Secondary7GuildNumber=17,SUM('The Character'!C$393:D$393)>0),AND(AdditionalClassSecondaryGuildNumber=17,SUM('The Character'!C$394:D$394)>0),AND(JoATGuildNumber=17,SUM('The Character'!C$395:D$395)>0),OR(ArcherSpecialistPriestSect1=17, ArcherSpecialistPriestSect2=17)),TRUE,FALSE)","v":false}]
["GuildHumacti",null,{"$f":"IF(OR(PrimaryGuildNumber=19,SecondaryGuildNumber=19, JoATGuildNumber=19,Secondary2GuildNumber=19, Secondary3GuildNumber=19, Secondary4GuildNumber=19, Secondary5GuildNumber=19,Secondary6GuildNumber=19, AdditionalClassSecondaryGuildNumber=19,AdditionalClassSecondaryGuildNumber=19),TRUE,FALSE)","v":false},null,{"$f":"IF(OR(PrimaryGuildNumber=19,AND(SecondaryGuildNumber=19,SUM('The Character'!C$387:D$387)>0),AND(Secondary2GuildNumber=19,SUM('The Character'!C$388:D$388)>0),AND(Secondary3GuildNumber=19,SUM('The Character'!C$389:D$389)>0),AND(Secondary4GuildNumber=19,SUM('The Character'!C$390:D$390)>0),AND(Secondary5GuildNumber=19,SUM('The Character'!C$391:D$391)>0),AND(Secondary6GuildNumber=19,SUM('The Character'!C$392:D$392)>0),AND(Secondary7GuildNumber=19,SUM('The Character'!C$393:D$393)>0),AND(AdditionalClassSecondaryGuildNumber=19,SUM('The Character'!C$394:D$394)>0),AND(JoATGuildNumber=19,SUM('The Character'!C$395:D$395)>0),OR(ArcherSpecialistPriestSect1=19, ArcherSpecialistPriestSect2=19)),TRUE,FALSE)","v":false}]
["GuildMIcheline",null,{"$f":"IF(OR(PrimaryGuildNumber=20,SecondaryGuildNumber=20, JoATGuildNumber=20,Secondary2GuildNumber=20, Secondary3GuildNumber=20, Secondary4GuildNumber=20, Secondary5GuildNumber=20,Secondary6GuildNumber=20, AdditionalClassSecondaryGuildNumber=20,AdditionalClassSecondaryGuildNumber=20),TRUE,FALSE)","v":false},null,{"$f":"IF(OR(PrimaryGuildNumber=20,AND(SecondaryGuildNumber=20,SUM('The Character'!C$387:D$387)>0),AND(Secondary2GuildNumber=20,SUM('The Character'!C$388:D$388)>0),AND(Secondary3GuildNumber=20,SUM('The Character'!C$389:D$389)>0),AND(Secondary4GuildNumber=20,SUM('The Character'!C$390:D$390)>0),AND(Secondary5GuildNumber=20,SUM('The Character'!C$391:D$391)>0),AND(Secondary6GuildNumber=20,SUM('The Character'!C$392:D$392)>0),AND(Secondary7GuildNumber=20,SUM('The Character'!C$393:D$393)>0),AND(AdditionalClassSecondaryGuildNumber=20,SUM('The Character'!C$394:D$394)>0),AND(JoATGuildNumber=20,SUM('The Character'!C$395:D$395)>0),OR(ArcherSpecialistPriestSect1=20, ArcherSpecialistPriestSect2=20)),TRUE,FALSE)","v":false}]
["GuildGreyPath",null,{"$f":"IF(OR(PrimaryGuildNumber=21,SecondaryGuildNumber=21, JoATGuildNumber=21,Secondary2GuildNumber=21, Secondary3GuildNumber=21, Secondary4GuildNumber=21, Secondary5GuildNumber=21,Secondary6GuildNumber=21, AdditionalClassSecondaryGuildNumber=21,AdditionalClassSecondaryGuildNumber=21),TRUE,FALSE)","v":false},null,{"$f":"IF(OR(PrimaryGuildNumber=21,AND(SecondaryGuildNumber=21,SUM('The Character'!C$387:D$387)>0),AND(Secondary2GuildNumber=21,SUM('The Character'!C$388:D$388)>0),AND(Secondary3GuildNumber=21,SUM('The Character'!C$389:D$389)>0),AND(Secondary4GuildNumber=21,SUM('The Character'!C$390:D$390)>0),AND(Secondary5GuildNumber=21,SUM('The Character'!C$391:D$391)>0),AND(Secondary6GuildNumber=21,SUM('The Character'!C$392:D$392)>0),AND(Secondary7GuildNumber=21,SUM('The Character'!C$393:D$393)>0),AND(AdditionalClassSecondaryGuildNumber=21,SUM('The Character'!C$394:D$394)>0),AND(JoATGuildNumber=21,SUM('The Character'!C$395:D$395)>0),OR(ArcherSpecialistPriestSect1=21, ArcherSpecialistPriestSect2=21)),TRUE,FALSE)","v":false}]
["GuildWarden",null,{"$f":"IF(OR(PrimaryGuildNumber=22,SecondaryGuildNumber=22, JoATGuildNumber=22,Secondary2GuildNumber=22, Secondary3GuildNumber=22, Secondary4GuildNumber=22, Secondary5GuildNumber=22,Secondary6GuildNumber=22, AdditionalClassSecondaryGuildNumber=22,AdditionalClassSecondaryGuildNumber=22),TRUE,FALSE)","v":false},null,{"$f":"IF(OR(PrimaryGuildNumber=22,AND(SecondaryGuildNumber=22,SUM('The Character'!C$387:D$387)>0),AND(Secondary2GuildNumber=22,SUM('The Character'!C$388:D$388)>0),AND(Secondary3GuildNumber=22,SUM('The Character'!C$389:D$389)>0),AND(Secondary4GuildNumber=22,SUM('The Character'!C$390:D$390)>0),AND(Secondary5GuildNumber=22,SUM('The Character'!C$391:D$391)>0),AND(Secondary6GuildNumber=22,SUM('The Character'!C$392:D$392)>0),AND(Secondary7GuildNumber=22,SUM('The Character'!C$393:D$393)>0),AND(AdditionalClassSecondaryGuildNumber=22,SUM('The Character'!C$394:D$394)>0),AND(JoATGuildNumber=22,SUM('The Character'!C$395:D$395)>0),OR(ArcherSpecialistPriestSect1=22,ArcherSpecialistPriestSect2=22)),TRUE,FALSE)","v":false}]
["GuildDruid",null,{"$f":"IF(OR(PrimaryGuildNumber=24,SecondaryGuildNumber=24, JoATGuildNumber=24,Secondary2GuildNumber=24, Secondary3GuildNumber=24, Secondary4GuildNumber=24, Secondary5GuildNumber=24,Secondary6GuildNumber=24, AdditionalClassSecondaryGuildNumber=24,AdditionalClassSecondaryGuildNumber=24),TRUE,FALSE)","v":false},null,{"$f":"IF(OR(PrimaryGuildNumber=24,AND(SecondaryGuildNumber=24,SUM('The Character'!C$387:D$387)>0),AND(Secondary2GuildNumber=24,SUM('The Character'!C$388:D$388)>0),AND(Secondary3GuildNumber=24,SUM('The Character'!C$389:D$389)>0),AND(Secondary4GuildNumber=24,SUM('The Character'!C$390:D$390)>0),AND(Secondary5GuildNumber=24,SUM('The Character'!C$391:D$391)>0),AND(Secondary6GuildNumber=24,SUM('The Character'!C$392:D$392)>0),AND(Secondary7GuildNumber=24,SUM('The Character'!C$393:D$393)>0),AND(AdditionalClassSecondaryGuildNumber=24,SUM('The Character'!C$394:D$394)>0),AND(JoATGuildNumber=24,SUM('The Character'!C$395:D$395)>0),OR(ArcherSpecialistPriestSect1=24, ArcherSpecialistPriestSect2=24)),TRUE,FALSE)","v":false}]
["GuildGauntlet",null,{"$f":"IF(OR(PrimaryGuildNumber=23,SecondaryGuildNumber=23, JoATGuildNumber=23,Secondary2GuildNumber=23, Secondary3GuildNumber=23, Secondary4GuildNumber=23, Secondary5GuildNumber=23,Secondary6GuildNumber=23, AdditionalClassSecondaryGuildNumber=23,AdditionalClassSecondaryGuildNumber=23),TRUE,FALSE)","v":false},null,{"$f":"IF(OR(PrimaryGuildNumber=23,AND(SecondaryGuildNumber=23,SUM('The Character'!C$387:D$387)>0),AND(Secondary2GuildNumber=23,SUM('The Character'!C$388:D$388)>0),AND(Secondary3GuildNumber=23,SUM('The Character'!C$389:D$389)>0),AND(Secondary4GuildNumber=23,SUM('The Character'!C$390:D$390)>0),AND(Secondary5GuildNumber=23,SUM('The Character'!C$391:D$391)>0),AND(Secondary6GuildNumber=23,SUM('The Character'!C$392:D$392)>0),AND(Secondary7GuildNumber=23,SUM('The Character'!C$393:D$393)>0),AND(AdditionalClassSecondaryGuildNumber=23,SUM('The Character'!C$394:D$394)>0),AND(JoATGuildNumber=23,SUM('The Character'!C$395:D$395)>0),OR(ArcherSpecialistPriestSect1=23, ArcherSpecialistPriestSect2=23)),TRUE,FALSE)","v":false}]
["GuildDarkPath",null,{"$f":"IF(OR(PrimaryGuildNumber=25,SecondaryGuildNumber=25, JoATGuildNumber=25,Secondary2GuildNumber=25, Secondary3GuildNumber=25, Secondary4GuildNumber=25, Secondary5GuildNumber=25,Secondary6GuildNumber=25, AdditionalClassSecondaryGuildNumber=25,AdditionalClassSecondaryGuildNumber=25),TRUE,FALSE)","v":false},null,{"$f":"IF(OR(PrimaryGuildNumber=25,AND(SecondaryGuildNumber=25,SUM('The Character'!C$387:D$387)>0),AND(Secondary2GuildNumber=25,SUM('The Character'!C$388:D$388)>0),AND(Secondary3GuildNumber=25,SUM('The Character'!C$389:D$389)>0),AND(Secondary4GuildNumber=25,SUM('The Character'!C$390:D$390)>0),AND(Secondary5GuildNumber=25,SUM('The Character'!C$391:D$391)>0),AND(Secondary6GuildNumber=25,SUM('The Character'!C$392:D$392)>0),AND(Secondary7GuildNumber=25,SUM('The Character'!C$393:D$393)>0),AND(AdditionalClassSecondaryGuildNumber=25,SUM('The Character'!C$394:D$394)>0),AND(JoATGuildNumber=25,SUM('The Character'!C$395:D$395)>0),OR(ArcherSpecialistPriestSect1=25, ArcherSpecialistPriestSect2=25)),TRUE,FALSE)","v":false}]
["GuildReaper",null,{"$f":"IF(OR(PrimaryGuildNumber=28,SecondaryGuildNumber=28, JoATGuildNumber=28,Secondary2GuildNumber=28, Secondary3GuildNumber=28, Secondary4GuildNumber=28, Secondary5GuildNumber=28,Secondary6GuildNumber=28, AdditionalClassSecondaryGuildNumber=28,AdditionalClassSecondaryGuildNumber=28),TRUE,FALSE)","v":false},null,{"$f":"IF(OR(PrimaryGuildNumber=28,AND(SecondaryGuildNumber=28,SUM('The Character'!C$387:D$387)>0),AND(Secondary2GuildNumber=28,SUM('The Character'!C$388:D$388)>0),AND(Secondary3GuildNumber=28,SUM('The Character'!C$389:D$389)>0),AND(Secondary4GuildNumber=28,SUM('The Character'!C$390:D$390)>0),AND(Secondary5GuildNumber=28,SUM('The Character'!C$391:D$391)>0),AND(Secondary6GuildNumber=28,SUM('The Character'!C$392:D$392)>0),AND(Secondary7GuildNumber=28,SUM('The Character'!C$393:D$393)>0),AND(AdditionalClassSecondaryGuildNumber=28,SUM('The Character'!C$394:D$394)>0),AND(JoATGuildNumber=28,SUM('The Character'!C$395:D$395)>0),OR(ArcherSpecialistPriestSect1=28,ArcherSpecialistPriestSect2=28)),TRUE,FALSE)","v":false}]
["GuildSeer",null,{"$f":"IF(OR(PrimaryGuildNumber=26,SecondaryGuildNumber=26, JoATGuildNumber=26,Secondary2GuildNumber=26, Secondary3GuildNumber=26, Secondary4GuildNumber=26, Secondary5GuildNumber=26,Secondary6GuildNumber=26, AdditionalClassSecondaryGuildNumber=26,AdditionalClassSecondaryGuildNumber=26),TRUE,FALSE)","v":false},null,{"$f":"IF(OR(PrimaryGuildNumber=26,AND(SecondaryGuildNumber=26,SUM('The Character'!C$387:D$387)>0),AND(Secondary2GuildNumber=26,SUM('The Character'!C$388:D$388)>0),AND(Secondary3GuildNumber=26,SUM('The Character'!C$389:D$389)>0),AND(Secondary4GuildNumber=26,SUM('The Character'!C$390:D$390)>0),AND(Secondary5GuildNumber=26,SUM('The Character'!C$391:D$391)>0),AND(Secondary6GuildNumber=26,SUM('The Character'!C$392:D$392)>0),AND(Secondary7GuildNumber=26,SUM('The Character'!C$393:D$393)>0),AND(AdditionalClassSecondaryGuildNumber=26,SUM('The Character'!C$394:D$394)>0),AND(JoATGuildNumber=26,SUM('The Character'!C$395:D$395)>0),OR(ArcherSpecialistPriestSect1=26, ArcherSpecialistPriestSect2=26)),TRUE,FALSE)","v":false}]
["GuildBrethren",null,{"$f":"IF(OR(PrimaryGuildNumber=27,SecondaryGuildNumber=27, JoATGuildNumber=27,Secondary2GuildNumber=27, Secondary3GuildNumber=27, Secondary4GuildNumber=27, Secondary5GuildNumber=27,Secondary6GuildNumber=27, AdditionalClassSecondaryGuildNumber=27,AdditionalClassSecondaryGuildNumber=27),TRUE,FALSE)","v":false},null,{"$f":"IF(OR(PrimaryGuildNumber=27,AND(SecondaryGuildNumber=27,SUM('The Character'!C$387:D$387)>0),AND(Secondary2GuildNumber=27,SUM('The Character'!C$388:D$388)>0),AND(Secondary3GuildNumber=27,SUM('The Character'!C$389:D$389)>0),AND(Secondary4GuildNumber=27,SUM('The Character'!C$390:D$390)>0),AND(Secondary5GuildNumber=27,SUM('The Character'!C$391:D$391)>0),AND(Secondary6GuildNumber=27,SUM('The Character'!C$392:D$392)>0),AND(Secondary7GuildNumber=27,SUM('The Character'!C$393:D$393)>0),AND(AdditionalClassSecondaryGuildNumber=27,SUM('The Character'!C$394:D$394)>0),AND(JoATGuildNumber=27,SUM('The Character'!C$395:D$395)>0),OR(ArcherSpecialistPriestSect1=27, ArcherSpecialistPriestSect2=27)),TRUE,FALSE)","v":false}]
["PriestHospitaler",null,{"$f":"IF(AND(isPriest=TRUE,OR(PrimaryGuildNumber=18,SecondaryGuildNumber=18,Secondary2GuildNumber=18, Secondary3GuildNumber=18, Secondary4GuildNumber=18, Secondary5GuildNumber=18,Secondary6GuildNumber=18, AdditionalClassSecondaryGuildNumber=18,AdditionalClassSecondaryGuildNumber=18)),TRUE,FALSE)","v":false}]
["PriestWhitePath",null,{"$f":"IF(AND(isPriest=TRUE,OR(PrimaryGuildNumber=17,SecondaryGuildNumber=17, JoATGuildNumber=17,Secondary2GuildNumber=17, Secondary3GuildNumber=17, Secondary4GuildNumber=17, Secondary5GuildNumber=17,Secondary6GuildNumber=17, AdditionalClassSecondaryGuildNumber=17,AdditionalClassSecondaryGuildNumber=17)),TRUE,FALSE)","v":false}]
["PriestHumacti",null,{"$f":"IF(AND(isPriest=TRUE,OR(PrimaryGuildNumber=19,SecondaryGuildNumber=19, JoATGuildNumber=19,Secondary2GuildNumber=19, Secondary3GuildNumber=19, Secondary4GuildNumber=19, Secondary5GuildNumber=19,Secondary6GuildNumber=19, AdditionalClassSecondaryGuildNumber=19,AdditionalClassSecondaryGuildNumber=19)),TRUE,FALSE)","v":false}]
["PriestMIcheline",null,{"$f":"IF(AND(isPriest=TRUE,OR(PrimaryGuildNumber=20,SecondaryGuildNumber=20, JoATGuildNumber=20,Secondary2GuildNumber=20, Secondary3GuildNumber=20, Secondary4GuildNumber=20, Secondary5GuildNumber=20,Secondary6GuildNumber=20, AdditionalClassSecondaryGuildNumber=20,AdditionalClassSecondaryGuildNumber=20)),TRUE,FALSE)","v":false}]
["PriestGreyPath",null,{"$f":"IF(AND(isPriest=TRUE,OR(PrimaryGuildNumber=21,SecondaryGuildNumber=21, JoATGuildNumber=21,Secondary2GuildNumber=21, Secondary3GuildNumber=21, Secondary4GuildNumber=21, Secondary5GuildNumber=21,Secondary6GuildNumber=21, AdditionalClassSecondaryGuildNumber=21,AdditionalClassSecondaryGuildNumber=21)),TRUE,FALSE)","v":false}]
["PriestWarden",null,{"$f":"IF(AND(isPriest=TRUE,OR(PrimaryGuildNumber=22,SecondaryGuildNumber=22, JoATGuildNumber=22,Secondary2GuildNumber=22, Secondary3GuildNumber=22, Secondary4GuildNumber=22, Secondary5GuildNumber=22,Secondary6GuildNumber=22, AdditionalClassSecondaryGuildNumber=22,AdditionalClassSecondaryGuildNumber=22)),TRUE,FALSE)","v":false}]
["PriestDruid",null,{"$f":"IF(AND(isPriest=TRUE,OR(PrimaryGuildNumber=24,SecondaryGuildNumber=24, JoATGuildNumber=24,Secondary2GuildNumber=24, Secondary3GuildNumber=24, Secondary4GuildNumber=24, Secondary5GuildNumber=24,Secondary6GuildNumber=24, AdditionalClassSecondaryGuildNumber=24,AdditionalClassSecondaryGuildNumber=24)),TRUE,FALSE)","v":false}]
["PriestGauntlet",null,{"$f":"IF(AND(isPriest=TRUE,OR(PrimaryGuildNumber=23,SecondaryGuildNumber=23, JoATGuildNumber=23,Secondary2GuildNumber=23, Secondary3GuildNumber=23, Secondary4GuildNumber=23, Secondary5GuildNumber=23,Secondary6GuildNumber=23, AdditionalClassSecondaryGuildNumber=23,AdditionalClassSecondaryGuildNumber=23)),TRUE,FALSE)","v":false}]
["PriestDarkPath",null,{"$f":"IF(AND(isPriest=TRUE,OR(PrimaryGuildNumber=25,SecondaryGuildNumber=25, JoATGuildNumber=25,Secondary2GuildNumber=25, Secondary3GuildNumber=25, Secondary4GuildNumber=25, Secondary5GuildNumber=25,Secondary6GuildNumber=25, AdditionalClassSecondaryGuildNumber=25,AdditionalClassSecondaryGuildNumber=25)),TRUE,FALSE)","v":false}]
["PriestReaper",null,{"$f":"IF(AND(isPriest=TRUE,OR(PrimaryGuildNumber=28,SecondaryGuildNumber=28, JoATGuildNumber=28,Secondary2GuildNumber=28, Secondary3GuildNumber=28, Secondary4GuildNumber=28, Secondary5GuildNumber=28,Secondary6GuildNumber=28, AdditionalClassSecondaryGuildNumber=28,AdditionalClassSecondaryGuildNumber=28)),TRUE,FALSE)","v":false}]
["PriestSeer",null,{"$f":"IF(AND(isPriest=TRUE,OR(PrimaryGuildNumber=26,SecondaryGuildNumber=26, JoATGuildNumber=26,Secondary2GuildNumber=26, Secondary3GuildNumber=26, Secondary4GuildNumber=26, Secondary5GuildNumber=26,Secondary6GuildNumber=26, AdditionalClassSecondaryGuildNumber=26,AdditionalClassSecondaryGuildNumber=26)),TRUE,FALSE)","v":false}]
["PriestBrethren",null,{"$f":"IF(AND(isPriest=TRUE,OR(PrimaryGuildNumber=27,SecondaryGuildNumber=27, JoATGuildNumber=27,Secondary2GuildNumber=27, Secondary3GuildNumber=27, Secondary4GuildNumber=27, Secondary5GuildNumber=27,Secondary6GuildNumber=27, AdditionalClassSecondaryGuildNumber=27,AdditionalClassSecondaryGuildNumber=27)),TRUE,FALSE)","v":false}]
["HighPriestHospitaler",null,{"$f":"IF(AND(IsHighPriest=TRUE,OR(PrimaryGuildNumber=18,SecondaryGuildNumber=18, JoATGuildNumber=18,Secondary2GuildNumber=18, Secondary3GuildNumber=18, Secondary4GuildNumber=18, Secondary5GuildNumber=18,Secondary6GuildNumber=18, AdditionalClassSecondaryGuildNumber=18,AdditionalClassSecondaryGuildNumber=18)),TRUE,FALSE)","v":false}]
["HighPriestWhitePath",null,{"$f":"IF(AND(IsHighPriest=TRUE,OR(PrimaryGuildNumber=17,SecondaryGuildNumber=17, JoATGuildNumber=17,Secondary2GuildNumber=17, Secondary3GuildNumber=17, Secondary4GuildNumber=17, Secondary5GuildNumber=17,Secondary6GuildNumber=17, AdditionalClassSecondaryGuildNumber=17,AdditionalClassSecondaryGuildNumber=17)),TRUE,FALSE)","v":false}]
["HighPriestHumacti",null,{"$f":"IF(AND(IsHighPriest=TRUE,OR(PrimaryGuildNumber=19,SecondaryGuildNumber=19, JoATGuildNumber=19,Secondary2GuildNumber=19, Secondary3GuildNumber=19, Secondary4GuildNumber=19, Secondary5GuildNumber=19,Secondary6GuildNumber=19, AdditionalClassSecondaryGuildNumber=19,AdditionalClassSecondaryGuildNumber=19)),TRUE,FALSE)","v":false}]
["HighPriestMIcheline",null,{"$f":"IF(AND(IsHighPriest=TRUE,OR(PrimaryGuildNumber=20,SecondaryGuildNumber=20, JoATGuildNumber=20,Secondary2GuildNumber=20, Secondary3GuildNumber=20, Secondary4GuildNumber=20, Secondary5GuildNumber=20,Secondary6GuildNumber=20, AdditionalClassSecondaryGuildNumber=20,AdditionalClassSecondaryGuildNumber=20)),TRUE,FALSE)","v":false}]
["HighPriestGreyPath",null,{"$f":"IF(AND(IsHighPriest=TRUE,OR(PrimaryGuildNumber=21,SecondaryGuildNumber=21, JoATGuildNumber=21,Secondary2GuildNumber=21, Secondary3GuildNumber=21, Secondary4GuildNumber=21, Secondary5GuildNumber=21,Secondary6GuildNumber=21, AdditionalClassSecondaryGuildNumber=21,AdditionalClassSecondaryGuildNumber=21)),TRUE,FALSE)","v":false}]
["HighPriestWarden",null,{"$f":"IF(AND(IsHighPriest=TRUE,OR(PrimaryGuildNumber=22,SecondaryGuildNumber=22, JoATGuildNumber=22,Secondary2GuildNumber=22, Secondary3GuildNumber=22, Secondary4GuildNumber=22, Secondary5GuildNumber=22,Secondary6GuildNumber=22, AdditionalClassSecondaryGuildNumber=22,AdditionalClassSecondaryGuildNumber=22)),TRUE,FALSE)","v":false}]
["HighPriestDruid",null,{"$f":"IF(AND(IsHighPriest=TRUE,OR(PrimaryGuildNumber=24,SecondaryGuildNumber=24, JoATGuildNumber=24,Secondary2GuildNumber=24, Secondary3GuildNumber=24, Secondary4GuildNumber=24, Secondary5GuildNumber=24,Secondary6GuildNumber=24, AdditionalClassSecondaryGuildNumber=24,AdditionalClassSecondaryGuildNumber=24)),TRUE,FALSE)","v":false}]
["HighPriestGauntlet",null,{"$f":"IF(AND(IsHighPriest=TRUE,OR(PrimaryGuildNumber=23,SecondaryGuildNumber=23, JoATGuildNumber=23,Secondary2GuildNumber=23, Secondary3GuildNumber=23, Secondary4GuildNumber=23, Secondary5GuildNumber=23,Secondary6GuildNumber=23, AdditionalClassSecondaryGuildNumber=23,AdditionalClassSecondaryGuildNumber=23)),TRUE,FALSE)","v":false}]
["HighPriestDarkPath",null,{"$f":"IF(AND(IsHighPriest=TRUE,OR(PrimaryGuildNumber=25,SecondaryGuildNumber=25, JoATGuildNumber=25,Secondary2GuildNumber=25, Secondary3GuildNumber=25, Secondary4GuildNumber=25, Secondary5GuildNumber=25,Secondary6GuildNumber=25, AdditionalClassSecondaryGuildNumber=25,AdditionalClassSecondaryGuildNumber=25)),TRUE,FALSE)","v":false}]
["HighPriestReaper",null,{"$f":"IF(AND(IsHighPriest=TRUE,OR(PrimaryGuildNumber=28,SecondaryGuildNumber=28, JoATGuildNumber=28,Secondary2GuildNumber=28, Secondary3GuildNumber=28, Secondary4GuildNumber=28, Secondary5GuildNumber=28,Secondary6GuildNumber=28, AdditionalClassSecondaryGuildNumber=28,AdditionalClassSecondaryGuildNumber=28)),TRUE,FALSE)","v":false}]
["HighPriestSeer",null,{"$f":"IF(AND(IsHighPriest=TRUE,OR(PrimaryGuildNumber=26,SecondaryGuildNumber=26, JoATGuildNumber=26,Secondary2GuildNumber=26, Secondary3GuildNumber=26, Secondary4GuildNumber=26, Secondary5GuildNumber=26,Secondary6GuildNumber=26, AdditionalClassSecondaryGuildNumber=26,AdditionalClassSecondaryGuildNumber=26)),TRUE,FALSE)","v":false}]
["HighPriestBrethren",null,{"$f":"IF(AND(IsHighPriest=TRUE,OR(PrimaryGuildNumber=27,SecondaryGuildNumber=27, JoATGuildNumber=27,Secondary2GuildNumber=27, Secondary3GuildNumber=27, Secondary4GuildNumber=27, Secondary5GuildNumber=27,Secondary6GuildNumber=27, AdditionalClassSecondaryGuildNumber=27,AdditionalClassSecondaryGuildNumber=27)),TRUE,FALSE)","v":false}]
["CastRank1stSphere",null,{"$f":"SUM('The Character'!C220:D222)","v":0}]
["CastRank2ndSphere",null,{"$f":"SUM('The Character'!C224:D226)","v":0}]
["CastRank3rdSphere",null,{"$f":"SUM('The Character'!C228:D230)","v":0}]
["ConnectionWith1stSphere",null,{"$f":"IF(SUM('The Character'!C219:D219)>0,TRUE,FALSE)","v":false}]
["ConnectionWith2ndSphere",null,{"$f":"IF(SUM('The Character'!C223:D223)>0,TRUE,FALSE)","v":false}]
["ConnectionWith3rdSphere",null,{"$f":"IF(SUM('The Character'!C227:D227),TRUE,FALSE)","v":false}]
["WritePowerScrollsLevel",null,{"$f":"SUM('The Character'!C248:D250)","v":0}]
["LimitRaisePowerSkillLvl",null,{"$f":"SUM('The Character'!C238:D241)","v":0}]
["PsionicPoints",null,{"$f":"SUM('The Character'!C258:D258)","v":0}]
["LimitRaisePsiSkillLvl",null,{"$f":"SUM('The Character'!C251:D253)","v":0}]
["HasPsi",null,{"$f":"IF(Psionics>0, TRUE, FALSE)","v":false},null,"Added 2.05"]
["CodeHasPsi",null,true,null,"Added 2.05"]
["MediatePsi",null,{"$f":"SUM('The Character'!C254:D257)","v":0}]
["PsionicMeditate",null,{"$f":"IF(SUM('The Character'!C254:D254)>0,TRUE,FALSE)","v":false},null,2.14]
["MakePsionicTalisman",null,{"$f":"IF(SUM('The Character'!C260:D260)>0,TRUE,FALSE)","v":false},null,2.14]
["SneakAttackSkillLvl",null,{"$f":"SUM('The Character'!C275:D279)","v":0}]
["ThroatSlitSkillLvl",null,{"$f":"SUM('The Character'!C280:D284)","v":0}]
["Disguise",null,{"$f":"IF(SUM('The Character'!C270:D270)>0,TRUE,FALSE)","v":false}]
[null,null,{"$f":"SUM('The Character'!C322:D324)","v":0}]
[]
["HasAnyWarriorSkills",null,{"$f":"IF(SUM(KnockbackSkillLvl,KnockdownSkillLvl,DisarmSkillLvl,DismemberSkillLvl,HoldTheLineSkillLvl,NeverSkillLvl,NerveStrikeSkillLvl,ShieldArmBoneBreakSkillLvl,BoneBreakSkillLvl,ResistDisarmSkillLvl,ResistDismemberSkillLvl,ResistNerveStrikeSkillLvl,ResistShieldArmBoneBreakSkillLvl,ResistShieldCleaveSkillLvl,ResistBoneBreakSkillLvl,ResistKnockbackSkillLvl,ResistKnockdownSkillLvl,ResistThroughSkillLvl,, ArcherKnockback, ArcherStunshots)>0, TRUE, FALSE)","v":false},null,"Added 2.05"]
["CodeHasAnyWarriorSkills",null,true]
["SpiritualWarriorSkill",null,{"$f":"SUM('The Character'!C365:D367)","v":0}]
["TwoHandedWeaponSkillLvl",null,{"$f":"SUM('The Character'!C383:D385)","v":0}]
["LimitRaiseLifeSkillLvl",null,{"$f":"SUM('The Character'!C316:D319)","v":0}]
["KnockbackSkillLvl",null,{"$f":"SUM('The Character'!C307:D310)","v":0}]
["KnockbackQuant",null,{"$f":"SUM('The Character'!C306:D306)","v":0}]
["KnockdownSkillLvl",null,{"$f":"SUM('The Character'!C312:D315)","v":0}]
["KnockdownQuant",null,{"$f":"SUM('The Character'!C311:D311)","v":0}]
["DisarmSkillLvl",null,{"$f":"SUM('The Character'!C292:D295)","v":0}]
["DisarmQuant",null,{"$f":"SUM('The Character'!C291:D291)","v":0}]
["DismemberSkillLvl",null,{"$f":"SUM('The Character'!C296:D299)","v":0}]
["HoldTheLineSkillLvl",null,{"$f":"SUM('The Character'!C300:D302)","v":0}]
["NeverSkillLvl",null,{"$f":"SUM('The Character'!C303:D305)","v":0}]
["NerveStrikeSkillLvl",null,{"$f":"SUM('The Character'!C321:D324)","v":0}]
["NerveStrikeQuant",null,{"$f":"SUM('The Character'!C320:D320)","v":0}]
["ShieldArmBoneBreakSkillLvl",null,{"$f":"SUM('The Character'!C358:D360)","v":0}]
["ShieldCleaveSkillLvl",null,{"$f":"SUM('The Character'!C361:D364)","v":0}]
["BoneBreakSkillLvl",null,{"$f":"SUM('The Character'!C285:D288)","v":0}]
[]
["ResistDisarmSkillLvl",null,{"$f":"SUM('The Character'!C329:D332)","v":0}]
["ResistDismemberSkillLvl",null,{"$f":"SUM('The Character'!C333:D336)","v":0}]
["ResistNerveStrikeSkillLvl",null,{"$f":"SUM('The Character'!C345:D348)","v":0}]
["ResistShieldArmBoneBreakSkillLvl",null,{"$f":"SUM('The Character'!C349:D351)","v":0}]
["ResistShieldCleaveSkillLvl",null,{"$f":"SUM('The Character'!C352:D354)","v":0}]
["ResistBoneBreakSkillLvl",null,{"$f":"SUM('The Character'!C325:D328)","v":0}]
[]
["ResistKnockbackSkillLvl",null,{"$f":"SUM('The Character'!C337:D340)","v":0}]
["ResistKnockdownSkillLvl",null,{"$f":"SUM('The Character'!C341:D344)","v":0}]
["ResistThroughSkillLvl",null,{"$f":"SUM('The Character'!C355:D357)","v":0}]
["SubdualSkillLvl",null,{"$f":"SUM('The Character'!C368:D370)","v":0}]
["SunderSkillLevel",null,{"$f":"SUM('The Character'!C371:D373)","v":0}]
["SingleHandedSkillLvl - above prof",null,{"$f":"SUM('The Character'!C378:D379)","v":0}]
["DaggerAttunement",null,{"$f":"IF(WeaponAttunement,IF(DaggerSkill>=3,TRUE,FALSE),FALSE)","v":false}]
["DaggerSkill",null,{"$f":"SUM('The Character'!C380:D382)","v":0}]
["WeaponAttunement",null,{"$f":"IF(SUM('The Character'!C386:D386),TRUE,FALSE)","v":false}]
["WeaponEnhMasteryAny",null,{"$f":"IF('The Character'!C382+'The Character'!C385+'The Character'!C379+'The Character'!D382+'The Character'!D385+'The Character'!D379>0,TRUE,FALSE)","v":false}]
["WeaponMasteryAny",null,{"$f":"IF('The Character'!C384+'The Character'!C381+'The Character'!C378+'The Character'!D384+'The Character'!D378+'The Character'!D381>0,TRUE,FALSE)","v":false}]
["WeaponEnhMasteryNum",null,{"$f":"SUM('The Character'!C382,'The Character'!C385,'The Character'!C379+'The Character'!D382,'The Character'!D385,'The Character'!D379)","v":0}]
["Additional Status from Class and Guild Uprade",null,{"$f":"SUM('The Character'!C387:D395)","v":0}]
["CastThroughWeapon",null,{"$f":"SUM('The Character'!C374:D376)","v":0}]

{"sheet":"Tables","index":10,"n_rows":207,"n_cols":51,"rows_kept":207,"cut":false,"hidden":true,"merged":[[178,0,206,0],[59,0,87,0],[57,2,57,32],[57,34,57,51],[176,2,176,32],[94,3,94,4]]}
[]
[]
[]
["RaceAndClass","InitialPower","Rank1Spells","Rule640","Mnemonic","CharacterTypeTable","CharacterRaceTable","CharacterTypeNumberTable"]
["Human Warrior",5,0,640,0.5,"Warrior","Human",1,null,null,1]
["Human Scout",5,0,1280,0.5,"Scout","Human",2,null,null,2]
["Human Acolyte Good",5,0,640,0.5,"Acolyte_Good","Human",3,null,null,3]
["Human Acolyte Neutral",5,0,640,0.5,"Acolyte_Neutral","Human",3,null,null,4]
["Human Acolyte Evil",5,0,640,0.5,"Acolyte_Evil","Human",3,null,null,5]
["Human Mage",5,0,640,1,"Mage","Human",4,null,null,6]
["Elf Warrior",5,0.33333333333333331,640,0.5,"Warrior","Elf",1,null,null,7]
["Elf Scout",5,0.5,1280,0.5,"Scout","Elf",2,null,null,8]
["Elf Acolyte Good",5,0.5,640,0.5,"Acolyte_Good","Elf",3,null,null,9]
["Elf Acolyte Neutral",5,0.5,640,0.5,"Acolyte_Neutral","Elf",3,null,null,10]
["Elf Acolyte Evil",5,0.5,640,0.5,"Acolyte_Evil","Elf",3,null,null,11]
["Elf Mage",5,1,640,1,"Mage","Elf",4,null,null,12]
["Half-Orc Warrior",5,0,640,0.5,"Warrior","Half-Orc",1,null,null,13]
["Half-Orc Scout",5,0,1280,0.5,"Scout","Half-Orc",2,null,null,14]
["Half-Orc Acolyte Good",5,0,640,0.5,"Acolyte_Good","Half-Orc",3,null,null,15]
["Half-Orc Acolyte Neutral",5,0,640,0.5,"Acolyte_Neutral","Half-Orc",3,null,null,16]
["Half-Orc Acolyte Evil",5,0,640,0.5,"Acolyte_Evil","Half-Orc",3,null,null,17]
["Half-Orc Mage",5,0,640,1,"Mage","Half-Orc",4,null,null,18]
[]
[]
[]
[]
[]
[]
["Warrior",{"$f":"OR(CharacterTable=1,CharacterTable=7,CharacterTable=13)","v":false}]
["Scout",{"$f":"OR(CharacterTable=2,CharacterTable=8,CharacterTable=14)","v":false}]
["Acolyte_Good",{"$f":"OR(CharacterTable=3,CharacterTable=9,CharacterTable=15)","v":false}]
["Acolyte_Neutral",{"$f":"OR(CharacterTable=4,CharacterTable=10,CharacterTable=16)","v":false}]
["Acolyte_Evil",{"$f":"OR(CharacterTable=5,CharacterTable=11,CharacterTable=17)","v":false}]
["Mage",{"$f":"OR(CharacterTable=6,CharacterTable=12,CharacterTable=18)","v":true}]
["Barbarian",{"$f":"OR(CharacterTable=19,CharacterTable=20)","v":false}]
["Monk",{"$f":"CharacterTable=21","v":false}]
[]
[]
[]
[]
["Forearm Parry Lookup Table"]
[0,"N/A"]
[1,"Single"]
[2,"Double"]
[3,"Triple"]
[4,"Quad"]
[5,"Quin"]
[6,"Quartz"]
[7,"Sept"]
[8,"Oct"]
[]
["Adrenal Strength Lookup Table"]
[0,"N/A"]
[1,"Strength (Rk1)"]
[3,"Double Strength (Rk3)"]
[5,"Triple Strength (Rk5)"]
[null,null,null,null,"GuildCompatibility Table",null,null,null,null,null,null,null,null,null,null,null,null,null,null,null,null,null,null,null,null,null,null,null,null,null,null,"GuildTypeTable"]
[null,null,"Allowed Secondary Guild",null,null,null,null,null,null,null,null,null,null,null,null,null,null,null,null,null,null,null,null,null,null,null,null,null,null,null,null,null,null,null,"Secondary Guild Picks"]
[null,"Guild","Sentinel","Reaver","Barbarian","Paladin","Skirmisher","Monk","Assassin","Archer","Black School","Blue School","Brown School","Green School","Grey School","Red School","White School","Yellow School","White Path","Hospitaller","Humacti","Michelene"," Grey Path","Warden","Gauntlet","Druid","Dark Path","Seer","Brethren","Reaper","Guild","Guild",null,"Human Warrior","Human Scout","Human Acolyte Good","Human Acolyte Neutral","Human Acolyte Evil","Human Mage","Elf Warrior","Elf Scout","Elf Acolyte Good","Elf Acolyte Neutral","Elf Acolyte Evil","Elf Mage","Half-Orc Warrior","Half-Orc Scout","Half-Orc Acolyte Good","Half-Orc Acolyte Neutral","Half-Orc Acolyte Evil","Half-Orc Mage"]
["Primary Guild","Sentinel",{"$f":"FALSE","v":false},{"$f":"TRUE","v":true},{"$f":"TRUE","v":true},{"$f":"TRUE","v":true},{"$f":"FALSE","v":false},{"$f":"FALSE","v":false},{"$f":"FALSE","v":false},{"$f":"FALSE","v":false},{"$f":"FALSE","v":false},{"$f":"FALSE","v":false},{"$f":"FALSE","v":false},{"$f":"FALSE","v":false},{"$f":"FALSE","v":false},{"$f":"FALSE","v":false},{"$f":"FALSE","v":false},{"$f":"FALSE","v":false},{"$f":"FALSE","v":false},{"$f":"FALSE","v":false},{"$f":"FALSE","v":false},{"$f":"FALSE","v":false},{"$f":"FALSE","v":false},{"$f":"FALSE","v":false},{"$f":"FALSE","v":false},{"$f":"FALSE","v":false},{"$f":"FALSE","v":false},{"$f":"FALSE","v":false},{"$f":"FALSE","v":false},{"$f":"FALSE","v":false},"Sentinel","Warrior",null,{"$f":"COUNTIF($C60:$AD60,TRUE)","v":3},0,0,0,0,0,{"$f":"COUNTIF($C60:$AD60,TRUE)","v":3},0,0,0,0,0,{"$f":"COUNTIF($C60:$AD60,TRUE)","v":3},0,0,0,0,0]
[null,"Reaver",{"$f":"TRUE","v":true},{"$f":"FALSE","v":false},{"$f":"TRUE","v":true},{"$f":"TRUE","v":true},{"$f":"FALSE","v":false},{"$f":"FALSE","v":false},{"$f":"FALSE","v":false},{"$f":"FALSE","v":false},{"$f":"FALSE","v":false},{"$f":"FALSE","v":false},{"$f":"FALSE","v":false},{"$f":"FALSE","v":false},{"$f":"FALSE","v":false},{"$f":"FALSE","v":false},{"$f":"FALSE","v":false},{"$f":"FALSE","v":false},{"$f":"FALSE","v":false},{"$f":"FALSE","v":false},{"$f":"FALSE","v":false},{"$f":"FALSE","v":false},{"$f":"FALSE","v":false},{"$f":"FALSE","v":false},{"$f":"FALSE","v":false},{"$f":"FALSE","v":false},{"$f":"FALSE","v":false},{"$f":"FALSE","v":false},{"$f":"FALSE","v":false},{"$f":"FALSE","v":false},"Reaver","Warrior",null,{"$f":"COUNTIF($C61:$AD61,TRUE)","v":3},0,0,0,0,0,{"$f":"COUNTIF($C61:$AD61,TRUE)","v":3},0,0,0,0,0,{"$f":"COUNTIF($C61:$AD61,TRUE)","v":3},0,0,0,0,0]
[null,"Barbarian",{"$f":"TRUE","v":true},{"$f":"TRUE","v":true},{"$f":"FALSE","v":false},{"$f":"TRUE","v":true},{"$f":"FALSE","v":false},{"$f":"FALSE","v":false},{"$f":"FALSE","v":false},{"$f":"FALSE","v":false},{"$f":"FALSE","v":false},{"$f":"FALSE","v":false},{"$f":"FALSE","v":false},{"$f":"FALSE","v":false},{"$f":"FALSE","v":false},{"$f":"FALSE","v":false},{"$f":"FALSE","v":false},{"$f":"FALSE","v":false},{"$f":"FALSE","v":false},{"$f":"FALSE","v":false},{"$f":"FALSE","v":false},{"$f":"FALSE","v":false},{"$f":"FALSE","v":false},{"$f":"FALSE","v":false},{"$f":"FALSE","v":false},{"$f":"FALSE","v":false},{"$f":"FALSE","v":false},{"$f":"FALSE","v":false},{"$f":"FALSE","v":false},{"$f":"FALSE","v":false},"Barbarian","Warrior",null,{"$f":"COUNTIF($C62:$AD62,TRUE)","v":3},0,0,0,0,0,{"$f":"COUNTIF($C62:$AD62,TRUE)-1","v":2},0,0,0,0,0,{"$f":"COUNTIF($C62:$AD62,TRUE)","v":3},0,0,0,0,0]
[null,"Paladin",{"$f":"TRUE","v":true},{"$f":"TRUE","v":true},{"$f":"TRUE","v":true},{"$f":"FALSE","v":false},{"$f":"FALSE","v":false},{"$f":"FALSE","v":false},{"$f":"FALSE","v":false},{"$f":"FALSE","v":false},{"$f":"FALSE","v":false},{"$f":"FALSE","v":false},{"$f":"FALSE","v":false},{"$f":"FALSE","v":false},{"$f":"FALSE","v":false},{"$f":"FALSE","v":false},{"$f":"FALSE","v":false},{"$f":"FALSE","v":false},{"$f":"FALSE","v":false},{"$f":"FALSE","v":false},{"$f":"FALSE","v":false},{"$f":"FALSE","v":false},{"$f":"FALSE","v":false},{"$f":"FALSE","v":false},{"$f":"FALSE","v":false},{"$f":"FALSE","v":false},{"$f":"FALSE","v":false},{"$f":"FALSE","v":false},{"$f":"FALSE","v":false},{"$f":"FALSE","v":false},"Paladin","Warrior",null,{"$f":"COUNTIF($C63:$AD63,TRUE)","v":3},0,0,0,0,0,{"$f":"COUNTIF($C63:$AD63,TRUE)","v":3},0,0,0,0,0,{"$f":"COUNTIF($C63:$AD63,TRUE)","v":3},0,0,0,0,0]
[null,"Skirmisher",{"$f":"FALSE","v":false},{"$f":"FALSE","v":false},{"$f":"FALSE","v":false},{"$f":"FALSE","v":false},{"$f":"FALSE","v":false},{"$f":"TRUE","v":true},{"$f":"TRUE","v":true},{"$f":"TRUE","v":true},{"$f":"FALSE","v":false},{"$f":"FALSE","v":false},{"$f":"FALSE","v":false},{"$f":"FALSE","v":false},{"$f":"FALSE","v":false},{"$f":"FALSE","v":false},{"$f":"FALSE","v":false},{"$f":"FALSE","v":false},{"$f":"FALSE","v":false},{"$f":"FALSE","v":false},{"$f":"FALSE","v":false},{"$f":"FALSE","v":false},{"$f":"FALSE","v":false},{"$f":"FALSE","v":false},{"$f":"FALSE","v":false},{"$f":"FALSE","v":false},{"$f":"FALSE","v":false},{"$f":"FALSE","v":false},{"$f":"FALSE","v":false},{"$f":"FALSE","v":false},"Skirmisher","Scout",null,0,{"$f":"COUNTIF($C64:$AD64,TRUE)","v":3},0,0,0,0,0,{"$f":"COUNTIF($C64:$AD64,TRUE)","v":3},0,0,0,0,0,{"$f":"COUNTIF($C64:$AD64,TRUE)","v":3},0,0,0,0]
[null,"Monk",{"$f":"FALSE","v":false},{"$f":"FALSE","v":false},{"$f":"FALSE","v":false},{"$f":"FALSE","v":false},{"$f":"TRUE","v":true},{"$f":"FALSE","v":false},{"$f":"TRUE","v":true},{"$f":"TRUE","v":true},{"$f":"FALSE","v":false},{"$f":"FALSE","v":false},{"$f":"FALSE","v":false},{"$f":"FALSE","v":false},{"$f":"FALSE","v":false},{"$f":"FALSE","v":false},{"$f":"FALSE","v":false},{"$f":"FALSE","v":false},{"$f":"FALSE","v":false},{"$f":"FALSE","v":false},{"$f":"FALSE","v":false},{"$f":"FALSE","v":false},{"$f":"FALSE","v":false},{"$f":"FALSE","v":false},{"$f":"FALSE","v":false},{"$f":"FALSE","v":false},{"$f":"FALSE","v":false},{"$f":"FALSE","v":false},{"$f":"FALSE","v":false},{"$f":"FALSE","v":false},"Monk","Scout",null,0,{"$f":"COUNTIF($C65:$AD65,TRUE)","v":3},0,0,0,0,0,{"$f":"COUNTIF($C65:$AD65,TRUE)","v":3},0,0,0,0,0,{"$f":"COUNTIF($C65:$AD65,TRUE)","v":3},0,0,0,0]
[null,"Assassin",{"$f":"FALSE","v":false},{"$f":"FALSE","v":false},{"$f":"FALSE","v":false},{"$f":"FALSE","v":false},{"$f":"TRUE","v":true},{"$f":"TRUE","v":true},{"$f":"FALSE","v":false},{"$f":"TRUE","v":true},{"$f":"FALSE","v":false},{"$f":"FALSE","v":false},{"$f":"FALSE","v":false},{"$f":"FALSE","v":false},{"$f":"FALSE","v":false},{"$f":"FALSE","v":false},{"$f":"FALSE","v":false},{"$f":"FALSE","v":false},{"$f":"FALSE","v":false},{"$f":"FALSE","v":false},{"$f":"FALSE","v":false},{"$f":"FALSE","v":false},{"$f":"FALSE","v":false},{"$f":"FALSE","v":false},{"$f":"FALSE","v":false},{"$f":"FALSE","v":false},{"$f":"FALSE","v":false},{"$f":"FALSE","v":false},{"$f":"FALSE","v":false},{"$f":"FALSE","v":false},"Assassin","Scout",null,0,{"$f":"COUNTIF($C66:$AD66,TRUE)","v":3},0,0,0,0,0,{"$f":"COUNTIF($C66:$AD66,TRUE)","v":3},0,0,0,0,0,{"$f":"COUNTIF($C66:$AD66,TRUE)","v":3},0,0,0,0]
[null,"Archer",{"$f":"FALSE","v":false},{"$f":"FALSE","v":false},{"$f":"FALSE","v":false},{"$f":"FALSE","v":false},{"$f":"TRUE","v":true},{"$f":"TRUE","v":true},{"$f":"TRUE","v":true},{"$f":"FALSE","v":false},{"$f":"FALSE","v":false},{"$f":"FALSE","v":false},{"$f":"FALSE","v":false},{"$f":"FALSE","v":false},{"$f":"FALSE","v":false},{"$f":"FALSE","v":false},{"$f":"FALSE","v":false},{"$f":"FALSE","v":false},{"$f":"FALSE","v":false},{"$f":"FALSE","v":false},{"$f":"FALSE","v":false},{"$f":"FALSE","v":false},{"$f":"FALSE","v":false},{"$f":"FALSE","v":false},{"$f":"FALSE","v":false},{"$f":"FALSE","v":false},{"$f":"FALSE","v":false},{"$f":"FALSE","v":false},{"$f":"FALSE","v":false},{"$f":"FALSE","v":false},"Archer","Scout",null,0,{"$f":"COUNTIF($C67:$AD67,TRUE)","v":3},0,0,0,0,0,{"$f":"COUNTIF($C67:$AD67,TRUE)","v":3},0,0,0,0,0,{"$f":"COUNTIF($C67:$AD67,TRUE)","v":3},0,0,0,0]
[null,"Black School",{"$f":"FALSE","v":false},{"$f":"FALSE","v":false},{"$f":"FALSE","v":false},{"$f":"FALSE","v":false},{"$f":"FALSE","v":false},{"$f":"FALSE","v":false},{"$f":"FALSE","v":false},{"$f":"FALSE","v":false},{"$f":"FALSE","v":false},{"$f":"TRUE","v":true},{"$f":"TRUE","v":true},{"$f":"TRUE","v":true},{"$f":"TRUE","v":true},{"$f":"TRUE","v":true},{"$f":"TRUE","v":true},{"$f":"TRUE","v":true},{"$f":"FALSE","v":false},{"$f":"FALSE","v":false},{"$f":"FALSE","v":false},{"$f":"FALSE","v":false},{"$f":"FALSE","v":false},{"$f":"FALSE","v":false},{"$f":"FALSE","v":false},{"$f":"FALSE","v":false},{"$f":"FALSE","v":false},{"$f":"FALSE","v":false},{"$f":"FALSE","v":false},{"$f":"FALSE","v":false},"Black School","Mage",null,0,0,0,0,0,{"$f":"COUNTIF($C68:$AD68,TRUE)","v":7},0,0,0,0,0,{"$f":"COUNTIF($C68:$AD68,TRUE)","v":7},0,0,0,0,0,{"$f":"COUNTIF($C68:$AD68,TRUE)","v":7}]
[null,"Blue School",{"$f":"FALSE","v":false},{"$f":"FALSE","v":false},{"$f":"FALSE","v":false},{"$f":"FALSE","v":false},{"$f":"FALSE","v":false},{"$f":"FALSE","v":false},{"$f":"FALSE","v":false},{"$f":"FALSE","v":false},{"$f":"TRUE","v":true},{"$f":"FALSE","v":false},{"$f":"TRUE","v":true},{"$f":"TRUE","v":true},{"$f":"TRUE","v":true},{"$f":"TRUE","v":true},{"$f":"TRUE","v":true},{"$f":"TRUE","v":true},{"$f":"FALSE","v":false},{"$f":"FALSE","v":false},{"$f":"FALSE","v":false},{"$f":"FALSE","v":false},{"$f":"FALSE","v":false},{"$f":"FALSE","v":false},{"$f":"FALSE","v":false},{"$f":"FALSE","v":false},{"$f":"FALSE","v":false},{"$f":"FALSE","v":false},{"$f":"FALSE","v":false},{"$f":"FALSE","v":false},"Blue School","Mage",null,0,0,0,0,0,7,0,0,0,0,0,7,0,0,0,0,0,7]
[null,"Brown School",{"$f":"FALSE","v":false},{"$f":"FALSE","v":false},{"$f":"FALSE","v":false},{"$f":"FALSE","v":false},{"$f":"FALSE","v":false},{"$f":"FALSE","v":false},{"$f":"FALSE","v":false},{"$f":"FALSE","v":false},{"$f":"TRUE","v":true},{"$f":"TRUE","v":true},{"$f":"FALSE","v":false},{"$f":"TRUE","v":true},{"$f":"TRUE","v":true},{"$f":"TRUE","v":true},{"$f":"TRUE","v":true},{"$f":"TRUE","v":true},{"$f":"FALSE","v":false},{"$f":"FALSE","v":false},{"$f":"FALSE","v":false},{"$f":"FALSE","v":false},{"$f":"FALSE","v":false},{"$f":"FALSE","v":false},{"$f":"FALSE","v":false},{"$f":"FALSE","v":false},{"$f":"FALSE","v":false},{"$f":"FALSE","v":false},{"$f":"FALSE","v":false},{"$f":"FALSE","v":false},"Brown School","Mage",null,0,0,0,0,0,7,0,0,0,0,0,7,0,0,0,0,0,7]
[null,"Green School",{"$f":"FALSE","v":false},{"$f":"FALSE","v":false},{"$f":"FALSE","v":false},{"$f":"FALSE","v":false},{"$f":"FALSE","v":false},{"$f":"FALSE","v":false},{"$f":"FALSE","v":false},{"$f":"FALSE","v":false},{"$f":"TRUE","v":true},{"$f":"TRUE","v":true},{"$f":"TRUE","v":true},{"$f":"FALSE","v":false},{"$f":"TRUE","v":true},{"$f":"TRUE","v":true},{"$f":"TRUE","v":true},{"$f":"TRUE","v":true},{"$f":"FALSE","v":false},{"$f":"FALSE","v":false},{"$f":"FALSE","v":false},{"$f":"FALSE","v":false},{"$f":"FALSE","v":false},{"$f":"FALSE","v":false},{"$f":"FALSE","v":false},{"$f":"FALSE","v":false},{"$f":"FALSE","v":false},{"$f":"FALSE","v":false},{"$f":"FALSE","v":false},{"$f":"FALSE","v":false},"Green School","Mage",null,0,0,0,0,0,7,0,0,0,0,0,7,0,0,0,0,0,7]
[null,"Grey School",{"$f":"FALSE","v":false},{"$f":"FALSE","v":false},{"$f":"FALSE","v":false},{"$f":"FALSE","v":false},{"$f":"FALSE","v":false},{"$f":"FALSE","v":false},{"$f":"FALSE","v":false},{"$f":"FALSE","v":false},{"$f":"TRUE","v":true},{"$f":"TRUE","v":true},{"$f":"TRUE","v":true},{"$f":"TRUE","v":true},{"$f":"FALSE","v":false},{"$f":"TRUE","v":true},{"$f":"TRUE","v":true},{"$f":"TRUE","v":true},{"$f":"FALSE","v":false},{"$f":"FALSE","v":false},{"$f":"FALSE","v":false},{"$f":"FALSE","v":false},{"$f":"FALSE","v":false},{"$f":"FALSE","v":false},{"$f":"FALSE","v":false},{"$f":"FALSE","v":false},{"$f":"FALSE","v":false},{"$f":"FALSE","v":false},{"$f":"FALSE","v":false},{"$f":"FALSE","v":false},"Grey School","Mage",null,0,0,0,0,0,7,0,0,0,0,0,7,0,0,0,0,0,7]
[null,"Red School",{"$f":"FALSE","v":false},{"$f":"FALSE","v":false},{"$f":"FALSE","v":false},{"$f":"FALSE","v":false},{"$f":"FALSE","v":false},{"$f":"FALSE","v":false},{"$f":"FALSE","v":false},{"$f":"FALSE","v":false},{"$f":"TRUE","v":true},{"$f":"TRUE","v":true},{"$f":"TRUE","v":true},{"$f":"TRUE","v":true},{"$f":"TRUE","v":true},{"$f":"FALSE","v":false},{"$f":"TRUE","v":true},{"$f":"TRUE","v":true},{"$f":"FALSE","v":false},{"$f":"FALSE","v":false},{"$f":"FALSE","v":false},{"$f":"FALSE","v":false},{"$f":"FALSE","v":false},{"$f":"FALSE","v":false},{"$f":"FALSE","v":false},{"$f":"FALSE","v":false},{"$f":"FALSE","v":false},{"$f":"FALSE","v":false},{"$f":"FALSE","v":false},{"$f":"FALSE","v":false},"Red School","Mage",null,0,0,0,0,0,7,0,0,0,0,0,7,0,0,0,0,0,7]
[null,"White School",{"$f":"FALSE","v":false},{"$f":"FALSE","v":false},{"$f":"FALSE","v":false},{"$f":"FALSE","v":false},{"$f":"FALSE","v":false},{"$f":"FALSE","v":false},{"$f":"FALSE","v":false},{"$f":"FALSE","v":false},{"$f":"TRUE","v":true},{"$f":"TRUE","v":true},{"$f":"TRUE","v":true},{"$f":"TRUE","v":true},{"$f":"TRUE","v":true},{"$f":"TRUE","v":true},{"$f":"FALSE","v":false},{"$f":"TRUE","v":true},{"$f":"FALSE","v":false},{"$f":"FALSE","v":false},{"$f":"FALSE","v":false},{"$f":"FALSE","v":false},{"$f":"FALSE","v":false},{"$f":"FALSE","v":false},{"$f":"FALSE","v":false},{"$f":"FALSE","v":false},{"$f":"FALSE","v":false},{"$f":"FALSE","v":false},{"$f":"FALSE","v":false},{"$f":"FALSE","v":false},"White School","Mage",null,0,0,0,0,0,7,0,0,0,0,0,7,0,0,0,0,0,7]
[null,"Yellow School",{"$f":"FALSE","v":false},{"$f":"FALSE","v":false},{"$f":"FALSE","v":false},{"$f":"FALSE","v":false},{"$f":"FALSE","v":false},{"$f":"FALSE","v":false},{"$f":"FALSE","v":false},{"$f":"FALSE","v":false},{"$f":"TRUE","v":true},{"$f":"TRUE","v":true},{"$f":"TRUE","v":true},{"$f":"TRUE","v":true},{"$f":"TRUE","v":true},{"$f":"TRUE","v":true},{"$f":"TRUE","v":true},{"$f":"FALSE","v":false},{"$f":"FALSE","v":false},{"$f":"FALSE","v":false},{"$f":"FALSE","v":false},{"$f":"FALSE","v":false},{"$f":"FALSE","v":false},{"$f":"FALSE","v":false},{"$f":"FALSE","v":false},{"$f":"FALSE","v":false},{"$f":"FALSE","v":false},{"$f":"FALSE","v":false},{"$f":"FALSE","v":false},{"$f":"FALSE","v":false},"Yellow School","Mage",null,0,0,0,0,0,7,0,0,0,0,0,7,0,0,0,0,0,7]
[null,"White Path",{"$f":"FALSE","v":false},{"$f":"FALSE","v":false},{"$f":"FALSE","v":false},{"$f":"FALSE","v":false},{"$f":"FALSE","v":false},{"$f":"FALSE","v":false},{"$f":"FALSE","v":false},{"$f":"FALSE","v":false},{"$f":"FALSE","v":false},{"$f":"FALSE","v":false},{"$f":"FALSE","v":false},{"$f":"FALSE","v":false},{"$f":"FALSE","v":false},{"$f":"FALSE","v":false},{"$f":"FALSE","v":false},{"$f":"FALSE","v":false},{"$f":"FALSE","v":false},{"$f":"TRUE","v":true},{"$f":"TRUE","v":true},{"$f":"TRUE","v":true},{"$f":"TRUE","v":true},{"$f":"TRUE","v":true},{"$f":"TRUE","v":true},{"$f":"TRUE","v":true},{"$f":"FALSE","v":false},{"$f":"FALSE","v":false},{"$f":"FALSE","v":false},{"$f":"FALSE","v":false},"White Path","Priest",null,0,0,{"$f":"COUNTIF($C76:$AD76,TRUE)","v":7},0,0,0,0,0,{"$f":"COUNTIF($C76:$AD76,TRUE)","v":7},0,0,0,0,0,{"$f":"COUNTIF($C76:$AD76,TRUE)","v":7},0,0,0]
[null,"Hospitaller",{"$f":"FALSE","v":false},{"$f":"FALSE","v":false},{"$f":"FALSE","v":false},{"$f":"FALSE","v":false},{"$f":"FALSE","v":false},{"$f":"FALSE","v":false},{"$f":"FALSE","v":false},{"$f":"FALSE","v":false},{"$f":"FALSE","v":false},{"$f":"FALSE","v":false},{"$f":"FALSE","v":false},{"$f":"FALSE","v":false},{"$f":"FALSE","v":false},{"$f":"FALSE","v":false},{"$f":"FALSE","v":false},{"$f":"FALSE","v":false},{"$f":"TRUE","v":true},{"$f":"FALSE","v":false},{"$f":"TRUE","v":true},{"$f":"TRUE","v":true},{"$f":"TRUE","v":true},{"$f":"TRUE","v":true},{"$f":"TRUE","v":true},{"$f":"TRUE","v":true},{"$f":"FALSE","v":false},{"$f":"FALSE","v":false},{"$f":"FALSE","v":false},{"$f":"FALSE","v":false},"Hospitaller","Priest",null,0,0,{"$f":"COUNTIF($C77:$AD77,TRUE)","v":7},0,0,0,0,0,{"$f":"COUNTIF($C77:$AD77,TRUE)","v":7},0,0,0,0,0,{"$f":"COUNTIF($C77:$AD77,TRUE)","v":7},0,0,0]
[null,"Humacti",{"$f":"FALSE","v":false},{"$f":"FALSE","v":false},{"$f":"FALSE","v":false},{"$f":"FALSE","v":false},{"$f":"FALSE","v":false},{"$f":"FALSE","v":false},{"$f":"FALSE","v":false},{"$f":"FALSE","v":false},{"$f":"FALSE","v":false},{"$f":"FALSE","v":false},{"$f":"FALSE","v":false},{"$f":"FALSE","v":false},{"$f":"FALSE","v":false},{"$f":"FALSE","v":false},{"$f":"FALSE","v":false},{"$f":"FALSE","v":false},{"$f":"TRUE","v":true},{"$f":"TRUE","v":true},{"$f":"FALSE","v":false},{"$f":"TRUE","v":true},{"$f":"TRUE","v":true},{"$f":"TRUE","v":true},{"$f":"TRUE","v":true},{"$f":"TRUE","v":true},{"$f":"FALSE","v":false},{"$f":"FALSE","v":false},{"$f":"FALSE","v":false},{"$f":"FALSE","v":false},"Humacti","Priest",null,0,0,{"$f":"COUNTIF($C78:$AD78,TRUE)","v":7},0,0,0,0,0,{"$f":"COUNTIF($C78:$AD78,TRUE)","v":7},0,0,0,0,0,{"$f":"COUNTIF($C78:$AD78,TRUE)","v":7},0,0,0]
[null,"Michelene",{"$f":"FALSE","v":false},{"$f":"FALSE","v":false},{"$f":"FALSE","v":false},{"$f":"FALSE","v":false},{"$f":"FALSE","v":false},{"$f":"FALSE","v":false},{"$f":"FALSE","v":false},{"$f":"FALSE","v":false},{"$f":"FALSE","v":false},{"$f":"FALSE","v":false},{"$f":"FALSE","v":false},{"$f":"FALSE","v":false},{"$f":"FALSE","v":false},{"$f":"FALSE","v":false},{"$f":"FALSE","v":false},{"$f":"FALSE","v":false},{"$f":"TRUE","v":true},{"$f":"TRUE","v":true},{"$f":"TRUE","v":true},{"$f":"FALSE","v":false},{"$f":"TRUE","v":true},{"$f":"TRUE","v":true},{"$f":"TRUE","v":true},{"$f":"TRUE","v":true},{"$f":"FALSE","v":false},{"$f":"FALSE","v":false},{"$f":"FALSE","v":false},{"$f":"FALSE","v":false},"Michelene","Priest",null,0,0,{"$f":"COUNTIF($C79:$AD79,TRUE)","v":7},0,0,0,0,0,{"$f":"COUNTIF($C79:$AD79,TRUE)","v":7},0,0,0,0,0,{"$f":"COUNTIF($C79:$AD79,TRUE)","v":7},0,0,0]
[null,"Grey Path",{"$f":"FALSE","v":false},{"$f":"FALSE","v":false},{"$f":"FALSE","v":false},{"$f":"FALSE","v":false},{"$f":"FALSE","v":false},{"$f":"FALSE","v":false},{"$f":"FALSE","v":false},{"$f":"FALSE","v":false},{"$f":"FALSE","v":false},{"$f":"FALSE","v":false},{"$f":"FALSE","v":false},{"$f":"FALSE","v":false},{"$f":"FALSE","v":false},{"$f":"FALSE","v":false},{"$f":"FALSE","v":false},{"$f":"FALSE","v":false},{"$f":"TRUE","v":true},{"$f":"TRUE","v":true},{"$f":"TRUE","v":true},{"$f":"TRUE","v":true},{"$f":"FALSE","v":false},{"$f":"TRUE","v":true},{"$f":"TRUE","v":true},{"$f":"TRUE","v":true},{"$f":"TRUE","v":true},{"$f":"TRUE","v":true},{"$f":"TRUE","v":true},{"$f":"TRUE","v":true},"Grey Path","Priest",null,0,0,0,{"$f":"COUNTIF($C80:$AD80,TRUE)","v":11},0,0,0,0,0,{"$f":"COUNTIF($C80:$AD80,TRUE)","v":11},0,0,0,0,0,{"$f":"COUNTIF($C80:$AD80,TRUE)","v":11},0,0]
[null,"Warden",{"$f":"FALSE","v":false},{"$f":"FALSE","v":false},{"$f":"FALSE","v":false},{"$f":"FALSE","v":false},{"$f":"FALSE","v":false},{"$f":"FALSE","v":false},{"$f":"FALSE","v":false},{"$f":"FALSE","v":false},{"$f":"FALSE","v":false},{"$f":"FALSE","v":false},{"$f":"FALSE","v":false},{"$f":"FALSE","v":false},{"$f":"FALSE","v":false},{"$f":"FALSE","v":false},{"$f":"FALSE","v":false},{"$f":"FALSE","v":false},{"$f":"TRUE","v":true},{"$f":"TRUE","v":true},{"$f":"TRUE","v":true},{"$f":"TRUE","v":true},{"$f":"TRUE","v":true},{"$f":"FALSE","v":false},{"$f":"TRUE","v":true},{"$f":"TRUE","v":true},{"$f":"TRUE","v":true},{"$f":"TRUE","v":true},{"$f":"TRUE","v":true},{"$f":"TRUE","v":true},"Warden","Priest",null,0,0,0,{"$f":"COUNTIF($C81:$AD81,TRUE)","v":11},0,0,0,0,0,{"$f":"COUNTIF($C81:$AD81,TRUE)","v":11},0,0,0,0,0,{"$f":"COUNTIF($C81:$AD81,TRUE)","v":11},0,0]
[null,"Gauntlet",{"$f":"FALSE","v":false},{"$f":"FALSE","v":false},{"$f":"FALSE","v":false},{"$f":"FALSE","v":false},{"$f":"FALSE","v":false},{"$f":"FALSE","v":false},{"$f":"FALSE","v":false},{"$f":"FALSE","v":false},{"$f":"FALSE","v":false},{"$f":"FALSE","v":false},{"$f":"FALSE","v":false},{"$f":"FALSE","v":false},{"$f":"FALSE","v":false},{"$f":"FALSE","v":false},{"$f":"FALSE","v":false},{"$f":"FALSE","v":false},{"$f":"TRUE","v":true},{"$f":"TRUE","v":true},{"$f":"TRUE","v":true},{"$f":"TRUE","v":true},{"$f":"TRUE","v":true},{"$f":"TRUE","v":true},{"$f":"FALSE","v":false},{"$f":"TRUE","v":true},{"$f":"TRUE","v":true},{"$f":"TRUE","v":true},{"$f":"TRUE","v":true},{"$f":"TRUE","v":true},"Gauntlet","Priest",null,0,0,0,{"$f":"COUNTIF($C82:$AD82,TRUE)","v":11},0,0,0,0,0,{"$f":"COUNTIF($C82:$AD82,TRUE)","v":11},0,0,0,0,0,{"$f":"COUNTIF($C82:$AD82,TRUE)","v":11},0,0]
[null,"Druid",{"$f":"FALSE","v":false},{"$f":"FALSE","v":false},{"$f":"FALSE","v":false},{"$f":"FALSE","v":false},{"$f":"FALSE","v":false},{"$f":"FALSE","v":false},{"$f":"FALSE","v":false},{"$f":"FALSE","v":false},{"$f":"FALSE","v":false},{"$f":"FALSE","v":false},{"$f":"FALSE","v":false},{"$f":"FALSE","v":false},{"$f":"FALSE","v":false},{"$f":"FALSE","v":false},{"$f":"FALSE","v":false},{"$f":"FALSE","v":false},{"$f":"TRUE","v":true},{"$f":"TRUE","v":true},{"$f":"TRUE","v":true},{"$f":"TRUE","v":true},{"$f":"TRUE","v":true},{"$f":"TRUE","v":true},{"$f":"TRUE","v":true},{"$f":"FALSE","v":false},{"$f":"TRUE","v":true},{"$f":"TRUE","v":true},{"$f":"TRUE","v":true},{"$f":"TRUE","v":true},"Druid","Priest",null,0,0,0,{"$f":"COUNTIF($C83:$AD83,TRUE)","v":11},0,0,0,0,0,{"$f":"COUNTIF($C83:$AD83,TRUE)","v":11},0,0,0,0,0,{"$f":"COUNTIF($C83:$AD83,TRUE)","v":11},0,0]
[null,"Dark Path",{"$f":"FALSE","v":false},{"$f":"FALSE","v":false},{"$f":"FALSE","v":false},{"$f":"FALSE","v":false},{"$f":"FALSE","v":false},{"$f":"FALSE","v":false},{"$f":"FALSE","v":false},{"$f":"FALSE","v":false},{"$f":"FALSE","v":false},{"$f":"FALSE","v":false},{"$f":"FALSE","v":false},{"$f":"FALSE","v":false},{"$f":"FALSE","v":false},{"$f":"FALSE","v":false},{"$f":"FALSE","v":false},{"$f":"FALSE","v":false},{"$f":"FALSE","v":false},{"$f":"FALSE","v":false},{"$f":"FALSE","v":false},{"$f":"FALSE","v":false},{"$f":"TRUE","v":true},{"$f":"TRUE","v":true},{"$f":"TRUE","v":true},{"$f":"TRUE","v":true},{"$f":"FALSE","v":false},{"$f":"TRUE","v":true},{"$f":"TRUE","v":true},{"$f":"TRUE","v":true},"Dark Path","Priest",null,0,0,0,0,{"$f":"COUNTIF($C84:$AD84,TRUE)","v":7},0,0,0,0,0,{"$f":"COUNTIF($C84:$AD84,TRUE)","v":7},0,0,0,0,0,{"$f":"COUNTIF($C84:$AD84,TRUE)","v":7},0]
[null,"Seer",{"$f":"FALSE","v":false},{"$f":"FALSE","v":false},{"$f":"FALSE","v":false},{"$f":"FALSE","v":false},{"$f":"FALSE","v":false},{"$f":"FALSE","v":false},{"$f":"FALSE","v":false},{"$f":"FALSE","v":false},{"$f":"FALSE","v":false},{"$f":"FALSE","v":false},{"$f":"FALSE","v":false},{"$f":"FALSE","v":false},{"$f":"FALSE","v":false},{"$f":"FALSE","v":false},{"$f":"FALSE","v":false},{"$f":"FALSE","v":false},{"$f":"FALSE","v":false},{"$f":"FALSE","v":false},{"$f":"FALSE","v":false},{"$f":"FALSE","v":false},{"$f":"TRUE","v":true},{"$f":"TRUE","v":true},{"$f":"TRUE","v":true},{"$f":"TRUE","v":true},{"$f":"TRUE","v":true},{"$f":"FALSE","v":false},{"$f":"TRUE","v":true},{"$f":"TRUE","v":true},"Seer","Priest",null,0,0,0,0,{"$f":"COUNTIF($C85:$AD85,TRUE)","v":7},0,0,0,0,0,{"$f":"COUNTIF($C85:$AD85,TRUE)","v":7},0,0,0,0,0,{"$f":"COUNTIF($C85:$AD85,TRUE)","v":7},0]
[null,"Brethren",{"$f":"FALSE","v":false},{"$f":"FALSE","v":false},{"$f":"FALSE","v":false},{"$f":"FALSE","v":false},{"$f":"FALSE","v":false},{"$f":"FALSE","v":false},{"$f":"FALSE","v":false},{"$f":"FALSE","v":false},{"$f":"FALSE","v":false},{"$f":"FALSE","v":false},{"$f":"FALSE","v":false},{"$f":"FALSE","v":false},{"$f":"FALSE","v":false},{"$f":"FALSE","v":false},{"$f":"FALSE","v":false},{"$f":"FALSE","v":false},{"$f":"FALSE","v":false},{"$f":"FALSE","v":false},{"$f":"FALSE","v":false},{"$f":"FALSE","v":false},{"$f":"TRUE","v":true},{"$f":"TRUE","v":true},{"$f":"TRUE","v":true},{"$f":"TRUE","v":true},{"$f":"TRUE","v":true},{"$f":"TRUE","v":true},{"$f":"FALSE","v":false},{"$f":"TRUE","v":true},"Brethren","Priest",null,0,0,0,0,{"$f":"COUNTIF($C86:$AD86,TRUE)","v":7},0,0,0,0,0,{"$f":"COUNTIF($C86:$AD86,TRUE)","v":7},0,0,0,0,0,{"$f":"COUNTIF($C86:$AD86,TRUE)","v":7},0]
[null,"Reaper",{"$f":"FALSE","v":false},{"$f":"FALSE","v":false},{"$f":"FALSE","v":false},{"$f":"FALSE","v":false},{"$f":"FALSE","v":false},{"$f":"FALSE","v":false},{"$f":"FALSE","v":false},{"$f":"FALSE","v":false},{"$f":"FALSE","v":false},{"$f":"FALSE","v":false},{"$f":"FALSE","v":false},{"$f":"FALSE","v":false},{"$f":"FALSE","v":false},{"$f":"FALSE","v":false},{"$f":"FALSE","v":false},{"$f":"FALSE","v":false},{"$f":"FALSE","v":false},{"$f":"FALSE","v":false},{"$f":"FALSE","v":false},{"$f":"FALSE","v":false},{"$f":"TRUE","v":true},{"$f":"TRUE","v":true},{"$f":"TRUE","v":true},{"$f":"TRUE","v":true},{"$f":"TRUE","v":true},{"$f":"TRUE","v":true},{"$f":"TRUE","v":true},{"$f":"FALSE","v":false},"Reaper","Priest",null,0,0,0,0,{"$f":"COUNTIF($C87:$AD87,TRUE)","v":7},0,0,0,0,0,{"$f":"COUNTIF($C87:$AD87,TRUE)","v":7},0,0,0,0,0,{"$f":"COUNTIF($C87:$AD87,TRUE)","v":7},0]
[null,"None",{"$f":"FALSE","v":false},{"$f":"FALSE","v":false},{"$f":"FALSE","v":false},{"$f":"FALSE","v":false},{"$f":"FALSE","v":false},{"$f":"FALSE","v":false},{"$f":"FALSE","v":false},{"$f":"FALSE","v":false},{"$f":"FALSE","v":false},{"$f":"FALSE","v":false},{"$f":"FALSE","v":false},{"$f":"FALSE","v":false},{"$f":"FALSE","v":false},{"$f":"FALSE","v":false},{"$f":"FALSE","v":false},{"$f":"FALSE","v":false},{"$f":"FALSE","v":false},{"$f":"FALSE","v":false},{"$f":"FALSE","v":false},{"$f":"FALSE","v":false},{"$f":"FALSE","v":false},{"$f":"FALSE","v":false},{"$f":"FALSE","v":false},{"$f":"FALSE","v":false},{"$f":"FALSE","v":false},{"$f":"FALSE","v":false},{"$f":"FALSE","v":false},{"$f":"FALSE","v":false},"None","None",null,0,0,0,0,0,0,0,0,0,0,0,0,0,0,0,0,0,0]
[]
[null,null,null,"Added some here"]
[]
[]
[]
["SkillRankLookupTable"]
[0,{"$f":"FALSE","v":false},null,"used to be!"]
[1,1,null,1]
[20,20,20,20]
[30,30,30,30]
[10,10,10,10]
[null,40,"NA",40,5]
[null,48,"NA",48,6]
[64,64,64,64]
[null,90,"NA",90,8]
[128,128,128,128]
[256,256,256,256]
[0,231550,0,231550]
[512,512,512,512]
[]
["Character Type","TertiaryGuildError","TertiaryGuildErrorMessage"]
["Warrior",{"$f":"IF(C110=0,FALSE,TRUE)","v":false},{"$f":"IF(NOT(TertiarySelected),0,\"Warriors cannot have a Tertiary Guild\")","v":0}]
["Scout",{"$f":"IF(C111=0,FALSE,TRUE)","v":false},{"$f":"IF(NOT(TertiarySelected),0,IF(NOT(SecondarySelected),\"Must choose a Secondary Guild\",IF(NOT(JackOfAllTrades),\"Must Have Jack of All Trades\",IF(NOT(PrimaryTertiaryCompatibility),\"Incompatible with Primary Guild\",IF(NOT(SecondaryTertiaryCompatibility),\"Incompatible with Secondary Guild\",IF(AND(BarbarianError,TertiaryGuildName=\"Barbarians\"),\"Elves and Mages cannot be Barbarians\",0))))))","v":0}]
[]
[]
[]
["Mage",{"$f":"IF(C115=0,FALSE,TRUE)","v":false},{"$f":"IF(NOT(TertiarySelected),0,IF(NOT(SecondarySelected),\"Must choose a Secondary Guild\",IF(OR(PrimaryGuildType<>\"Mage\",SecondaryGuildType<>\"Mage\",TertiaryGuildType<>\"Mage\"),\"All guilds must be Schools of Magic\",IF(NOT(PrimaryTertiaryCompatibility),\"Incompatible with Primary Guild\",IF(NOT(SecondaryTertiaryCompatibility),\"Incompatible with Secondary Guild\",IF(NOT(WizardYellow),\"Must be Wizard in 3rd Colour\",0))))))","v":0}]
["Acolyte",{"$f":"IF(C116=0,FALSE,TRUE)","v":false},{"$f":"IF(NOT(TertiarySelected),0,IF(NOT(SecondarySelected),\"Must choose a Secondary Guild\",IF(OR(PrimaryGuildType<>\"Acolyte\",SecondaryGuildType<>\"Acolyte\",TertiaryGuildType<>\"Acolyte\"),\"All guilds must be Sects\",IF(NOT(PrimaryTertiaryCompatibility),\"Incompatible with Primary Guild\",IF(NOT(SecondaryTertiaryCompatibility),\"Incompatible with Secondary Guild\",IF(NOT(ConnectionWith3rdSphere),\"Must have Connection with 3rd Sphere\",0))))))","v":0}]
["Scout",{"$f":"IF(C195=0,FALSE,TRUE)","v":true},{"$f":"IF(NOT(TertiarySelected),0,IF(NOT(SecondarySelected),\"Must choose a Secondary Guild\",IF(NOT(JackOfAllTrades),\"Must Have Jack of All Trades\",IF(NOT(PrimaryTertiaryCompatibility),\"Incompatible with Primary Guild\",IF(NOT(SecondaryTertiaryCompatibility),\"Incompatible with Secondary Guild\",IF(AND(BarbarianError,TertiaryGuildName=\"Barbarians\"),\"Elves and Mages cannot be Barbarians\",0))))))","v":0}]
[]
[null,"ShowSpellsList",null,null,null,"SecondaryGuildQuants"]
[null,"All spells",null,null,null,"Mage",{"$f":"COUNTIF(Variables!C73:C100,Tables!F120)","v":0}]
[null,"Known spells",null,null,null,"Warrior",{"$f":"COUNTIF(Variables!C74:C101,Tables!F121)","v":0}]
[null,"Available to learn",null,null,null,"Scout",{"$f":"COUNTIF(Variables!C75:C102,Tables!F122)","v":0}]
[null,"Known and/or Available",null,null,null,"Acolyte_Evil",{"$f":"COUNTIF(Variables!C76:C103,Tables!F123)","v":0}]
[null,null,null,null,null,"Acolyte_Neutral",{"$f":"COUNTIF(Variables!C77:C104,Tables!F124)","v":0}]
[null,null,null,null,null,"Acolyte_Good",{"$f":"COUNTIF(Variables!C78:C105,Tables!F125)","v":0}]
[null,"WizardAccess"]
[null,"None"]
[null,"Mage",null,null,"WarriorSKillsAnd Resists"]
[null,"Secondary Wizard",null,null,"Skill Name","Skill Level",1,2,3,4]
[null,"Primary Wizard",null,null,"Bone Break"," ","1 per Section","2 per Section","4 per Section","6 per Section","BoneBreakSkillLvl"]
[null,null,null,null,"Disarm"," ",{"$f":"DisarmQuant&\" per Section\"","v":"0 per Section"},{"$f":"DisarmQuant&\" per Section\"","v":"0 per Section"},{"$f":"DisarmQuant&\" per Section + 1 per Enc.\"","v":"0 per Section + 1 per Enc."},{"$f":"DisarmQuant&\" per Section + 1 per Enc.\"","v":"0 per Section + 1 per Enc."},"DisarmSkillLvl"]
[null,null,null,null,"Dismember"," ","1 per Day","2 per Day","4 per Day","6 per Day","DismemberSkillLvl"]
[null,"SorcererAccess",null,null,"Knockback"," ",{"$f":"KnockbackQuant&\" per Section\"","v":"0 per Section"},{"$f":"KnockbackQuant&\" per Section\"","v":"0 per Section"},{"$f":"KnockbackQuant&\" per Section + 1 per Enc.\"","v":"0 per Section + 1 per Enc."},{"$f":"KnockbackQuant&\" per Section + 1 per Enc.\"","v":"0 per Section + 1 per Enc."},"KnockbackSkillLvl"]
[null,"None",null,null,"Knockdown"," ",{"$f":"KnockdownQuant&\" per Section\"","v":"0 per Section"},{"$f":"KnockdownQuant&\" per Section\"","v":"0 per Section"},{"$f":"KnockdownQuant&\" per Section + 1 per Enc.\"","v":"0 per Section + 1 per Enc."},{"$f":"KnockdownQuant&\" per Section + 1 per Enc.\"","v":"0 per Section + 1 per Enc."},"KnockdownSkillLvl"]
[null,"Secondary Sorceror",null,null,"Hold The Line"," ","You","You +1 other","You + 2 others","You + 2 others","HoldTheLineSkillLvl"]
[null,"Primary Sorceror",null,null,"Nerve Strike"," ",{"$f":"NerveStrikeQuant&\" per Section\"","v":"0 per Section"},{"$f":"NerveStrikeQuant&\" per Section\"","v":"0 per Section"},{"$f":"NerveStrikeQuant&\" per Section + 1 per Enc.\"","v":"0 per Section + 1 per Enc."},{"$f":"NerveStrikeQuant&\" per Section + 1 per Enc.\"","v":"0 per Section + 1 per Enc."},"NerveStrikeSkillLvl"]
[null,null,null,null,"Never"," ","Basic Wounds 1x day","Guardian Spirit 1x day","Guardian Spirit 2x day",null,"NeverSkillLvl"]
[null,null,null,null,"Shield Arm BB"," ","1 per Section","2 per Section","4 per Section","4 per Section","ShieldArmBoneBreakSkillLvl"]
[null,"ShowInvocationsList",null,null,"Shield Cleave"," ","1 per Section","2 per Section","4 per Section","6 per Section","ShieldCleaveSkillLvl"]
["All invocations","All invocations",null,null,"Knockback Shot"," ","Yes",null,null,null,"KnockBackShotSkillLvl"]
["Known invocations","Known invocations",null,null,"Nerve Strike Shot"," ","3 per Section","6 per Section","6 per Section + 1 per Enc.",null,"NerveStrikeShotSkillLvl"]
["Available to learn",null,null,null,"Res Bone Break"," ","1 per Section","2 per Section","4 per Section","6 per Section","ResistBoneBreakSkillLvl"]
["Known and/or Available","Known and/or Available",null,null,"Res Disarm"," ","3 per Section","6 per Section","6 per Section + 1 per Enc.","9 per Section + 1 per Enc.","ResistDisarmSkillLvl"]
[null,null,null,null,"Res Dismember"," ","1 per Day","2 per Day","4 per Day","6 per Day","ResistDismemberSkillLvl"]
[null,null,null,null,"Resist Knockback"," ","3 per Section","6 per Section","6 per Section + 1 per Enc.","9 per Section + 1 per Enc.","ResistKnockbacksSkillLvl"]
[null,"PriestAccess",null,null,"Res Knockdown"," ","3 per Section","6 per Section","6 per Section + 1 per Enc.","9 per Section + 1 per Enc.","ResistKnockdownsSkillLvl"]
[null,"None",null,null,"Res Nerve Strike"," ","3 per Section","6 per Section","6 per Section + 1 per Enc.","9 per Section + 1 per Enc.","ResistNerveStrikeSkillLvl"]
[null,"Lay - Secondary",null,null,"Res SA BB"," ","1 per Section","2 per Section","4 per Section","4 per Section","ResistShieldArmBoneBreakSkillLvl"]
[null,"Lay - Primary",null,null,"Res Shield Cleave"," ","1 per Section","2 per Section","4 per Section","4 per Section","ResistShieldCleaveSkillLvl"]
[null,"Ritual - Secondary",null,null,"Sunder"," ","1 per Day","2 per Day","4 per Day",null,"SunderSkillLevel"]
[null,"Ritual - Primary",null,null,"Res Through Damage"," ","Yes",null,null,null,"ResistThroughSkillLvl"]
[null,"Cosmic - Secondary"]
[null,"Cosmic - Primary"]
[]
[null,"SorcererAccess"]
[null,"None"]
[null,"Secondary Sorceror"]
[null,"Primary Sorceror"]
[]
[]
[null,"PriestAccess"]
[null,"None"]
[null,"Lay - Secondary"]
[null,"Lay - Primary"]
[null,"Ritual - Secondary",null,null,"Sunder",null,"1 per Day","2 per Day","4 per Day",null,"SunderSkillLevel"]
[null,"Ritual - Primary",null,null,"Res Through Damage"," ","Yes",null,null,null,"ResistThroughSkillLvl"]
[null,"Cosmic - Secondary"]
[null,"Cosmic - Primary"]
[]
["WarriorSkillFrequency"]
["SkillLvl"]
[1,3]
[2,6]
[3,1]
[]
[]
["SecondaryClassCompatabilityTable",null,"Allowed Secondary Class"]
[null,"Guild","Sentinel","Reaver","Barbarian","Paladin","Skirmisher","Monk","Assassin","Archer","Black School","Blue School","Brown School","Green School","Grey School","Red School","White School","Yellow School","White Path","Hospitaller","Humacti","Michelene"," Grey Path","Warden","Gauntlet","Druid","Dark Path","Seer","Brethren","Reaper","None","GuildTypeTable"]
["Primary Guild","Sentinel",{"$f":"FALSE","v":false},{"$f":"TRUE","v":true},{"$f":"TRUE","v":true},{"$f":"TRUE","v":true},{"$f":"TRUE","v":true},{"$f":"TRUE","v":true},{"$f":"TRUE","v":true},{"$f":"TRUE","v":true},{"$f":"TRUE","v":true},{"$f":"TRUE","v":true},{"$f":"TRUE","v":true},{"$f":"TRUE","v":true},{"$f":"TRUE","v":true},{"$f":"TRUE","v":true},{"$f":"TRUE","v":true},{"$f":"TRUE","v":true},{"$f":"TRUE","v":true},{"$f":"TRUE","v":true},{"$f":"TRUE","v":true},{"$f":"TRUE","v":true},{"$f":"TRUE","v":true},{"$f":"TRUE","v":true},{"$f":"TRUE","v":true},{"$f":"TRUE","v":true},{"$f":"TRUE","v":true},{"$f":"TRUE","v":true},{"$f":"TRUE","v":true},{"$f":"TRUE","v":true},{"$f":"TRUE","v":true},"Warrior"]
[null,"Reaver",{"$f":"TRUE","v":true},{"$f":"FALSE","v":false},{"$f":"TRUE","v":true},{"$f":"TRUE","v":true},{"$f":"TRUE","v":true},{"$f":"TRUE","v":true},{"$f":"TRUE","v":true},{"$f":"TRUE","v":true},{"$f":"TRUE","v":true},{"$f":"TRUE","v":true},{"$f":"TRUE","v":true},{"$f":"TRUE","v":true},{"$f":"TRUE","v":true},{"$f":"TRUE","v":true},{"$f":"TRUE","v":true},{"$f":"TRUE","v":true},{"$f":"TRUE","v":true},{"$f":"TRUE","v":true},{"$f":"TRUE","v":true},{"$f":"TRUE","v":true},{"$f":"TRUE","v":true},{"$f":"TRUE","v":true},{"$f":"TRUE","v":true},{"$f":"TRUE","v":true},{"$f":"TRUE","v":true},{"$f":"TRUE","v":true},{"$f":"TRUE","v":true},{"$f":"TRUE","v":true},{"$f":"TRUE","v":true},"Warrior"]
[null,"Barbarian",{"$f":"TRUE","v":true},{"$f":"TRUE","v":true},{"$f":"FALSE","v":false},{"$f":"TRUE","v":true},{"$f":"TRUE","v":true},{"$f":"FALSE","v":false},{"$f":"TRUE","v":true},{"$f":"TRUE","v":true},{"$f":"FALSE","v":false},{"$f":"FALSE","v":false},{"$f":"FALSE","v":false},{"$f":"FALSE","v":false},{"$f":"FALSE","v":false},{"$f":"FALSE","v":false},{"$f":"FALSE","v":false},{"$f":"FALSE","v":false},{"$f":"TRUE","v":true},{"$f":"TRUE","v":true},{"$f":"TRUE","v":true},{"$f":"TRUE","v":true},{"$f":"TRUE","v":true},{"$f":"TRUE","v":true},{"$f":"TRUE","v":true},{"$f":"TRUE","v":true},{"$f":"TRUE","v":true},{"$f":"TRUE","v":true},{"$f":"TRUE","v":true},{"$f":"TRUE","v":true},{"$f":"TRUE","v":true},"Warrior"]
[null,"Paladin",{"$f":"TRUE","v":true},{"$f":"TRUE","v":true},{"$f":"TRUE","v":true},{"$f":"FALSE","v":false},{"$f":"FALSE","v":false},{"$f":"TRUE","v":true},{"$f":"FALSE","v":false},{"$f":"TRUE","v":true},{"$f":"TRUE","v":true},{"$f":"TRUE","v":true},{"$f":"TRUE","v":true},{"$f":"TRUE","v":true},{"$f":"TRUE","v":true},{"$f":"TRUE","v":true},{"$f":"TRUE","v":true},{"$f":"TRUE","v":true},{"$f":"TRUE","v":true},{"$f":"TRUE","v":true},{"$f":"TRUE","v":true},{"$f":"TRUE","v":true},{"$f":"TRUE","v":true},{"$f":"TRUE","v":true},{"$f":"TRUE","v":true},{"$f":"TRUE","v":true},{"$f":"TRUE","v":true},{"$f":"TRUE","v":true},{"$f":"TRUE","v":true},{"$f":"TRUE","v":true},{"$f":"TRUE","v":true},"Warrior"]
[null,"Skirmisher",{"$f":"TRUE","v":true},{"$f":"TRUE","v":true},{"$f":"TRUE","v":true},{"$f":"TRUE","v":true},{"$f":"FALSE","v":false},{"$f":"TRUE","v":true},{"$f":"TRUE","v":true},{"$f":"TRUE","v":true},{"$f":"TRUE","v":true},{"$f":"TRUE","v":true},{"$f":"TRUE","v":true},{"$f":"TRUE","v":true},{"$f":"TRUE","v":true},{"$f":"TRUE","v":true},{"$f":"TRUE","v":true},{"$f":"TRUE","v":true},{"$f":"TRUE","v":true},{"$f":"TRUE","v":true},{"$f":"TRUE","v":true},{"$f":"TRUE","v":true},{"$f":"TRUE","v":true},{"$f":"TRUE","v":true},{"$f":"TRUE","v":true},{"$f":"TRUE","v":true},{"$f":"TRUE","v":true},{"$f":"TRUE","v":true},{"$f":"TRUE","v":true},{"$f":"TRUE","v":true},{"$f":"TRUE","v":true},"Scout"]
[null,"Monk",{"$f":"TRUE","v":true},{"$f":"TRUE","v":true},{"$f":"FALSE","v":false},{"$f":"TRUE","v":true},{"$f":"TRUE","v":true},{"$f":"FALSE","v":false},{"$f":"TRUE","v":true},{"$f":"TRUE","v":true},{"$f":"TRUE","v":true},{"$f":"TRUE","v":true},{"$f":"TRUE","v":true},{"$f":"TRUE","v":true},{"$f":"TRUE","v":true},{"$f":"TRUE","v":true},{"$f":"TRUE","v":true},{"$f":"TRUE","v":true},{"$f":"TRUE","v":true},{"$f":"TRUE","v":true},{"$f":"TRUE","v":true},{"$f":"TRUE","v":true},{"$f":"TRUE","v":true},{"$f":"TRUE","v":true},{"$f":"TRUE","v":true},{"$f":"TRUE","v":true},{"$f":"TRUE","v":true},{"$f":"TRUE","v":true},{"$f":"TRUE","v":true},{"$f":"TRUE","v":true},{"$f":"TRUE","v":true},"Scout"]
[null,"Assassin",{"$f":"TRUE","v":true},{"$f":"TRUE","v":true},{"$f":"TRUE","v":true},{"$f":"FALSE","v":false},{"$f":"TRUE","v":true},{"$f":"TRUE","v":true},{"$f":"FALSE","v":false},{"$f":"TRUE","v":true},{"$f":"TRUE","v":true},{"$f":"TRUE","v":true},{"$f":"TRUE","v":true},{"$f":"TRUE","v":true},{"$f":"TRUE","v":true},{"$f":"TRUE","v":true},{"$f":"TRUE","v":true},{"$f":"TRUE","v":true},{"$f":"TRUE","v":true},{"$f":"TRUE","v":true},{"$f":"TRUE","v":true},{"$f":"TRUE","v":true},{"$f":"TRUE","v":true},{"$f":"TRUE","v":true},{"$f":"TRUE","v":true},{"$f":"TRUE","v":true},{"$f":"TRUE","v":true},{"$f":"TRUE","v":true},{"$f":"TRUE","v":true},{"$f":"TRUE","v":true},{"$f":"TRUE","v":true},"Scout"]
[null,"Archer",{"$f":"TRUE","v":true},{"$f":"TRUE","v":true},{"$f":"TRUE","v":true},{"$f":"TRUE","v":true},{"$f":"TRUE","v":true},{"$f":"TRUE","v":true},{"$f":"TRUE","v":true},{"$f":"FALSE","v":false},{"$f":"TRUE","v":true},{"$f":"TRUE","v":true},{"$f":"TRUE","v":true},{"$f":"TRUE","v":true},{"$f":"TRUE","v":true},{"$f":"TRUE","v":true},{"$f":"TRUE","v":true},{"$f":"TRUE","v":true},{"$f":"TRUE","v":true},{"$f":"TRUE","v":true},{"$f":"TRUE","v":true},{"$f":"TRUE","v":true},{"$f":"TRUE","v":true},{"$f":"TRUE","v":true},{"$f":"TRUE","v":true},{"$f":"TRUE","v":true},{"$f":"TRUE","v":true},{"$f":"TRUE","v":true},{"$f":"TRUE","v":true},{"$f":"TRUE","v":true},{"$f":"TRUE","v":true},"Scout"]
[null,"Black School",{"$f":"TRUE","v":true},{"$f":"TRUE","v":true},{"$f":"FALSE","v":false},{"$f":"TRUE","v":true},{"$f":"TRUE","v":true},{"$f":"TRUE","v":true},{"$f":"TRUE","v":true},{"$f":"TRUE","v":true},{"$f":"FALSE","v":false},{"$f":"TRUE","v":true},{"$f":"TRUE","v":true},{"$f":"TRUE","v":true},{"$f":"TRUE","v":true},{"$f":"TRUE","v":true},{"$f":"TRUE","v":true},{"$f":"TRUE","v":true},{"$f":"TRUE","v":true},{"$f":"TRUE","v":true},{"$f":"TRUE","v":true},{"$f":"TRUE","v":true},{"$f":"TRUE","v":true},{"$f":"TRUE","v":true},{"$f":"TRUE","v":true},{"$f":"TRUE","v":true},{"$f":"TRUE","v":true},{"$f":"TRUE","v":true},{"$f":"TRUE","v":true},{"$f":"TRUE","v":true},{"$f":"TRUE","v":true},"Mage"]
[null,"Blue School",{"$f":"TRUE","v":true},{"$f":"TRUE","v":true},{"$f":"FALSE","v":false},{"$f":"TRUE","v":true},{"$f":"TRUE","v":true},{"$f":"TRUE","v":true},{"$f":"TRUE","v":true},{"$f":"TRUE","v":true},{"$f":"TRUE","v":true},{"$f":"FALSE","v":false},{"$f":"TRUE","v":true},{"$f":"TRUE","v":true},{"$f":"TRUE","v":true},{"$f":"TRUE","v":true},{"$f":"TRUE","v":true},{"$f":"TRUE","v":true},{"$f":"TRUE","v":true},{"$f":"TRUE","v":true},{"$f":"TRUE","v":true},{"$f":"TRUE","v":true},{"$f":"TRUE","v":true},{"$f":"TRUE","v":true},{"$f":"TRUE","v":true},{"$f":"TRUE","v":true},{"$f":"TRUE","v":true},{"$f":"TRUE","v":true},{"$f":"TRUE","v":true},{"$f":"TRUE","v":true},{"$f":"TRUE","v":true},"Mage"]
[null,"Brown School",{"$f":"TRUE","v":true},{"$f":"TRUE","v":true},{"$f":"FALSE","v":false},{"$f":"TRUE","v":true},{"$f":"TRUE","v":true},{"$f":"TRUE","v":true},{"$f":"TRUE","v":true},{"$f":"TRUE","v":true},{"$f":"TRUE","v":true},{"$f":"TRUE","v":true},{"$f":"FALSE","v":false},{"$f":"TRUE","v":true},{"$f":"TRUE","v":true},{"$f":"TRUE","v":true},{"$f":"TRUE","v":true},{"$f":"TRUE","v":true},{"$f":"TRUE","v":true},{"$f":"TRUE","v":true},{"$f":"TRUE","v":true},{"$f":"TRUE","v":true},{"$f":"TRUE","v":true},{"$f":"TRUE","v":true},{"$f":"TRUE","v":true},{"$f":"TRUE","v":true},{"$f":"TRUE","v":true},{"$f":"TRUE","v":true},{"$f":"TRUE","v":true},{"$f":"TRUE","v":true},{"$f":"TRUE","v":true},"Mage"]
[null,"Green School",{"$f":"TRUE","v":true},{"$f":"TRUE","v":true},{"$f":"FALSE","v":false},{"$f":"TRUE","v":true},{"$f":"TRUE","v":true},{"$f":"TRUE","v":true},{"$f":"TRUE","v":true},{"$f":"TRUE","v":true},{"$f":"TRUE","v":true},{"$f":"TRUE","v":true},{"$f":"TRUE","v":true},{"$f":"FALSE","v":false},{"$f":"TRUE","v":true},{"$f":"TRUE","v":true},{"$f":"TRUE","v":true},{"$f":"TRUE","v":true},{"$f":"TRUE","v":true},{"$f":"TRUE","v":true},{"$f":"TRUE","v":true},{"$f":"TRUE","v":true},{"$f":"TRUE","v":true},{"$f":"TRUE","v":true},{"$f":"TRUE","v":true},{"$f":"TRUE","v":true},{"$f":"TRUE","v":true},{"$f":"TRUE","v":true},{"$f":"TRUE","v":true},{"$f":"TRUE","v":true},{"$f":"TRUE","v":true},"Mage"]
[null,"Grey School",{"$f":"TRUE","v":true},{"$f":"TRUE","v":true},{"$f":"FALSE","v":false},{"$f":"TRUE","v":true},{"$f":"TRUE","v":true},{"$f":"TRUE","v":true},{"$f":"TRUE","v":true},{"$f":"TRUE","v":true},{"$f":"TRUE","v":true},{"$f":"TRUE","v":true},{"$f":"TRUE","v":true},{"$f":"TRUE","v":true},{"$f":"FALSE","v":false},{"$f":"TRUE","v":true},{"$f":"TRUE","v":true},{"$f":"TRUE","v":true},{"$f":"TRUE","v":true},{"$f":"TRUE","v":true},{"$f":"TRUE","v":true},{"$f":"TRUE","v":true},{"$f":"TRUE","v":true},{"$f":"TRUE","v":true},{"$f":"TRUE","v":true},{"$f":"TRUE","v":true},{"$f":"TRUE","v":true},{"$f":"TRUE","v":true},{"$f":"TRUE","v":true},{"$f":"TRUE","v":true},{"$f":"TRUE","v":true},"Mage"]
[null,"Red School",{"$f":"TRUE","v":true},{"$f":"TRUE","v":true},{"$f":"FALSE","v":false},{"$f":"TRUE","v":true},{"$f":"TRUE","v":true},{"$f":"TRUE","v":true},{"$f":"TRUE","v":true},{"$f":"TRUE","v":true},{"$f":"TRUE","v":true},{"$f":"TRUE","v":true},{"$f":"TRUE","v":true},{"$f":"TRUE","v":true},{"$f":"TRUE","v":true},{"$f":"FALSE","v":false},{"$f":"TRUE","v":true},{"$f":"TRUE","v":true},{"$f":"TRUE","v":true},{"$f":"TRUE","v":true},{"$f":"TRUE","v":true},{"$f":"TRUE","v":true},{"$f":"TRUE","v":true},{"$f":"TRUE","v":true},{"$f":"TRUE","v":true},{"$f":"TRUE","v":true},{"$f":"TRUE","v":true},{"$f":"TRUE","v":true},{"$f":"TRUE","v":true},{"$f":"TRUE","v":true},{"$f":"TRUE","v":true},"Mage"]
[null,"White School",{"$f":"TRUE","v":true},{"$f":"TRUE","v":true},{"$f":"FALSE","v":false},{"$f":"TRUE","v":true},{"$f":"TRUE","v":true},{"$f":"TRUE","v":true},{"$f":"TRUE","v":true},{"$f":"TRUE","v":true},{"$f":"TRUE","v":true},{"$f":"TRUE","v":true},{"$f":"TRUE","v":true},{"$f":"TRUE","v":true},{"$f":"TRUE","v":true},{"$f":"TRUE","v":true},{"$f":"FALSE","v":false},{"$f":"TRUE","v":true},{"$f":"TRUE","v":true},{"$f":"TRUE","v":true},{"$f":"TRUE","v":true},{"$f":"TRUE","v":true},{"$f":"TRUE","v":true},{"$f":"TRUE","v":true},{"$f":"TRUE","v":true},{"$f":"TRUE","v":true},{"$f":"TRUE","v":true},{"$f":"TRUE","v":true},{"$f":"TRUE","v":true},{"$f":"TRUE","v":true},{"$f":"TRUE","v":true},"Mage"]
[null,"Yellow School",{"$f":"TRUE","v":true},{"$f":"TRUE","v":true},{"$f":"FALSE","v":false},{"$f":"TRUE","v":true},{"$f":"TRUE","v":true},{"$f":"TRUE","v":true},{"$f":"TRUE","v":true},{"$f":"TRUE","v":true},{"$f":"TRUE","v":true},{"$f":"TRUE","v":true},{"$f":"TRUE","v":true},{"$f":"TRUE","v":true},{"$f":"TRUE","v":true},{"$f":"TRUE","v":true},{"$f":"TRUE","v":true},{"$f":"FALSE","v":false},{"$f":"TRUE","v":true},{"$f":"TRUE","v":true},{"$f":"TRUE","v":true},{"$f":"TRUE","v":true},{"$f":"TRUE","v":true},{"$f":"TRUE","v":true},{"$f":"TRUE","v":true},{"$f":"TRUE","v":true},{"$f":"TRUE","v":true},{"$f":"TRUE","v":true},{"$f":"TRUE","v":true},{"$f":"TRUE","v":true},{"$f":"TRUE","v":true},"Mage"]
[null,"White Path",{"$f":"TRUE","v":true},{"$f":"TRUE","v":true},{"$f":"TRUE","v":true},{"$f":"TRUE","v":true},{"$f":"TRUE","v":true},{"$f":"TRUE","v":true},{"$f":"TRUE","v":true},{"$f":"TRUE","v":true},{"$f":"TRUE","v":true},{"$f":"TRUE","v":true},{"$f":"TRUE","v":true},{"$f":"TRUE","v":true},{"$f":"TRUE","v":true},{"$f":"TRUE","v":true},{"$f":"TRUE","v":true},{"$f":"TRUE","v":true},{"$f":"FALSE","v":false},{"$f":"TRUE","v":true},{"$f":"TRUE","v":true},{"$f":"TRUE","v":true},{"$f":"TRUE","v":true},{"$f":"TRUE","v":true},{"$f":"TRUE","v":true},{"$f":"TRUE","v":true},{"$f":"FALSE","v":false},{"$f":"FALSE","v":false},{"$f":"FALSE","v":false},{"$f":"FALSE","v":false},{"$f":"TRUE","v":true},"Acolyte_Good"]
[null,"Hospitaller",{"$f":"TRUE","v":true},{"$f":"TRUE","v":true},{"$f":"TRUE","v":true},{"$f":"TRUE","v":true},{"$f":"TRUE","v":true},{"$f":"TRUE","v":true},{"$f":"TRUE","v":true},{"$f":"TRUE","v":true},{"$f":"TRUE","v":true},{"$f":"TRUE","v":true},{"$f":"TRUE","v":true},{"$f":"TRUE","v":true},{"$f":"TRUE","v":true},{"$f":"TRUE","v":true},{"$f":"TRUE","v":true},{"$f":"TRUE","v":true},{"$f":"TRUE","v":true},{"$f":"FALSE","v":false},{"$f":"TRUE","v":true},{"$f":"TRUE","v":true},{"$f":"TRUE","v":true},{"$f":"TRUE","v":true},{"$f":"TRUE","v":true},{"$f":"TRUE","v":true},{"$f":"FALSE","v":false},{"$f":"FALSE","v":false},{"$f":"FALSE","v":false},{"$f":"FALSE","v":false},{"$f":"TRUE","v":true},"Acolyte_Good"]
[null,"Humacti",{"$f":"TRUE","v":true},{"$f":"TRUE","v":true},{"$f":"TRUE","v":true},{"$f":"TRUE","v":true},{"$f":"TRUE","v":true},{"$f":"TRUE","v":true},{"$f":"TRUE","v":true},{"$f":"TRUE","v":true},{"$f":"TRUE","v":true},{"$f":"TRUE","v":true},{"$f":"TRUE","v":true},{"$f":"TRUE","v":true},{"$f":"TRUE","v":true},{"$f":"TRUE","v":true},{"$f":"TRUE","v":true},{"$f":"TRUE","v":true},{"$f":"TRUE","v":true},{"$f":"TRUE","v":true},{"$f":"FALSE","v":false},{"$f":"TRUE","v":true},{"$f":"TRUE","v":true},{"$f":"TRUE","v":true},{"$f":"TRUE","v":true},{"$f":"TRUE","v":true},{"$f":"FALSE","v":false},{"$f":"FALSE","v":false},{"$f":"FALSE","v":false},{"$f":"FALSE","v":false},{"$f":"TRUE","v":true},"Acolyte_Good"]
[null,"Michelene",{"$f":"TRUE","v":true},{"$f":"TRUE","v":true},{"$f":"TRUE","v":true},{"$f":"TRUE","v":true},{"$f":"TRUE","v":true},{"$f":"TRUE","v":true},{"$f":"TRUE","v":true},{"$f":"TRUE","v":true},{"$f":"TRUE","v":true},{"$f":"TRUE","v":true},{"$f":"TRUE","v":true},{"$f":"TRUE","v":true},{"$f":"TRUE","v":true},{"$f":"TRUE","v":true},{"$f":"TRUE","v":true},{"$f":"TRUE","v":true},{"$f":"TRUE","v":true},{"$f":"TRUE","v":true},{"$f":"TRUE","v":true},{"$f":"FALSE","v":false},{"$f":"TRUE","v":true},{"$f":"TRUE","v":true},{"$f":"TRUE","v":true},{"$f":"TRUE","v":true},{"$f":"FALSE","v":false},{"$f":"FALSE","v":false},{"$f":"FALSE","v":false},{"$f":"FALSE","v":false},{"$f":"TRUE","v":true},"Acolyte_Good"]
[null," Grey Path",{"$f":"TRUE","v":true},{"$f":"TRUE","v":true},{"$f":"TRUE","v":true},{"$f":"TRUE","v":true},{"$f":"TRUE","v":true},{"$f":"TRUE","v":true},{"$f":"TRUE","v":true},{"$f":"TRUE","v":true},{"$f":"TRUE","v":true},{"$f":"TRUE","v":true},{"$f":"TRUE","v":true},{"$f":"TRUE","v":true},{"$f":"TRUE","v":true},{"$f":"TRUE","v":true},{"$f":"TRUE","v":true},{"$f":"TRUE","v":true},{"$f":"TRUE","v":true},{"$f":"TRUE","v":true},{"$f":"TRUE","v":true},{"$f":"TRUE","v":true},{"$f":"FALSE","v":false},{"$f":"TRUE","v":true},{"$f":"TRUE","v":true},{"$f":"TRUE","v":true},{"$f":"TRUE","v":true},{"$f":"TRUE","v":true},{"$f":"TRUE","v":true},{"$f":"TRUE","v":true},{"$f":"TRUE","v":true},"Acolyte_Neutral"]
[null,"Warden",{"$f":"TRUE","v":true},{"$f":"TRUE","v":true},{"$f":"TRUE","v":true},{"$f":"TRUE","v":true},{"$f":"TRUE","v":true},{"$f":"TRUE","v":true},{"$f":"TRUE","v":true},{"$f":"TRUE","v":true},{"$f":"TRUE","v":true},{"$f":"TRUE","v":true},{"$f":"TRUE","v":true},{"$f":"TRUE","v":true},{"$f":"TRUE","v":true},{"$f":"TRUE","v":true},{"$f":"TRUE","v":true},{"$f":"TRUE","v":true},{"$f":"TRUE","v":true},{"$f":"TRUE","v":true},{"$f":"TRUE","v":true},{"$f":"TRUE","v":true},{"$f":"TRUE","v":true},{"$f":"FALSE","v":false},{"$f":"TRUE","v":true},{"$f":"TRUE","v":true},{"$f":"TRUE","v":true},{"$f":"TRUE","v":true},{"$f":"TRUE","v":true},{"$f":"TRUE","v":true},{"$f":"TRUE","v":true},"Acolyte_Neutral"]
[null,"Gauntlet",{"$f":"TRUE","v":true},{"$f":"TRUE","v":true},{"$f":"TRUE","v":true},{"$f":"TRUE","v":true},{"$f":"TRUE","v":true},{"$f":"TRUE","v":true},{"$f":"TRUE","v":true},{"$f":"TRUE","v":true},{"$f":"TRUE","v":true},{"$f":"TRUE","v":true},{"$f":"TRUE","v":true},{"$f":"TRUE","v":true},{"$f":"TRUE","v":true},{"$f":"TRUE","v":true},{"$f":"TRUE","v":true},{"$f":"TRUE","v":true},{"$f":"TRUE","v":true},{"$f":"TRUE","v":true},{"$f":"TRUE","v":true},{"$f":"TRUE","v":true},{"$f":"TRUE","v":true},{"$f":"TRUE","v":true},{"$f":"FALSE","v":false},{"$f":"TRUE","v":true},{"$f":"TRUE","v":true},{"$f":"TRUE","v":true},{"$f":"TRUE","v":true},{"$f":"TRUE","v":true},{"$f":"TRUE","v":true},"Acolyte_Neutral"]
[null,"Druid",{"$f":"TRUE","v":true},{"$f":"TRUE","v":true},{"$f":"TRUE","v":true},{"$f":"TRUE","v":true},{"$f":"TRUE","v":true},{"$f":"TRUE","v":true},{"$f":"TRUE","v":true},{"$f":"TRUE","v":true},{"$f":"TRUE","v":true},{"$f":"TRUE","v":true},{"$f":"TRUE","v":true},{"$f":"TRUE","v":true},{"$f":"TRUE","v":true},{"$f":"TRUE","v":true},{"$f":"TRUE","v":true},{"$f":"TRUE","v":true},{"$f":"TRUE","v":true},{"$f":"TRUE","v":true},{"$f":"TRUE","v":true},{"$f":"TRUE","v":true},{"$f":"TRUE","v":true},{"$f":"TRUE","v":true},{"$f":"TRUE","v":true},{"$f":"FALSE","v":false},{"$f":"TRUE","v":true},{"$f":"TRUE","v":true},{"$f":"TRUE","v":true},{"$f":"TRUE","v":true},{"$f":"TRUE","v":true},"Acolyte_Neutral"]
[null,"Dark Path",{"$f":"TRUE","v":true},{"$f":"TRUE","v":true},{"$f":"TRUE","v":true},{"$f":"TRUE","v":true},{"$f":"TRUE","v":true},{"$f":"TRUE","v":true},{"$f":"TRUE","v":true},{"$f":"TRUE","v":true},{"$f":"TRUE","v":true},{"$f":"TRUE","v":true},{"$f":"TRUE","v":true},{"$f":"TRUE","v":true},{"$f":"TRUE","v":true},{"$f":"TRUE","v":true},{"$f":"TRUE","v":true},{"$f":"TRUE","v":true},{"$f":"FALSE","v":false},{"$f":"FALSE","v":false},{"$f":"FALSE","v":false},{"$f":"FALSE","v":false},{"$f":"TRUE","v":true},{"$f":"TRUE","v":true},{"$f":"TRUE","v":true},{"$f":"TRUE","v":true},{"$f":"FALSE","v":false},{"$f":"TRUE","v":true},{"$f":"TRUE","v":true},{"$f":"TRUE","v":true},{"$f":"TRUE","v":true},"Acolyte_Evil"]
[null,"Seer",{"$f":"TRUE","v":true},{"$f":"TRUE","v":true},{"$f":"TRUE","v":true},{"$f":"TRUE","v":true},{"$f":"TRUE","v":true},{"$f":"TRUE","v":true},{"$f":"TRUE","v":true},{"$f":"TRUE","v":true},{"$f":"TRUE","v":true},{"$f":"TRUE","v":true},{"$f":"TRUE","v":true},{"$f":"TRUE","v":true},{"$f":"TRUE","v":true},{"$f":"TRUE","v":true},{"$f":"TRUE","v":true},{"$f":"TRUE","v":true},{"$f":"FALSE","v":false},{"$f":"FALSE","v":false},{"$f":"FALSE","v":false},{"$f":"FALSE","v":false},{"$f":"TRUE","v":true},{"$f":"TRUE","v":true},{"$f":"TRUE","v":true},{"$f":"TRUE","v":true},{"$f":"TRUE","v":true},{"$f":"FALSE","v":false},{"$f":"TRUE","v":true},{"$f":"TRUE","v":true},{"$f":"TRUE","v":true},"Acolyte_Evil"]
[null,"Brethren",{"$f":"TRUE","v":true},{"$f":"TRUE","v":true},{"$f":"TRUE","v":true},{"$f":"TRUE","v":true},{"$f":"TRUE","v":true},{"$f":"TRUE","v":true},{"$f":"TRUE","v":true},{"$f":"TRUE","v":true},{"$f":"TRUE","v":true},{"$f":"TRUE","v":true},{"$f":"TRUE","v":true},{"$f":"TRUE","v":true},{"$f":"TRUE","v":true},{"$f":"TRUE","v":true},{"$f":"TRUE","v":true},{"$f":"TRUE","v":true},{"$f":"FALSE","v":false},{"$f":"FALSE","v":false},{"$f":"FALSE","v":false},{"$f":"FALSE","v":false},{"$f":"TRUE","v":true},{"$f":"TRUE","v":true},{"$f":"TRUE","v":true},{"$f":"TRUE","v":true},{"$f":"TRUE","v":true},{"$f":"TRUE","v":true},{"$f":"FALSE","v":false},{"$f":"TRUE","v":true},{"$f":"TRUE","v":true},"Acolyte_Evil"]
[null,"Reaper",{"$f":"TRUE","v":true},{"$f":"TRUE","v":true},{"$f":"TRUE","v":true},{"$f":"TRUE","v":true},{"$f":"TRUE","v":true},{"$f":"TRUE","v":true},{"$f":"TRUE","v":true},{"$f":"TRUE","v":true},{"$f":"TRUE","v":true},{"$f":"TRUE","v":true},{"$f":"TRUE","v":true},{"$f":"TRUE","v":true},{"$f":"TRUE","v":true},{"$f":"TRUE","v":true},{"$f":"TRUE","v":true},{"$f":"TRUE","v":true},{"$f":"FALSE","v":false},{"$f":"FALSE","v":false},{"$f":"FALSE","v":false},{"$f":"FALSE","v":false},{"$f":"TRUE","v":true},{"$f":"TRUE","v":true},{"$f":"TRUE","v":true},{"$f":"TRUE","v":true},{"$f":"TRUE","v":true},{"$f":"TRUE","v":true},{"$f":"TRUE","v":true},{"$f":"FALSE","v":false},{"$f":"TRUE","v":true},"Acolyte_Evil"]
[null,"None",{"$f":"FALSE","v":false},{"$f":"FALSE","v":false},{"$f":"FALSE","v":false},{"$f":"FALSE","v":false},{"$f":"FALSE","v":false},{"$f":"FALSE","v":false},{"$f":"FALSE","v":false},{"$f":"FALSE","v":false},{"$f":"FALSE","v":false},{"$f":"FALSE","v":false},{"$f":"FALSE","v":false},{"$f":"FALSE","v":false},{"$f":"FALSE","v":false},{"$f":"FALSE","v":false},{"$f":"FALSE","v":false},{"$f":"FALSE","v":false},{"$f":"FALSE","v":false},{"$f":"FALSE","v":false},{"$f":"FALSE","v":false},{"$f":"FALSE","v":false},{"$f":"FALSE","v":false},{"$f":"FALSE","v":false},{"$f":"FALSE","v":false},{"$f":"FALSE","v":false},{"$f":"FALSE","v":false},{"$f":"FALSE","v":false},{"$f":"FALSE","v":false},{"$f":"FALSE","v":false},{"$f":"FALSE","v":false},"None"]

{"sheet":"STD HQA","index":11,"n_rows":134,"n_cols":3,"rows_kept":134,"cut":false,"hidden":false,"merged":[[0,0,0,1]]}
["When you are granted the title of Hero (normally by attending a Heroquest) then you become eligible to choose one of the abilities below.  You may only choose one ability and must meet any pre requisites.  A Hero ability does not cost any points or status, unless stated otherwise. Once you have decided which ability you wish you should discuss this with the Heroquest Admin who will confirm your ability and ensure that you fully understand what it means.  You may not trade in Hero abilities once chosen (unless approved by HQ Admin) or swap them as you gain status. \n\nIf you wish an ability that is not on this list then you should submit your suggestion to HQ Admin.  \n\nWe reserve the right to alter any given ability or skill, or to change the wording, or to remove it entirely if we feel it proves to be unclear or unbalancing.",null,"Max Picks"]
["AC Bastion","All AC equals the same as the highest 3 x day for one encounter.",2]
["AC Increase - Physical","All allies with you gain plus one Physical AC .  Three times a day can increase own Physical AC by 5 for one encounter.",2]
["AC Increase - Magical","All allies with you gain plus one Magic AC.  Three times a day can increase own MAC to 20 for one encounter.",2]
["Affinity to Earth","Sanctuary of Earth spells last one extra duration \"step\" - counts as in element for 30 minutes a day, split as wished.",1]
["Battle Caster","May cast self only spells/invocations with a weapon and shield in hands.",1]
["Battle Magic Master","3 x day can upgrade Prot Battle Magic 8 to protect against spells of levels 1-8 for one encounter.",1]
["Become Elemental","Immune to Good and Evil Sphere, no spirit (innate power).  Should call \"No affect\" when using this skill.",1]
["Become Stone Troll","Immune to the Good Sphere.  Plus 4 physical A.C. Regenerate 1 point of life per minute.",1]
["Become Werewolf","Three times per day can assume the form of a werewolf for a 5 minute period.  During this time the following effects apply -  minimum damage from weapon blows,  +1 physical strength to a maximum of quad strength (applied to weapon damage as normal), Silver Weapons do normal damage.",1]
["Black Market Merchant","All items on the Marketplace cost half price (cannot purchase for others).",1]
["Bladebind","Weapon cannot be taken from player against their will - neither by strength, fumble or disarm.",1]
["Blessing of Good Sphere","Plus 1 PAC to non evil casters & +1 PAC if Sworn to King.",1]
["Blood Letting","May let (own) blood 3 times per event.  Effects last for whole event.  Any who drink the blood of Fenrir may gain one of the following -  plus 1 physical damage, plus 2 physical armour or plus 50 HP (per day). Players may only benefit from drinking once per event each. ",1]
["Bloodlines","To be able to use life as power in an emergency - a straight one for one.  Any life used in this way cannot be regained until after a night's sleep.",1]
["Body Pump","Gains 100 temporary life points 3 x per day. These can’t be cured and last for 1 encounter or until used (whichever is sooner).",2]
["Class Upgrade","Within your Primary Class, you may upgrade 2 Secondary Guilds to Primary Membership, and gain 1 status to spend with each Guild. If this is your 3rd taking of this ability, you may upgrade 3 Secondary Guilds to Primary Membership and gain 1 Status to spend in each Guild.",3]
["Combat Awareness Increase","Increase Combat Awareness by one step.",3]
["Creature of Darkness","+1 Strength & Resistance to blindness while in darkness.",1]
["Damage Assimilation ","Can take onto yourself  damage incurred by other characters. can choose 5 uses per section, 10 uses per day or all for one encounter per day.  A suitable in character call should be used to demonstrate that you are taking the damage, along the lines \"By my power I take that for you\".",2]
["Damage Increase (Ki)","Can Ki up power and magic damage similar to physical.\nAvailable to Monks only.",1]
["Damage Increase (Magic) ","Magically attune to weapon to do one plus magic damage.","no limit"]
["Damage Increase (Physical)","Physically attune to weapon to do one plus physical damage.","no limit"]
["Damage Increase (Power) ","Spiritually attune to weapon to do plus one power damage","no limit"]
["Damage Resist","Can resist Bone Break, Dismember, Disarm and Location to Zero, 3 of each per day. A suitable in character call should be used to demonstrate that you are immune, along the lines \"By my power I resist that\".",1]
["Damage Resist - Undead","3 x per day can avoid any damage done by undead.",1]
["Damage Master - Caster","One damaging spell or invocation (must choose one only and agree with HQ Admin) does any of the following damage type (blunt, sharp, wood, silver, magic and power); damage must be specified by caster on release of invocation/spell.",2]
["Damage Master - Weapon","Able to change damage type from Physical to Magic or Power. May do Magic or Power damage equal to half of physical damage (rounded down) as an addition to the empowerment or Ensorcellment of the weapon being used. Takes 5 minutes to change from one damage type to another.",1]
["Disguise Mastery","For each disguise (one status cost) may respend one third of existing points and status on skills for new disguise.  Cannot choose specialist spells/invocation.",1]
["Disinformation","Can give any answer to discern, recognise or detect skills/invocations.",1]
["Dodge","3 x a day can dodge absolutely anything you wish, touch attack, range or blow, with the exception of the following effects - Neuro Cosmic Flare, Mind Lock, Mind Stun, Psi Bolt, Attract Good / Neutral / Evil / Living / Undead,  Befriend, Domination, Paranoia, Possession, Beguilement, Fear, Terror. You may not Dodge if Paralysed.  A suitable in character call should be used to demonstrate that you are immune, along the lines \" By my power I Dodge that\". \nThis ability may only be taken once.",1]
["Double Meditate","Meditate Twice per day.  Need separate HQA for different meds - Power, Ki, Adrenal, Psi etc.",4]
["Double Mnemonic","Can Mnemonic back double your rank in mana.",1]
["Embers of Destruction","May use a \"warrior resist\" to destroy a level 5 or below spell targeting or in effect on the bearer only.  Once per section this may be enhanced to destroy an incoming level 8 spell in the same manner.",1]
["Endurance Mastery","Can Stack Endurances on each other, from purchased slots only.",1]
["Enhanced Courage  ","Can Remove Fear on others for zero power, by touch only (a gentle shake and roleplaying giving the individual courage - no more than 10 seconds).",1]
["Enhanced Disguise Mastery","For each disguise mastered may re-spend one third of existing hero abilities on abilities for new disguise.\nMust have Disguise Mastery.",1]
["Enhanced Field Surgery","Can heal anything through surgery - referee discretion.  Requires the use of a surgery kit and roleplaying and does not cost any power.",1]
["Espionage","Once per day you may attempt to gather information via secretive operatives in the field. You will need to provide a written request of the information you are seeking, and this should be secretly passed to one of the referee team. As protection from counter espionage operatives, you will be permanently under the effect of a Concealment.",1]
["Evil Fire","Ten times a day can add any Rank 1-5 evil invocation that caster knows onto one of their Blades at no power cost. It will stay on the blade until discharged",1]
["Evil Injunction","Can cast 3 x day one of the following:  Greater Evil Injunction - Duration: 1 minute or  Lesser Evil Injunction - Duration: 5 minutes;  Range - 20ft;  Description: The victim becomes unable to access all (rank 1-8 for Greater or rank 1-5 for Lesser) Evil Sphere invocations for the duration of the effect. Invocations already in effect, stored invocations natural abilities e.g. a wraiths fear effect are not affected.  ",1]
["Extension","Up to three specified self only spells or invocations cast by caster last 1 step longer.  Separate HQA must be taken for each set of 3 spells or invocations and must be agreed with HQ Admin.","no limit"]
["Function on Zero Power","Able to function on Zero Power permanently.",1]
["Good Seer Access","Access to good seer invocations.",1]
["Good Spirit Mastery","Affects Summon Good Spirit 5, 6 and 9 (Summary: extra spirit and improved Rank 9 version).  The caster can cast an additional Good Spirit invocation on a target (including self, e.g. a target can have 2 Good Spirits of Cure Grievous Wounds, or 1 Cure Grievous and 1 Remove Fear etc.).   In the case of Summon Good Spirit 9, the Spirit can store any Good invocation Rank 6-8 (e.g. this could be 2 heal invocations, or 1 heal and 1 Remove Curse 8 etc.).  A target who is not the caster can only have a maximum of 2 good spirits a day.",1]
["Group Howl","Three times a day can initiate a group howl, all that join in gain plus one physical damage (max Nov) for one encounter.",1]
["Guild Entry","You may gain Secondary Access to an additional Guild not within your Primary Class (usual Guild restrictions apply)","no limit"]
["Guild Upgrade","Outside of your Primary Class, you may upgrade one Secondary Guild Membership to Primary Membership, and gain 1 Status to spend in that Guild.","no limit"]
["Healers Hands","May cast two-handed beneficial invocations on allies with one hand, while holding a shield in the other.\nHospitaller only.",1]
["High Priest in 3rd Sphere","Primary Neutral sphere casters may become a High Priest in a third sphere.",1]
["Hold Spell / Invocation","Once per day can hold  3 x spells/invocations (to be agreed with HQ Admin) for 5 minutes after cast before releasing.  Can cast other spells/invocations during these five minutes.  Ability may be taken twice; for magic and power.",2]
["Hordeling Bane","Plus 3 stages of damage against Hordelings.",1]
["Immutable Shield Arm","Once per day for one encounter shield cannot be destroyed or removed by any means and shield arm is resistant to anything that may make it unusable (like shield arm bonebreak).\nAvailable to primary warriors only.","no limit"]
["Increased Dodge","Dodge ranged Power as per magic (i.e. dodge full effect or take full effect).",1]
["Increased Ki Damage","Can Ki up power and magic damage similar to physical.  Available to Monks only.",1]
["Invocation Support","May regain any power that is usually considered to be \"out\".  This occurs after the first Meditate of the event.\nMust have Invocation Guard.",1]
["Iron Will","Can resist Fear, Terror, Beguile, Possession, Paranoia, Feeblemind, Domination and Befriend - can choose 5 uses per section, 10 uses per day or immune to all for one encounter per day. A suitable in character call should be used to demonstrate that you are immune, along the lines \"By my power I resist that\".",1]
["Ki Shout","May use Kai shout \"Oush\" to resist Psionics rank 1-5. \nAvailable to Monks only.",1]
["Ki Healer","Must have Ki access.  Use Ki to cast the following invocations: Cure Blindness, Cure Fatal Disease, Heal, Neutralise Poison, Regenerate.  Do not need to learn these Invocations separately, they come as part of the ability.",1]
["Ki Limit Raise","You may use the Skill Focus Ki vs. Magic, or Skill Focus Ki vs. Power, or apply up to 8 Ki to Damage Enhancement or Damage Resistance 5 times per day without preparation.\nAvailable to Monks only.",1]
["Last Embrace of Fire","Permanent Fireskin 8 in effect.  If targeted by a dispel 8 the skin will be suppressed for 1 encounter.  At the end of that encounter the skin will return and remove any replacement skins given.",1]
["Life Adrenal Burst","Once per day can do Adrenal Burst to gain plus 200 Life (lasts one encounter).\nBarbarian only.",3]
["Location to Zero","3 times per day.",1]
["Lolth Access","Access to Lolth Invocation (3 picks per point of Status as a primary guild). Talisman is a 30 point power store.  Requires discussion with HQ admin and agreeing invocations.",1]
["Mana Pool","Spell slots are pooled into mana pool in a similar way to power.  Mana purchased a one point per point.  Level One's not included. ",1]
["Master Invoke","Able to Invoke and cast from any of the 3 Spheres (only Invocations already known).",1]
["Master Invoke Mastery","After invoking the caster is able to cast one ritual invocation from each of the three Spheres.  \nMust have Master Invoke ability.",1]
["Master of Life","Can cast Cure Mortal 6 for 10 power, vocal length.",1]
["Meditate Mana","Can choose to meditate mana instead of mnemonic.  Regains 200 mana if done.",1]
["Nacromancy Access","Access to Nacromancy invocations.  Requires discussion with HQ admin and agreeing invocations.",1]
["Natures Servant","Following Spells only last 5 seconds if cast on the player; Bind, Entangle, Weld, Ensnare, Entrapment, Earthquake.",1]
["Necrologists Lore","Ability to Discern Undead any where (even PotSD) at any range, no Power cost. Also able to personally affect any undead with any damage player is doing personally, e.g. Quin would be doing 5 damage per blow to ANY undead.",1]
["Neutrality to Creature type","Permanent Neutrality to one type of creature (undead, Hordeling, Hepath etc. - creature type to be agreed with HQ admin - don't ask for Human!).  Player won't be attacked as long as they do not attack the creature or try to do something that will raise the creatures ire (walk past a door they are guarding to loot a tomb).",1]
["Overcasting immunity","Cannot overcast, if use more slots than available, take from other slots.",1]
["Payment","Before each event, gets 75  Gests for a Special or 100 Gests for a 5 day.",1]
["Permanent Good Spirit","Good Spirit Heal.  Activates on zero life. Once per day. Cannot have connection to Evil Sphere.  Additional picks beyond the first are only available to Good casters only.  This HQ ability allows the player to also benefit from the invocation \"Good Spirit\" during the same day but the player cannot have more than one Good Spirit in effect at a time.",3]
["Permanent link to Good Sphere","Always regains one power per 15 minutes even when not resting. Cannot be powermelded, powerstolen etc. - can Powergift to Good Sphere casters only. Cannot have connection to Evil Sphere.",1]
["Permanent Walk on Air","Has a permanent Walk on Air Level 4.",1]
["Personal Ward","Whilst sitting down to Meditate, Mnemonic or to cast a Spell or Invocation cannot be damaged or broken out.     (For this to work, the caster must remain seated/kneeling etc.)",1]
["Potion Master ","Can create 4 receptive potions per day, 3 capable of receiving up to Rank / Level 5 spells or invocations and 1 capable to receiving rank / level 6-8 spell or invocation. These spells / invocations must be cast by a member of the current party. These are all usable once per day.",1]
["Potion Mastery - Herbal","Can gain triple the usual Ranks of Herbal Potions per day.",1]
["Power Hammer Master","Can cast 3 Mass Power Hammer 7's per day.",1]
["Power Weapon Mastery","All Power Weapons/Weapon of Woe cast do either plus one more damage or last one stage longer.",1]
["Prot Hordelings","Only takes minimum damage from Hordelings.",1]
["Psionic Acolyte","Cast Psionics 1 - 5, can cast: Cure Wounds (as Neutral Sphere), Psi Bolt (as Power Hammer), Psi Shield (as Spiritshield), Halt, Neuro Cosmic Flare (Single target only - as Repulsion so call NeuroCosmic-Repulsion) & Psi Invoke.",1]
["Psionic Priest","Become a Psionic Priest (must be Psionic Acolyte), can cast: Cure Wounds 6-8 (as Neutral Sphere), Psi Bolt 6-8 (as Power Hammer), Mind Lock 5, 8, Halt 6-8, Mind Stun 3, Focused Mind (Psi Invoke), NeuroCosmic Flare 6",1]
["Psionic Warrior","Dedicated warriors (must be on  warrior table) can hone their minds to do the following:\nOffensive Focus:  By expending 5 psi the psionic warrior may do half of his physical damage (rounding down) as Psionic damage with his chosen weapon for an encounter\nDefensive Focus:  A Psionic Warrior may extend the protection of his mind shields to others.  The effective range of mind shield is extended to \"touch\" at ranks 1-5.\nDefensive Bastion:  When casting a rank 8 Psi shield a Psionic Warrior may instead expand this protection to effectively provide a \"mass mind shield 5\" to allies within 15ft at the time of casting.",1]
["Purified Fire","Red Magic counts as power towards Undead.  Blades and Bolts do power as well as magic hits against Undead only. Magical protection provided by Fireskins also count as power AC from Undead blows. Self only.",1]
["Quick Casting - Magic","All Battle Magic spells (1-5) can be cast with TWO lines of vocals.  The one line must be loud, slow and clear - if abused this ability will be removed.",1]
["Quick Casting - Power","All Ley invocations (1-5) can be cast with TWO lines of vocals.  The one line must be loud, slow and clear - if abused this ability will be removed.",1]
["Reduce Invocation","Following Invocations are reduced by one rank when cast on you - Cause Wounds & Powerdrain.",1]
["Reduce Spell","Following Spells are reduced by one level when cast on you - Shocking Grasp & Bolts.",1]
["Resistance to (Sphere/Element)","Once a day Resistance to all (name) Sphere or Element Spells/Invocations for one encounter (not weapons).  A suitable in character call should be used to demonstrate that you are immune, along the lines \"By my power I resist that\".",2]
["Resistance to Magic","Resistance to two colours of magic 1-5. Does not include blades.  can choose 5 uses per section, 10 uses per day or immune to all for one encounter per day.  A suitable in character call should be used to demonstrate that you are immune, along the lines \"By my power I resist that\".",4]
["Resist Disease","Resist Disease up to rank 8  - can choose 5 uses per section, 10 uses per day or immune to all for one encounter per day. A suitable in character call should be used to demonstrate that you are immune, along the lines \"By my power I resist that\".",1]
["Resist Fear","Resistance to Fear  - can choose 5 uses per section, 10 uses per day or immune to all for one encounter per day.  A suitable in character call should be used to demonstrate that you are immune, along the lines \"By my power I resist that\".",1]
["Resist Immobility","Resistance to Immobility from any source   - can choose 5 uses per section, 10 uses per day or immune to all for one encounter per day.  A suitable in character call should be used to demonstrate that you are immune, along the lines \"By my power I resist that\".",1]
["Resist Invocation","Resist one Rank 6-8 Invocation and five occurrences of a choice of Rank 1-5 Invocations per day (You must agree you 1 choice of 6-8, and your 5 choices of 1-5 invocations beforehand with HQ admin). A suitable in-character call should be used to demonstrate that you are immune, along the lines \"By my power I resist that\".",1]
["Resist Offensive Spell/Invocation","Resist one Rank 1-8 Invocation and one Level 1-8 spell per day (You must agree your choices beforehand with HQ admin). A suitable in-character call should be used to demonstrate that you are immune, along the lines \"By my power I resist that\".",1]
["Resist Pain","Resistance to all pain effects - can choose 5 uses per section, 10 uses per day or immune to all for one encounter per day.  A suitable in character call should be used to demonstrate that you are immune, along the lines \"By my power I resist that\".  ",1]
["Resist Poison","Resistance to all poison effects - can choose 5 uses per section, 10 uses per day or immune to all for one encounter per day.  A suitable in character call should be used to demonstrate that you are immune, along the lines \"By my power I resist that\".  In addition take Minimum Damage only from Poison damage.",1]
["Resist Spell","Resist one Level 6-8 Spell and five Level 1-5 Spells of your choice per day (to be agreed beforehand with HQ admin). A suitable in character call should be used to demonstrate that you are immune, along the lines \"By my power I resist that\".",1]
["Resist Undead","Resistance to undead effects - can choose 5 uses per section, 10 uses per day or immune to all for one encounter per day.  A suitable in character call should be used to demonstrate that you are immune, along the lines \"By my power I resist that\".",1]
["Save Life","Once a day can stop someone from dying.",1]
["Scavengers Dance","20 point Dexterity Store, can use up to 10 at one time, Dex used will last until the end of the encounter. Can use all 20 Dex in the store to replicate the Dodge effect.",1]
["Shamancy Access","Access to Shamancy invocations.  Requires discussion with HQ admin and agreeing invocations.",1]
["Shield","Once per day gains AC 24 versus all for 5 minutes.",3]
["Shield Defender ","If capable of getting your shield “in the way”, may use your \"Spiritual Defence\" abilities to protect others.\nMust have HQ Ability Spiritual Defence.",1]
["Shroud Master","Whilst having an Evil Sphere invoke running, may cast Shroud of Ushaz, Rank 7, at Vocal length, once per Invoke.",1]
["Skill Pool","Has a pool of 144 points that can spend prior to each event; at end of event the points go until next event (not cumulative).  Limitations will be that once skills chosen they stay for the whole event.  Skills are from base table and cannot gain specialist skills like Talisman/Focus this way, nor can choose anything but Path or non specialist spells/invocations.",1]
["Skill Upgrade","Able to purchase a skill not normally available (subject to Guild restrictions, and following any Tree that exist for the skill) and for free points and status costs.  \nTo be agreed with HQ admin before hand.","no limit"]
["Skin Mastery","Provides an additional 4 physical and 2 magical AC on all skins cast.  \nSelf only.",1]
["Soul Steal","Once per day can use spirit of a slain individual as a Good Spirit Cure Mortal.\nCannot have connection to Good Sphere.",3]
["Spell Book and Focus Absorption","No longer requires a spell book or a focus. They are assumed to be a part of you.  Regains spells after night's sleep.",1]
["Spell Support","May regain any mana that is considered to be \"out\". This occurs after the first Mnemonic of the event.",1]
["Sphere of Pain","Access to Pain invocations.  Requires discussion with HQ admin and agreeing invocations.",1]
["Sphere's Protection","This allows the character to resist any Rank 1-5 <type> Invocation, with the appropriate shout (For Michael etc.), and requires the expenditure of one point of Power per rank of <type> Invocation up to a maximum of rank 5.  The character can also resist one <type> Invocation rank 6-8 once a section for 6-8 power cost.\nOnly available to primary Spiritual Warriors who cast the <type> Sphere; Sphere to be resisted is the opposite to the one you are primary in and must be agreed with HQ admin - Neutral can choose..  This ability works like any other resist (must be seen etc.) and the power comes out of the casters body and not Talisman.",1]
["Spirit Sight","Dodge Power Hammers the same as you dodge Bolts (i.e. get dexterity taken off damage).",1]
["Spiritual Cleansing","Through the force of spirit, the caster remove any influence, possession, embodiment, beguiling influence, spiritual influence etc. from another player. This will be done by good role playing.",1]
["Spiritual Defence","When wielding a shield immune to power hammers.",1]
["Spiritually Balanced","Spiritual Balance 9 is now capable of storing a cast Spiritual Balance 7 (straight cast or through an Invoke Sphere invocation). It may store one Spiritual Balance 7 per section. This Spiritual Balance 7 will be automatically released upon receiving the first Ritual Evil Invocation per section, and it will counter this Ritual Evil Invocation. The benefit from Spiritual Balance 9 will be applied to this Spiritual Balance 7.",1]
["Storm Specialist","Shield of Air spells do same magic AC as physical AC.",1]
["Tree Walk ","3 x per day can enter one tree and exit another tree that is within 20ft. (represented by putting a hand in the air).\nDruids Only.",1]
["Tribal Tattoos","Used 2 x a day for +4 AC (physical, magical and power) for a section.",1]
["Tower of Iron Will","Enhances the users mental defences such that while under the effects of a Psi-Shield the Psionicist is immune to:  Fear, Terror, Possession, Beguilement, Mind Lock, Mind Stun,  Neuro-Cosmic Flare, Domination and Befriend. A suitable in character call should be used to demonstrate that you are immune, along the lines \"My mind is stronger than yours\".\nPsionic casters only.",1]
["Truly Balanced","As a committed caster of all three spheres equally, any Balanced Ground created by the caster functions as both a Hallowed and Unhallowed ground as well (no requirement to purchase the other 2 \"ground\" invocations). Furthermore, the balanced nature of the caster, embracing grants immunity / resistance (10 per day or all for one 15 minute period per day) against the following specific effects”. Attract Good, Attract Evil, Repel Evil, Repel Good, Detect Good, Detect Evil, Holy Word, Unholy Word.\nPrimary Neutral casters only.",1]
["Ultimate Healer","Ability to cast the Good Sphere can never be severed or stopped by any means.  This means that provided the caster is alive, conscious and able to cast they can always cast Good Sphere invocations (if the caster is tied up, or has broken limbs, or cannot speak, then they cannot cast).  In addition curing always cures at its effective rank and cannot be lowered in rank or effectiveness by any means.\nHospitaller only.",1]
["Ultimate Strength ","To be as strong as you need to be in order to overcome any physical impediment (i.e. pull out of something or break free using Strength); can use it to resists Repels and Attracts.  Does not increase damage.\nBarbarians only.",1]
["Undead Repulsion Sphere","Once per day create a 10 foot globe that Undead cannot enter.  Last for one encounter. ",2]
["Unranked","For spell/invocation purposes player has no rank, therefore is immune to rank related effects.  Should state \"No affect\" to indicate you are immune.",1]
["Vitamancer","Access to Vitamancer invocations.  Requires discussion with HQ admin and agreeing invocations.",1]
["Vocal Length","Cast one each of (name) Sphere or School 6-8 at vocal length once per day - three in total.  Spells to be agreed and fixed - \"takeouts\" unlikely to be allowed.\nSpells/Invocations to be agreed with HQ admin before hand.","no limit"]
["Warriors Meditation","Once per day this will allow a character to regain all of their expended Warrior Skill uses, by remaining in a trance for 30 minutes.\nPrimary warriors only.",1]
["Weapon Store","Weapon shares spell stores with the caster so that If a spell store is cast the weapon gets the equivalent store; all stores must be filled by the casters own spell slots.",1]